{"text_format":"1","workbook":"xlsx","n_sheets":7,"sheets":["Atenção","Conceito","Exemplo","Lançamentos","Fluxo de Caixa","Relatório","Base"],"not_rendered":{"charts":15,"images":11,"macros":1,"external_links":0,"defined_names":4,"comments":1,"pivot_tables":0},"unopened":[],"bounds":{"document_bytes":16777216,"sheet_cells":100000,"rows_first":2000,"rows_last":500,"rows_between":2000,"halvings":0,"cell_chars":16384,"cell_head_chars":4096},"cells_cut":0,"cells_raw":0,"read":"whole","date_system":"1900"}

{"sheet":"Atenção","index":0,"n_rows":0,"n_cols":0,"rows_kept":0,"cut":false,"hidden":false,"merged":[[19,0,1048575,10]]}

{"sheet":"Conceito","index":1,"n_rows":0,"n_cols":0,"rows_kept":0,"cut":false,"hidden":false,"merged":[]}

{"sheet":"Exemplo","index":2,"n_rows":0,"n_cols":0,"rows_kept":0,"cut":false,"hidden":false,"merged":[]}

{"sheet":"Lançamentos","index":3,"n_rows":3003,"n_cols":12,"rows_kept":3003,"cut":false,"hidden":false,"merged":[[0,2,0,7],[1,5,1,7],[1,2,1,4]]}
["Plano de Contas",null,"Diário de Fluxo de Caixa"]
["Entradas",null,"Empresa:"]
["Dinheiro",null,"Data","mês","ano","Conta","Valor","Fluxo",null,null,"Entrada",{"$f":"IF(A3=\"\",\"\",A3)","v":"Dinheiro"}]
["Cheque",null,null,{"$f":"IF(C4=\"\",\"\",MONTH(C4))","v":""},{"$f":"IF(C4=\"\",\"\",YEAR(C4))","v":""},null,null,{"$f":"IF(F4=\"\",\"\",IF(F4=$A$3,\"Entrada\",IF(F4=$A$4,\"Entrada\",IF(F4=$A$5,\"Entrada\",IF(F4=$A$6,\"Entrada\",IF(F4=$A$7,\"Entrada\",\"Saída\"))))))","v":""},null,null,"Saída","Cheque"]
["Cartão de Débito",null,null,"","",null,null,{"$f":"IF(F5=\"\",\"\",IF(F5=$A$3,\"Entrada\",IF(F5=$A$4,\"Entrada\",IF(F5=$A$5,\"Entrada\",IF(F5=$A$6,\"Entrada\",IF(F5=$A$7,\"Entrada\",\"Saída\"))))))","v":""},null,null,null,"Cartão de Débito"]
["Cartão de Crédito",null,null,"","",null,null,"",null,null,null,"Cartão de Crédito"]
["Outros Recebimentos 1",null,null,"","",null,null,"",null,null,null,"Outros Recebimentos 1"]
["Outros Recebimentos 2",null,null,null,null,null,null,"",null,null,null,"Outros Recebimentos 2"]
["Saídas",null,null,{"$f":"IF(C9=\"\",\"\",MONTH(C9))","v":""},{"$f":"IF(C9=\"\",\"\",YEAR(C9))","v":""},null,null,"",null,null,null,{"$f":"IF(A10=\"\",\"\",A10)","v":"Retirada de Sócio"}]
["Retirada de Sócio",null,null,"","",null,null,"",null,null,null,"Transferências Bancárias"]
["Transferências Bancárias",null,null,"","",null,null,"",null,null,null,"Fornecedores"]
["Fornecedores",null,null,"","",null,null,"",null,null,null,"Despesas Financeiras"]
["Despesas Financeiras",null,null,"","",null,null,"",null,null,null,"Impostos"]
["Impostos",null,null,"","",null,null,"",null,null,null,"Despesas com Pessoal"]
["Despesas com Pessoal",null,null,"","",null,null,"",null,null,null,"Saque"]
["Saque",null,null,"","",null,null,"",null,null,null,"Despesas Administrativas"]
["Despesas Administrativas",null,null,"","",null,null,"",null,null,null,"Contador"]
["Contador",null,null,"","",null,null,"",null,null,null,"Outras Saídas 1"]
["Outras Saídas 1",null,null,"","",null,null,""]
["Outras Saídas 2",null,null,"","",null,null,""]
[null,null,null,"","",null,null,""]
[null,null,null,"","",null,null,""]
[null,null,null,"","",null,null,""]
[null,null,null,"","",null,null,""]
[null,null,null,"","",null,null,""]
[null,null,null,"","",null,null,""]
[null,null,null,"","",null,null,""]
[null,null,null,"","",null,null,""]
[null,null,null,"","",null,null,""]
[null,null,null,"","",null,null,""]
[null,null,null,"","",null,null,""]
[null,null,null,"","",null,null,""]
[null,null,null,"","",null,null,""]
[null,null,null,"","",null,null,""]
[null,null,null,"","",null,null,""]
[null,null,null,"","",null,null,""]
[null,null,null,"","",null,null,""]
[null,null,null,"","",null,null,""]
[null,null,null,"","",null,null,""]
[null,null,null,"","",null,null,""]
[null,null,null,"","",null,null,""]
[null,null,null,"","",null,null,""]
[null,null,null,"","",null,null,""]
[null,null,null,"","",null,null,""]
[null,null,null,"","",null,null,""]
[null,null,null,"","",null,null,""]
[null,null,null,"","",null,null,""]
[null,null,null,"","",null,null,""]
[null,null,null,"","",null,null,""]
[null,null,null,"","",null,null,""]
[null,null,null,"","",null,null,""]
[null,null,null,"","",null,null,""]
[null,null,null,"","",null,null,""]
[null,null,null,"","",null,null,""]
[null,null,null,{"$f":"IF(C55=\"\",\"\",MONTH(C55))","v":""},{"$f":"IF(C55=\"\",\"\",YEAR(C55))","v":""},null,null,""]
[null,null,null,"","",null,null,""]
[null,null,null,"","",null,null,""]
[null,null,null,"","",null,null,""]
[null,null,null,"","",null,null,""]
[null,null,null,"","",null,null,""]
[null,null,null,"","",null,null,""]
[null,null,null,"","",null,null,""]
[null,null,null,"","",null,null,""]
[null,null,null,"","",null,null,""]
[null,null,null,"","",null,null,""]
[null,null,null,"","",null,null,""]
[null,null,null,"","",null,null,""]
[null,null,null,"","",null,null,""]
[null,null,null,"","",null,null,""]
[null,null,null,{"$f":"IF(C70=\"\",\"\",MONTH(C70))","v":""},{"$f":"IF(C70=\"\",\"\",YEAR(C70))","v":""},null,null,{"$f":"IF(F70=\"\",\"\",IF(F70=$A$3,\"Entrada\",IF(F70=$A$4,\"Entrada\",IF(F70=$A$5,\"Entrada\",IF(F70=$A$6,\"Entrada\",IF(F70=$A$7,\"Entrada\",\"Saída\"))))))","v":""}]
[null,null,null,"","",null,null,""]
[null,null,null,"","",null,null,""]
[null,null,null,"","",null,null,""]
[null,null,null,"","",null,null,""]
[null,null,null,"","",null,null,""]
[null,null,null,"","",null,null,""]
[null,null,null,"","",null,null,""]
[null,null,null,"","",null,null,""]
[null,null,null,"","",null,null,""]
[null,null,null,"","",null,null,""]
[null,null,null,"","",null,null,""]
[null,null,null,"","",null,null,""]
[null,null,null,"","",null,null,""]
[null,null,null,"","",null,null,""]
[null,null,null,"","",null,null,""]
[null,null,null,"","",null,null,""]
[null,null,null,"","",null,null,""]
[null,null,null,"","",null,null,""]
[null,null,null,"","",null,null,""]
[null,null,null,"","",null,null,""]
[null,null,null,"","",null,null,""]
[null,null,null,"","",null,null,""]
[null,null,null,"","",null,null,""]
[null,null,null,"","",null,null,""]
[null,null,null,"","",null,null,""]
[null,null,null,"","",null,null,""]
[null,null,null,"","",null,null,""]
[null,null,null,"","",null,null,""]
[null,null,null,"","",null,null,""]
[null,null,null,"","",null,null,""]
[null,null,null,"","",null,null,""]
[null,null,null,"","",null,null,""]
[null,null,null,"","",null,null,""]
[null,null,null,"","",null,null,""]
[null,null,null,"","",null,null,""]
[null,null,null,"","",null,null,""]
[null,null,null,"","",null,null,""]
[null,null,null,"","",null,null,""]
[null,null,null,"","",null,null,""]
[null,null,null,"","",null,null,""]
[null,null,null,"","",null,null,""]
[null,null,null,"","",null,null,""]
[null,null,null,"","",null,null,""]
[null,null,null,"","",null,null,""]
[null,null,null,"","",null,null,""]
[null,null,null,"","",null,null,""]
[null,null,null,"","",null,null,""]
[null,null,null,"","",null,null,""]
[null,null,null,"","",null,null,""]
[null,null,null,"","",null,null,""]
[null,null,null,"","",null,null,""]
[null,null,null,"","",null,null,""]
[null,null,null,"","",null,null,""]
[null,null,null,"","",null,null,""]
[null,null,null,"","",null,null,""]
[null,null,null,"","",null,null,""]
[null,null,null,"","",null,null,""]
[null,null,null,"","",null,null,""]
[null,null,null,"","",null,null,""]
[null,null,null,"","",null,null,""]
[null,null,null,"","",null,null,""]
[null,null,null,"","",null,null,""]
[null,null,null,"","",null,null,""]
[null,null,null,{"$f":"IF(C134=\"\",\"\",MONTH(C134))","v":""},{"$f":"IF(C134=\"\",\"\",YEAR(C134))","v":""},null,null,{"$f":"IF(F134=\"\",\"\",IF(F134=$A$3,\"Entrada\",IF(F134=$A$4,\"Entrada\",IF(F134=$A$5,\"Entrada\",IF(F134=$A$6,\"Entrada\",IF(F134=$A$7,\"Entrada\",\"Saída\"))))))","v":""}]
[null,null,null,"","",null,null,""]
[null,null,null,"","",null,null,""]
[null,null,null,"","",null,null,""]
[null,null,null,"","",null,null,""]
[null,null,null,"","",null,null,""]
[null,null,null,"","",null,null,""]
[null,null,null,"","",null,null,""]
[null,null,null,"","",null,null,""]
[null,null,null,"","",null,null,""]
[null,null,null,"","",null,null,""]
[null,null,null,"","",null,null,""]
[null,null,null,"","",null,null,""]
[null,null,null,"","",null,null,""]
[null,null,null,"","",null,null,""]
[null,null,null,"","",null,null,""]
[null,null,null,"","",null,null,""]
[null,null,null,"","",null,null,""]
[null,null,null,"","",null,null,""]
[null,null,null,"","",null,null,""]
[null,null,null,"","",null,null,""]
[null,null,null,"","",null,null,""]
[null,null,null,"","",null,null,""]
[null,null,null,"","",null,null,""]
[null,null,null,"","",null,null,""]
[null,null,null,"","",null,null,""]
[null,null,null,"","",null,null,""]
[null,null,null,"","",null,null,""]
[null,null,null,"","",null,null,""]
[null,null,null,"","",null,null,""]
[null,null,null,"","",null,null,""]
[null,null,null,"","",null,null,""]
[null,null,null,"","",null,null,""]
[null,null,null,"","",null,null,""]
[null,null,null,"","",null,null,""]
[null,null,null,"","",null,null,""]
[null,null,null,"","",null,null,""]
[null,null,null,"","",null,null,""]
[null,null,null,"","",null,null,""]
[null,null,null,"","",null,null,""]
[null,null,null,"","",null,null,""]
[null,null,null,"","",null,null,""]
[null,null,null,"","",null,null,""]
[null,null,null,"","",null,null,""]
[null,null,null,"","",null,null,""]
[null,null,null,"","",null,null,""]
[null,null,null,"","",null,null,""]
[null,null,null,"","",null,null,""]
[null,null,null,"","",null,null,""]
[null,null,null,"","",null,null,""]
[null,null,null,"","",null,null,""]
[null,null,null,"","",null,null,""]
[null,null,null,"","",null,null,""]
[null,null,null,"","",null,null,""]
[null,null,null,"","",null,null,""]
[null,null,null,"","",null,null,""]
[null,null,null,"","",null,null,""]
[null,null,null,"","",null,null,""]
[null,null,null,"","",null,null,""]
[null,null,null,"","",null,null,""]
[null,null,null,"","",null,null,""]
[null,null,null,"","",null,null,""]
[null,null,null,"","",null,null,""]
[null,null,null,"","",null,null,""]
[null,null,null,{"$f":"IF(C198=\"\",\"\",MONTH(C198))","v":""},{"$f":"IF(C198=\"\",\"\",YEAR(C198))","v":""},null,null,{"$f":"IF(F198=\"\",\"\",IF(F198=$A$3,\"Entrada\",IF(F198=$A$4,\"Entrada\",IF(F198=$A$5,\"Entrada\",IF(F198=$A$6,\"Entrada\",IF(F198=$A$7,\"Entrada\",\"Saída\"))))))","v":""}]
[null,null,null,"","",null,null,""]
[null,null,null,"","",null,null,""]
[null,null,null,"","",null,null,""]
[null,null,null,"","",null,null,""]
[null,null,null,"","",null,null,""]
[null,null,null,"","",null,null,""]
[null,null,null,"","",null,null,""]
[null,null,null,"","",null,null,""]
[null,null,null,"","",null,null,""]
[null,null,null,"","",null,null,""]
[null,null,null,"","",null,null,""]
[null,null,null,"","",null,null,""]
[null,null,null,"","",null,null,""]
[null,null,null,"","",null,null,""]
[null,null,null,"","",null,null,""]
[null,null,null,"","",null,null,""]
[null,null,null,"","",null,null,""]
[null,null,null,"","",null,null,""]
[null,null,null,"","",null,null,""]
[null,null,null,"","",null,null,""]
[null,null,null,"","",null,null,""]
[null,null,null,"","",null,null,""]
[null,null,null,"","",null,null,""]
[null,null,null,"","",null,null,""]
[null,null,null,"","",null,null,""]
[null,null,null,"","",null,null,""]
[null,null,null,"","",null,null,""]
[null,null,null,"","",null,null,""]
[null,null,null,"","",null,null,""]
[null,null,null,"","",null,null,""]
[null,null,null,"","",null,null,""]
[null,null,null,"","",null,null,""]
[null,null,null,"","",null,null,""]
[null,null,null,"","",null,null,""]
[null,null,null,"","",null,null,""]
[null,null,null,"","",null,null,""]
[null,null,null,"","",null,null,""]
[null,null,null,"","",null,null,""]
[null,null,null,"","",null,null,""]
[null,null,null,"","",null,null,""]
[null,null,null,"","",null,null,""]
[null,null,null,"","",null,null,""]
[null,null,null,"","",null,null,""]
[null,null,null,"","",null,null,""]
[null,null,null,"","",null,null,""]
[null,null,null,"","",null,null,""]
[null,null,null,"","",null,null,""]
[null,null,null,"","",null,null,""]
[null,null,null,"","",null,null,""]
[null,null,null,"","",null,null,""]
[null,null,null,"","",null,null,""]
[null,null,null,"","",null,null,""]
[null,null,null,"","",null,null,""]
[null,null,null,"","",null,null,""]
[null,null,null,"","",null,null,""]
[null,null,null,"","",null,null,""]
[null,null,null,"","",null,null,""]
[null,null,null,"","",null,null,""]
[null,null,null,"","",null,null,""]
[null,null,null,"","",null,null,""]
[null,null,null,"","",null,null,""]
[null,null,null,"","",null,null,""]
[null,null,null,"","",null,null,""]
[null,null,null,{"$f":"IF(C262=\"\",\"\",MONTH(C262))","v":""},{"$f":"IF(C262=\"\",\"\",YEAR(C262))","v":""},null,null,{"$f":"IF(F262=\"\",\"\",IF(F262=$A$3,\"Entrada\",IF(F262=$A$4,\"Entrada\",IF(F262=$A$5,\"Entrada\",IF(F262=$A$6,\"Entrada\",IF(F262=$A$7,\"Entrada\",\"Saída\"))))))","v":""}]
[null,null,null,"","",null,null,""]
[null,null,null,"","",null,null,""]
[null,null,null,"","",null,null,""]
[null,null,null,"","",null,null,""]
[null,null,null,"","",null,null,""]
[null,null,null,"","",null,null,""]
[null,null,null,"","",null,null,""]
[null,null,null,"","",null,null,""]
[null,null,null,"","",null,null,""]
[null,null,null,"","",null,null,""]
[null,null,null,"","",null,null,""]
[null,null,null,"","",null,null,""]
[null,null,null,"","",null,null,""]
[null,null,null,"","",null,null,""]
[null,null,null,"","",null,null,""]
[null,null,null,"","",null,null,""]
[null,null,null,"","",null,null,""]
[null,null,null,"","",null,null,""]
[null,null,null,"","",null,null,""]
[null,null,null,"","",null,null,""]
[null,null,null,"","",null,null,""]
[null,null,null,"","",null,null,""]
[null,null,null,"","",null,null,""]
[null,null,null,"","",null,null,""]
[null,null,null,"","",null,null,""]
[null,null,null,"","",null,null,""]
[null,null,null,"","",null,null,""]
[null,null,null,"","",null,null,""]
[null,null,null,"","",null,null,""]
[null,null,null,"","",null,null,""]
[null,null,null,"","",null,null,""]
[null,null,null,"","",null,null,""]
[null,null,null,"","",null,null,""]
[null,null,null,"","",null,null,""]
[null,null,null,"","",null,null,""]
[null,null,null,"","",null,null,""]
[null,null,null,"","",null,null,""]
[null,null,null,"","",null,null,""]
[null,null,null,"","",null,null,""]
[null,null,null,"","",null,null,""]
[null,null,null,"","",null,null,""]
[null,null,null,"","",null,null,""]
[null,null,null,"","",null,null,""]
[null,null,null,"","",null,null,""]
[null,null,null,"","",null,null,""]
[null,null,null,"","",null,null,""]
[null,null,null,"","",null,null,""]
[null,null,null,"","",null,null,""]
[null,null,null,"","",null,null,""]
[null,null,null,"","",null,null,""]
[null,null,null,"","",null,null,""]
[null,null,null,"","",null,null,""]
[null,null,null,"","",null,null,""]
[null,null,null,"","",null,null,""]
[null,null,null,"","",null,null,""]
[null,null,null,"","",null,null,""]
[null,null,null,"","",null,null,""]
[null,null,null,"","",null,null,""]
[null,null,null,"","",null,null,""]
[null,null,null,"","",null,null,""]
[null,null,null,"","",null,null,""]
[null,null,null,"","",null,null,""]
[null,null,null,"","",null,null,""]
[null,null,null,{"$f":"IF(C326=\"\",\"\",MONTH(C326))","v":""},{"$f":"IF(C326=\"\",\"\",YEAR(C326))","v":""},null,null,{"$f":"IF(F326=\"\",\"\",IF(F326=$A$3,\"Entrada\",IF(F326=$A$4,\"Entrada\",IF(F326=$A$5,\"Entrada\",IF(F326=$A$6,\"Entrada\",IF(F326=$A$7,\"Entrada\",\"Saída\"))))))","v":""}]
[null,null,null,"","",null,null,""]
[null,null,null,"","",null,null,""]
[null,null,null,"","",null,null,""]
[null,null,null,"","",null,null,""]
[null,null,null,"","",null,null,""]
[null,null,null,"","",null,null,""]
[null,null,null,"","",null,null,""]
[null,null,null,"","",null,null,""]
[null,null,null,"","",null,null,""]
[null,null,null,"","",null,null,""]
[null,null,null,"","",null,null,""]
[null,null,null,"","",null,null,""]
[null,null,null,"","",null,null,""]
[null,null,null,"","",null,null,""]
[null,null,null,"","",null,null,""]
[null,null,null,"","",null,null,""]
[null,null,null,"","",null,null,""]
[null,null,null,"","",null,null,""]
[null,null,null,"","",null,null,""]
[null,null,null,"","",null,null,""]
[null,null,null,"","",null,null,""]
[null,null,null,"","",null,null,""]
[null,null,null,"","",null,null,""]
[null,null,null,"","",null,null,""]
[null,null,null,"","",null,null,""]
[null,null,null,"","",null,null,""]
[null,null,null,"","",null,null,""]
[null,null,null,"","",null,null,""]
[null,null,null,"","",null,null,""]
[null,null,null,"","",null,null,""]
[null,null,null,"","",null,null,""]
[null,null,null,"","",null,null,""]
[null,null,null,"","",null,null,""]
[null,null,null,"","",null,null,""]
[null,null,null,"","",null,null,""]
[null,null,null,"","",null,null,""]
[null,null,null,"","",null,null,""]
[null,null,null,"","",null,null,""]
[null,null,null,"","",null,null,""]
[null,null,null,"","",null,null,""]
[null,null,null,"","",null,null,""]
[null,null,null,"","",null,null,""]
[null,null,null,"","",null,null,""]
[null,null,null,"","",null,null,""]
[null,null,null,"","",null,null,""]
[null,null,null,"","",null,null,""]
[null,null,null,"","",null,null,""]
[null,null,null,"","",null,null,""]
[null,null,null,"","",null,null,""]
[null,null,null,"","",null,null,""]
[null,null,null,"","",null,null,""]
[null,null,null,"","",null,null,""]
[null,null,null,"","",null,null,""]
[null,null,null,"","",null,null,""]
[null,null,null,"","",null,null,""]
[null,null,null,"","",null,null,""]
[null,null,null,"","",null,null,""]
[null,null,null,"","",null,null,""]
[null,null,null,"","",null,null,""]
[null,null,null,"","",null,null,""]
[null,null,null,"","",null,null,""]
[null,null,null,"","",null,null,""]
[null,null,null,"","",null,null,""]
[null,null,null,{"$f":"IF(C390=\"\",\"\",MONTH(C390))","v":""},{"$f":"IF(C390=\"\",\"\",YEAR(C390))","v":""},null,null,{"$f":"IF(F390=\"\",\"\",IF(F390=$A$3,\"Entrada\",IF(F390=$A$4,\"Entrada\",IF(F390=$A$5,\"Entrada\",IF(F390=$A$6,\"Entrada\",IF(F390=$A$7,\"Entrada\",\"Saída\"))))))","v":""}]
[null,null,null,"","",null,null,""]
[null,null,null,"","",null,null,""]
[null,null,null,"","",null,null,""]
[null,null,null,"","",null,null,""]
[null,null,null,"","",null,null,""]
[null,null,null,"","",null,null,""]
[null,null,null,"","",null,null,""]
[null,null,null,"","",null,null,""]
[null,null,null,"","",null,null,""]
[null,null,null,"","",null,null,""]
[null,null,null,"","",null,null,""]
[null,null,null,"","",null,null,""]
[null,null,null,"","",null,null,""]
[null,null,null,"","",null,null,""]
[null,null,null,"","",null,null,""]
[null,null,null,"","",null,null,""]
[null,null,null,"","",null,null,""]
[null,null,null,"","",null,null,""]
[null,null,null,"","",null,null,""]
[null,null,null,"","",null,null,""]
[null,null,null,"","",null,null,""]
[null,null,null,"","",null,null,""]
[null,null,null,"","",null,null,""]
[null,null,null,"","",null,null,""]
[null,null,null,"","",null,null,""]
[null,null,null,"","",null,null,""]
[null,null,null,"","",null,null,""]
[null,null,null,"","",null,null,""]
[null,null,null,"","",null,null,""]
[null,null,null,"","",null,null,""]
[null,null,null,"","",null,null,""]
[null,null,null,"","",null,null,""]
[null,null,null,"","",null,null,""]
[null,null,null,"","",null,null,""]
[null,null,null,"","",null,null,""]
[null,null,null,"","",null,null,""]
[null,null,null,"","",null,null,""]
[null,null,null,"","",null,null,""]
[null,null,null,"","",null,null,""]
[null,null,null,"","",null,null,""]
[null,null,null,"","",null,null,""]
[null,null,null,"","",null,null,""]
[null,null,null,"","",null,null,""]
[null,null,null,"","",null,null,""]
[null,null,null,"","",null,null,""]
[null,null,null,"","",null,null,""]
[null,null,null,"","",null,null,""]
[null,null,null,"","",null,null,""]
[null,null,null,"","",null,null,""]
[null,null,null,"","",null,null,""]
[null,null,null,"","",null,null,""]
[null,null,null,"","",null,null,""]
[null,null,null,"","",null,null,""]
[null,null,null,"","",null,null,""]
[null,null,null,"","",null,null,""]
[null,null,null,"","",null,null,""]
[null,null,null,"","",null,null,""]
[null,null,null,"","",null,null,""]
[null,null,null,"","",null,null,""]
[null,null,null,"","",null,null,""]
[null,null,null,"","",null,null,""]
[null,null,null,"","",null,null,""]
[null,null,null,"","",null,null,""]
[null,null,null,{"$f":"IF(C454=\"\",\"\",MONTH(C454))","v":""},{"$f":"IF(C454=\"\",\"\",YEAR(C454))","v":""},null,null,{"$f":"IF(F454=\"\",\"\",IF(F454=$A$3,\"Entrada\",IF(F454=$A$4,\"Entrada\",IF(F454=$A$5,\"Entrada\",IF(F454=$A$6,\"Entrada\",IF(F454=$A$7,\"Entrada\",\"Saída\"))))))","v":""}]
[null,null,null,"","",null,null,""]
[null,null,null,"","",null,null,""]
[null,null,null,"","",null,null,""]
[null,null,null,"","",null,null,""]
[null,null,null,"","",null,null,""]
[null,null,null,"","",null,null,""]
[null,null,null,"","",null,null,""]
[null,null,null,"","",null,null,""]
[null,null,null,"","",null,null,""]
[null,null,null,"","",null,null,""]
[null,null,null,"","",null,null,""]
[null,null,null,"","",null,null,""]
[null,null,null,"","",null,null,""]
[null,null,null,"","",null,null,""]
[null,null,null,"","",null,null,""]
[null,null,null,"","",null,null,""]
[null,null,null,"","",null,null,""]
[null,null,null,"","",null,null,""]
[null,null,null,"","",null,null,""]
[null,null,null,"","",null,null,""]
[null,null,null,"","",null,null,""]
[null,null,null,"","",null,null,""]
[null,null,null,"","",null,null,""]
[null,null,null,"","",null,null,""]
[null,null,null,"","",null,null,""]
[null,null,null,"","",null,null,""]
[null,null,null,"","",null,null,""]
[null,null,null,"","",null,null,""]
[null,null,null,"","",null,null,""]
[null,null,null,"","",null,null,""]
[null,null,null,"","",null,null,""]
[null,null,null,"","",null,null,""]
[null,null,null,"","",null,null,""]
[null,null,null,"","",null,null,""]
[null,null,null,"","",null,null,""]
[null,null,null,"","",null,null,""]
[null,null,null,"","",null,null,""]
[null,null,null,"","",null,null,""]
[null,null,null,"","",null,null,""]
[null,null,null,"","",null,null,""]
[null,null,null,"","",null,null,""]
[null,null,null,"","",null,null,""]
[null,null,null,"","",null,null,""]
[null,null,null,"","",null,null,""]
[null,null,null,"","",null,null,""]
[null,null,null,"","",null,null,""]
[null,null,null,"","",null,null,""]
[null,null,null,"","",null,null,""]
[null,null,null,"","",null,null,""]
[null,null,null,"","",null,null,""]
[null,null,null,"","",null,null,""]
[null,null,null,"","",null,null,""]
[null,null,null,"","",null,null,""]
[null,null,null,"","",null,null,""]
[null,null,null,"","",null,null,""]
[null,null,null,"","",null,null,""]
[null,null,null,"","",null,null,""]
[null,null,null,"","",null,null,""]
[null,null,null,"","",null,null,""]
[null,null,null,"","",null,null,""]
[null,null,null,"","",null,null,""]
[null,null,null,"","",null,null,""]
[null,null,null,"","",null,null,""]
[null,null,null,{"$f":"IF(C518=\"\",\"\",MONTH(C518))","v":""},{"$f":"IF(C518=\"\",\"\",YEAR(C518))","v":""},null,null,{"$f":"IF(F518=\"\",\"\",IF(F518=$A$3,\"Entrada\",IF(F518=$A$4,\"Entrada\",IF(F518=$A$5,\"Entrada\",IF(F518=$A$6,\"Entrada\",IF(F518=$A$7,\"Entrada\",\"Saída\"))))))","v":""}]
[null,null,null,"","",null,null,""]
[null,null,null,"","",null,null,""]
[null,null,null,"","",null,null,""]
[null,null,null,"","",null,null,""]
[null,null,null,"","",null,null,""]
[null,null,null,"","",null,null,""]
[null,null,null,"","",null,null,""]
[null,null,null,"","",null,null,""]
[null,null,null,"","",null,null,""]
[null,null,null,"","",null,null,""]
[null,null,null,"","",null,null,""]
[null,null,null,"","",null,null,""]
[null,null,null,"","",null,null,""]
[null,null,null,"","",null,null,""]
[null,null,null,"","",null,null,""]
[null,null,null,"","",null,null,""]
[null,null,null,"","",null,null,""]
[null,null,null,"","",null,null,""]
[null,null,null,"","",null,null,""]
[null,null,null,"","",null,null,""]
[null,null,null,"","",null,null,""]
[null,null,null,"","",null,null,""]
[null,null,null,"","",null,null,""]
[null,null,null,"","",null,null,""]
[null,null,null,"","",null,null,""]
[null,null,null,"","",null,null,""]
[null,null,null,"","",null,null,""]
[null,null,null,"","",null,null,""]
[null,null,null,"","",null,null,""]
[null,null,null,"","",null,null,""]
[null,null,null,"","",null,null,""]
[null,null,null,"","",null,null,""]
[null,null,null,"","",null,null,""]
[null,null,null,"","",null,null,""]
[null,null,null,"","",null,null,""]
[null,null,null,"","",null,null,""]
[null,null,null,"","",null,null,""]
[null,null,null,"","",null,null,""]
[null,null,null,"","",null,null,""]
[null,null,null,"","",null,null,""]
[null,null,null,"","",null,null,""]
[null,null,null,"","",null,null,""]
[null,null,null,"","",null,null,""]
[null,null,null,"","",null,null,""]
[null,null,null,"","",null,null,""]
[null,null,null,"","",null,null,""]
[null,null,null,"","",null,null,""]
[null,null,null,"","",null,null,""]
[null,null,null,"","",null,null,""]
[null,null,null,"","",null,null,""]
[null,null,null,"","",null,null,""]
[null,null,null,"","",null,null,""]
[null,null,null,"","",null,null,""]
[null,null,null,"","",null,null,""]
[null,null,null,"","",null,null,""]
[null,null,null,"","",null,null,""]
[null,null,null,"","",null,null,""]
[null,null,null,"","",null,null,""]
[null,null,null,"","",null,null,""]
[null,null,null,"","",null,null,""]
[null,null,null,"","",null,null,""]
[null,null,null,"","",null,null,""]
[null,null,null,"","",null,null,""]
[null,null,null,{"$f":"IF(C582=\"\",\"\",MONTH(C582))","v":""},{"$f":"IF(C582=\"\",\"\",YEAR(C582))","v":""},null,null,{"$f":"IF(F582=\"\",\"\",IF(F582=$A$3,\"Entrada\",IF(F582=$A$4,\"Entrada\",IF(F582=$A$5,\"Entrada\",IF(F582=$A$6,\"Entrada\",IF(F582=$A$7,\"Entrada\",\"Saída\"))))))","v":""}]
[null,null,null,"","",null,null,""]
[null,null,null,"","",null,null,""]
[null,null,null,"","",null,null,""]
[null,null,null,"","",null,null,""]
[null,null,null,"","",null,null,""]
[null,null,null,"","",null,null,""]
[null,null,null,"","",null,null,""]
[null,null,null,"","",null,null,""]
[null,null,null,"","",null,null,""]
[null,null,null,"","",null,null,""]
[null,null,null,"","",null,null,""]
[null,null,null,"","",null,null,""]
[null,null,null,"","",null,null,""]
[null,null,null,"","",null,null,""]
[null,null,null,"","",null,null,""]
[null,null,null,"","",null,null,""]
[null,null,null,"","",null,null,""]
[null,null,null,"","",null,null,""]
[null,null,null,"","",null,null,""]
[null,null,null,"","",null,null,""]
[null,null,null,"","",null,null,""]
[null,null,null,"","",null,null,""]
[null,null,null,"","",null,null,""]
[null,null,null,"","",null,null,""]
[null,null,null,"","",null,null,""]
[null,null,null,"","",null,null,""]
[null,null,null,"","",null,null,""]
[null,null,null,"","",null,null,""]
[null,null,null,"","",null,null,""]
[null,null,null,"","",null,null,""]
[null,null,null,"","",null,null,""]
[null,null,null,"","",null,null,""]
[null,null,null,"","",null,null,""]
[null,null,null,"","",null,null,""]
[null,null,null,"","",null,null,""]
[null,null,null,"","",null,null,""]
[null,null,null,"","",null,null,""]
[null,null,null,"","",null,null,""]
[null,null,null,"","",null,null,""]
[null,null,null,"","",null,null,""]
[null,null,null,"","",null,null,""]
[null,null,null,"","",null,null,""]
[null,null,null,"","",null,null,""]
[null,null,null,"","",null,null,""]
[null,null,null,"","",null,null,""]
[null,null,null,"","",null,null,""]
[null,null,null,"","",null,null,""]
[null,null,null,"","",null,null,""]
[null,null,null,"","",null,null,""]
[null,null,null,"","",null,null,""]
[null,null,null,"","",null,null,""]
[null,null,null,"","",null,null,""]
[null,null,null,"","",null,null,""]
[null,null,null,"","",null,null,""]
[null,null,null,"","",null,null,""]
[null,null,null,"","",null,null,""]
[null,null,null,"","",null,null,""]
[null,null,null,"","",null,null,""]
[null,null,null,"","",null,null,""]
[null,null,null,"","",null,null,""]
[null,null,null,"","",null,null,""]
[null,null,null,"","",null,null,""]
[null,null,null,"","",null,null,""]
[null,null,null,{"$f":"IF(C646=\"\",\"\",MONTH(C646))","v":""},{"$f":"IF(C646=\"\",\"\",YEAR(C646))","v":""},null,null,{"$f":"IF(F646=\"\",\"\",IF(F646=$A$3,\"Entrada\",IF(F646=$A$4,\"Entrada\",IF(F646=$A$5,\"Entrada\",IF(F646=$A$6,\"Entrada\",IF(F646=$A$7,\"Entrada\",\"Saída\"))))))","v":""}]
[null,null,null,"","",null,null,""]
[null,null,null,"","",null,null,""]
[null,null,null,"","",null,null,""]
[null,null,null,"","",null,null,""]
[null,null,null,"","",null,null,""]
[null,null,null,"","",null,null,""]
[null,null,null,"","",null,null,""]
[null,null,null,"","",null,null,""]
[null,null,null,"","",null,null,""]
[null,null,null,"","",null,null,""]
[null,null,null,"","",null,null,""]
[null,null,null,"","",null,null,""]
[null,null,null,"","",null,null,""]
[null,null,null,"","",null,null,""]
[null,null,null,"","",null,null,""]
[null,null,null,"","",null,null,""]
[null,null,null,"","",null,null,""]
[null,null,null,"","",null,null,""]
[null,null,null,"","",null,null,""]
[null,null,null,"","",null,null,""]
[null,null,null,"","",null,null,""]
[null,null,null,"","",null,null,""]
[null,null,null,"","",null,null,""]
[null,null,null,"","",null,null,""]
[null,null,null,"","",null,null,""]
[null,null,null,"","",null,null,""]
[null,null,null,"","",null,null,""]
[null,null,null,"","",null,null,""]
[null,null,null,"","",null,null,""]
[null,null,null,"","",null,null,""]
[null,null,null,"","",null,null,""]
[null,null,null,"","",null,null,""]
[null,null,null,"","",null,null,""]
[null,null,null,"","",null,null,""]
[null,null,null,"","",null,null,""]
[null,null,null,"","",null,null,""]
[null,null,null,"","",null,null,""]
[null,null,null,"","",null,null,""]
[null,null,null,"","",null,null,""]
[null,null,null,"","",null,null,""]
[null,null,null,"","",null,null,""]
[null,null,null,"","",null,null,""]
[null,null,null,"","",null,null,""]
[null,null,null,"","",null,null,""]
[null,null,null,"","",null,null,""]
[null,null,null,"","",null,null,""]
[null,null,null,"","",null,null,""]
[null,null,null,"","",null,null,""]
[null,null,null,"","",null,null,""]
[null,null,null,"","",null,null,""]
[null,null,null,"","",null,null,""]
[null,null,null,"","",null,null,""]
[null,null,null,"","",null,null,""]
[null,null,null,"","",null,null,""]
[null,null,null,"","",null,null,""]
[null,null,null,"","",null,null,""]
[null,null,null,"","",null,null,""]
[null,null,null,"","",null,null,""]
[null,null,null,"","",null,null,""]
[null,null,null,"","",null,null,""]
[null,null,null,"","",null,null,""]
[null,null,null,"","",null,null,""]
[null,null,null,"","",null,null,""]
[null,null,null,{"$f":"IF(C710=\"\",\"\",MONTH(C710))","v":""},{"$f":"IF(C710=\"\",\"\",YEAR(C710))","v":""},null,null,{"$f":"IF(F710=\"\",\"\",IF(F710=$A$3,\"Entrada\",IF(F710=$A$4,\"Entrada\",IF(F710=$A$5,\"Entrada\",IF(F710=$A$6,\"Entrada\",IF(F710=$A$7,\"Entrada\",\"Saída\"))))))","v":""}]
[null,null,null,"","",null,null,""]
[null,null,null,"","",null,null,""]
[null,null,null,"","",null,null,""]
[null,null,null,"","",null,null,""]
[null,null,null,"","",null,null,""]
[null,null,null,"","",null,null,""]
[null,null,null,"","",null,null,""]
[null,null,null,"","",null,null,""]
[null,null,null,"","",null,null,""]
[null,null,null,"","",null,null,""]
[null,null,null,"","",null,null,""]
[null,null,null,"","",null,null,""]
[null,null,null,"","",null,null,""]
[null,null,null,"","",null,null,""]
[null,null,null,"","",null,null,""]
[null,null,null,"","",null,null,""]
[null,null,null,"","",null,null,""]
[null,null,null,"","",null,null,""]
[null,null,null,"","",null,null,""]
[null,null,null,"","",null,null,""]
[null,null,null,"","",null,null,""]
[null,null,null,"","",null,null,""]
[null,null,null,"","",null,null,""]
[null,null,null,"","",null,null,""]
[null,null,null,"","",null,null,""]
[null,null,null,"","",null,null,""]
[null,null,null,"","",null,null,""]
[null,null,null,"","",null,null,""]
[null,null,null,"","",null,null,""]
[null,null,null,"","",null,null,""]
[null,null,null,"","",null,null,""]
[null,null,null,"","",null,null,""]
[null,null,null,"","",null,null,""]
[null,null,null,"","",null,null,""]
[null,null,null,"","",null,null,""]
[null,null,null,"","",null,null,""]
[null,null,null,"","",null,null,""]
[null,null,null,"","",null,null,""]
[null,null,null,"","",null,null,""]
[null,null,null,"","",null,null,""]
[null,null,null,"","",null,null,""]
[null,null,null,"","",null,null,""]
[null,null,null,"","",null,null,""]
[null,null,null,"","",null,null,""]
[null,null,null,"","",null,null,""]
[null,null,null,"","",null,null,""]
[null,null,null,"","",null,null,""]
[null,null,null,"","",null,null,""]
[null,null,null,"","",null,null,""]
[null,null,null,"","",null,null,""]
[null,null,null,"","",null,null,""]
[null,null,null,"","",null,null,""]
[null,null,null,"","",null,null,""]
[null,null,null,"","",null,null,""]
[null,null,null,"","",null,null,""]
[null,null,null,"","",null,null,""]
[null,null,null,"","",null,null,""]
[null,null,null,"","",null,null,""]
[null,null,null,"","",null,null,""]
[null,null,null,"","",null,null,""]
[null,null,null,"","",null,null,""]
[null,null,null,"","",null,null,""]
[null,null,null,"","",null,null,""]
[null,null,null,{"$f":"IF(C774=\"\",\"\",MONTH(C774))","v":""},{"$f":"IF(C774=\"\",\"\",YEAR(C774))","v":""},null,null,{"$f":"IF(F774=\"\",\"\",IF(F774=$A$3,\"Entrada\",IF(F774=$A$4,\"Entrada\",IF(F774=$A$5,\"Entrada\",IF(F774=$A$6,\"Entrada\",IF(F774=$A$7,\"Entrada\",\"Saída\"))))))","v":""}]
[null,null,null,"","",null,null,""]
[null,null,null,"","",null,null,""]
[null,null,null,"","",null,null,""]
[null,null,null,"","",null,null,""]
[null,null,null,"","",null,null,""]
[null,null,null,"","",null,null,""]
[null,null,null,"","",null,null,""]
[null,null,null,"","",null,null,""]
[null,null,null,"","",null,null,""]
[null,null,null,"","",null,null,""]
[null,null,null,"","",null,null,""]
[null,null,null,"","",null,null,""]
[null,null,null,"","",null,null,""]
[null,null,null,"","",null,null,""]
[null,null,null,"","",null,null,""]
[null,null,null,"","",null,null,""]
[null,null,null,"","",null,null,""]
[null,null,null,"","",null,null,""]
[null,null,null,"","",null,null,""]
[null,null,null,"","",null,null,""]
[null,null,null,"","",null,null,""]
[null,null,null,"","",null,null,""]
[null,null,null,"","",null,null,""]
[null,null,null,"","",null,null,""]
[null,null,null,"","",null,null,""]
[null,null,null,"","",null,null,""]
[null,null,null,"","",null,null,""]
[null,null,null,"","",null,null,""]
[null,null,null,"","",null,null,""]
[null,null,null,"","",null,null,""]
[null,null,null,"","",null,null,""]
[null,null,null,"","",null,null,""]
[null,null,null,"","",null,null,""]
[null,null,null,"","",null,null,""]
[null,null,null,"","",null,null,""]
[null,null,null,"","",null,null,""]
[null,null,null,"","",null,null,""]
[null,null,null,"","",null,null,""]
[null,null,null,"","",null,null,""]
[null,null,null,"","",null,null,""]
[null,null,null,"","",null,null,""]
[null,null,null,"","",null,null,""]
[null,null,null,"","",null,null,""]
[null,null,null,"","",null,null,""]
[null,null,null,"","",null,null,""]
[null,null,null,"","",null,null,""]
[null,null,null,"","",null,null,""]
[null,null,null,"","",null,null,""]
[null,null,null,"","",null,null,""]
[null,null,null,"","",null,null,""]
[null,null,null,"","",null,null,""]
[null,null,null,"","",null,null,""]
[null,null,null,"","",null,null,""]
[null,null,null,"","",null,null,""]
[null,null,null,"","",null,null,""]
[null,null,null,"","",null,null,""]
[null,null,null,"","",null,null,""]
[null,null,null,"","",null,null,""]
[null,null,null,"","",null,null,""]
[null,null,null,"","",null,null,""]
[null,null,null,"","",null,null,""]
[null,null,null,"","",null,null,""]
[null,null,null,"","",null,null,""]
[null,null,null,{"$f":"IF(C838=\"\",\"\",MONTH(C838))","v":""},{"$f":"IF(C838=\"\",\"\",YEAR(C838))","v":""},null,null,{"$f":"IF(F838=\"\",\"\",IF(F838=$A$3,\"Entrada\",IF(F838=$A$4,\"Entrada\",IF(F838=$A$5,\"Entrada\",IF(F838=$A$6,\"Entrada\",IF(F838=$A$7,\"Entrada\",\"Saída\"))))))","v":""}]
[null,null,null,"","",null,null,""]
[null,null,null,"","",null,null,""]
[null,null,null,"","",null,null,""]
[null,null,null,"","",null,null,""]
[null,null,null,"","",null,null,""]
[null,null,null,"","",null,null,""]
[null,null,null,"","",null,null,""]
[null,null,null,"","",null,null,""]
[null,null,null,"","",null,null,""]
[null,null,null,"","",null,null,""]
[null,null,null,"","",null,null,""]
[null,null,null,"","",null,null,""]
[null,null,null,"","",null,null,""]
[null,null,null,"","",null,null,""]
[null,null,null,"","",null,null,""]
[null,null,null,"","",null,null,""]
[null,null,null,"","",null,null,""]
[null,null,null,"","",null,null,""]
[null,null,null,"","",null,null,""]
[null,null,null,"","",null,null,""]
[null,null,null,"","",null,null,""]
[null,null,null,"","",null,null,""]
[null,null,null,"","",null,null,""]
[null,null,null,"","",null,null,""]
[null,null,null,"","",null,null,""]
[null,null,null,"","",null,null,""]
[null,null,null,"","",null,null,""]
[null,null,null,"","",null,null,""]
[null,null,null,"","",null,null,""]
[null,null,null,"","",null,null,""]
[null,null,null,"","",null,null,""]
[null,null,null,"","",null,null,""]
[null,null,null,"","",null,null,""]
[null,null,null,"","",null,null,""]
[null,null,null,"","",null,null,""]
[null,null,null,"","",null,null,""]
[null,null,null,"","",null,null,""]
[null,null,null,"","",null,null,""]
[null,null,null,"","",null,null,""]
[null,null,null,"","",null,null,""]
[null,null,null,"","",null,null,""]
[null,null,null,"","",null,null,""]
[null,null,null,"","",null,null,""]
[null,null,null,"","",null,null,""]
[null,null,null,"","",null,null,""]
[null,null,null,"","",null,null,""]
[null,null,null,"","",null,null,""]
[null,null,null,"","",null,null,""]
[null,null,null,"","",null,null,""]
[null,null,null,"","",null,null,""]
[null,null,null,"","",null,null,""]
[null,null,null,"","",null,null,""]
[null,null,null,"","",null,null,""]
[null,null,null,"","",null,null,""]
[null,null,null,"","",null,null,""]
[null,null,null,"","",null,null,""]
[null,null,null,"","",null,null,""]
[null,null,null,"","",null,null,""]
[null,null,null,"","",null,null,""]
[null,null,null,"","",null,null,""]
[null,null,null,"","",null,null,""]
[null,null,null,"","",null,null,""]
[null,null,null,"","",null,null,""]
[null,null,null,{"$f":"IF(C902=\"\",\"\",MONTH(C902))","v":""},{"$f":"IF(C902=\"\",\"\",YEAR(C902))","v":""},null,null,{"$f":"IF(F902=\"\",\"\",IF(F902=$A$3,\"Entrada\",IF(F902=$A$4,\"Entrada\",IF(F902=$A$5,\"Entrada\",IF(F902=$A$6,\"Entrada\",IF(F902=$A$7,\"Entrada\",\"Saída\"))))))","v":""}]
[null,null,null,"","",null,null,""]
[null,null,null,"","",null,null,""]
[null,null,null,"","",null,null,""]
[null,null,null,"","",null,null,""]
[null,null,null,"","",null,null,""]
[null,null,null,"","",null,null,""]
[null,null,null,"","",null,null,""]
[null,null,null,"","",null,null,""]
[null,null,null,"","",null,null,""]
[null,null,null,"","",null,null,""]
[null,null,null,"","",null,null,""]
[null,null,null,"","",null,null,""]
[null,null,null,"","",null,null,""]
[null,null,null,"","",null,null,""]
[null,null,null,"","",null,null,""]
[null,null,null,"","",null,null,""]
[null,null,null,"","",null,null,""]
[null,null,null,"","",null,null,""]
[null,null,null,"","",null,null,""]
[null,null,null,"","",null,null,""]
[null,null,null,"","",null,null,""]
[null,null,null,"","",null,null,""]
[null,null,null,"","",null,null,""]
[null,null,null,"","",null,null,""]
[null,null,null,"","",null,null,""]
[null,null,null,"","",null,null,""]
[null,null,null,"","",null,null,""]
[null,null,null,"","",null,null,""]
[null,null,null,"","",null,null,""]
[null,null,null,"","",null,null,""]
[null,null,null,"","",null,null,""]
[null,null,null,"","",null,null,""]
[null,null,null,"","",null,null,""]
[null,null,null,"","",null,null,""]
[null,null,null,"","",null,null,""]
[null,null,null,"","",null,null,""]
[null,null,null,"","",null,null,""]
[null,null,null,"","",null,null,""]
[null,null,null,"","",null,null,""]
[null,null,null,"","",null,null,""]
[null,null,null,"","",null,null,""]
[null,null,null,"","",null,null,""]
[null,null,null,"","",null,null,""]
[null,null,null,"","",null,null,""]
[null,null,null,"","",null,null,""]
[null,null,null,"","",null,null,""]
[null,null,null,"","",null,null,""]
[null,null,null,"","",null,null,""]
[null,null,null,"","",null,null,""]
[null,null,null,"","",null,null,""]
[null,null,null,"","",null,null,""]
[null,null,null,"","",null,null,""]
[null,null,null,"","",null,null,""]
[null,null,null,"","",null,null,""]
[null,null,null,"","",null,null,""]
[null,null,null,"","",null,null,""]
[null,null,null,"","",null,null,""]
[null,null,null,"","",null,null,""]
[null,null,null,"","",null,null,""]
[null,null,null,"","",null,null,""]
[null,null,null,"","",null,null,""]
[null,null,null,"","",null,null,""]
[null,null,null,"","",null,null,""]
[null,null,null,{"$f":"IF(C966=\"\",\"\",MONTH(C966))","v":""},{"$f":"IF(C966=\"\",\"\",YEAR(C966))","v":""},null,null,{"$f":"IF(F966=\"\",\"\",IF(F966=$A$3,\"Entrada\",IF(F966=$A$4,\"Entrada\",IF(F966=$A$5,\"Entrada\",IF(F966=$A$6,\"Entrada\",IF(F966=$A$7,\"Entrada\",\"Saída\"))))))","v":""}]
[null,null,null,"","",null,null,""]
[null,null,null,"","",null,null,""]
[null,null,null,"","",null,null,""]
[null,null,null,"","",null,null,""]
[null,null,null,"","",null,null,""]
[null,null,null,"","",null,null,""]
[null,null,null,"","",null,null,""]
[null,null,null,"","",null,null,""]
[null,null,null,"","",null,null,""]
[null,null,null,"","",null,null,""]
[null,null,null,"","",null,null,""]
[null,null,null,"","",null,null,""]
[null,null,null,"","",null,null,""]
[null,null,null,"","",null,null,""]
[null,null,null,"","",null,null,""]
[null,null,null,"","",null,null,""]
[null,null,null,"","",null,null,""]
[null,null,null,"","",null,null,""]
[null,null,null,"","",null,null,""]
[null,null,null,"","",null,null,""]
[null,null,null,"","",null,null,""]
[null,null,null,"","",null,null,""]
[null,null,null,"","",null,null,""]
[null,null,null,"","",null,null,""]
[null,null,null,"","",null,null,""]
[null,null,null,"","",null,null,""]
[null,null,null,"","",null,null,""]
[null,null,null,"","",null,null,""]
[null,null,null,"","",null,null,""]
[null,null,null,"","",null,null,""]
[null,null,null,"","",null,null,""]
[null,null,null,"","",null,null,""]
[null,null,null,"","",null,null,""]
[null,null,null,"","",null,null,""]
[null,null,null,"","",null,null,""]
[null,null,null,"","",null,null,""]
[null,null,null,"","",null,null,""]
[null,null,null,"","",null,null,""]
[null,null,null,"","",null,null,""]
[null,null,null,"","",null,null,""]
[null,null,null,"","",null,null,""]
[null,null,null,"","",null,null,""]
[null,null,null,"","",null,null,""]
[null,null,null,"","",null,null,""]
[null,null,null,"","",null,null,""]
[null,null,null,"","",null,null,""]
[null,null,null,"","",null,null,""]
[null,null,null,"","",null,null,""]
[null,null,null,"","",null,null,""]
[null,null,null,"","",null,null,""]
[null,null,null,"","",null,null,""]
[null,null,null,"","",null,null,""]
[null,null,null,"","",null,null,""]
[null,null,null,"","",null,null,""]
[null,null,null,"","",null,null,""]
[null,null,null,"","",null,null,""]
[null,null,null,"","",null,null,""]
[null,null,null,"","",null,null,""]
[null,null,null,"","",null,null,""]
[null,null,null,"","",null,null,""]
[null,null,null,"","",null,null,""]
[null,null,null,"","",null,null,""]
[null,null,null,"","",null,null,""]
[null,null,null,{"$f":"IF(C1030=\"\",\"\",MONTH(C1030))","v":""},{"$f":"IF(C1030=\"\",\"\",YEAR(C1030))","v":""},null,null,{"$f":"IF(F1030=\"\",\"\",IF(F1030=$A$3,\"Entrada\",IF(F1030=$A$4,\"Entrada\",IF(F1030=$A$5,\"Entrada\",IF(F1030=$A$6,\"Entrada\",IF(F1030=$A$7,\"Entrada\",\"Saída\"))))))","v":""}]
[null,null,null,"","",null,null,""]
[null,null,null,"","",null,null,""]
[null,null,null,"","",null,null,""]
[null,null,null,"","",null,null,""]
[null,null,null,"","",null,null,""]
[null,null,null,"","",null,null,""]
[null,null,null,"","",null,null,""]
[null,null,null,"","",null,null,""]
[null,null,null,"","",null,null,""]
[null,null,null,"","",null,null,""]
[null,null,null,"","",null,null,""]
[null,null,null,"","",null,null,""]
[null,null,null,"","",null,null,""]
[null,null,null,"","",null,null,""]
[null,null,null,"","",null,null,""]
[null,null,null,"","",null,null,""]
[null,null,null,"","",null,null,""]
[null,null,null,"","",null,null,""]
[null,null,null,"","",null,null,""]
[null,null,null,"","",null,null,""]
[null,null,null,"","",null,null,""]
[null,null,null,"","",null,null,""]
[null,null,null,"","",null,null,""]
[null,null,null,"","",null,null,""]
[null,null,null,"","",null,null,""]
[null,null,null,"","",null,null,""]
[null,null,null,"","",null,null,""]
[null,null,null,"","",null,null,""]
[null,null,null,"","",null,null,""]
[null,null,null,"","",null,null,""]
[null,null,null,"","",null,null,""]
[null,null,null,"","",null,null,""]
[null,null,null,"","",null,null,""]
[null,null,null,"","",null,null,""]
[null,null,null,"","",null,null,""]
[null,null,null,"","",null,null,""]
[null,null,null,"","",null,null,""]
[null,null,null,"","",null,null,""]
[null,null,null,"","",null,null,""]
[null,null,null,"","",null,null,""]
[null,null,null,"","",null,null,""]
[null,null,null,"","",null,null,""]
[null,null,null,"","",null,null,""]
[null,null,null,"","",null,null,""]
[null,null,null,"","",null,null,""]
[null,null,null,"","",null,null,""]
[null,null,null,"","",null,null,""]
[null,null,null,"","",null,null,""]
[null,null,null,"","",null,null,""]
[null,null,null,"","",null,null,""]
[null,null,null,"","",null,null,""]
[null,null,null,"","",null,null,""]
[null,null,null,"","",null,null,""]
[null,null,null,"","",null,null,""]
[null,null,null,"","",null,null,""]
[null,null,null,"","",null,null,""]
[null,null,null,"","",null,null,""]
[null,null,null,"","",null,null,""]
[null,null,null,"","",null,null,""]
[null,null,null,"","",null,null,""]
[null,null,null,"","",null,null,""]
[null,null,null,"","",null,null,""]
[null,null,null,"","",null,null,""]
[null,null,null,{"$f":"IF(C1094=\"\",\"\",MONTH(C1094))","v":""},{"$f":"IF(C1094=\"\",\"\",YEAR(C1094))","v":""},null,null,{"$f":"IF(F1094=\"\",\"\",IF(F1094=$A$3,\"Entrada\",IF(F1094=$A$4,\"Entrada\",IF(F1094=$A$5,\"Entrada\",IF(F1094=$A$6,\"Entrada\",IF(F1094=$A$7,\"Entrada\",\"Saída\"))))))","v":""}]
[null,null,null,"","",null,null,""]
[null,null,null,"","",null,null,""]
[null,null,null,"","",null,null,""]
[null,null,null,"","",null,null,""]
[null,null,null,"","",null,null,""]
[null,null,null,"","",null,null,""]
[null,null,null,"","",null,null,""]
[null,null,null,"","",null,null,""]
[null,null,null,"","",null,null,""]
[null,null,null,"","",null,null,""]
[null,null,null,"","",null,null,""]
[null,null,null,"","",null,null,""]
[null,null,null,"","",null,null,""]
[null,null,null,"","",null,null,""]
[null,null,null,"","",null,null,""]
[null,null,null,"","",null,null,""]
[null,null,null,"","",null,null,""]
[null,null,null,"","",null,null,""]
[null,null,null,"","",null,null,""]
[null,null,null,"","",null,null,""]
[null,null,null,"","",null,null,""]
[null,null,null,"","",null,null,""]
[null,null,null,"","",null,null,""]
[null,null,null,"","",null,null,""]
[null,null,null,"","",null,null,""]
[null,null,null,"","",null,null,""]
[null,null,null,"","",null,null,""]
[null,null,null,"","",null,null,""]
[null,null,null,"","",null,null,""]
[null,null,null,"","",null,null,""]
[null,null,null,"","",null,null,""]
[null,null,null,"","",null,null,""]
[null,null,null,"","",null,null,""]
[null,null,null,"","",null,null,""]
[null,null,null,"","",null,null,""]
[null,null,null,"","",null,null,""]
[null,null,null,"","",null,null,""]
[null,null,null,"","",null,null,""]
[null,null,null,"","",null,null,""]
[null,null,null,"","",null,null,""]
[null,null,null,"","",null,null,""]
[null,null,null,"","",null,null,""]
[null,null,null,"","",null,null,""]
[null,null,null,"","",null,null,""]
[null,null,null,"","",null,null,""]
[null,null,null,"","",null,null,""]
[null,null,null,"","",null,null,""]
[null,null,null,"","",null,null,""]
[null,null,null,"","",null,null,""]
[null,null,null,"","",null,null,""]
[null,null,null,"","",null,null,""]
[null,null,null,"","",null,null,""]
[null,null,null,"","",null,null,""]
[null,null,null,"","",null,null,""]
[null,null,null,"","",null,null,""]
[null,null,null,"","",null,null,""]
[null,null,null,"","",null,null,""]
[null,null,null,"","",null,null,""]
[null,null,null,"","",null,null,""]
[null,null,null,"","",null,null,""]
[null,null,null,"","",null,null,""]
[null,null,null,"","",null,null,""]
[null,null,null,"","",null,null,""]
[null,null,null,{"$f":"IF(C1158=\"\",\"\",MONTH(C1158))","v":""},{"$f":"IF(C1158=\"\",\"\",YEAR(C1158))","v":""},null,null,{"$f":"IF(F1158=\"\",\"\",IF(F1158=$A$3,\"Entrada\",IF(F1158=$A$4,\"Entrada\",IF(F1158=$A$5,\"Entrada\",IF(F1158=$A$6,\"Entrada\",IF(F1158=$A$7,\"Entrada\",\"Saída\"))))))","v":""}]
[null,null,null,"","",null,null,""]
[null,null,null,"","",null,null,""]
[null,null,null,"","",null,null,""]
[null,null,null,"","",null,null,""]
[null,null,null,"","",null,null,""]
[null,null,null,"","",null,null,""]
[null,null,null,"","",null,null,""]
[null,null,null,"","",null,null,""]
[null,null,null,"","",null,null,""]
[null,null,null,"","",null,null,""]
[null,null,null,"","",null,null,""]
[null,null,null,"","",null,null,""]
[null,null,null,"","",null,null,""]
[null,null,null,"","",null,null,""]
[null,null,null,"","",null,null,""]
[null,null,null,"","",null,null,""]
[null,null,null,"","",null,null,""]
[null,null,null,"","",null,null,""]
[null,null,null,"","",null,null,""]
[null,null,null,"","",null,null,""]
[null,null,null,"","",null,null,""]
[null,null,null,"","",null,null,""]
[null,null,null,"","",null,null,""]
[null,null,null,"","",null,null,""]
[null,null,null,"","",null,null,""]
[null,null,null,"","",null,null,""]
[null,null,null,"","",null,null,""]
[null,null,null,"","",null,null,""]
[null,null,null,"","",null,null,""]
[null,null,null,"","",null,null,""]
[null,null,null,"","",null,null,""]
[null,null,null,"","",null,null,""]
[null,null,null,"","",null,null,""]
[null,null,null,"","",null,null,""]
[null,null,null,"","",null,null,""]
[null,null,null,"","",null,null,""]
[null,null,null,"","",null,null,""]
[null,null,null,"","",null,null,""]
[null,null,null,"","",null,null,""]
[null,null,null,"","",null,null,""]
[null,null,null,"","",null,null,""]
[null,null,null,"","",null,null,""]
[null,null,null,"","",null,null,""]
[null,null,null,"","",null,null,""]
[null,null,null,"","",null,null,""]
[null,null,null,"","",null,null,""]
[null,null,null,"","",null,null,""]
[null,null,null,"","",null,null,""]
[null,null,null,"","",null,null,""]
[null,null,null,"","",null,null,""]
[null,null,null,"","",null,null,""]
[null,null,null,"","",null,null,""]
[null,null,null,"","",null,null,""]
[null,null,null,"","",null,null,""]
[null,null,null,"","",null,null,""]
[null,null,null,"","",null,null,""]
[null,null,null,"","",null,null,""]
[null,null,null,"","",null,null,""]
[null,null,null,"","",null,null,""]
[null,null,null,"","",null,null,""]
[null,null,null,"","",null,null,""]
[null,null,null,"","",null,null,""]
[null,null,null,"","",null,null,""]
[null,null,null,{"$f":"IF(C1222=\"\",\"\",MONTH(C1222))","v":""},{"$f":"IF(C1222=\"\",\"\",YEAR(C1222))","v":""},null,null,{"$f":"IF(F1222=\"\",\"\",IF(F1222=$A$3,\"Entrada\",IF(F1222=$A$4,\"Entrada\",IF(F1222=$A$5,\"Entrada\",IF(F1222=$A$6,\"Entrada\",IF(F1222=$A$7,\"Entrada\",\"Saída\"))))))","v":""}]
[null,null,null,"","",null,null,""]
[null,null,null,"","",null,null,""]
[null,null,null,"","",null,null,""]
[null,null,null,"","",null,null,""]
[null,null,null,"","",null,null,""]
[null,null,null,"","",null,null,""]
[null,null,null,"","",null,null,""]
[null,null,null,"","",null,null,""]
[null,null,null,"","",null,null,""]
[null,null,null,"","",null,null,""]
[null,null,null,"","",null,null,""]
[null,null,null,"","",null,null,""]
[null,null,null,"","",null,null,""]
[null,null,null,"","",null,null,""]
[null,null,null,"","",null,null,""]
[null,null,null,"","",null,null,""]
[null,null,null,"","",null,null,""]
[null,null,null,"","",null,null,""]
[null,null,null,"","",null,null,""]
[null,null,null,"","",null,null,""]
[null,null,null,"","",null,null,""]
[null,null,null,"","",null,null,""]
[null,null,null,"","",null,null,""]
[null,null,null,"","",null,null,""]
[null,null,null,"","",null,null,""]
[null,null,null,"","",null,null,""]
[null,null,null,"","",null,null,""]
[null,null,null,"","",null,null,""]
[null,null,null,"","",null,null,""]
[null,null,null,"","",null,null,""]
[null,null,null,"","",null,null,""]
[null,null,null,"","",null,null,""]
[null,null,null,"","",null,null,""]
[null,null,null,"","",null,null,""]
[null,null,null,"","",null,null,""]
[null,null,null,"","",null,null,""]
[null,null,null,"","",null,null,""]
[null,null,null,"","",null,null,""]
[null,null,null,"","",null,null,""]
[null,null,null,"","",null,null,""]
[null,null,null,"","",null,null,""]
[null,null,null,"","",null,null,""]
[null,null,null,"","",null,null,""]
[null,null,null,"","",null,null,""]
[null,null,null,"","",null,null,""]
[null,null,null,"","",null,null,""]
[null,null,null,"","",null,null,""]
[null,null,null,"","",null,null,""]
[null,null,null,"","",null,null,""]
[null,null,null,"","",null,null,""]
[null,null,null,"","",null,null,""]
[null,null,null,"","",null,null,""]
[null,null,null,"","",null,null,""]
[null,null,null,"","",null,null,""]
[null,null,null,"","",null,null,""]
[null,null,null,"","",null,null,""]
[null,null,null,"","",null,null,""]
[null,null,null,"","",null,null,""]
[null,null,null,"","",null,null,""]
[null,null,null,"","",null,null,""]
[null,null,null,"","",null,null,""]
[null,null,null,"","",null,null,""]
[null,null,null,"","",null,null,""]
[null,null,null,{"$f":"IF(C1286=\"\",\"\",MONTH(C1286))","v":""},{"$f":"IF(C1286=\"\",\"\",YEAR(C1286))","v":""},null,null,{"$f":"IF(F1286=\"\",\"\",IF(F1286=$A$3,\"Entrada\",IF(F1286=$A$4,\"Entrada\",IF(F1286=$A$5,\"Entrada\",IF(F1286=$A$6,\"Entrada\",IF(F1286=$A$7,\"Entrada\",\"Saída\"))))))","v":""}]
[null,null,null,"","",null,null,""]
[null,null,null,"","",null,null,""]
[null,null,null,"","",null,null,""]
[null,null,null,"","",null,null,""]
[null,null,null,"","",null,null,""]
[null,null,null,"","",null,null,""]
[null,null,null,"","",null,null,""]
[null,null,null,"","",null,null,""]
[null,null,null,"","",null,null,""]
[null,null,null,"","",null,null,""]
[null,null,null,"","",null,null,""]
[null,null,null,"","",null,null,""]
[null,null,null,"","",null,null,""]
[null,null,null,"","",null,null,""]
[null,null,null,"","",null,null,""]
[null,null,null,"","",null,null,""]
[null,null,null,"","",null,null,""]
[null,null,null,"","",null,null,""]
[null,null,null,"","",null,null,""]
[null,null,null,"","",null,null,""]
[null,null,null,"","",null,null,""]
[null,null,null,"","",null,null,""]
[null,null,null,"","",null,null,""]
[null,null,null,"","",null,null,""]
[null,null,null,"","",null,null,""]
[null,null,null,"","",null,null,""]
[null,null,null,"","",null,null,""]
[null,null,null,"","",null,null,""]
[null,null,null,"","",null,null,""]
[null,null,null,"","",null,null,""]
[null,null,null,"","",null,null,""]
[null,null,null,"","",null,null,""]
[null,null,null,"","",null,null,""]
[null,null,null,"","",null,null,""]
[null,null,null,"","",null,null,""]
[null,null,null,"","",null,null,""]
[null,null,null,"","",null,null,""]
[null,null,null,"","",null,null,""]
[null,null,null,"","",null,null,""]
[null,null,null,"","",null,null,""]
[null,null,null,"","",null,null,""]
[null,null,null,"","",null,null,""]
[null,null,null,"","",null,null,""]
[null,null,null,"","",null,null,""]
[null,null,null,"","",null,null,""]
[null,null,null,"","",null,null,""]
[null,null,null,"","",null,null,""]
[null,null,null,"","",null,null,""]
[null,null,null,"","",null,null,""]
[null,null,null,"","",null,null,""]
[null,null,null,"","",null,null,""]
[null,null,null,"","",null,null,""]
[null,null,null,"","",null,null,""]
[null,null,null,"","",null,null,""]
[null,null,null,"","",null,null,""]
[null,null,null,"","",null,null,""]
[null,null,null,"","",null,null,""]
[null,null,null,"","",null,null,""]
[null,null,null,"","",null,null,""]
[null,null,null,"","",null,null,""]
[null,null,null,"","",null,null,""]
[null,null,null,"","",null,null,""]
[null,null,null,"","",null,null,""]
[null,null,null,{"$f":"IF(C1350=\"\",\"\",MONTH(C1350))","v":""},{"$f":"IF(C1350=\"\",\"\",YEAR(C1350))","v":""},null,null,{"$f":"IF(F1350=\"\",\"\",IF(F1350=$A$3,\"Entrada\",IF(F1350=$A$4,\"Entrada\",IF(F1350=$A$5,\"Entrada\",IF(F1350=$A$6,\"Entrada\",IF(F1350=$A$7,\"Entrada\",\"Saída\"))))))","v":""}]
[null,null,null,"","",null,null,""]
[null,null,null,"","",null,null,""]
[null,null,null,"","",null,null,""]
[null,null,null,"","",null,null,""]
[null,null,null,"","",null,null,""]
[null,null,null,"","",null,null,""]
[null,null,null,"","",null,null,""]
[null,null,null,"","",null,null,""]
[null,null,null,"","",null,null,""]
[null,null,null,"","",null,null,""]
[null,null,null,"","",null,null,""]
[null,null,null,"","",null,null,""]
[null,null,null,"","",null,null,""]
[null,null,null,"","",null,null,""]
[null,null,null,"","",null,null,""]
[null,null,null,"","",null,null,""]
[null,null,null,"","",null,null,""]
[null,null,null,"","",null,null,""]
[null,null,null,"","",null,null,""]
[null,null,null,"","",null,null,""]
[null,null,null,"","",null,null,""]
[null,null,null,"","",null,null,""]
[null,null,null,"","",null,null,""]
[null,null,null,"","",null,null,""]
[null,null,null,"","",null,null,""]
[null,null,null,"","",null,null,""]
[null,null,null,"","",null,null,""]
[null,null,null,"","",null,null,""]
[null,null,null,"","",null,null,""]
[null,null,null,"","",null,null,""]
[null,null,null,"","",null,null,""]
[null,null,null,"","",null,null,""]
[null,null,null,"","",null,null,""]
[null,null,null,"","",null,null,""]
[null,null,null,"","",null,null,""]
[null,null,null,"","",null,null,""]
[null,null,null,"","",null,null,""]
[null,null,null,"","",null,null,""]
[null,null,null,"","",null,null,""]
[null,null,null,"","",null,null,""]
[null,null,null,"","",null,null,""]
[null,null,null,"","",null,null,""]
[null,null,null,"","",null,null,""]
[null,null,null,"","",null,null,""]
[null,null,null,"","",null,null,""]
[null,null,null,"","",null,null,""]
[null,null,null,"","",null,null,""]
[null,null,null,"","",null,null,""]
[null,null,null,"","",null,null,""]
[null,null,null,"","",null,null,""]
[null,null,null,"","",null,null,""]
[null,null,null,"","",null,null,""]
[null,null,null,"","",null,null,""]
[null,null,null,"","",null,null,""]
[null,null,null,"","",null,null,""]
[null,null,null,"","",null,null,""]
[null,null,null,"","",null,null,""]
[null,null,null,"","",null,null,""]
[null,null,null,"","",null,null,""]
[null,null,null,"","",null,null,""]
[null,null,null,"","",null,null,""]
[null,null,null,"","",null,null,""]
[null,null,null,"","",null,null,""]
[null,null,null,{"$f":"IF(C1414=\"\",\"\",MONTH(C1414))","v":""},{"$f":"IF(C1414=\"\",\"\",YEAR(C1414))","v":""},null,null,{"$f":"IF(F1414=\"\",\"\",IF(F1414=$A$3,\"Entrada\",IF(F1414=$A$4,\"Entrada\",IF(F1414=$A$5,\"Entrada\",IF(F1414=$A$6,\"Entrada\",IF(F1414=$A$7,\"Entrada\",\"Saída\"))))))","v":""}]
[null,null,null,"","",null,null,""]
[null,null,null,"","",null,null,""]
[null,null,null,"","",null,null,""]
[null,null,null,"","",null,null,""]
[null,null,null,"","",null,null,""]
[null,null,null,"","",null,null,""]
[null,null,null,"","",null,null,""]
[null,null,null,"","",null,null,""]
[null,null,null,"","",null,null,""]
[null,null,null,"","",null,null,""]
[null,null,null,"","",null,null,""]
[null,null,null,"","",null,null,""]
[null,null,null,"","",null,null,""]
[null,null,null,"","",null,null,""]
[null,null,null,"","",null,null,""]
[null,null,null,"","",null,null,""]
[null,null,null,"","",null,null,""]
[null,null,null,"","",null,null,""]
[null,null,null,"","",null,null,""]
[null,null,null,"","",null,null,""]
[null,null,null,"","",null,null,""]
[null,null,null,"","",null,null,""]
[null,null,null,"","",null,null,""]
[null,null,null,"","",null,null,""]
[null,null,null,"","",null,null,""]
[null,null,null,"","",null,null,""]
[null,null,null,"","",null,null,""]
[null,null,null,"","",null,null,""]
[null,null,null,"","",null,null,""]
[null,null,null,"","",null,null,""]
[null,null,null,"","",null,null,""]
[null,null,null,"","",null,null,""]
[null,null,null,"","",null,null,""]
[null,null,null,"","",null,null,""]
[null,null,null,"","",null,null,""]
[null,null,null,"","",null,null,""]
[null,null,null,"","",null,null,""]
[null,null,null,"","",null,null,""]
[null,null,null,"","",null,null,""]
[null,null,null,"","",null,null,""]
[null,null,null,"","",null,null,""]
[null,null,null,"","",null,null,""]
[null,null,null,"","",null,null,""]
[null,null,null,"","",null,null,""]
[null,null,null,"","",null,null,""]
[null,null,null,"","",null,null,""]
[null,null,null,"","",null,null,""]
[null,null,null,"","",null,null,""]
[null,null,null,"","",null,null,""]
[null,null,null,"","",null,null,""]
[null,null,null,"","",null,null,""]
[null,null,null,"","",null,null,""]
[null,null,null,"","",null,null,""]
[null,null,null,"","",null,null,""]
[null,null,null,"","",null,null,""]
[null,null,null,"","",null,null,""]
[null,null,null,"","",null,null,""]
[null,null,null,"","",null,null,""]
[null,null,null,"","",null,null,""]
[null,null,null,"","",null,null,""]
[null,null,null,"","",null,null,""]
[null,null,null,"","",null,null,""]
[null,null,null,"","",null,null,""]
[null,null,null,{"$f":"IF(C1478=\"\",\"\",MONTH(C1478))","v":""},{"$f":"IF(C1478=\"\",\"\",YEAR(C1478))","v":""},null,null,{"$f":"IF(F1478=\"\",\"\",IF(F1478=$A$3,\"Entrada\",IF(F1478=$A$4,\"Entrada\",IF(F1478=$A$5,\"Entrada\",IF(F1478=$A$6,\"Entrada\",IF(F1478=$A$7,\"Entrada\",\"Saída\"))))))","v":""}]
[null,null,null,"","",null,null,""]
[null,null,null,"","",null,null,""]
[null,null,null,"","",null,null,""]
[null,null,null,"","",null,null,""]
[null,null,null,"","",null,null,""]
[null,null,null,"","",null,null,""]
[null,null,null,"","",null,null,""]
[null,null,null,"","",null,null,""]
[null,null,null,"","",null,null,""]
[null,null,null,"","",null,null,""]
[null,null,null,"","",null,null,""]
[null,null,null,"","",null,null,""]
[null,null,null,"","",null,null,""]
[null,null,null,"","",null,null,""]
[null,null,null,"","",null,null,""]
[null,null,null,"","",null,null,""]
[null,null,null,"","",null,null,""]
[null,null,null,"","",null,null,""]
[null,null,null,"","",null,null,""]
[null,null,null,"","",null,null,""]
[null,null,null,"","",null,null,""]
[null,null,null,"","",null,null,""]
[null,null,null,"","",null,null,""]
[null,null,null,"","",null,null,""]
[null,null,null,"","",null,null,""]
[null,null,null,"","",null,null,""]
[null,null,null,"","",null,null,""]
[null,null,null,"","",null,null,""]
[null,null,null,"","",null,null,""]
[null,null,null,"","",null,null,""]
[null,null,null,"","",null,null,""]
[null,null,null,"","",null,null,""]
[null,null,null,"","",null,null,""]
[null,null,null,"","",null,null,""]
[null,null,null,"","",null,null,""]
[null,null,null,"","",null,null,""]
[null,null,null,"","",null,null,""]
[null,null,null,"","",null,null,""]
[null,null,null,"","",null,null,""]
[null,null,null,"","",null,null,""]
[null,null,null,"","",null,null,""]
[null,null,null,"","",null,null,""]
[null,null,null,"","",null,null,""]
[null,null,null,"","",null,null,""]
[null,null,null,"","",null,null,""]
[null,null,null,"","",null,null,""]
[null,null,null,"","",null,null,""]
[null,null,null,"","",null,null,""]
[null,null,null,"","",null,null,""]
[null,null,null,"","",null,null,""]
[null,null,null,"","",null,null,""]
[null,null,null,"","",null,null,""]
[null,null,null,"","",null,null,""]
[null,null,null,"","",null,null,""]
[null,null,null,"","",null,null,""]
[null,null,null,"","",null,null,""]
[null,null,null,"","",null,null,""]
[null,null,null,"","",null,null,""]
[null,null,null,"","",null,null,""]
[null,null,null,"","",null,null,""]
[null,null,null,"","",null,null,""]
[null,null,null,"","",null,null,""]
[null,null,null,"","",null,null,""]
[null,null,null,{"$f":"IF(C1542=\"\",\"\",MONTH(C1542))","v":""},{"$f":"IF(C1542=\"\",\"\",YEAR(C1542))","v":""},null,null,{"$f":"IF(F1542=\"\",\"\",IF(F1542=$A$3,\"Entrada\",IF(F1542=$A$4,\"Entrada\",IF(F1542=$A$5,\"Entrada\",IF(F1542=$A$6,\"Entrada\",IF(F1542=$A$7,\"Entrada\",\"Saída\"))))))","v":""}]
[null,null,null,"","",null,null,""]
[null,null,null,"","",null,null,""]
[null,null,null,"","",null,null,""]
[null,null,null,"","",null,null,""]
[null,null,null,"","",null,null,""]
[null,null,null,"","",null,null,""]
[null,null,null,"","",null,null,""]
[null,null,null,"","",null,null,""]
[null,null,null,"","",null,null,""]
[null,null,null,"","",null,null,""]
[null,null,null,"","",null,null,""]
[null,null,null,"","",null,null,""]
[null,null,null,"","",null,null,""]
[null,null,null,"","",null,null,""]
[null,null,null,"","",null,null,""]
[null,null,null,"","",null,null,""]
[null,null,null,"","",null,null,""]
[null,null,null,"","",null,null,""]
[null,null,null,"","",null,null,""]
[null,null,null,"","",null,null,""]
[null,null,null,"","",null,null,""]
[null,null,null,"","",null,null,""]
[null,null,null,"","",null,null,""]
[null,null,null,"","",null,null,""]
[null,null,null,"","",null,null,""]
[null,null,null,"","",null,null,""]
[null,null,null,"","",null,null,""]
[null,null,null,"","",null,null,""]
[null,null,null,"","",null,null,""]
[null,null,null,"","",null,null,""]
[null,null,null,"","",null,null,""]
[null,null,null,"","",null,null,""]
[null,null,null,"","",null,null,""]
[null,null,null,"","",null,null,""]
[null,null,null,"","",null,null,""]
[null,null,null,"","",null,null,""]
[null,null,null,"","",null,null,""]
[null,null,null,"","",null,null,""]
[null,null,null,"","",null,null,""]
[null,null,null,"","",null,null,""]
[null,null,null,"","",null,null,""]
[null,null,null,"","",null,null,""]
[null,null,null,"","",null,null,""]
[null,null,null,"","",null,null,""]
[null,null,null,"","",null,null,""]
[null,null,null,"","",null,null,""]
[null,null,null,"","",null,null,""]
[null,null,null,"","",null,null,""]
[null,null,null,"","",null,null,""]
[null,null,null,"","",null,null,""]
[null,null,null,"","",null,null,""]
[null,null,null,"","",null,null,""]
[null,null,null,"","",null,null,""]
[null,null,null,"","",null,null,""]
[null,null,null,"","",null,null,""]
[null,null,null,"","",null,null,""]
[null,null,null,"","",null,null,""]
[null,null,null,"","",null,null,""]
[null,null,null,"","",null,null,""]
[null,null,null,"","",null,null,""]
[null,null,null,"","",null,null,""]
[null,null,null,"","",null,null,""]
[null,null,null,"","",null,null,""]
[null,null,null,{"$f":"IF(C1606=\"\",\"\",MONTH(C1606))","v":""},{"$f":"IF(C1606=\"\",\"\",YEAR(C1606))","v":""},null,null,{"$f":"IF(F1606=\"\",\"\",IF(F1606=$A$3,\"Entrada\",IF(F1606=$A$4,\"Entrada\",IF(F1606=$A$5,\"Entrada\",IF(F1606=$A$6,\"Entrada\",IF(F1606=$A$7,\"Entrada\",\"Saída\"))))))","v":""}]
[null,null,null,"","",null,null,""]
[null,null,null,"","",null,null,""]
[null,null,null,"","",null,null,""]
[null,null,null,"","",null,null,""]
[null,null,null,"","",null,null,""]
[null,null,null,"","",null,null,""]
[null,null,null,"","",null,null,""]
[null,null,null,"","",null,null,""]
[null,null,null,"","",null,null,""]
[null,null,null,"","",null,null,""]
[null,null,null,"","",null,null,""]
[null,null,null,"","",null,null,""]
[null,null,null,"","",null,null,""]
[null,null,null,"","",null,null,""]
[null,null,null,"","",null,null,""]
[null,null,null,"","",null,null,""]
[null,null,null,"","",null,null,""]
[null,null,null,"","",null,null,""]
[null,null,null,"","",null,null,""]
[null,null,null,"","",null,null,""]
[null,null,null,"","",null,null,""]
[null,null,null,"","",null,null,""]
[null,null,null,"","",null,null,""]
[null,null,null,"","",null,null,""]
[null,null,null,"","",null,null,""]
[null,null,null,"","",null,null,""]
[null,null,null,"","",null,null,""]
[null,null,null,"","",null,null,""]
[null,null,null,"","",null,null,""]
[null,null,null,"","",null,null,""]
[null,null,null,"","",null,null,""]
[null,null,null,"","",null,null,""]
[null,null,null,"","",null,null,""]
[null,null,null,"","",null,null,""]
[null,null,null,"","",null,null,""]
[null,null,null,"","",null,null,""]
[null,null,null,"","",null,null,""]
[null,null,null,"","",null,null,""]
[null,null,null,"","",null,null,""]
[null,null,null,"","",null,null,""]
[null,null,null,"","",null,null,""]
[null,null,null,"","",null,null,""]
[null,null,null,"","",null,null,""]
[null,null,null,"","",null,null,""]
[null,null,null,"","",null,null,""]
[null,null,null,"","",null,null,""]
[null,null,null,"","",null,null,""]
[null,null,null,"","",null,null,""]
[null,null,null,"","",null,null,""]
[null,null,null,"","",null,null,""]
[null,null,null,"","",null,null,""]
[null,null,null,"","",null,null,""]
[null,null,null,"","",null,null,""]
[null,null,null,"","",null,null,""]
[null,null,null,"","",null,null,""]
[null,null,null,"","",null,null,""]
[null,null,null,"","",null,null,""]
[null,null,null,"","",null,null,""]
[null,null,null,"","",null,null,""]
[null,null,null,"","",null,null,""]
[null,null,null,"","",null,null,""]
[null,null,null,"","",null,null,""]
[null,null,null,"","",null,null,""]
[null,null,null,{"$f":"IF(C1670=\"\",\"\",MONTH(C1670))","v":""},{"$f":"IF(C1670=\"\",\"\",YEAR(C1670))","v":""},null,null,{"$f":"IF(F1670=\"\",\"\",IF(F1670=$A$3,\"Entrada\",IF(F1670=$A$4,\"Entrada\",IF(F1670=$A$5,\"Entrada\",IF(F1670=$A$6,\"Entrada\",IF(F1670=$A$7,\"Entrada\",\"Saída\"))))))","v":""}]
[null,null,null,"","",null,null,""]
[null,null,null,"","",null,null,""]
[null,null,null,"","",null,null,""]
[null,null,null,"","",null,null,""]
[null,null,null,"","",null,null,""]
[null,null,null,"","",null,null,""]
[null,null,null,"","",null,null,""]
[null,null,null,"","",null,null,""]
[null,null,null,"","",null,null,""]
[null,null,null,"","",null,null,""]
[null,null,null,"","",null,null,""]
[null,null,null,"","",null,null,""]
[null,null,null,"","",null,null,""]
[null,null,null,"","",null,null,""]
[null,null,null,"","",null,null,""]
[null,null,null,"","",null,null,""]
[null,null,null,"","",null,null,""]
[null,null,null,"","",null,null,""]
[null,null,null,"","",null,null,""]
[null,null,null,"","",null,null,""]
[null,null,null,"","",null,null,""]
[null,null,null,"","",null,null,""]
[null,null,null,"","",null,null,""]
[null,null,null,"","",null,null,""]
[null,null,null,"","",null,null,""]
[null,null,null,"","",null,null,""]
[null,null,null,"","",null,null,""]
[null,null,null,"","",null,null,""]
[null,null,null,"","",null,null,""]
[null,null,null,"","",null,null,""]
[null,null,null,"","",null,null,""]
[null,null,null,"","",null,null,""]
[null,null,null,"","",null,null,""]
[null,null,null,"","",null,null,""]
[null,null,null,"","",null,null,""]
[null,null,null,"","",null,null,""]
[null,null,null,"","",null,null,""]
[null,null,null,"","",null,null,""]
[null,null,null,"","",null,null,""]
[null,null,null,"","",null,null,""]
[null,null,null,"","",null,null,""]
[null,null,null,"","",null,null,""]
[null,null,null,"","",null,null,""]
[null,null,null,"","",null,null,""]
[null,null,null,"","",null,null,""]
[null,null,null,"","",null,null,""]
[null,null,null,"","",null,null,""]
[null,null,null,"","",null,null,""]
[null,null,null,"","",null,null,""]
[null,null,null,"","",null,null,""]
[null,null,null,"","",null,null,""]
[null,null,null,"","",null,null,""]
[null,null,null,"","",null,null,""]
[null,null,null,"","",null,null,""]
[null,null,null,"","",null,null,""]
[null,null,null,"","",null,null,""]
[null,null,null,"","",null,null,""]
[null,null,null,"","",null,null,""]
[null,null,null,"","",null,null,""]
[null,null,null,"","",null,null,""]
[null,null,null,"","",null,null,""]
[null,null,null,"","",null,null,""]
[null,null,null,"","",null,null,""]
[null,null,null,{"$f":"IF(C1734=\"\",\"\",MONTH(C1734))","v":""},{"$f":"IF(C1734=\"\",\"\",YEAR(C1734))","v":""},null,null,{"$f":"IF(F1734=\"\",\"\",IF(F1734=$A$3,\"Entrada\",IF(F1734=$A$4,\"Entrada\",IF(F1734=$A$5,\"Entrada\",IF(F1734=$A$6,\"Entrada\",IF(F1734=$A$7,\"Entrada\",\"Saída\"))))))","v":""}]
[null,null,null,"","",null,null,""]
[null,null,null,"","",null,null,""]
[null,null,null,"","",null,null,""]
[null,null,null,"","",null,null,""]
[null,null,null,"","",null,null,""]
[null,null,null,"","",null,null,""]
[null,null,null,"","",null,null,""]
[null,null,null,"","",null,null,""]
[null,null,null,"","",null,null,""]
[null,null,null,"","",null,null,""]
[null,null,null,"","",null,null,""]
[null,null,null,"","",null,null,""]
[null,null,null,"","",null,null,""]
[null,null,null,"","",null,null,""]
[null,null,null,"","",null,null,""]
[null,null,null,"","",null,null,""]
[null,null,null,"","",null,null,""]
[null,null,null,"","",null,null,""]
[null,null,null,"","",null,null,""]
[null,null,null,"","",null,null,""]
[null,null,null,"","",null,null,""]
[null,null,null,"","",null,null,""]
[null,null,null,"","",null,null,""]
[null,null,null,"","",null,null,""]
[null,null,null,"","",null,null,""]
[null,null,null,"","",null,null,""]
[null,null,null,"","",null,null,""]
[null,null,null,"","",null,null,""]
[null,null,null,"","",null,null,""]
[null,null,null,"","",null,null,""]
[null,null,null,"","",null,null,""]
[null,null,null,"","",null,null,""]
[null,null,null,"","",null,null,""]
[null,null,null,"","",null,null,""]
[null,null,null,"","",null,null,""]
[null,null,null,"","",null,null,""]
[null,null,null,"","",null,null,""]
[null,null,null,"","",null,null,""]
[null,null,null,"","",null,null,""]
[null,null,null,"","",null,null,""]
[null,null,null,"","",null,null,""]
[null,null,null,"","",null,null,""]
[null,null,null,"","",null,null,""]
[null,null,null,"","",null,null,""]
[null,null,null,"","",null,null,""]
[null,null,null,"","",null,null,""]
[null,null,null,"","",null,null,""]
[null,null,null,"","",null,null,""]
[null,null,null,"","",null,null,""]
[null,null,null,"","",null,null,""]
[null,null,null,"","",null,null,""]
[null,null,null,"","",null,null,""]
[null,null,null,"","",null,null,""]
[null,null,null,"","",null,null,""]
[null,null,null,"","",null,null,""]
[null,null,null,"","",null,null,""]
[null,null,null,"","",null,null,""]
[null,null,null,"","",null,null,""]
[null,null,null,"","",null,null,""]
[null,null,null,"","",null,null,""]
[null,null,null,"","",null,null,""]
[null,null,null,"","",null,null,""]
[null,null,null,"","",null,null,""]
[null,null,null,{"$f":"IF(C1798=\"\",\"\",MONTH(C1798))","v":""},{"$f":"IF(C1798=\"\",\"\",YEAR(C1798))","v":""},null,null,{"$f":"IF(F1798=\"\",\"\",IF(F1798=$A$3,\"Entrada\",IF(F1798=$A$4,\"Entrada\",IF(F1798=$A$5,\"Entrada\",IF(F1798=$A$6,\"Entrada\",IF(F1798=$A$7,\"Entrada\",\"Saída\"))))))","v":""}]
[null,null,null,"","",null,null,""]
[null,null,null,"","",null,null,""]
[null,null,null,"","",null,null,""]
[null,null,null,"","",null,null,""]
[null,null,null,"","",null,null,""]
[null,null,null,"","",null,null,""]
[null,null,null,"","",null,null,""]
[null,null,null,"","",null,null,""]
[null,null,null,"","",null,null,""]
[null,null,null,"","",null,null,""]
[null,null,null,"","",null,null,""]
[null,null,null,"","",null,null,""]
[null,null,null,"","",null,null,""]
[null,null,null,"","",null,null,""]
[null,null,null,"","",null,null,""]
[null,null,null,"","",null,null,""]
[null,null,null,"","",null,null,""]
[null,null,null,"","",null,null,""]
[null,null,null,"","",null,null,""]
[null,null,null,"","",null,null,""]
[null,null,null,"","",null,null,""]
[null,null,null,"","",null,null,""]
[null,null,null,"","",null,null,""]
[null,null,null,"","",null,null,""]
[null,null,null,"","",null,null,""]
[null,null,null,"","",null,null,""]
[null,null,null,"","",null,null,""]
[null,null,null,"","",null,null,""]
[null,null,null,"","",null,null,""]
[null,null,null,"","",null,null,""]
[null,null,null,"","",null,null,""]
[null,null,null,"","",null,null,""]
[null,null,null,"","",null,null,""]
[null,null,null,"","",null,null,""]
[null,null,null,"","",null,null,""]
[null,null,null,"","",null,null,""]
[null,null,null,"","",null,null,""]
[null,null,null,"","",null,null,""]
[null,null,null,"","",null,null,""]
[null,null,null,"","",null,null,""]
[null,null,null,"","",null,null,""]
[null,null,null,"","",null,null,""]
[null,null,null,"","",null,null,""]
[null,null,null,"","",null,null,""]
[null,null,null,"","",null,null,""]
[null,null,null,"","",null,null,""]
[null,null,null,"","",null,null,""]
[null,null,null,"","",null,null,""]
[null,null,null,"","",null,null,""]
[null,null,null,"","",null,null,""]
[null,null,null,"","",null,null,""]
[null,null,null,"","",null,null,""]
[null,null,null,"","",null,null,""]
[null,null,null,"","",null,null,""]
[null,null,null,"","",null,null,""]
[null,null,null,"","",null,null,""]
[null,null,null,"","",null,null,""]
[null,null,null,"","",null,null,""]
[null,null,null,"","",null,null,""]
[null,null,null,"","",null,null,""]
[null,null,null,"","",null,null,""]
[null,null,null,"","",null,null,""]
[null,null,null,"","",null,null,""]
[null,null,null,{"$f":"IF(C1862=\"\",\"\",MONTH(C1862))","v":""},{"$f":"IF(C1862=\"\",\"\",YEAR(C1862))","v":""},null,null,{"$f":"IF(F1862=\"\",\"\",IF(F1862=$A$3,\"Entrada\",IF(F1862=$A$4,\"Entrada\",IF(F1862=$A$5,\"Entrada\",IF(F1862=$A$6,\"Entrada\",IF(F1862=$A$7,\"Entrada\",\"Saída\"))))))","v":""}]
[null,null,null,"","",null,null,""]
[null,null,null,"","",null,null,""]
[null,null,null,"","",null,null,""]
[null,null,null,"","",null,null,""]
[null,null,null,"","",null,null,""]
[null,null,null,"","",null,null,""]
[null,null,null,"","",null,null,""]
[null,null,null,"","",null,null,""]
[null,null,null,"","",null,null,""]
[null,null,null,"","",null,null,""]
[null,null,null,"","",null,null,""]
[null,null,null,"","",null,null,""]
[null,null,null,"","",null,null,""]
[null,null,null,"","",null,null,""]
[null,null,null,"","",null,null,""]
[null,null,null,"","",null,null,""]
[null,null,null,"","",null,null,""]
[null,null,null,"","",null,null,""]
[null,null,null,"","",null,null,""]
[null,null,null,"","",null,null,""]
[null,null,null,"","",null,null,""]
[null,null,null,"","",null,null,""]
[null,null,null,"","",null,null,""]
[null,null,null,"","",null,null,""]
[null,null,null,"","",null,null,""]
[null,null,null,"","",null,null,""]
[null,null,null,"","",null,null,""]
[null,null,null,"","",null,null,""]
[null,null,null,"","",null,null,""]
[null,null,null,"","",null,null,""]
[null,null,null,"","",null,null,""]
[null,null,null,"","",null,null,""]
[null,null,null,"","",null,null,""]
[null,null,null,"","",null,null,""]
[null,null,null,"","",null,null,""]
[null,null,null,"","",null,null,""]
[null,null,null,"","",null,null,""]
[null,null,null,"","",null,null,""]
[null,null,null,"","",null,null,""]
[null,null,null,"","",null,null,""]
[null,null,null,"","",null,null,""]
[null,null,null,"","",null,null,""]
[null,null,null,"","",null,null,""]
[null,null,null,"","",null,null,""]
[null,null,null,"","",null,null,""]
[null,null,null,"","",null,null,""]
[null,null,null,"","",null,null,""]
[null,null,null,"","",null,null,""]
[null,null,null,"","",null,null,""]
[null,null,null,"","",null,null,""]
[null,null,null,"","",null,null,""]
[null,null,null,"","",null,null,""]
[null,null,null,"","",null,null,""]
[null,null,null,"","",null,null,""]
[null,null,null,"","",null,null,""]
[null,null,null,"","",null,null,""]
[null,null,null,"","",null,null,""]
[null,null,null,"","",null,null,""]
[null,null,null,"","",null,null,""]
[null,null,null,"","",null,null,""]
[null,null,null,"","",null,null,""]
[null,null,null,"","",null,null,""]
[null,null,null,"","",null,null,""]
[null,null,null,{"$f":"IF(C1926=\"\",\"\",MONTH(C1926))","v":""},{"$f":"IF(C1926=\"\",\"\",YEAR(C1926))","v":""},null,null,{"$f":"IF(F1926=\"\",\"\",IF(F1926=$A$3,\"Entrada\",IF(F1926=$A$4,\"Entrada\",IF(F1926=$A$5,\"Entrada\",IF(F1926=$A$6,\"Entrada\",IF(F1926=$A$7,\"Entrada\",\"Saída\"))))))","v":""}]
[null,null,null,"","",null,null,""]
[null,null,null,"","",null,null,""]
[null,null,null,"","",null,null,""]
[null,null,null,"","",null,null,""]
[null,null,null,"","",null,null,""]
[null,null,null,"","",null,null,""]
[null,null,null,"","",null,null,""]
[null,null,null,"","",null,null,""]
[null,null,null,"","",null,null,""]
[null,null,null,"","",null,null,""]
[null,null,null,"","",null,null,""]
[null,null,null,"","",null,null,""]
[null,null,null,"","",null,null,""]
[null,null,null,"","",null,null,""]
[null,null,null,"","",null,null,""]
[null,null,null,"","",null,null,""]
[null,null,null,"","",null,null,""]
[null,null,null,"","",null,null,""]
[null,null,null,"","",null,null,""]
[null,null,null,"","",null,null,""]
[null,null,null,"","",null,null,""]
[null,null,null,"","",null,null,""]
[null,null,null,"","",null,null,""]
[null,null,null,"","",null,null,""]
[null,null,null,"","",null,null,""]
[null,null,null,"","",null,null,""]
[null,null,null,"","",null,null,""]
[null,null,null,"","",null,null,""]
[null,null,null,"","",null,null,""]
[null,null,null,"","",null,null,""]
[null,null,null,"","",null,null,""]
[null,null,null,"","",null,null,""]
[null,null,null,"","",null,null,""]
[null,null,null,"","",null,null,""]
[null,null,null,"","",null,null,""]
[null,null,null,"","",null,null,""]
[null,null,null,"","",null,null,""]
[null,null,null,"","",null,null,""]
[null,null,null,"","",null,null,""]
[null,null,null,"","",null,null,""]
[null,null,null,"","",null,null,""]
[null,null,null,"","",null,null,""]
[null,null,null,"","",null,null,""]
[null,null,null,"","",null,null,""]
[null,null,null,"","",null,null,""]
[null,null,null,"","",null,null,""]
[null,null,null,"","",null,null,""]
[null,null,null,"","",null,null,""]
[null,null,null,"","",null,null,""]
[null,null,null,"","",null,null,""]
[null,null,null,"","",null,null,""]
[null,null,null,"","",null,null,""]
[null,null,null,"","",null,null,""]
[null,null,null,"","",null,null,""]
[null,null,null,"","",null,null,""]
[null,null,null,"","",null,null,""]
[null,null,null,"","",null,null,""]
[null,null,null,"","",null,null,""]
[null,null,null,"","",null,null,""]
[null,null,null,"","",null,null,""]
[null,null,null,"","",null,null,""]
[null,null,null,"","",null,null,""]
[null,null,null,"","",null,null,""]
[null,null,null,{"$f":"IF(C1990=\"\",\"\",MONTH(C1990))","v":""},{"$f":"IF(C1990=\"\",\"\",YEAR(C1990))","v":""},null,null,{"$f":"IF(F1990=\"\",\"\",IF(F1990=$A$3,\"Entrada\",IF(F1990=$A$4,\"Entrada\",IF(F1990=$A$5,\"Entrada\",IF(F1990=$A$6,\"Entrada\",IF(F1990=$A$7,\"Entrada\",\"Saída\"))))))","v":""}]
[null,null,null,"","",null,null,""]
[null,null,null,"","",null,null,""]
[null,null,null,"","",null,null,""]
[null,null,null,"","",null,null,""]
[null,null,null,"","",null,null,""]
[null,null,null,"","",null,null,""]
[null,null,null,"","",null,null,""]
[null,null,null,"","",null,null,""]
[null,null,null,"","",null,null,""]
[null,null,null,"","",null,null,""]
[null,null,null,"","",null,null,""]
[null,null,null,"","",null,null,""]
[null,null,null,"","",null,null,""]
[null,null,null,"","",null,null,""]
[null,null,null,"","",null,null,""]
[null,null,null,"","",null,null,""]
[null,null,null,"","",null,null,""]
[null,null,null,"","",null,null,""]
[null,null,null,"","",null,null,""]
[null,null,null,"","",null,null,""]
[null,null,null,"","",null,null,""]
[null,null,null,"","",null,null,""]
[null,null,null,"","",null,null,""]
[null,null,null,"","",null,null,""]
[null,null,null,"","",null,null,""]
[null,null,null,"","",null,null,""]
[null,null,null,"","",null,null,""]
[null,null,null,"","",null,null,""]
[null,null,null,"","",null,null,""]
[null,null,null,"","",null,null,""]
[null,null,null,"","",null,null,""]
[null,null,null,"","",null,null,""]
[null,null,null,"","",null,null,""]
[null,null,null,"","",null,null,""]
[null,null,null,"","",null,null,""]
[null,null,null,"","",null,null,""]
[null,null,null,"","",null,null,""]
[null,null,null,"","",null,null,""]
[null,null,null,"","",null,null,""]
[null,null,null,"","",null,null,""]
[null,null,null,"","",null,null,""]
[null,null,null,"","",null,null,""]
[null,null,null,"","",null,null,""]
[null,null,null,"","",null,null,""]
[null,null,null,"","",null,null,""]
[null,null,null,"","",null,null,""]
[null,null,null,"","",null,null,""]
[null,null,null,"","",null,null,""]
[null,null,null,"","",null,null,""]
[null,null,null,"","",null,null,""]
[null,null,null,"","",null,null,""]
[null,null,null,"","",null,null,""]
[null,null,null,"","",null,null,""]
[null,null,null,"","",null,null,""]
[null,null,null,"","",null,null,""]
[null,null,null,"","",null,null,""]
[null,null,null,"","",null,null,""]
[null,null,null,"","",null,null,""]
[null,null,null,"","",null,null,""]
[null,null,null,"","",null,null,""]
[null,null,null,"","",null,null,""]
[null,null,null,"","",null,null,""]
[null,null,null,"","",null,null,""]
[null,null,null,{"$f":"IF(C2054=\"\",\"\",MONTH(C2054))","v":""},{"$f":"IF(C2054=\"\",\"\",YEAR(C2054))","v":""},null,null,{"$f":"IF(F2054=\"\",\"\",IF(F2054=$A$3,\"Entrada\",IF(F2054=$A$4,\"Entrada\",IF(F2054=$A$5,\"Entrada\",IF(F2054=$A$6,\"Entrada\",IF(F2054=$A$7,\"Entrada\",\"Saída\"))))))","v":""}]
[null,null,null,"","",null,null,""]
[null,null,null,"","",null,null,""]
[null,null,null,"","",null,null,""]
[null,null,null,"","",null,null,""]
[null,null,null,"","",null,null,""]
[null,null,null,"","",null,null,""]
[null,null,null,"","",null,null,""]
[null,null,null,"","",null,null,""]
[null,null,null,"","",null,null,""]
[null,null,null,"","",null,null,""]
[null,null,null,"","",null,null,""]
[null,null,null,"","",null,null,""]
[null,null,null,"","",null,null,""]
[null,null,null,"","",null,null,""]
[null,null,null,"","",null,null,""]
[null,null,null,"","",null,null,""]
[null,null,null,"","",null,null,""]
[null,null,null,"","",null,null,""]
[null,null,null,"","",null,null,""]
[null,null,null,"","",null,null,""]
[null,null,null,"","",null,null,""]
[null,null,null,"","",null,null,""]
[null,null,null,"","",null,null,""]
[null,null,null,"","",null,null,""]
[null,null,null,"","",null,null,""]
[null,null,null,"","",null,null,""]
[null,null,null,"","",null,null,""]
[null,null,null,"","",null,null,""]
[null,null,null,"","",null,null,""]
[null,null,null,"","",null,null,""]
[null,null,null,"","",null,null,""]
[null,null,null,"","",null,null,""]
[null,null,null,"","",null,null,""]
[null,null,null,"","",null,null,""]
[null,null,null,"","",null,null,""]
[null,null,null,"","",null,null,""]
[null,null,null,"","",null,null,""]
[null,null,null,"","",null,null,""]
[null,null,null,"","",null,null,""]
[null,null,null,"","",null,null,""]
[null,null,null,"","",null,null,""]
[null,null,null,"","",null,null,""]
[null,null,null,"","",null,null,""]
[null,null,null,"","",null,null,""]
[null,null,null,"","",null,null,""]
[null,null,null,"","",null,null,""]
[null,null,null,"","",null,null,""]
[null,null,null,"","",null,null,""]
[null,null,null,"","",null,null,""]
[null,null,null,"","",null,null,""]
[null,null,null,"","",null,null,""]
[null,null,null,"","",null,null,""]
[null,null,null,"","",null,null,""]
[null,null,null,"","",null,null,""]
[null,null,null,"","",null,null,""]
[null,null,null,"","",null,null,""]
[null,null,null,"","",null,null,""]
[null,null,null,"","",null,null,""]
[null,null,null,"","",null,null,""]
[null,null,null,"","",null,null,""]
[null,null,null,"","",null,null,""]
[null,null,null,"","",null,null,""]
[null,null,null,"","",null,null,""]
[null,null,null,{"$f":"IF(C2118=\"\",\"\",MONTH(C2118))","v":""},{"$f":"IF(C2118=\"\",\"\",YEAR(C2118))","v":""},null,null,{"$f":"IF(F2118=\"\",\"\",IF(F2118=$A$3,\"Entrada\",IF(F2118=$A$4,\"Entrada\",IF(F2118=$A$5,\"Entrada\",IF(F2118=$A$6,\"Entrada\",IF(F2118=$A$7,\"Entrada\",\"Saída\"))))))","v":""}]
[null,null,null,"","",null,null,""]
[null,null,null,"","",null,null,""]
[null,null,null,"","",null,null,""]
[null,null,null,"","",null,null,""]
[null,null,null,"","",null,null,""]
[null,null,null,"","",null,null,""]
[null,null,null,"","",null,null,""]
[null,null,null,"","",null,null,""]
[null,null,null,"","",null,null,""]
[null,null,null,"","",null,null,""]
[null,null,null,"","",null,null,""]
[null,null,null,"","",null,null,""]
[null,null,null,"","",null,null,""]
[null,null,null,"","",null,null,""]
[null,null,null,"","",null,null,""]
[null,null,null,"","",null,null,""]
[null,null,null,"","",null,null,""]
[null,null,null,"","",null,null,""]
[null,null,null,"","",null,null,""]
[null,null,null,"","",null,null,""]
[null,null,null,"","",null,null,""]
[null,null,null,"","",null,null,""]
[null,null,null,"","",null,null,""]
[null,null,null,"","",null,null,""]
[null,null,null,"","",null,null,""]
[null,null,null,"","",null,null,""]
[null,null,null,"","",null,null,""]
[null,null,null,"","",null,null,""]
[null,null,null,"","",null,null,""]
[null,null,null,"","",null,null,""]
[null,null,null,"","",null,null,""]
[null,null,null,"","",null,null,""]
[null,null,null,"","",null,null,""]
[null,null,null,"","",null,null,""]
[null,null,null,"","",null,null,""]
[null,null,null,"","",null,null,""]
[null,null,null,"","",null,null,""]
[null,null,null,"","",null,null,""]
[null,null,null,"","",null,null,""]
[null,null,null,"","",null,null,""]
[null,null,null,"","",null,null,""]
[null,null,null,"","",null,null,""]
[null,null,null,"","",null,null,""]
[null,null,null,"","",null,null,""]
[null,null,null,"","",null,null,""]
[null,null,null,"","",null,null,""]
[null,null,null,"","",null,null,""]
[null,null,null,"","",null,null,""]
[null,null,null,"","",null,null,""]
[null,null,null,"","",null,null,""]
[null,null,null,"","",null,null,""]
[null,null,null,"","",null,null,""]
[null,null,null,"","",null,null,""]
[null,null,null,"","",null,null,""]
[null,null,null,"","",null,null,""]
[null,null,null,"","",null,null,""]
[null,null,null,"","",null,null,""]
[null,null,null,"","",null,null,""]
[null,null,null,"","",null,null,""]
[null,null,null,"","",null,null,""]
[null,null,null,"","",null,null,""]
[null,null,null,"","",null,null,""]
[null,null,null,"","",null,null,""]
[null,null,null,{"$f":"IF(C2182=\"\",\"\",MONTH(C2182))","v":""},{"$f":"IF(C2182=\"\",\"\",YEAR(C2182))","v":""},null,null,{"$f":"IF(F2182=\"\",\"\",IF(F2182=$A$3,\"Entrada\",IF(F2182=$A$4,\"Entrada\",IF(F2182=$A$5,\"Entrada\",IF(F2182=$A$6,\"Entrada\",IF(F2182=$A$7,\"Entrada\",\"Saída\"))))))","v":""}]
[null,null,null,"","",null,null,""]
[null,null,null,"","",null,null,""]
[null,null,null,"","",null,null,""]
[null,null,null,"","",null,null,""]
[null,null,null,"","",null,null,""]
[null,null,null,"","",null,null,""]
[null,null,null,"","",null,null,""]
[null,null,null,"","",null,null,""]
[null,null,null,"","",null,null,""]
[null,null,null,"","",null,null,""]
[null,null,null,"","",null,null,""]
[null,null,null,"","",null,null,""]
[null,null,null,"","",null,null,""]
[null,null,null,"","",null,null,""]
[null,null,null,"","",null,null,""]
[null,null,null,"","",null,null,""]
[null,null,null,"","",null,null,""]
[null,null,null,"","",null,null,""]
[null,null,null,"","",null,null,""]
[null,null,null,"","",null,null,""]
[null,null,null,"","",null,null,""]
[null,null,null,"","",null,null,""]
[null,null,null,"","",null,null,""]
[null,null,null,"","",null,null,""]
[null,null,null,"","",null,null,""]
[null,null,null,"","",null,null,""]
[null,null,null,"","",null,null,""]
[null,null,null,"","",null,null,""]
[null,null,null,"","",null,null,""]
[null,null,null,"","",null,null,""]
[null,null,null,"","",null,null,""]
[null,null,null,"","",null,null,""]
[null,null,null,"","",null,null,""]
[null,null,null,"","",null,null,""]
[null,null,null,"","",null,null,""]
[null,null,null,"","",null,null,""]
[null,null,null,"","",null,null,""]
[null,null,null,"","",null,null,""]
[null,null,null,"","",null,null,""]
[null,null,null,"","",null,null,""]
[null,null,null,"","",null,null,""]
[null,null,null,"","",null,null,""]
[null,null,null,"","",null,null,""]
[null,null,null,"","",null,null,""]
[null,null,null,"","",null,null,""]
[null,null,null,"","",null,null,""]
[null,null,null,"","",null,null,""]
[null,null,null,"","",null,null,""]
[null,null,null,"","",null,null,""]
[null,null,null,"","",null,null,""]
[null,null,null,"","",null,null,""]
[null,null,null,"","",null,null,""]
[null,null,null,"","",null,null,""]
[null,null,null,"","",null,null,""]
[null,null,null,"","",null,null,""]
[null,null,null,"","",null,null,""]
[null,null,null,"","",null,null,""]
[null,null,null,"","",null,null,""]
[null,null,null,"","",null,null,""]
[null,null,null,"","",null,null,""]
[null,null,null,"","",null,null,""]
[null,null,null,"","",null,null,""]
[null,null,null,"","",null,null,""]
[null,null,null,{"$f":"IF(C2246=\"\",\"\",MONTH(C2246))","v":""},{"$f":"IF(C2246=\"\",\"\",YEAR(C2246))","v":""},null,null,{"$f":"IF(F2246=\"\",\"\",IF(F2246=$A$3,\"Entrada\",IF(F2246=$A$4,\"Entrada\",IF(F2246=$A$5,\"Entrada\",IF(F2246=$A$6,\"Entrada\",IF(F2246=$A$7,\"Entrada\",\"Saída\"))))))","v":""}]
[null,null,null,"","",null,null,""]
[null,null,null,"","",null,null,""]
[null,null,null,"","",null,null,""]
[null,null,null,"","",null,null,""]
[null,null,null,"","",null,null,""]
[null,null,null,"","",null,null,""]
[null,null,null,"","",null,null,""]
[null,null,null,"","",null,null,""]
[null,null,null,"","",null,null,""]
[null,null,null,"","",null,null,""]
[null,null,null,"","",null,null,""]
[null,null,null,"","",null,null,""]
[null,null,null,"","",null,null,""]
[null,null,null,"","",null,null,""]
[null,null,null,"","",null,null,""]
[null,null,null,"","",null,null,""]
[null,null,null,"","",null,null,""]
[null,null,null,"","",null,null,""]
[null,null,null,"","",null,null,""]
[null,null,null,"","",null,null,""]
[null,null,null,"","",null,null,""]
[null,null,null,"","",null,null,""]
[null,null,null,"","",null,null,""]
[null,null,null,"","",null,null,""]
[null,null,null,"","",null,null,""]
[null,null,null,"","",null,null,""]
[null,null,null,"","",null,null,""]
[null,null,null,"","",null,null,""]
[null,null,null,"","",null,null,""]
[null,null,null,"","",null,null,""]
[null,null,null,"","",null,null,""]
[null,null,null,"","",null,null,""]
[null,null,null,"","",null,null,""]
[null,null,null,"","",null,null,""]
[null,null,null,"","",null,null,""]
[null,null,null,"","",null,null,""]
[null,null,null,"","",null,null,""]
[null,null,null,"","",null,null,""]
[null,null,null,"","",null,null,""]
[null,null,null,"","",null,null,""]
[null,null,null,"","",null,null,""]
[null,null,null,"","",null,null,""]
[null,null,null,"","",null,null,""]
[null,null,null,"","",null,null,""]
[null,null,null,"","",null,null,""]
[null,null,null,"","",null,null,""]
[null,null,null,"","",null,null,""]
[null,null,null,"","",null,null,""]
[null,null,null,"","",null,null,""]
[null,null,null,"","",null,null,""]
[null,null,null,"","",null,null,""]
[null,null,null,"","",null,null,""]
[null,null,null,"","",null,null,""]
[null,null,null,"","",null,null,""]
[null,null,null,"","",null,null,""]
[null,null,null,"","",null,null,""]
[null,null,null,"","",null,null,""]
[null,null,null,"","",null,null,""]
[null,null,null,"","",null,null,""]
[null,null,null,"","",null,null,""]
[null,null,null,"","",null,null,""]
[null,null,null,"","",null,null,""]
[null,null,null,"","",null,null,""]
[null,null,null,{"$f":"IF(C2310=\"\",\"\",MONTH(C2310))","v":""},{"$f":"IF(C2310=\"\",\"\",YEAR(C2310))","v":""},null,null,{"$f":"IF(F2310=\"\",\"\",IF(F2310=$A$3,\"Entrada\",IF(F2310=$A$4,\"Entrada\",IF(F2310=$A$5,\"Entrada\",IF(F2310=$A$6,\"Entrada\",IF(F2310=$A$7,\"Entrada\",\"Saída\"))))))","v":""}]
[null,null,null,"","",null,null,""]
[null,null,null,"","",null,null,""]
[null,null,null,"","",null,null,""]
[null,null,null,"","",null,null,""]
[null,null,null,"","",null,null,""]
[null,null,null,"","",null,null,""]
[null,null,null,"","",null,null,""]
[null,null,null,"","",null,null,""]
[null,null,null,"","",null,null,""]
[null,null,null,"","",null,null,""]
[null,null,null,"","",null,null,""]
[null,null,null,"","",null,null,""]
[null,null,null,"","",null,null,""]
[null,null,null,"","",null,null,""]
[null,null,null,"","",null,null,""]
[null,null,null,"","",null,null,""]
[null,null,null,"","",null,null,""]
[null,null,null,"","",null,null,""]
[null,null,null,"","",null,null,""]
[null,null,null,"","",null,null,""]
[null,null,null,"","",null,null,""]
[null,null,null,"","",null,null,""]
[null,null,null,"","",null,null,""]
[null,null,null,"","",null,null,""]
[null,null,null,"","",null,null,""]
[null,null,null,"","",null,null,""]
[null,null,null,"","",null,null,""]
[null,null,null,"","",null,null,""]
[null,null,null,"","",null,null,""]
[null,null,null,"","",null,null,""]
[null,null,null,"","",null,null,""]
[null,null,null,"","",null,null,""]
[null,null,null,"","",null,null,""]
[null,null,null,"","",null,null,""]
[null,null,null,"","",null,null,""]
[null,null,null,"","",null,null,""]
[null,null,null,"","",null,null,""]
[null,null,null,"","",null,null,""]
[null,null,null,"","",null,null,""]
[null,null,null,"","",null,null,""]
[null,null,null,"","",null,null,""]
[null,null,null,"","",null,null,""]
[null,null,null,"","",null,null,""]
[null,null,null,"","",null,null,""]
[null,null,null,"","",null,null,""]
[null,null,null,"","",null,null,""]
[null,null,null,"","",null,null,""]
[null,null,null,"","",null,null,""]
[null,null,null,"","",null,null,""]
[null,null,null,"","",null,null,""]
[null,null,null,"","",null,null,""]
[null,null,null,"","",null,null,""]
[null,null,null,"","",null,null,""]
[null,null,null,"","",null,null,""]
[null,null,null,"","",null,null,""]
[null,null,null,"","",null,null,""]
[null,null,null,"","",null,null,""]
[null,null,null,"","",null,null,""]
[null,null,null,"","",null,null,""]
[null,null,null,"","",null,null,""]
[null,null,null,"","",null,null,""]
[null,null,null,"","",null,null,""]
[null,null,null,"","",null,null,""]
[null,null,null,{"$f":"IF(C2374=\"\",\"\",MONTH(C2374))","v":""},{"$f":"IF(C2374=\"\",\"\",YEAR(C2374))","v":""},null,null,{"$f":"IF(F2374=\"\",\"\",IF(F2374=$A$3,\"Entrada\",IF(F2374=$A$4,\"Entrada\",IF(F2374=$A$5,\"Entrada\",IF(F2374=$A$6,\"Entrada\",IF(F2374=$A$7,\"Entrada\",\"Saída\"))))))","v":""}]
[null,null,null,"","",null,null,""]
[null,null,null,"","",null,null,""]
[null,null,null,"","",null,null,""]
[null,null,null,"","",null,null,""]
[null,null,null,"","",null,null,""]
[null,null,null,"","",null,null,""]
[null,null,null,"","",null,null,""]
[null,null,null,"","",null,null,""]
[null,null,null,"","",null,null,""]
[null,null,null,"","",null,null,""]
[null,null,null,"","",null,null,""]
[null,null,null,"","",null,null,""]
[null,null,null,"","",null,null,""]
[null,null,null,"","",null,null,""]
[null,null,null,"","",null,null,""]
[null,null,null,"","",null,null,""]
[null,null,null,"","",null,null,""]
[null,null,null,"","",null,null,""]
[null,null,null,"","",null,null,""]
[null,null,null,"","",null,null,""]
[null,null,null,"","",null,null,""]
[null,null,null,"","",null,null,""]
[null,null,null,"","",null,null,""]
[null,null,null,"","",null,null,""]
[null,null,null,"","",null,null,""]
[null,null,null,"","",null,null,""]
[null,null,null,"","",null,null,""]
[null,null,null,"","",null,null,""]
[null,null,null,"","",null,null,""]
[null,null,null,"","",null,null,""]
[null,null,null,"","",null,null,""]
[null,null,null,"","",null,null,""]
[null,null,null,"","",null,null,""]
[null,null,null,"","",null,null,""]
[null,null,null,"","",null,null,""]
[null,null,null,"","",null,null,""]
[null,null,null,"","",null,null,""]
[null,null,null,"","",null,null,""]
[null,null,null,"","",null,null,""]
[null,null,null,"","",null,null,""]
[null,null,null,"","",null,null,""]
[null,null,null,"","",null,null,""]
[null,null,null,"","",null,null,""]
[null,null,null,"","",null,null,""]
[null,null,null,"","",null,null,""]
[null,null,null,"","",null,null,""]
[null,null,null,"","",null,null,""]
[null,null,null,"","",null,null,""]
[null,null,null,"","",null,null,""]
[null,null,null,"","",null,null,""]
[null,null,null,"","",null,null,""]
[null,null,null,"","",null,null,""]
[null,null,null,"","",null,null,""]
[null,null,null,"","",null,null,""]
[null,null,null,"","",null,null,""]
[null,null,null,"","",null,null,""]
[null,null,null,"","",null,null,""]
[null,null,null,"","",null,null,""]
[null,null,null,"","",null,null,""]
[null,null,null,"","",null,null,""]
[null,null,null,"","",null,null,""]
[null,null,null,"","",null,null,""]
[null,null,null,"","",null,null,""]
[null,null,null,{"$f":"IF(C2438=\"\",\"\",MONTH(C2438))","v":""},{"$f":"IF(C2438=\"\",\"\",YEAR(C2438))","v":""},null,null,{"$f":"IF(F2438=\"\",\"\",IF(F2438=$A$3,\"Entrada\",IF(F2438=$A$4,\"Entrada\",IF(F2438=$A$5,\"Entrada\",IF(F2438=$A$6,\"Entrada\",IF(F2438=$A$7,\"Entrada\",\"Saída\"))))))","v":""}]
[null,null,null,"","",null,null,""]
[null,null,null,"","",null,null,""]
[null,null,null,"","",null,null,""]
[null,null,null,"","",null,null,""]
[null,null,null,"","",null,null,""]
[null,null,null,"","",null,null,""]
[null,null,null,"","",null,null,""]
[null,null,null,"","",null,null,""]
[null,null,null,"","",null,null,""]
[null,null,null,"","",null,null,""]
[null,null,null,"","",null,null,""]
[null,null,null,"","",null,null,""]
[null,null,null,"","",null,null,""]
[null,null,null,"","",null,null,""]
[null,null,null,"","",null,null,""]
[null,null,null,"","",null,null,""]
[null,null,null,"","",null,null,""]
[null,null,null,"","",null,null,""]
[null,null,null,"","",null,null,""]
[null,null,null,"","",null,null,""]
[null,null,null,"","",null,null,""]
[null,null,null,"","",null,null,""]
[null,null,null,"","",null,null,""]
[null,null,null,"","",null,null,""]
[null,null,null,"","",null,null,""]
[null,null,null,"","",null,null,""]
[null,null,null,"","",null,null,""]
[null,null,null,"","",null,null,""]
[null,null,null,"","",null,null,""]
[null,null,null,"","",null,null,""]
[null,null,null,"","",null,null,""]
[null,null,null,"","",null,null,""]
[null,null,null,"","",null,null,""]
[null,null,null,"","",null,null,""]
[null,null,null,"","",null,null,""]
[null,null,null,"","",null,null,""]
[null,null,null,"","",null,null,""]
[null,null,null,"","",null,null,""]
[null,null,null,"","",null,null,""]
[null,null,null,"","",null,null,""]
[null,null,null,"","",null,null,""]
[null,null,null,"","",null,null,""]
[null,null,null,"","",null,null,""]
[null,null,null,"","",null,null,""]
[null,null,null,"","",null,null,""]
[null,null,null,"","",null,null,""]
[null,null,null,"","",null,null,""]
[null,null,null,"","",null,null,""]
[null,null,null,"","",null,null,""]
[null,null,null,"","",null,null,""]
[null,null,null,"","",null,null,""]
[null,null,null,"","",null,null,""]
[null,null,null,"","",null,null,""]
[null,null,null,"","",null,null,""]
[null,null,null,"","",null,null,""]
[null,null,null,"","",null,null,""]
[null,null,null,"","",null,null,""]
[null,null,null,"","",null,null,""]
[null,null,null,"","",null,null,""]
[null,null,null,"","",null,null,""]
[null,null,null,"","",null,null,""]
[null,null,null,"","",null,null,""]
[null,null,null,"","",null,null,""]
[null,null,null,{"$f":"IF(C2502=\"\",\"\",MONTH(C2502))","v":""},{"$f":"IF(C2502=\"\",\"\",YEAR(C2502))","v":""},null,null,{"$f":"IF(F2502=\"\",\"\",IF(F2502=$A$3,\"Entrada\",IF(F2502=$A$4,\"Entrada\",IF(F2502=$A$5,\"Entrada\",IF(F2502=$A$6,\"Entrada\",IF(F2502=$A$7,\"Entrada\",\"Saída\"))))))","v":""}]
[null,null,null,"","",null,null,""]
[null,null,null,"","",null,null,""]
[null,null,null,"","",null,null,""]
[null,null,null,"","",null,null,""]
[null,null,null,"","",null,null,""]
[null,null,null,"","",null,null,""]
[null,null,null,"","",null,null,""]
[null,null,null,"","",null,null,""]
[null,null,null,"","",null,null,""]
[null,null,null,"","",null,null,""]
[null,null,null,"","",null,null,""]
[null,null,null,"","",null,null,""]
[null,null,null,"","",null,null,""]
[null,null,null,"","",null,null,""]
[null,null,null,"","",null,null,""]
[null,null,null,"","",null,null,""]
[null,null,null,"","",null,null,""]
[null,null,null,"","",null,null,""]
[null,null,null,"","",null,null,""]
[null,null,null,"","",null,null,""]
[null,null,null,"","",null,null,""]
[null,null,null,"","",null,null,""]
[null,null,null,"","",null,null,""]
[null,null,null,"","",null,null,""]
[null,null,null,"","",null,null,""]
[null,null,null,"","",null,null,""]
[null,null,null,"","",null,null,""]
[null,null,null,"","",null,null,""]
[null,null,null,"","",null,null,""]
[null,null,null,"","",null,null,""]
[null,null,null,"","",null,null,""]
[null,null,null,"","",null,null,""]
[null,null,null,"","",null,null,""]
[null,null,null,"","",null,null,""]
[null,null,null,"","",null,null,""]
[null,null,null,"","",null,null,""]
[null,null,null,"","",null,null,""]
[null,null,null,"","",null,null,""]
[null,null,null,"","",null,null,""]
[null,null,null,"","",null,null,""]
[null,null,null,"","",null,null,""]
[null,null,null,"","",null,null,""]
[null,null,null,"","",null,null,""]
[null,null,null,"","",null,null,""]
[null,null,null,"","",null,null,""]
[null,null,null,"","",null,null,""]
[null,null,null,"","",null,null,""]
[null,null,null,"","",null,null,""]
[null,null,null,"","",null,null,""]
[null,null,null,"","",null,null,""]
[null,null,null,"","",null,null,""]
[null,null,null,"","",null,null,""]
[null,null,null,"","",null,null,""]
[null,null,null,"","",null,null,""]
[null,null,null,"","",null,null,""]
[null,null,null,"","",null,null,""]
[null,null,null,"","",null,null,""]
[null,null,null,"","",null,null,""]
[null,null,null,"","",null,null,""]
[null,null,null,"","",null,null,""]
[null,null,null,"","",null,null,""]
[null,null,null,"","",null,null,""]
[null,null,null,"","",null,null,""]
[null,null,null,{"$f":"IF(C2566=\"\",\"\",MONTH(C2566))","v":""},{"$f":"IF(C2566=\"\",\"\",YEAR(C2566))","v":""},null,null,{"$f":"IF(F2566=\"\",\"\",IF(F2566=$A$3,\"Entrada\",IF(F2566=$A$4,\"Entrada\",IF(F2566=$A$5,\"Entrada\",IF(F2566=$A$6,\"Entrada\",IF(F2566=$A$7,\"Entrada\",\"Saída\"))))))","v":""}]
[null,null,null,"","",null,null,""]
[null,null,null,"","",null,null,""]
[null,null,null,"","",null,null,""]
[null,null,null,"","",null,null,""]
[null,null,null,"","",null,null,""]
[null,null,null,"","",null,null,""]
[null,null,null,"","",null,null,""]
[null,null,null,"","",null,null,""]
[null,null,null,"","",null,null,""]
[null,null,null,"","",null,null,""]
[null,null,null,"","",null,null,""]
[null,null,null,"","",null,null,""]
[null,null,null,"","",null,null,""]
[null,null,null,"","",null,null,""]
[null,null,null,"","",null,null,""]
[null,null,null,"","",null,null,""]
[null,null,null,"","",null,null,""]
[null,null,null,"","",null,null,""]
[null,null,null,"","",null,null,""]
[null,null,null,"","",null,null,""]
[null,null,null,"","",null,null,""]
[null,null,null,"","",null,null,""]
[null,null,null,"","",null,null,""]
[null,null,null,"","",null,null,""]
[null,null,null,"","",null,null,""]
[null,null,null,"","",null,null,""]
[null,null,null,"","",null,null,""]
[null,null,null,"","",null,null,""]
[null,null,null,"","",null,null,""]
[null,null,null,"","",null,null,""]
[null,null,null,"","",null,null,""]
[null,null,null,"","",null,null,""]
[null,null,null,"","",null,null,""]
[null,null,null,"","",null,null,""]
[null,null,null,"","",null,null,""]
[null,null,null,"","",null,null,""]
[null,null,null,"","",null,null,""]
[null,null,null,"","",null,null,""]
[null,null,null,"","",null,null,""]
[null,null,null,"","",null,null,""]
[null,null,null,"","",null,null,""]
[null,null,null,"","",null,null,""]
[null,null,null,"","",null,null,""]
[null,null,null,"","",null,null,""]
[null,null,null,"","",null,null,""]
[null,null,null,"","",null,null,""]
[null,null,null,"","",null,null,""]
[null,null,null,"","",null,null,""]
[null,null,null,"","",null,null,""]
[null,null,null,"","",null,null,""]
[null,null,null,"","",null,null,""]
[null,null,null,"","",null,null,""]
[null,null,null,"","",null,null,""]
[null,null,null,"","",null,null,""]
[null,null,null,"","",null,null,""]
[null,null,null,"","",null,null,""]
[null,null,null,"","",null,null,""]
[null,null,null,"","",null,null,""]
[null,null,null,"","",null,null,""]
[null,null,null,"","",null,null,""]
[null,null,null,"","",null,null,""]
[null,null,null,"","",null,null,""]
[null,null,null,"","",null,null,""]
[null,null,null,{"$f":"IF(C2630=\"\",\"\",MONTH(C2630))","v":""},{"$f":"IF(C2630=\"\",\"\",YEAR(C2630))","v":""},null,null,{"$f":"IF(F2630=\"\",\"\",IF(F2630=$A$3,\"Entrada\",IF(F2630=$A$4,\"Entrada\",IF(F2630=$A$5,\"Entrada\",IF(F2630=$A$6,\"Entrada\",IF(F2630=$A$7,\"Entrada\",\"Saída\"))))))","v":""}]
[null,null,null,"","",null,null,""]
[null,null,null,"","",null,null,""]
[null,null,null,"","",null,null,""]
[null,null,null,"","",null,null,""]
[null,null,null,"","",null,null,""]
[null,null,null,"","",null,null,""]
[null,null,null,"","",null,null,""]
[null,null,null,"","",null,null,""]
[null,null,null,"","",null,null,""]
[null,null,null,"","",null,null,""]
[null,null,null,"","",null,null,""]
[null,null,null,"","",null,null,""]
[null,null,null,"","",null,null,""]
[null,null,null,"","",null,null,""]
[null,null,null,"","",null,null,""]
[null,null,null,"","",null,null,""]
[null,null,null,"","",null,null,""]
[null,null,null,"","",null,null,""]
[null,null,null,"","",null,null,""]
[null,null,null,"","",null,null,""]
[null,null,null,"","",null,null,""]
[null,null,null,"","",null,null,""]
[null,null,null,"","",null,null,""]
[null,null,null,"","",null,null,""]
[null,null,null,"","",null,null,""]
[null,null,null,"","",null,null,""]
[null,null,null,"","",null,null,""]
[null,null,null,"","",null,null,""]
[null,null,null,"","",null,null,""]
[null,null,null,"","",null,null,""]
[null,null,null,"","",null,null,""]
[null,null,null,"","",null,null,""]
[null,null,null,"","",null,null,""]
[null,null,null,"","",null,null,""]
[null,null,null,"","",null,null,""]
[null,null,null,"","",null,null,""]
[null,null,null,"","",null,null,""]
[null,null,null,"","",null,null,""]
[null,null,null,"","",null,null,""]
[null,null,null,"","",null,null,""]
[null,null,null,"","",null,null,""]
[null,null,null,"","",null,null,""]
[null,null,null,"","",null,null,""]
[null,null,null,"","",null,null,""]
[null,null,null,"","",null,null,""]
[null,null,null,"","",null,null,""]
[null,null,null,"","",null,null,""]
[null,null,null,"","",null,null,""]
[null,null,null,"","",null,null,""]
[null,null,null,"","",null,null,""]
[null,null,null,"","",null,null,""]
[null,null,null,"","",null,null,""]
[null,null,null,"","",null,null,""]
[null,null,null,"","",null,null,""]
[null,null,null,"","",null,null,""]
[null,null,null,"","",null,null,""]
[null,null,null,"","",null,null,""]
[null,null,null,"","",null,null,""]
[null,null,null,"","",null,null,""]
[null,null,null,"","",null,null,""]
[null,null,null,"","",null,null,""]
[null,null,null,"","",null,null,""]
[null,null,null,"","",null,null,""]
[null,null,null,{"$f":"IF(C2694=\"\",\"\",MONTH(C2694))","v":""},{"$f":"IF(C2694=\"\",\"\",YEAR(C2694))","v":""},null,null,{"$f":"IF(F2694=\"\",\"\",IF(F2694=$A$3,\"Entrada\",IF(F2694=$A$4,\"Entrada\",IF(F2694=$A$5,\"Entrada\",IF(F2694=$A$6,\"Entrada\",IF(F2694=$A$7,\"Entrada\",\"Saída\"))))))","v":""}]
[null,null,null,"","",null,null,""]
[null,null,null,"","",null,null,""]
[null,null,null,"","",null,null,""]
[null,null,null,"","",null,null,""]
[null,null,null,"","",null,null,""]
[null,null,null,"","",null,null,""]
[null,null,null,"","",null,null,""]
[null,null,null,"","",null,null,""]
[null,null,null,"","",null,null,""]
[null,null,null,"","",null,null,""]
[null,null,null,"","",null,null,""]
[null,null,null,"","",null,null,""]
[null,null,null,"","",null,null,""]
[null,null,null,"","",null,null,""]
[null,null,null,"","",null,null,""]
[null,null,null,"","",null,null,""]
[null,null,null,"","",null,null,""]
[null,null,null,"","",null,null,""]
[null,null,null,"","",null,null,""]
[null,null,null,"","",null,null,""]
[null,null,null,"","",null,null,""]
[null,null,null,"","",null,null,""]
[null,null,null,"","",null,null,""]
[null,null,null,"","",null,null,""]
[null,null,null,"","",null,null,""]
[null,null,null,"","",null,null,""]
[null,null,null,"","",null,null,""]
[null,null,null,"","",null,null,""]
[null,null,null,"","",null,null,""]
[null,null,null,"","",null,null,""]
[null,null,null,"","",null,null,""]
[null,null,null,"","",null,null,""]
[null,null,null,"","",null,null,""]
[null,null,null,"","",null,null,""]
[null,null,null,"","",null,null,""]
[null,null,null,"","",null,null,""]
[null,null,null,"","",null,null,""]
[null,null,null,"","",null,null,""]
[null,null,null,"","",null,null,""]
[null,null,null,"","",null,null,""]
[null,null,null,"","",null,null,""]
[null,null,null,"","",null,null,""]
[null,null,null,"","",null,null,""]
[null,null,null,"","",null,null,""]
[null,null,null,"","",null,null,""]
[null,null,null,"","",null,null,""]
[null,null,null,"","",null,null,""]
[null,null,null,"","",null,null,""]
[null,null,null,"","",null,null,""]
[null,null,null,"","",null,null,""]
[null,null,null,"","",null,null,""]
[null,null,null,"","",null,null,""]
[null,null,null,"","",null,null,""]
[null,null,null,"","",null,null,""]
[null,null,null,"","",null,null,""]
[null,null,null,"","",null,null,""]
[null,null,null,"","",null,null,""]
[null,null,null,"","",null,null,""]
[null,null,null,"","",null,null,""]
[null,null,null,"","",null,null,""]
[null,null,null,"","",null,null,""]
[null,null,null,"","",null,null,""]
[null,null,null,"","",null,null,""]
[null,null,null,{"$f":"IF(C2758=\"\",\"\",MONTH(C2758))","v":""},{"$f":"IF(C2758=\"\",\"\",YEAR(C2758))","v":""},null,null,{"$f":"IF(F2758=\"\",\"\",IF(F2758=$A$3,\"Entrada\",IF(F2758=$A$4,\"Entrada\",IF(F2758=$A$5,\"Entrada\",IF(F2758=$A$6,\"Entrada\",IF(F2758=$A$7,\"Entrada\",\"Saída\"))))))","v":""}]
[null,null,null,"","",null,null,""]
[null,null,null,"","",null,null,""]
[null,null,null,"","",null,null,""]
[null,null,null,"","",null,null,""]
[null,null,null,"","",null,null,""]
[null,null,null,"","",null,null,""]
[null,null,null,"","",null,null,""]
[null,null,null,"","",null,null,""]
[null,null,null,"","",null,null,""]
[null,null,null,"","",null,null,""]
[null,null,null,"","",null,null,""]
[null,null,null,"","",null,null,""]
[null,null,null,"","",null,null,""]
[null,null,null,"","",null,null,""]
[null,null,null,"","",null,null,""]
[null,null,null,"","",null,null,""]
[null,null,null,"","",null,null,""]
[null,null,null,"","",null,null,""]
[null,null,null,"","",null,null,""]
[null,null,null,"","",null,null,""]
[null,null,null,"","",null,null,""]
[null,null,null,"","",null,null,""]
[null,null,null,"","",null,null,""]
[null,null,null,"","",null,null,""]
[null,null,null,"","",null,null,""]
[null,null,null,"","",null,null,""]
[null,null,null,"","",null,null,""]
[null,null,null,"","",null,null,""]
[null,null,null,"","",null,null,""]
[null,null,null,"","",null,null,""]
[null,null,null,"","",null,null,""]
[null,null,null,"","",null,null,""]
[null,null,null,"","",null,null,""]
[null,null,null,"","",null,null,""]
[null,null,null,"","",null,null,""]
[null,null,null,"","",null,null,""]
[null,null,null,"","",null,null,""]
[null,null,null,"","",null,null,""]
[null,null,null,"","",null,null,""]
[null,null,null,"","",null,null,""]
[null,null,null,"","",null,null,""]
[null,null,null,"","",null,null,""]
[null,null,null,"","",null,null,""]
[null,null,null,"","",null,null,""]
[null,null,null,"","",null,null,""]
[null,null,null,"","",null,null,""]
[null,null,null,"","",null,null,""]
[null,null,null,"","",null,null,""]
[null,null,null,"","",null,null,""]
[null,null,null,"","",null,null,""]
[null,null,null,"","",null,null,""]
[null,null,null,"","",null,null,""]
[null,null,null,"","",null,null,""]
[null,null,null,"","",null,null,""]
[null,null,null,"","",null,null,""]
[null,null,null,"","",null,null,""]
[null,null,null,"","",null,null,""]
[null,null,null,"","",null,null,""]
[null,null,null,"","",null,null,""]
[null,null,null,"","",null,null,""]
[null,null,null,"","",null,null,""]
[null,null,null,"","",null,null,""]
[null,null,null,"","",null,null,""]
[null,null,null,{"$f":"IF(C2822=\"\",\"\",MONTH(C2822))","v":""},{"$f":"IF(C2822=\"\",\"\",YEAR(C2822))","v":""},null,null,{"$f":"IF(F2822=\"\",\"\",IF(F2822=$A$3,\"Entrada\",IF(F2822=$A$4,\"Entrada\",IF(F2822=$A$5,\"Entrada\",IF(F2822=$A$6,\"Entrada\",IF(F2822=$A$7,\"Entrada\",\"Saída\"))))))","v":""}]
[null,null,null,"","",null,null,""]
[null,null,null,"","",null,null,""]
[null,null,null,"","",null,null,""]
[null,null,null,"","",null,null,""]
[null,null,null,"","",null,null,""]
[null,null,null,"","",null,null,""]
[null,null,null,"","",null,null,""]
[null,null,null,"","",null,null,""]
[null,null,null,"","",null,null,""]
[null,null,null,"","",null,null,""]
[null,null,null,"","",null,null,""]
[null,null,null,"","",null,null,""]
[null,null,null,"","",null,null,""]
[null,null,null,"","",null,null,""]
[null,null,null,"","",null,null,""]
[null,null,null,"","",null,null,""]
[null,null,null,"","",null,null,""]
[null,null,null,"","",null,null,""]
[null,null,null,"","",null,null,""]
[null,null,null,"","",null,null,""]
[null,null,null,"","",null,null,""]
[null,null,null,"","",null,null,""]
[null,null,null,"","",null,null,""]
[null,null,null,"","",null,null,""]
[null,null,null,"","",null,null,""]
[null,null,null,"","",null,null,""]
[null,null,null,"","",null,null,""]
[null,null,null,"","",null,null,""]
[null,null,null,"","",null,null,""]
[null,null,null,"","",null,null,""]
[null,null,null,"","",null,null,""]
[null,null,null,"","",null,null,""]
[null,null,null,"","",null,null,""]
[null,null,null,"","",null,null,""]
[null,null,null,"","",null,null,""]
[null,null,null,"","",null,null,""]
[null,null,null,"","",null,null,""]
[null,null,null,"","",null,null,""]
[null,null,null,"","",null,null,""]
[null,null,null,"","",null,null,""]
[null,null,null,"","",null,null,""]
[null,null,null,"","",null,null,""]
[null,null,null,"","",null,null,""]
[null,null,null,"","",null,null,""]
[null,null,null,"","",null,null,""]
[null,null,null,"","",null,null,""]
[null,null,null,"","",null,null,""]
[null,null,null,"","",null,null,""]
[null,null,null,"","",null,null,""]
[null,null,null,"","",null,null,""]
[null,null,null,"","",null,null,""]
[null,null,null,"","",null,null,""]
[null,null,null,"","",null,null,""]
[null,null,null,"","",null,null,""]
[null,null,null,"","",null,null,""]
[null,null,null,"","",null,null,""]
[null,null,null,"","",null,null,""]
[null,null,null,"","",null,null,""]
[null,null,null,"","",null,null,""]
[null,null,null,"","",null,null,""]
[null,null,null,"","",null,null,""]
[null,null,null,"","",null,null,""]
[null,null,null,"","",null,null,""]
[null,null,null,{"$f":"IF(C2886=\"\",\"\",MONTH(C2886))","v":""},{"$f":"IF(C2886=\"\",\"\",YEAR(C2886))","v":""},null,null,{"$f":"IF(F2886=\"\",\"\",IF(F2886=$A$3,\"Entrada\",IF(F2886=$A$4,\"Entrada\",IF(F2886=$A$5,\"Entrada\",IF(F2886=$A$6,\"Entrada\",IF(F2886=$A$7,\"Entrada\",\"Saída\"))))))","v":""}]
[null,null,null,"","",null,null,""]
[null,null,null,"","",null,null,""]
[null,null,null,"","",null,null,""]
[null,null,null,"","",null,null,""]
[null,null,null,"","",null,null,""]
[null,null,null,"","",null,null,""]
[null,null,null,"","",null,null,""]
[null,null,null,"","",null,null,""]
[null,null,null,"","",null,null,""]
[null,null,null,"","",null,null,""]
[null,null,null,"","",null,null,""]
[null,null,null,"","",null,null,""]
[null,null,null,"","",null,null,""]
[null,null,null,"","",null,null,""]
[null,null,null,"","",null,null,""]
[null,null,null,"","",null,null,""]
[null,null,null,"","",null,null,""]
[null,null,null,"","",null,null,""]
[null,null,null,"","",null,null,""]
[null,null,null,"","",null,null,""]
[null,null,null,"","",null,null,""]
[null,null,null,"","",null,null,""]
[null,null,null,"","",null,null,""]
[null,null,null,"","",null,null,""]
[null,null,null,"","",null,null,""]
[null,null,null,"","",null,null,""]
[null,null,null,"","",null,null,""]
[null,null,null,"","",null,null,""]
[null,null,null,"","",null,null,""]
[null,null,null,"","",null,null,""]
[null,null,null,"","",null,null,""]
[null,null,null,"","",null,null,""]
[null,null,null,"","",null,null,""]
[null,null,null,"","",null,null,""]
[null,null,null,"","",null,null,""]
[null,null,null,"","",null,null,""]
[null,null,null,"","",null,null,""]
[null,null,null,"","",null,null,""]
[null,null,null,"","",null,null,""]
[null,null,null,"","",null,null,""]
[null,null,null,"","",null,null,""]
[null,null,null,"","",null,null,""]
[null,null,null,"","",null,null,""]
[null,null,null,"","",null,null,""]
[null,null,null,"","",null,null,""]
[null,null,null,"","",null,null,""]
[null,null,null,"","",null,null,""]
[null,null,null,"","",null,null,""]
[null,null,null,"","",null,null,""]
[null,null,null,"","",null,null,""]
[null,null,null,"","",null,null,""]
[null,null,null,"","",null,null,""]
[null,null,null,"","",null,null,""]
[null,null,null,"","",null,null,""]
[null,null,null,"","",null,null,""]
[null,null,null,"","",null,null,""]
[null,null,null,"","",null,null,""]
[null,null,null,"","",null,null,""]
[null,null,null,"","",null,null,""]
[null,null,null,"","",null,null,""]
[null,null,null,"","",null,null,""]
[null,null,null,"","",null,null,""]
[null,null,null,"","",null,null,""]
[null,null,null,{"$f":"IF(C2950=\"\",\"\",MONTH(C2950))","v":""},{"$f":"IF(C2950=\"\",\"\",YEAR(C2950))","v":""},null,null,{"$f":"IF(F2950=\"\",\"\",IF(F2950=$A$3,\"Entrada\",IF(F2950=$A$4,\"Entrada\",IF(F2950=$A$5,\"Entrada\",IF(F2950=$A$6,\"Entrada\",IF(F2950=$A$7,\"Entrada\",\"Saída\"))))))","v":""}]
[null,null,null,"","",null,null,""]
[null,null,null,"","",null,null,""]
[null,null,null,"","",null,null,""]
[null,null,null,"","",null,null,""]
[null,null,null,"","",null,null,""]
[null,null,null,"","",null,null,""]
[null,null,null,"","",null,null,""]
[null,null,null,"","",null,null,""]
[null,null,null,"","",null,null,""]
[null,null,null,"","",null,null,""]
[null,null,null,"","",null,null,""]
[null,null,null,"","",null,null,""]
[null,null,null,"","",null,null,""]
[null,null,null,"","",null,null,""]
[null,null,null,"","",null,null,""]
[null,null,null,"","",null,null,""]
[null,null,null,"","",null,null,""]
[null,null,null,"","",null,null,""]
[null,null,null,"","",null,null,""]
[null,null,null,"","",null,null,""]
[null,null,null,"","",null,null,""]
[null,null,null,"","",null,null,""]
[null,null,null,"","",null,null,""]
[null,null,null,"","",null,null,""]
[null,null,null,"","",null,null,""]
[null,null,null,"","",null,null,""]
[null,null,null,"","",null,null,""]
[null,null,null,"","",null,null,""]
[null,null,null,"","",null,null,""]
[null,null,null,"","",null,null,""]
[null,null,null,"","",null,null,""]
[null,null,null,"","",null,null,""]
[null,null,null,"","",null,null,""]
[null,null,null,"","",null,null,""]
[null,null,null,"","",null,null,""]
[null,null,null,"","",null,null,""]
[null,null,null,"","",null,null,""]
[null,null,null,"","",null,null,""]
[null,null,null,"","",null,null,""]
[null,null,null,"","",null,null,""]
[null,null,null,"","",null,null,""]
[null,null,null,"","",null,null,""]
[null,null,null,"","",null,null,""]
[null,null,null,"","",null,null,""]
[null,null,null,"","",null,null,""]
[null,null,null,"","",null,null,""]
[null,null,null,"","",null,null,""]
[null,null,null,"","",null,null,""]
[null,null,null,"","",null,null,""]
[null,null,null,"","",null,null,""]
[null,null,null,"","",null,null,""]
[null,null,null,"","",null,null,""]
[null,null,null,"","",null,null,""]

{"sheet":"Fluxo de Caixa","index":4,"n_rows":26,"n_cols":16,"rows_kept":26,"cut":false,"hidden":false,"merged":[[0,0,0,13],[1,1,1,13],[26,0,26,16383]]}
["FLUXO DE CAIXA"]
["EMPRESA:",{"$f":"IF(Lançamentos!$F$2=\"\",\"\",Lançamentos!$F$2)","v":""}]
["MÊS/ANO",1,2,3,4,5,6,7,8,9,10,11,12,"Consolidado",null,1]
[2017,"Valores","Valores","Valores","Valores","Valores","Valores","Valores","Valores","Valores","Valores","Valores","Valores","Valores",null,2]
["Saldo Inicial do Caixa",null,{"$f":"B26","v":0},0,0,0,0,0,0,0,0,0,0,{"$f":"$B$5","v":0},null,3]
[{"$f":"(IF(Lançamentos!A3=\"\",\"\",Lançamentos!A3))","v":"Dinheiro"},{"$f":"IF($A$4=Base!$B$2,Base!B6,IF('Fluxo de Caixa'!$A$4=Base!$O$2,Base!O6,IF('Fluxo de Caixa'!$A$4=Base!$AB$2,Base!AB6,IF('Fluxo de Caixa'!$A$4=Base!$AO$2,Base!AO6,IF('Fluxo de Caixa'!$A$4=Base!$BB$2,Base!BB6,IF('Fluxo de Caixa'!$A$4=Base!$BO$2,Base!BO6,IF('Fluxo de Caixa'!$A$4=Base!$CB$2,Base!CB6,IF('Fluxo de Caixa'!$A$4=Base!$CO$2,Base!CO6,IF('Fluxo de Caixa'!$A$4=Base!$DB$2,Base!DB6,\"\")))))))))","v":0},{"$f":"IF($A$4=Base!$B$2,Base!C6,IF('Fluxo de Caixa'!$A$4=Base!$O$2,Base!P6,IF('Fluxo de Caixa'!$A$4=Base!$AB$2,Base!AC6,IF('Fluxo de Caixa'!$A$4=Base!$AO$2,Base!AP6,IF('Fluxo de Caixa'!$A$4=Base!$BB$2,Base!BC6,IF('Fluxo de Caixa'!$A$4=Base!$BO$2,Base!BP6,IF('Fluxo de Caixa'!$A$4=Base!$CB$2,Base!CC6,IF('Fluxo de Caixa'!$A$4=Base!$CO$2,Base!CP6,IF('Fluxo de Caixa'!$A$4=Base!$DB$2,Base!DC6,\"\")))))))))","v":0},{"$f":"IF($A$4=Base!$B$2,Base!D6,IF('Fluxo de Caixa'!$A$4=Base!$O$2,Base!Q6,IF('Fluxo de Caixa'!$A$4=Base!$AB$2,Base!AD6,IF('Fluxo de Caixa'!$A$4=Base!$AO$2,Base!AQ6,IF('Fluxo de Caixa'!$A$4=Base!$BB$2,Base!BD6,IF('Fluxo de Caixa'!$A$4=Base!$BO$2,Base!BQ6,IF('Fluxo de Caixa'!$A$4=Base!$CB$2,Base!CD6,IF('Fluxo de Caixa'!$A$4=Base!$CO$2,Base!CQ6,IF('Fluxo de Caixa'!$A$4=Base!$DB$2,Base!DD6,\"\")))))))))","v":0},{"$f":"IF($A$4=Base!$B$2,Base!E6,IF('Fluxo de Caixa'!$A$4=Base!$O$2,Base!R6,IF('Fluxo de Caixa'!$A$4=Base!$AB$2,Base!AE6,IF('Fluxo de Caixa'!$A$4=Base!$AO$2,Base!AR6,IF('Fluxo de Caixa'!$A$4=Base!$BB$2,Base!BE6,IF('Fluxo de Caixa'!$A$4=Base!$BO$2,Base!BR6,IF('Fluxo de Caixa'!$A$4=Base!$CB$2,Base!CE6,IF('Fluxo de Caixa'!$A$4=Base!$CO$2,Base!CR6,IF('Fluxo de Caixa'!$A$4=Base!$DB$2,Base!DE6,\"\")))))))))","v":0},{"$f":"IF($A$4=Base!$B$2,Base!F6,IF('Fluxo de Caixa'!$A$4=Base!$O$2,Base!S6,IF('Fluxo de Caixa'!$A$4=Base!$AB$2,Base!AF6,IF('Fluxo de Caixa'!$A$4=Base!$AO$2,Base!AS6,IF('Fluxo de Caixa'!$A$4=Base!$BB$2,Base!BF6,IF('Fluxo de Caixa'!$A$4=Base!$BO$2,Base!BS6,IF('Fluxo de Caixa'!$A$4=Base!$CB$2,Base!CF6,IF('Fluxo de Caixa'!$A$4=Base!$CO$2,Base!CS6,IF('Fluxo de Caixa'!$A$4=Base!$DB$2,Base!DF6,\"\")))))))))","v":0},{"$f":"IF($A$4=Base!$B$2,Base!G6,IF('Fluxo de Caixa'!$A$4=Base!$O$2,Base!T6,IF('Fluxo de Caixa'!$A$4=Base!$AB$2,Base!AG6,IF('Fluxo de Caixa'!$A$4=Base!$AO$2,Base!AT6,IF('Fluxo de Caixa'!$A$4=Base!$BB$2,Base!BG6,IF('Fluxo de Caixa'!$A$4=Base!$BO$2,Base!BT6,IF('Fluxo de Caixa'!$A$4=Base!$CB$2,Base!CG6,IF('Fluxo de Caixa'!$A$4=Base!$CO$2,Base!CT6,IF('Fluxo de Caixa'!$A$4=Base!$DB$2,Base!DG6,\"\")))))))))","v":0},{"$f":"IF($A$4=Base!$B$2,Base!H6,IF('Fluxo de Caixa'!$A$4=Base!$O$2,Base!U6,IF('Fluxo de Caixa'!$A$4=Base!$AB$2,Base!AH6,IF('Fluxo de Caixa'!$A$4=Base!$AO$2,Base!AU6,IF('Fluxo de Caixa'!$A$4=Base!$BB$2,Base!BH6,IF('Fluxo de Caixa'!$A$4=Base!$BO$2,Base!BU6,IF('Fluxo de Caixa'!$A$4=Base!$CB$2,Base!CH6,IF('Fluxo de Caixa'!$A$4=Base!$CO$2,Base!CU6,IF('Fluxo de Caixa'!$A$4=Base!$DB$2,Base!DH6,\"\")))))))))","v":0},{"$f":"IF($A$4=Base!$B$2,Base!I6,IF('Fluxo de Caixa'!$A$4=Base!$O$2,Base!V6,IF('Fluxo de Caixa'!$A$4=Base!$AB$2,Base!AI6,IF('Fluxo de Caixa'!$A$4=Base!$AO$2,Base!AV6,IF('Fluxo de Caixa'!$A$4=Base!$BB$2,Base!BI6,IF('Fluxo de Caixa'!$A$4=Base!$BO$2,Base!BV6,IF('Fluxo de Caixa'!$A$4=Base!$CB$2,Base!CI6,IF('Fluxo de Caixa'!$A$4=Base!$CO$2,Base!CV6,IF('Fluxo de Caixa'!$A$4=Base!$DB$2,Base!DI6,\"\")))))))))","v":0},{"$f":"IF($A$4=Base!$B$2,Base!J6,IF('Fluxo de Caixa'!$A$4=Base!$O$2,Base!W6,IF('Fluxo de Caixa'!$A$4=Base!$AB$2,Base!AJ6,IF('Fluxo de Caixa'!$A$4=Base!$AO$2,Base!AW6,IF('Fluxo de Caixa'!$A$4=Base!$BB$2,Base!BJ6,IF('Fluxo de Caixa'!$A$4=Base!$BO$2,Base!BW6,IF('Fluxo de Caixa'!$A$4=Base!$CB$2,Base!CJ6,IF('Fluxo de Caixa'!$A$4=Base!$CO$2,Base!CW6,IF('Fluxo de Caixa'!$A$4=Base!$DB$2,Base!DJ6,\"\")))))))))","v":0},{"$f":"IF($A$4=Base!$B$2,Base!K6,IF('Fluxo de Caixa'!$A$4=Base!$O$2,Base!X6,IF('Fluxo de Caixa'!$A$4=Base!$AB$2,Base!AK6,IF('Fluxo de Caixa'!$A$4=Base!$AO$2,Base!AX6,IF('Fluxo de Caixa'!$A$4=Base!$BB$2,Base!BK6,IF('Fluxo de Caixa'!$A$4=Base!$BO$2,Base!BX6,IF('Fluxo de Caixa'!$A$4=Base!$CB$2,Base!CK6,IF('Fluxo de Caixa'!$A$4=Base!$CO$2,Base!CX6,IF('Fluxo de Caixa'!$A$4=Base!$DB$2,Base!DK6,\"\")))))))))","v":0},{"$f":"IF($A$4=Base!$B$2,Base!L6,IF('Fluxo de Caixa'!$A$4=Base!$O$2,Base!Y6,IF('Fluxo de Caixa'!$A$4=Base!$AB$2,Base!AL6,IF('Fluxo de Caixa'!$A$4=Base!$AO$2,Base!AY6,IF('Fluxo de Caixa'!$A$4=Base!$BB$2,Base!BL6,IF('Fluxo de Caixa'!$A$4=Base!$BO$2,Base!BY6,IF('Fluxo de Caixa'!$A$4=Base!$CB$2,Base!CL6,IF('Fluxo de Caixa'!$A$4=Base!$CO$2,Base!CY6,IF('Fluxo de Caixa'!$A$4=Base!$DB$2,Base!DL6,\"\")))))))))","v":0},{"$f":"IF($A$4=Base!$B$2,Base!M6,IF('Fluxo de Caixa'!$A$4=Base!$O$2,Base!Z6,IF('Fluxo de Caixa'!$A$4=Base!$AB$2,Base!AM6,IF('Fluxo de Caixa'!$A$4=Base!$AO$2,Base!AZ6,IF('Fluxo de Caixa'!$A$4=Base!$BB$2,Base!BM6,IF('Fluxo de Caixa'!$A$4=Base!$BO$2,Base!BZ6,IF('Fluxo de Caixa'!$A$4=Base!$CB$2,Base!CM6,IF('Fluxo de Caixa'!$A$4=Base!$CO$2,Base!CZ6,IF('Fluxo de Caixa'!$A$4=Base!$DB$2,Base!DM6,\"\")))))))))","v":0},{"$f":"SUM(B6:M6)","v":0},null,4]
[{"$f":"(IF(Lançamentos!A4=\"\",\"\",Lançamentos!A4))","v":"Cheque"},{"$f":"IF($A$4=Base!$B$2,Base!B7,IF('Fluxo de Caixa'!$A$4=Base!$O$2,Base!O7,IF('Fluxo de Caixa'!$A$4=Base!$AB$2,Base!AB7,IF('Fluxo de Caixa'!$A$4=Base!$AO$2,Base!AO7,IF('Fluxo de Caixa'!$A$4=Base!$BB$2,Base!BB7,IF('Fluxo de Caixa'!$A$4=Base!$BO$2,Base!BO7,IF('Fluxo de Caixa'!$A$4=Base!$CB$2,Base!CB7,IF('Fluxo de Caixa'!$A$4=Base!$CO$2,Base!CO7,IF('Fluxo de Caixa'!$A$4=Base!$DB$2,Base!DB7,\"\")))))))))","v":0},{"$f":"IF($A$4=Base!$B$2,Base!C7,IF('Fluxo de Caixa'!$A$4=Base!$O$2,Base!P7,IF('Fluxo de Caixa'!$A$4=Base!$AB$2,Base!AC7,IF('Fluxo de Caixa'!$A$4=Base!$AO$2,Base!AP7,IF('Fluxo de Caixa'!$A$4=Base!$BB$2,Base!BC7,IF('Fluxo de Caixa'!$A$4=Base!$BO$2,Base!BP7,IF('Fluxo de Caixa'!$A$4=Base!$CB$2,Base!CC7,IF('Fluxo de Caixa'!$A$4=Base!$CO$2,Base!CP7,IF('Fluxo de Caixa'!$A$4=Base!$DB$2,Base!DC7,\"\")))))))))","v":0},{"$f":"IF($A$4=Base!$B$2,Base!D7,IF('Fluxo de Caixa'!$A$4=Base!$O$2,Base!Q7,IF('Fluxo de Caixa'!$A$4=Base!$AB$2,Base!AD7,IF('Fluxo de Caixa'!$A$4=Base!$AO$2,Base!AQ7,IF('Fluxo de Caixa'!$A$4=Base!$BB$2,Base!BD7,IF('Fluxo de Caixa'!$A$4=Base!$BO$2,Base!BQ7,IF('Fluxo de Caixa'!$A$4=Base!$CB$2,Base!CD7,IF('Fluxo de Caixa'!$A$4=Base!$CO$2,Base!CQ7,IF('Fluxo de Caixa'!$A$4=Base!$DB$2,Base!DD7,\"\")))))))))","v":0},{"$f":"IF($A$4=Base!$B$2,Base!E7,IF('Fluxo de Caixa'!$A$4=Base!$O$2,Base!R7,IF('Fluxo de Caixa'!$A$4=Base!$AB$2,Base!AE7,IF('Fluxo de Caixa'!$A$4=Base!$AO$2,Base!AR7,IF('Fluxo de Caixa'!$A$4=Base!$BB$2,Base!BE7,IF('Fluxo de Caixa'!$A$4=Base!$BO$2,Base!BR7,IF('Fluxo de Caixa'!$A$4=Base!$CB$2,Base!CE7,IF('Fluxo de Caixa'!$A$4=Base!$CO$2,Base!CR7,IF('Fluxo de Caixa'!$A$4=Base!$DB$2,Base!DE7,\"\")))))))))","v":0},{"$f":"IF($A$4=Base!$B$2,Base!F7,IF('Fluxo de Caixa'!$A$4=Base!$O$2,Base!S7,IF('Fluxo de Caixa'!$A$4=Base!$AB$2,Base!AF7,IF('Fluxo de Caixa'!$A$4=Base!$AO$2,Base!AS7,IF('Fluxo de Caixa'!$A$4=Base!$BB$2,Base!BF7,IF('Fluxo de Caixa'!$A$4=Base!$BO$2,Base!BS7,IF('Fluxo de Caixa'!$A$4=Base!$CB$2,Base!CF7,IF('Fluxo de Caixa'!$A$4=Base!$CO$2,Base!CS7,IF('Fluxo de Caixa'!$A$4=Base!$DB$2,Base!DF7,\"\")))))))))","v":0},{"$f":"IF($A$4=Base!$B$2,Base!G7,IF('Fluxo de Caixa'!$A$4=Base!$O$2,Base!T7,IF('Fluxo de Caixa'!$A$4=Base!$AB$2,Base!AG7,IF('Fluxo de Caixa'!$A$4=Base!$AO$2,Base!AT7,IF('Fluxo de Caixa'!$A$4=Base!$BB$2,Base!BG7,IF('Fluxo de Caixa'!$A$4=Base!$BO$2,Base!BT7,IF('Fluxo de Caixa'!$A$4=Base!$CB$2,Base!CG7,IF('Fluxo de Caixa'!$A$4=Base!$CO$2,Base!CT7,IF('Fluxo de Caixa'!$A$4=Base!$DB$2,Base!DG7,\"\")))))))))","v":0},{"$f":"IF($A$4=Base!$B$2,Base!H7,IF('Fluxo de Caixa'!$A$4=Base!$O$2,Base!U7,IF('Fluxo de Caixa'!$A$4=Base!$AB$2,Base!AH7,IF('Fluxo de Caixa'!$A$4=Base!$AO$2,Base!AU7,IF('Fluxo de Caixa'!$A$4=Base!$BB$2,Base!BH7,IF('Fluxo de Caixa'!$A$4=Base!$BO$2,Base!BU7,IF('Fluxo de Caixa'!$A$4=Base!$CB$2,Base!CH7,IF('Fluxo de Caixa'!$A$4=Base!$CO$2,Base!CU7,IF('Fluxo de Caixa'!$A$4=Base!$DB$2,Base!DH7,\"\")))))))))","v":0},{"$f":"IF($A$4=Base!$B$2,Base!I7,IF('Fluxo de Caixa'!$A$4=Base!$O$2,Base!V7,IF('Fluxo de Caixa'!$A$4=Base!$AB$2,Base!AI7,IF('Fluxo de Caixa'!$A$4=Base!$AO$2,Base!AV7,IF('Fluxo de Caixa'!$A$4=Base!$BB$2,Base!BI7,IF('Fluxo de Caixa'!$A$4=Base!$BO$2,Base!BV7,IF('Fluxo de Caixa'!$A$4=Base!$CB$2,Base!CI7,IF('Fluxo de Caixa'!$A$4=Base!$CO$2,Base!CV7,IF('Fluxo de Caixa'!$A$4=Base!$DB$2,Base!DI7,\"\")))))))))","v":0},{"$f":"IF($A$4=Base!$B$2,Base!J7,IF('Fluxo de Caixa'!$A$4=Base!$O$2,Base!W7,IF('Fluxo de Caixa'!$A$4=Base!$AB$2,Base!AJ7,IF('Fluxo de Caixa'!$A$4=Base!$AO$2,Base!AW7,IF('Fluxo de Caixa'!$A$4=Base!$BB$2,Base!BJ7,IF('Fluxo de Caixa'!$A$4=Base!$BO$2,Base!BW7,IF('Fluxo de Caixa'!$A$4=Base!$CB$2,Base!CJ7,IF('Fluxo de Caixa'!$A$4=Base!$CO$2,Base!CW7,IF('Fluxo de Caixa'!$A$4=Base!$DB$2,Base!DJ7,\"\")))))))))","v":0},{"$f":"IF($A$4=Base!$B$2,Base!K7,IF('Fluxo de Caixa'!$A$4=Base!$O$2,Base!X7,IF('Fluxo de Caixa'!$A$4=Base!$AB$2,Base!AK7,IF('Fluxo de Caixa'!$A$4=Base!$AO$2,Base!AX7,IF('Fluxo de Caixa'!$A$4=Base!$BB$2,Base!BK7,IF('Fluxo de Caixa'!$A$4=Base!$BO$2,Base!BX7,IF('Fluxo de Caixa'!$A$4=Base!$CB$2,Base!CK7,IF('Fluxo de Caixa'!$A$4=Base!$CO$2,Base!CX7,IF('Fluxo de Caixa'!$A$4=Base!$DB$2,Base!DK7,\"\")))))))))","v":0},{"$f":"IF($A$4=Base!$B$2,Base!L7,IF('Fluxo de Caixa'!$A$4=Base!$O$2,Base!Y7,IF('Fluxo de Caixa'!$A$4=Base!$AB$2,Base!AL7,IF('Fluxo de Caixa'!$A$4=Base!$AO$2,Base!AY7,IF('Fluxo de Caixa'!$A$4=Base!$BB$2,Base!BL7,IF('Fluxo de Caixa'!$A$4=Base!$BO$2,Base!BY7,IF('Fluxo de Caixa'!$A$4=Base!$CB$2,Base!CL7,IF('Fluxo de Caixa'!$A$4=Base!$CO$2,Base!CY7,IF('Fluxo de Caixa'!$A$4=Base!$DB$2,Base!DL7,\"\")))))))))","v":0},{"$f":"IF($A$4=Base!$B$2,Base!M7,IF('Fluxo de Caixa'!$A$4=Base!$O$2,Base!Z7,IF('Fluxo de Caixa'!$A$4=Base!$AB$2,Base!AM7,IF('Fluxo de Caixa'!$A$4=Base!$AO$2,Base!AZ7,IF('Fluxo de Caixa'!$A$4=Base!$BB$2,Base!BM7,IF('Fluxo de Caixa'!$A$4=Base!$BO$2,Base!BZ7,IF('Fluxo de Caixa'!$A$4=Base!$CB$2,Base!CM7,IF('Fluxo de Caixa'!$A$4=Base!$CO$2,Base!CZ7,IF('Fluxo de Caixa'!$A$4=Base!$DB$2,Base!DM7,\"\")))))))))","v":0},0,null,5]
[{"$f":"(IF(Lançamentos!A5=\"\",\"\",Lançamentos!A5))","v":"Cartão de Débito"},{"$f":"IF($A$4=Base!$B$2,Base!B8,IF('Fluxo de Caixa'!$A$4=Base!$O$2,Base!O8,IF('Fluxo de Caixa'!$A$4=Base!$AB$2,Base!AB8,IF('Fluxo de Caixa'!$A$4=Base!$AO$2,Base!AO8,IF('Fluxo de Caixa'!$A$4=Base!$BB$2,Base!BB8,IF('Fluxo de Caixa'!$A$4=Base!$BO$2,Base!BO8,IF('Fluxo de Caixa'!$A$4=Base!$CB$2,Base!CB8,IF('Fluxo de Caixa'!$A$4=Base!$CO$2,Base!CO8,IF('Fluxo de Caixa'!$A$4=Base!$DB$2,Base!DB8,\"\")))))))))","v":0},{"$f":"IF($A$4=Base!$B$2,Base!C8,IF('Fluxo de Caixa'!$A$4=Base!$O$2,Base!P8,IF('Fluxo de Caixa'!$A$4=Base!$AB$2,Base!AC8,IF('Fluxo de Caixa'!$A$4=Base!$AO$2,Base!AP8,IF('Fluxo de Caixa'!$A$4=Base!$BB$2,Base!BC8,IF('Fluxo de Caixa'!$A$4=Base!$BO$2,Base!BP8,IF('Fluxo de Caixa'!$A$4=Base!$CB$2,Base!CC8,IF('Fluxo de Caixa'!$A$4=Base!$CO$2,Base!CP8,IF('Fluxo de Caixa'!$A$4=Base!$DB$2,Base!DC8,\"\")))))))))","v":0},{"$f":"IF($A$4=Base!$B$2,Base!D8,IF('Fluxo de Caixa'!$A$4=Base!$O$2,Base!Q8,IF('Fluxo de Caixa'!$A$4=Base!$AB$2,Base!AD8,IF('Fluxo de Caixa'!$A$4=Base!$AO$2,Base!AQ8,IF('Fluxo de Caixa'!$A$4=Base!$BB$2,Base!BD8,IF('Fluxo de Caixa'!$A$4=Base!$BO$2,Base!BQ8,IF('Fluxo de Caixa'!$A$4=Base!$CB$2,Base!CD8,IF('Fluxo de Caixa'!$A$4=Base!$CO$2,Base!CQ8,IF('Fluxo de Caixa'!$A$4=Base!$DB$2,Base!DD8,\"\")))))))))","v":0},{"$f":"IF($A$4=Base!$B$2,Base!E8,IF('Fluxo de Caixa'!$A$4=Base!$O$2,Base!R8,IF('Fluxo de Caixa'!$A$4=Base!$AB$2,Base!AE8,IF('Fluxo de Caixa'!$A$4=Base!$AO$2,Base!AR8,IF('Fluxo de Caixa'!$A$4=Base!$BB$2,Base!BE8,IF('Fluxo de Caixa'!$A$4=Base!$BO$2,Base!BR8,IF('Fluxo de Caixa'!$A$4=Base!$CB$2,Base!CE8,IF('Fluxo de Caixa'!$A$4=Base!$CO$2,Base!CR8,IF('Fluxo de Caixa'!$A$4=Base!$DB$2,Base!DE8,\"\")))))))))","v":0},{"$f":"IF($A$4=Base!$B$2,Base!F8,IF('Fluxo de Caixa'!$A$4=Base!$O$2,Base!S8,IF('Fluxo de Caixa'!$A$4=Base!$AB$2,Base!AF8,IF('Fluxo de Caixa'!$A$4=Base!$AO$2,Base!AS8,IF('Fluxo de Caixa'!$A$4=Base!$BB$2,Base!BF8,IF('Fluxo de Caixa'!$A$4=Base!$BO$2,Base!BS8,IF('Fluxo de Caixa'!$A$4=Base!$CB$2,Base!CF8,IF('Fluxo de Caixa'!$A$4=Base!$CO$2,Base!CS8,IF('Fluxo de Caixa'!$A$4=Base!$DB$2,Base!DF8,\"\")))))))))","v":0},{"$f":"IF($A$4=Base!$B$2,Base!G8,IF('Fluxo de Caixa'!$A$4=Base!$O$2,Base!T8,IF('Fluxo de Caixa'!$A$4=Base!$AB$2,Base!AG8,IF('Fluxo de Caixa'!$A$4=Base!$AO$2,Base!AT8,IF('Fluxo de Caixa'!$A$4=Base!$BB$2,Base!BG8,IF('Fluxo de Caixa'!$A$4=Base!$BO$2,Base!BT8,IF('Fluxo de Caixa'!$A$4=Base!$CB$2,Base!CG8,IF('Fluxo de Caixa'!$A$4=Base!$CO$2,Base!CT8,IF('Fluxo de Caixa'!$A$4=Base!$DB$2,Base!DG8,\"\")))))))))","v":0},{"$f":"IF($A$4=Base!$B$2,Base!H8,IF('Fluxo de Caixa'!$A$4=Base!$O$2,Base!U8,IF('Fluxo de Caixa'!$A$4=Base!$AB$2,Base!AH8,IF('Fluxo de Caixa'!$A$4=Base!$AO$2,Base!AU8,IF('Fluxo de Caixa'!$A$4=Base!$BB$2,Base!BH8,IF('Fluxo de Caixa'!$A$4=Base!$BO$2,Base!BU8,IF('Fluxo de Caixa'!$A$4=Base!$CB$2,Base!CH8,IF('Fluxo de Caixa'!$A$4=Base!$CO$2,Base!CU8,IF('Fluxo de Caixa'!$A$4=Base!$DB$2,Base!DH8,\"\")))))))))","v":0},{"$f":"IF($A$4=Base!$B$2,Base!I8,IF('Fluxo de Caixa'!$A$4=Base!$O$2,Base!V8,IF('Fluxo de Caixa'!$A$4=Base!$AB$2,Base!AI8,IF('Fluxo de Caixa'!$A$4=Base!$AO$2,Base!AV8,IF('Fluxo de Caixa'!$A$4=Base!$BB$2,Base!BI8,IF('Fluxo de Caixa'!$A$4=Base!$BO$2,Base!BV8,IF('Fluxo de Caixa'!$A$4=Base!$CB$2,Base!CI8,IF('Fluxo de Caixa'!$A$4=Base!$CO$2,Base!CV8,IF('Fluxo de Caixa'!$A$4=Base!$DB$2,Base!DI8,\"\")))))))))","v":0},{"$f":"IF($A$4=Base!$B$2,Base!J8,IF('Fluxo de Caixa'!$A$4=Base!$O$2,Base!W8,IF('Fluxo de Caixa'!$A$4=Base!$AB$2,Base!AJ8,IF('Fluxo de Caixa'!$A$4=Base!$AO$2,Base!AW8,IF('Fluxo de Caixa'!$A$4=Base!$BB$2,Base!BJ8,IF('Fluxo de Caixa'!$A$4=Base!$BO$2,Base!BW8,IF('Fluxo de Caixa'!$A$4=Base!$CB$2,Base!CJ8,IF('Fluxo de Caixa'!$A$4=Base!$CO$2,Base!CW8,IF('Fluxo de Caixa'!$A$4=Base!$DB$2,Base!DJ8,\"\")))))))))","v":0},{"$f":"IF($A$4=Base!$B$2,Base!K8,IF('Fluxo de Caixa'!$A$4=Base!$O$2,Base!X8,IF('Fluxo de Caixa'!$A$4=Base!$AB$2,Base!AK8,IF('Fluxo de Caixa'!$A$4=Base!$AO$2,Base!AX8,IF('Fluxo de Caixa'!$A$4=Base!$BB$2,Base!BK8,IF('Fluxo de Caixa'!$A$4=Base!$BO$2,Base!BX8,IF('Fluxo de Caixa'!$A$4=Base!$CB$2,Base!CK8,IF('Fluxo de Caixa'!$A$4=Base!$CO$2,Base!CX8,IF('Fluxo de Caixa'!$A$4=Base!$DB$2,Base!DK8,\"\")))))))))","v":0},{"$f":"IF($A$4=Base!$B$2,Base!L8,IF('Fluxo de Caixa'!$A$4=Base!$O$2,Base!Y8,IF('Fluxo de Caixa'!$A$4=Base!$AB$2,Base!AL8,IF('Fluxo de Caixa'!$A$4=Base!$AO$2,Base!AY8,IF('Fluxo de Caixa'!$A$4=Base!$BB$2,Base!BL8,IF('Fluxo de Caixa'!$A$4=Base!$BO$2,Base!BY8,IF('Fluxo de Caixa'!$A$4=Base!$CB$2,Base!CL8,IF('Fluxo de Caixa'!$A$4=Base!$CO$2,Base!CY8,IF('Fluxo de Caixa'!$A$4=Base!$DB$2,Base!DL8,\"\")))))))))","v":0},{"$f":"IF($A$4=Base!$B$2,Base!M8,IF('Fluxo de Caixa'!$A$4=Base!$O$2,Base!Z8,IF('Fluxo de Caixa'!$A$4=Base!$AB$2,Base!AM8,IF('Fluxo de Caixa'!$A$4=Base!$AO$2,Base!AZ8,IF('Fluxo de Caixa'!$A$4=Base!$BB$2,Base!BM8,IF('Fluxo de Caixa'!$A$4=Base!$BO$2,Base!BZ8,IF('Fluxo de Caixa'!$A$4=Base!$CB$2,Base!CM8,IF('Fluxo de Caixa'!$A$4=Base!$CO$2,Base!CZ8,IF('Fluxo de Caixa'!$A$4=Base!$DB$2,Base!DM8,\"\")))))))))","v":0},0,null,6]
[{"$f":"(IF(Lançamentos!A6=\"\",\"\",Lançamentos!A6))","v":"Cartão de Crédito"},{"$f":"IF($A$4=Base!$B$2,Base!B9,IF('Fluxo de Caixa'!$A$4=Base!$O$2,Base!O9,IF('Fluxo de Caixa'!$A$4=Base!$AB$2,Base!AB9,IF('Fluxo de Caixa'!$A$4=Base!$AO$2,Base!AO9,IF('Fluxo de Caixa'!$A$4=Base!$BB$2,Base!BB9,IF('Fluxo de Caixa'!$A$4=Base!$BO$2,Base!BO9,IF('Fluxo de Caixa'!$A$4=Base!$CB$2,Base!CB9,IF('Fluxo de Caixa'!$A$4=Base!$CO$2,Base!CO9,IF('Fluxo de Caixa'!$A$4=Base!$DB$2,Base!DB9,\"\")))))))))","v":0},{"$f":"IF($A$4=Base!$B$2,Base!C9,IF('Fluxo de Caixa'!$A$4=Base!$O$2,Base!P9,IF('Fluxo de Caixa'!$A$4=Base!$AB$2,Base!AC9,IF('Fluxo de Caixa'!$A$4=Base!$AO$2,Base!AP9,IF('Fluxo de Caixa'!$A$4=Base!$BB$2,Base!BC9,IF('Fluxo de Caixa'!$A$4=Base!$BO$2,Base!BP9,IF('Fluxo de Caixa'!$A$4=Base!$CB$2,Base!CC9,IF('Fluxo de Caixa'!$A$4=Base!$CO$2,Base!CP9,IF('Fluxo de Caixa'!$A$4=Base!$DB$2,Base!DC9,\"\")))))))))","v":0},{"$f":"IF($A$4=Base!$B$2,Base!D9,IF('Fluxo de Caixa'!$A$4=Base!$O$2,Base!Q9,IF('Fluxo de Caixa'!$A$4=Base!$AB$2,Base!AD9,IF('Fluxo de Caixa'!$A$4=Base!$AO$2,Base!AQ9,IF('Fluxo de Caixa'!$A$4=Base!$BB$2,Base!BD9,IF('Fluxo de Caixa'!$A$4=Base!$BO$2,Base!BQ9,IF('Fluxo de Caixa'!$A$4=Base!$CB$2,Base!CD9,IF('Fluxo de Caixa'!$A$4=Base!$CO$2,Base!CQ9,IF('Fluxo de Caixa'!$A$4=Base!$DB$2,Base!DD9,\"\")))))))))","v":0},{"$f":"IF($A$4=Base!$B$2,Base!E9,IF('Fluxo de Caixa'!$A$4=Base!$O$2,Base!R9,IF('Fluxo de Caixa'!$A$4=Base!$AB$2,Base!AE9,IF('Fluxo de Caixa'!$A$4=Base!$AO$2,Base!AR9,IF('Fluxo de Caixa'!$A$4=Base!$BB$2,Base!BE9,IF('Fluxo de Caixa'!$A$4=Base!$BO$2,Base!BR9,IF('Fluxo de Caixa'!$A$4=Base!$CB$2,Base!CE9,IF('Fluxo de Caixa'!$A$4=Base!$CO$2,Base!CR9,IF('Fluxo de Caixa'!$A$4=Base!$DB$2,Base!DE9,\"\")))))))))","v":0},{"$f":"IF($A$4=Base!$B$2,Base!F9,IF('Fluxo de Caixa'!$A$4=Base!$O$2,Base!S9,IF('Fluxo de Caixa'!$A$4=Base!$AB$2,Base!AF9,IF('Fluxo de Caixa'!$A$4=Base!$AO$2,Base!AS9,IF('Fluxo de Caixa'!$A$4=Base!$BB$2,Base!BF9,IF('Fluxo de Caixa'!$A$4=Base!$BO$2,Base!BS9,IF('Fluxo de Caixa'!$A$4=Base!$CB$2,Base!CF9,IF('Fluxo de Caixa'!$A$4=Base!$CO$2,Base!CS9,IF('Fluxo de Caixa'!$A$4=Base!$DB$2,Base!DF9,\"\")))))))))","v":0},{"$f":"IF($A$4=Base!$B$2,Base!G9,IF('Fluxo de Caixa'!$A$4=Base!$O$2,Base!T9,IF('Fluxo de Caixa'!$A$4=Base!$AB$2,Base!AG9,IF('Fluxo de Caixa'!$A$4=Base!$AO$2,Base!AT9,IF('Fluxo de Caixa'!$A$4=Base!$BB$2,Base!BG9,IF('Fluxo de Caixa'!$A$4=Base!$BO$2,Base!BT9,IF('Fluxo de Caixa'!$A$4=Base!$CB$2,Base!CG9,IF('Fluxo de Caixa'!$A$4=Base!$CO$2,Base!CT9,IF('Fluxo de Caixa'!$A$4=Base!$DB$2,Base!DG9,\"\")))))))))","v":0},{"$f":"IF($A$4=Base!$B$2,Base!H9,IF('Fluxo de Caixa'!$A$4=Base!$O$2,Base!U9,IF('Fluxo de Caixa'!$A$4=Base!$AB$2,Base!AH9,IF('Fluxo de Caixa'!$A$4=Base!$AO$2,Base!AU9,IF('Fluxo de Caixa'!$A$4=Base!$BB$2,Base!BH9,IF('Fluxo de Caixa'!$A$4=Base!$BO$2,Base!BU9,IF('Fluxo de Caixa'!$A$4=Base!$CB$2,Base!CH9,IF('Fluxo de Caixa'!$A$4=Base!$CO$2,Base!CU9,IF('Fluxo de Caixa'!$A$4=Base!$DB$2,Base!DH9,\"\")))))))))","v":0},{"$f":"IF($A$4=Base!$B$2,Base!I9,IF('Fluxo de Caixa'!$A$4=Base!$O$2,Base!V9,IF('Fluxo de Caixa'!$A$4=Base!$AB$2,Base!AI9,IF('Fluxo de Caixa'!$A$4=Base!$AO$2,Base!AV9,IF('Fluxo de Caixa'!$A$4=Base!$BB$2,Base!BI9,IF('Fluxo de Caixa'!$A$4=Base!$BO$2,Base!BV9,IF('Fluxo de Caixa'!$A$4=Base!$CB$2,Base!CI9,IF('Fluxo de Caixa'!$A$4=Base!$CO$2,Base!CV9,IF('Fluxo de Caixa'!$A$4=Base!$DB$2,Base!DI9,\"\")))))))))","v":0},{"$f":"IF($A$4=Base!$B$2,Base!J9,IF('Fluxo de Caixa'!$A$4=Base!$O$2,Base!W9,IF('Fluxo de Caixa'!$A$4=Base!$AB$2,Base!AJ9,IF('Fluxo de Caixa'!$A$4=Base!$AO$2,Base!AW9,IF('Fluxo de Caixa'!$A$4=Base!$BB$2,Base!BJ9,IF('Fluxo de Caixa'!$A$4=Base!$BO$2,Base!BW9,IF('Fluxo de Caixa'!$A$4=Base!$CB$2,Base!CJ9,IF('Fluxo de Caixa'!$A$4=Base!$CO$2,Base!CW9,IF('Fluxo de Caixa'!$A$4=Base!$DB$2,Base!DJ9,\"\")))))))))","v":0},{"$f":"IF($A$4=Base!$B$2,Base!K9,IF('Fluxo de Caixa'!$A$4=Base!$O$2,Base!X9,IF('Fluxo de Caixa'!$A$4=Base!$AB$2,Base!AK9,IF('Fluxo de Caixa'!$A$4=Base!$AO$2,Base!AX9,IF('Fluxo de Caixa'!$A$4=Base!$BB$2,Base!BK9,IF('Fluxo de Caixa'!$A$4=Base!$BO$2,Base!BX9,IF('Fluxo de Caixa'!$A$4=Base!$CB$2,Base!CK9,IF('Fluxo de Caixa'!$A$4=Base!$CO$2,Base!CX9,IF('Fluxo de Caixa'!$A$4=Base!$DB$2,Base!DK9,\"\")))))))))","v":0},{"$f":"IF($A$4=Base!$B$2,Base!L9,IF('Fluxo de Caixa'!$A$4=Base!$O$2,Base!Y9,IF('Fluxo de Caixa'!$A$4=Base!$AB$2,Base!AL9,IF('Fluxo de Caixa'!$A$4=Base!$AO$2,Base!AY9,IF('Fluxo de Caixa'!$A$4=Base!$BB$2,Base!BL9,IF('Fluxo de Caixa'!$A$4=Base!$BO$2,Base!BY9,IF('Fluxo de Caixa'!$A$4=Base!$CB$2,Base!CL9,IF('Fluxo de Caixa'!$A$4=Base!$CO$2,Base!CY9,IF('Fluxo de Caixa'!$A$4=Base!$DB$2,Base!DL9,\"\")))))))))","v":0},{"$f":"IF($A$4=Base!$B$2,Base!M9,IF('Fluxo de Caixa'!$A$4=Base!$O$2,Base!Z9,IF('Fluxo de Caixa'!$A$4=Base!$AB$2,Base!AM9,IF('Fluxo de Caixa'!$A$4=Base!$AO$2,Base!AZ9,IF('Fluxo de Caixa'!$A$4=Base!$BB$2,Base!BM9,IF('Fluxo de Caixa'!$A$4=Base!$BO$2,Base!BZ9,IF('Fluxo de Caixa'!$A$4=Base!$CB$2,Base!CM9,IF('Fluxo de Caixa'!$A$4=Base!$CO$2,Base!CZ9,IF('Fluxo de Caixa'!$A$4=Base!$DB$2,Base!DM9,\"\")))))))))","v":0},0,null,7]
[{"$f":"(IF(Lançamentos!A7=\"\",\"\",Lançamentos!A7))","v":"Outros Recebimentos 1"},{"$f":"IF($A$4=Base!$B$2,Base!B10,IF('Fluxo de Caixa'!$A$4=Base!$O$2,Base!O10,IF('Fluxo de Caixa'!$A$4=Base!$AB$2,Base!AB10,IF('Fluxo de Caixa'!$A$4=Base!$AO$2,Base!AO10,IF('Fluxo de Caixa'!$A$4=Base!$BB$2,Base!BB10,IF('Fluxo de Caixa'!$A$4=Base!$BO$2,Base!BO10,IF('Fluxo de Caixa'!$A$4=Base!$CB$2,Base!CB10,IF('Fluxo de Caixa'!$A$4=Base!$CO$2,Base!CO10,IF('Fluxo de Caixa'!$A$4=Base!$DB$2,Base!DB10,\"\")))))))))","v":0},{"$f":"IF($A$4=Base!$B$2,Base!C10,IF('Fluxo de Caixa'!$A$4=Base!$O$2,Base!P10,IF('Fluxo de Caixa'!$A$4=Base!$AB$2,Base!AC10,IF('Fluxo de Caixa'!$A$4=Base!$AO$2,Base!AP10,IF('Fluxo de Caixa'!$A$4=Base!$BB$2,Base!BC10,IF('Fluxo de Caixa'!$A$4=Base!$BO$2,Base!BP10,IF('Fluxo de Caixa'!$A$4=Base!$CB$2,Base!CC10,IF('Fluxo de Caixa'!$A$4=Base!$CO$2,Base!CP10,IF('Fluxo de Caixa'!$A$4=Base!$DB$2,Base!DC10,\"\")))))))))","v":0},{"$f":"IF($A$4=Base!$B$2,Base!D10,IF('Fluxo de Caixa'!$A$4=Base!$O$2,Base!Q10,IF('Fluxo de Caixa'!$A$4=Base!$AB$2,Base!AD10,IF('Fluxo de Caixa'!$A$4=Base!$AO$2,Base!AQ10,IF('Fluxo de Caixa'!$A$4=Base!$BB$2,Base!BD10,IF('Fluxo de Caixa'!$A$4=Base!$BO$2,Base!BQ10,IF('Fluxo de Caixa'!$A$4=Base!$CB$2,Base!CD10,IF('Fluxo de Caixa'!$A$4=Base!$CO$2,Base!CQ10,IF('Fluxo de Caixa'!$A$4=Base!$DB$2,Base!DD10,\"\")))))))))","v":0},{"$f":"IF($A$4=Base!$B$2,Base!E10,IF('Fluxo de Caixa'!$A$4=Base!$O$2,Base!R10,IF('Fluxo de Caixa'!$A$4=Base!$AB$2,Base!AE10,IF('Fluxo de Caixa'!$A$4=Base!$AO$2,Base!AR10,IF('Fluxo de Caixa'!$A$4=Base!$BB$2,Base!BE10,IF('Fluxo de Caixa'!$A$4=Base!$BO$2,Base!BR10,IF('Fluxo de Caixa'!$A$4=Base!$CB$2,Base!CE10,IF('Fluxo de Caixa'!$A$4=Base!$CO$2,Base!CR10,IF('Fluxo de Caixa'!$A$4=Base!$DB$2,Base!DE10,\"\")))))))))","v":0},{"$f":"IF($A$4=Base!$B$2,Base!F10,IF('Fluxo de Caixa'!$A$4=Base!$O$2,Base!S10,IF('Fluxo de Caixa'!$A$4=Base!$AB$2,Base!AF10,IF('Fluxo de Caixa'!$A$4=Base!$AO$2,Base!AS10,IF('Fluxo de Caixa'!$A$4=Base!$BB$2,Base!BF10,IF('Fluxo de Caixa'!$A$4=Base!$BO$2,Base!BS10,IF('Fluxo de Caixa'!$A$4=Base!$CB$2,Base!CF10,IF('Fluxo de Caixa'!$A$4=Base!$CO$2,Base!CS10,IF('Fluxo de Caixa'!$A$4=Base!$DB$2,Base!DF10,\"\")))))))))","v":0},{"$f":"IF($A$4=Base!$B$2,Base!G10,IF('Fluxo de Caixa'!$A$4=Base!$O$2,Base!T10,IF('Fluxo de Caixa'!$A$4=Base!$AB$2,Base!AG10,IF('Fluxo de Caixa'!$A$4=Base!$AO$2,Base!AT10,IF('Fluxo de Caixa'!$A$4=Base!$BB$2,Base!BG10,IF('Fluxo de Caixa'!$A$4=Base!$BO$2,Base!BT10,IF('Fluxo de Caixa'!$A$4=Base!$CB$2,Base!CG10,IF('Fluxo de Caixa'!$A$4=Base!$CO$2,Base!CT10,IF('Fluxo de Caixa'!$A$4=Base!$DB$2,Base!DG10,\"\")))))))))","v":0},{"$f":"IF($A$4=Base!$B$2,Base!H10,IF('Fluxo de Caixa'!$A$4=Base!$O$2,Base!U10,IF('Fluxo de Caixa'!$A$4=Base!$AB$2,Base!AH10,IF('Fluxo de Caixa'!$A$4=Base!$AO$2,Base!AU10,IF('Fluxo de Caixa'!$A$4=Base!$BB$2,Base!BH10,IF('Fluxo de Caixa'!$A$4=Base!$BO$2,Base!BU10,IF('Fluxo de Caixa'!$A$4=Base!$CB$2,Base!CH10,IF('Fluxo de Caixa'!$A$4=Base!$CO$2,Base!CU10,IF('Fluxo de Caixa'!$A$4=Base!$DB$2,Base!DH10,\"\")))))))))","v":0},{"$f":"IF($A$4=Base!$B$2,Base!I10,IF('Fluxo de Caixa'!$A$4=Base!$O$2,Base!V10,IF('Fluxo de Caixa'!$A$4=Base!$AB$2,Base!AI10,IF('Fluxo de Caixa'!$A$4=Base!$AO$2,Base!AV10,IF('Fluxo de Caixa'!$A$4=Base!$BB$2,Base!BI10,IF('Fluxo de Caixa'!$A$4=Base!$BO$2,Base!BV10,IF('Fluxo de Caixa'!$A$4=Base!$CB$2,Base!CI10,IF('Fluxo de Caixa'!$A$4=Base!$CO$2,Base!CV10,IF('Fluxo de Caixa'!$A$4=Base!$DB$2,Base!DI10,\"\")))))))))","v":0},{"$f":"IF($A$4=Base!$B$2,Base!J10,IF('Fluxo de Caixa'!$A$4=Base!$O$2,Base!W10,IF('Fluxo de Caixa'!$A$4=Base!$AB$2,Base!AJ10,IF('Fluxo de Caixa'!$A$4=Base!$AO$2,Base!AW10,IF('Fluxo de Caixa'!$A$4=Base!$BB$2,Base!BJ10,IF('Fluxo de Caixa'!$A$4=Base!$BO$2,Base!BW10,IF('Fluxo de Caixa'!$A$4=Base!$CB$2,Base!CJ10,IF('Fluxo de Caixa'!$A$4=Base!$CO$2,Base!CW10,IF('Fluxo de Caixa'!$A$4=Base!$DB$2,Base!DJ10,\"\")))))))))","v":0},{"$f":"IF($A$4=Base!$B$2,Base!K10,IF('Fluxo de Caixa'!$A$4=Base!$O$2,Base!X10,IF('Fluxo de Caixa'!$A$4=Base!$AB$2,Base!AK10,IF('Fluxo de Caixa'!$A$4=Base!$AO$2,Base!AX10,IF('Fluxo de Caixa'!$A$4=Base!$BB$2,Base!BK10,IF('Fluxo de Caixa'!$A$4=Base!$BO$2,Base!BX10,IF('Fluxo de Caixa'!$A$4=Base!$CB$2,Base!CK10,IF('Fluxo de Caixa'!$A$4=Base!$CO$2,Base!CX10,IF('Fluxo de Caixa'!$A$4=Base!$DB$2,Base!DK10,\"\")))))))))","v":0},{"$f":"IF($A$4=Base!$B$2,Base!L10,IF('Fluxo de Caixa'!$A$4=Base!$O$2,Base!Y10,IF('Fluxo de Caixa'!$A$4=Base!$AB$2,Base!AL10,IF('Fluxo de Caixa'!$A$4=Base!$AO$2,Base!AY10,IF('Fluxo de Caixa'!$A$4=Base!$BB$2,Base!BL10,IF('Fluxo de Caixa'!$A$4=Base!$BO$2,Base!BY10,IF('Fluxo de Caixa'!$A$4=Base!$CB$2,Base!CL10,IF('Fluxo de Caixa'!$A$4=Base!$CO$2,Base!CY10,IF('Fluxo de Caixa'!$A$4=Base!$DB$2,Base!DL10,\"\")))))))))","v":0},{"$f":"IF($A$4=Base!$B$2,Base!M10,IF('Fluxo de Caixa'!$A$4=Base!$O$2,Base!Z10,IF('Fluxo de Caixa'!$A$4=Base!$AB$2,Base!AM10,IF('Fluxo de Caixa'!$A$4=Base!$AO$2,Base!AZ10,IF('Fluxo de Caixa'!$A$4=Base!$BB$2,Base!BM10,IF('Fluxo de Caixa'!$A$4=Base!$BO$2,Base!BZ10,IF('Fluxo de Caixa'!$A$4=Base!$CB$2,Base!CM10,IF('Fluxo de Caixa'!$A$4=Base!$CO$2,Base!CZ10,IF('Fluxo de Caixa'!$A$4=Base!$DB$2,Base!DM10,\"\")))))))))","v":0},0,null,8]
[{"$f":"(IF(Lançamentos!A8=\"\",\"\",Lançamentos!A8))","v":"Outros Recebimentos 2"},{"$f":"IF($A$4=Base!$B$2,Base!B11,IF('Fluxo de Caixa'!$A$4=Base!$O$2,Base!O11,IF('Fluxo de Caixa'!$A$4=Base!$AB$2,Base!AB11,IF('Fluxo de Caixa'!$A$4=Base!$AO$2,Base!AO11,IF('Fluxo de Caixa'!$A$4=Base!$BB$2,Base!BB11,IF('Fluxo de Caixa'!$A$4=Base!$BO$2,Base!BO11,IF('Fluxo de Caixa'!$A$4=Base!$CB$2,Base!CB11,IF('Fluxo de Caixa'!$A$4=Base!$CO$2,Base!CO11,IF('Fluxo de Caixa'!$A$4=Base!$DB$2,Base!DB11,\"\")))))))))","v":0},{"$f":"IF($A$4=Base!$B$2,Base!C11,IF('Fluxo de Caixa'!$A$4=Base!$O$2,Base!P11,IF('Fluxo de Caixa'!$A$4=Base!$AB$2,Base!AC11,IF('Fluxo de Caixa'!$A$4=Base!$AO$2,Base!AP11,IF('Fluxo de Caixa'!$A$4=Base!$BB$2,Base!BC11,IF('Fluxo de Caixa'!$A$4=Base!$BO$2,Base!BP11,IF('Fluxo de Caixa'!$A$4=Base!$CB$2,Base!CC11,IF('Fluxo de Caixa'!$A$4=Base!$CO$2,Base!CP11,IF('Fluxo de Caixa'!$A$4=Base!$DB$2,Base!DC11,\"\")))))))))","v":0},{"$f":"IF($A$4=Base!$B$2,Base!D11,IF('Fluxo de Caixa'!$A$4=Base!$O$2,Base!Q11,IF('Fluxo de Caixa'!$A$4=Base!$AB$2,Base!AD11,IF('Fluxo de Caixa'!$A$4=Base!$AO$2,Base!AQ11,IF('Fluxo de Caixa'!$A$4=Base!$BB$2,Base!BD11,IF('Fluxo de Caixa'!$A$4=Base!$BO$2,Base!BQ11,IF('Fluxo de Caixa'!$A$4=Base!$CB$2,Base!CD11,IF('Fluxo de Caixa'!$A$4=Base!$CO$2,Base!CQ11,IF('Fluxo de Caixa'!$A$4=Base!$DB$2,Base!DD11,\"\")))))))))","v":0},{"$f":"IF($A$4=Base!$B$2,Base!E11,IF('Fluxo de Caixa'!$A$4=Base!$O$2,Base!R11,IF('Fluxo de Caixa'!$A$4=Base!$AB$2,Base!AE11,IF('Fluxo de Caixa'!$A$4=Base!$AO$2,Base!AR11,IF('Fluxo de Caixa'!$A$4=Base!$BB$2,Base!BE11,IF('Fluxo de Caixa'!$A$4=Base!$BO$2,Base!BR11,IF('Fluxo de Caixa'!$A$4=Base!$CB$2,Base!CE11,IF('Fluxo de Caixa'!$A$4=Base!$CO$2,Base!CR11,IF('Fluxo de Caixa'!$A$4=Base!$DB$2,Base!DE11,\"\")))))))))","v":0},{"$f":"IF($A$4=Base!$B$2,Base!F11,IF('Fluxo de Caixa'!$A$4=Base!$O$2,Base!S11,IF('Fluxo de Caixa'!$A$4=Base!$AB$2,Base!AF11,IF('Fluxo de Caixa'!$A$4=Base!$AO$2,Base!AS11,IF('Fluxo de Caixa'!$A$4=Base!$BB$2,Base!BF11,IF('Fluxo de Caixa'!$A$4=Base!$BO$2,Base!BS11,IF('Fluxo de Caixa'!$A$4=Base!$CB$2,Base!CF11,IF('Fluxo de Caixa'!$A$4=Base!$CO$2,Base!CS11,IF('Fluxo de Caixa'!$A$4=Base!$DB$2,Base!DF11,\"\")))))))))","v":0},{"$f":"IF($A$4=Base!$B$2,Base!G11,IF('Fluxo de Caixa'!$A$4=Base!$O$2,Base!T11,IF('Fluxo de Caixa'!$A$4=Base!$AB$2,Base!AG11,IF('Fluxo de Caixa'!$A$4=Base!$AO$2,Base!AT11,IF('Fluxo de Caixa'!$A$4=Base!$BB$2,Base!BG11,IF('Fluxo de Caixa'!$A$4=Base!$BO$2,Base!BT11,IF('Fluxo de Caixa'!$A$4=Base!$CB$2,Base!CG11,IF('Fluxo de Caixa'!$A$4=Base!$CO$2,Base!CT11,IF('Fluxo de Caixa'!$A$4=Base!$DB$2,Base!DG11,\"\")))))))))","v":0},{"$f":"IF($A$4=Base!$B$2,Base!H11,IF('Fluxo de Caixa'!$A$4=Base!$O$2,Base!U11,IF('Fluxo de Caixa'!$A$4=Base!$AB$2,Base!AH11,IF('Fluxo de Caixa'!$A$4=Base!$AO$2,Base!AU11,IF('Fluxo de Caixa'!$A$4=Base!$BB$2,Base!BH11,IF('Fluxo de Caixa'!$A$4=Base!$BO$2,Base!BU11,IF('Fluxo de Caixa'!$A$4=Base!$CB$2,Base!CH11,IF('Fluxo de Caixa'!$A$4=Base!$CO$2,Base!CU11,IF('Fluxo de Caixa'!$A$4=Base!$DB$2,Base!DH11,\"\")))))))))","v":0},{"$f":"IF($A$4=Base!$B$2,Base!I11,IF('Fluxo de Caixa'!$A$4=Base!$O$2,Base!V11,IF('Fluxo de Caixa'!$A$4=Base!$AB$2,Base!AI11,IF('Fluxo de Caixa'!$A$4=Base!$AO$2,Base!AV11,IF('Fluxo de Caixa'!$A$4=Base!$BB$2,Base!BI11,IF('Fluxo de Caixa'!$A$4=Base!$BO$2,Base!BV11,IF('Fluxo de Caixa'!$A$4=Base!$CB$2,Base!CI11,IF('Fluxo de Caixa'!$A$4=Base!$CO$2,Base!CV11,IF('Fluxo de Caixa'!$A$4=Base!$DB$2,Base!DI11,\"\")))))))))","v":0},{"$f":"IF($A$4=Base!$B$2,Base!J11,IF('Fluxo de Caixa'!$A$4=Base!$O$2,Base!W11,IF('Fluxo de Caixa'!$A$4=Base!$AB$2,Base!AJ11,IF('Fluxo de Caixa'!$A$4=Base!$AO$2,Base!AW11,IF('Fluxo de Caixa'!$A$4=Base!$BB$2,Base!BJ11,IF('Fluxo de Caixa'!$A$4=Base!$BO$2,Base!BW11,IF('Fluxo de Caixa'!$A$4=Base!$CB$2,Base!CJ11,IF('Fluxo de Caixa'!$A$4=Base!$CO$2,Base!CW11,IF('Fluxo de Caixa'!$A$4=Base!$DB$2,Base!DJ11,\"\")))))))))","v":0},{"$f":"IF($A$4=Base!$B$2,Base!K11,IF('Fluxo de Caixa'!$A$4=Base!$O$2,Base!X11,IF('Fluxo de Caixa'!$A$4=Base!$AB$2,Base!AK11,IF('Fluxo de Caixa'!$A$4=Base!$AO$2,Base!AX11,IF('Fluxo de Caixa'!$A$4=Base!$BB$2,Base!BK11,IF('Fluxo de Caixa'!$A$4=Base!$BO$2,Base!BX11,IF('Fluxo de Caixa'!$A$4=Base!$CB$2,Base!CK11,IF('Fluxo de Caixa'!$A$4=Base!$CO$2,Base!CX11,IF('Fluxo de Caixa'!$A$4=Base!$DB$2,Base!DK11,\"\")))))))))","v":0},{"$f":"IF($A$4=Base!$B$2,Base!L11,IF('Fluxo de Caixa'!$A$4=Base!$O$2,Base!Y11,IF('Fluxo de Caixa'!$A$4=Base!$AB$2,Base!AL11,IF('Fluxo de Caixa'!$A$4=Base!$AO$2,Base!AY11,IF('Fluxo de Caixa'!$A$4=Base!$BB$2,Base!BL11,IF('Fluxo de Caixa'!$A$4=Base!$BO$2,Base!BY11,IF('Fluxo de Caixa'!$A$4=Base!$CB$2,Base!CL11,IF('Fluxo de Caixa'!$A$4=Base!$CO$2,Base!CY11,IF('Fluxo de Caixa'!$A$4=Base!$DB$2,Base!DL11,\"\")))))))))","v":0},{"$f":"IF($A$4=Base!$B$2,Base!M11,IF('Fluxo de Caixa'!$A$4=Base!$O$2,Base!Z11,IF('Fluxo de Caixa'!$A$4=Base!$AB$2,Base!AM11,IF('Fluxo de Caixa'!$A$4=Base!$AO$2,Base!AZ11,IF('Fluxo de Caixa'!$A$4=Base!$BB$2,Base!BM11,IF('Fluxo de Caixa'!$A$4=Base!$BO$2,Base!BZ11,IF('Fluxo de Caixa'!$A$4=Base!$CB$2,Base!CM11,IF('Fluxo de Caixa'!$A$4=Base!$CO$2,Base!CZ11,IF('Fluxo de Caixa'!$A$4=Base!$DB$2,Base!DM11,\"\")))))))))","v":0},{"$f":"SUM(B11:M11)","v":0}]
["Total de Entradas",{"$f":"SUM(B6:B11)","v":0},{"$f":"SUM(C6:C11)","v":0},0,0,0,0,0,0,0,0,0,0,0]
[{"$f":"IF(Lançamentos!A10=\"\",\"\",Lançamentos!A10)","v":"Retirada de Sócio"},{"$f":"IF($A$4=Base!$B$2,Base!B13,IF('Fluxo de Caixa'!$A$4=Base!$O$2,Base!O13,IF('Fluxo de Caixa'!$A$4=Base!$AB$2,Base!AB13,IF('Fluxo de Caixa'!$A$4=Base!$AO$2,Base!AO13,IF('Fluxo de Caixa'!$A$4=Base!$BB$2,Base!BB13,IF('Fluxo de Caixa'!$A$4=Base!$BO$2,Base!BO13,IF('Fluxo de Caixa'!$A$4=Base!$CB$2,Base!CB13,IF('Fluxo de Caixa'!$A$4=Base!$CO$2,Base!CO13,IF('Fluxo de Caixa'!$A$4=Base!$DB$2,Base!DB13,\"\")))))))))","v":0},{"$f":"IF($A$4=Base!$B$2,Base!C13,IF('Fluxo de Caixa'!$A$4=Base!$O$2,Base!P13,IF('Fluxo de Caixa'!$A$4=Base!$AB$2,Base!AC13,IF('Fluxo de Caixa'!$A$4=Base!$AO$2,Base!AP13,IF('Fluxo de Caixa'!$A$4=Base!$BB$2,Base!BC13,IF('Fluxo de Caixa'!$A$4=Base!$BO$2,Base!BP13,IF('Fluxo de Caixa'!$A$4=Base!$CB$2,Base!CC13,IF('Fluxo de Caixa'!$A$4=Base!$CO$2,Base!CP13,IF('Fluxo de Caixa'!$A$4=Base!$DB$2,Base!DC13,\"\")))))))))","v":0},{"$f":"IF($A$4=Base!$B$2,Base!D13,IF('Fluxo de Caixa'!$A$4=Base!$O$2,Base!Q13,IF('Fluxo de Caixa'!$A$4=Base!$AB$2,Base!AD13,IF('Fluxo de Caixa'!$A$4=Base!$AO$2,Base!AQ13,IF('Fluxo de Caixa'!$A$4=Base!$BB$2,Base!BD13,IF('Fluxo de Caixa'!$A$4=Base!$BO$2,Base!BQ13,IF('Fluxo de Caixa'!$A$4=Base!$CB$2,Base!CD13,IF('Fluxo de Caixa'!$A$4=Base!$CO$2,Base!CQ13,IF('Fluxo de Caixa'!$A$4=Base!$DB$2,Base!DD13,\"\")))))))))","v":0},{"$f":"IF($A$4=Base!$B$2,Base!E13,IF('Fluxo de Caixa'!$A$4=Base!$O$2,Base!R13,IF('Fluxo de Caixa'!$A$4=Base!$AB$2,Base!AE13,IF('Fluxo de Caixa'!$A$4=Base!$AO$2,Base!AR13,IF('Fluxo de Caixa'!$A$4=Base!$BB$2,Base!BE13,IF('Fluxo de Caixa'!$A$4=Base!$BO$2,Base!BR13,IF('Fluxo de Caixa'!$A$4=Base!$CB$2,Base!CE13,IF('Fluxo de Caixa'!$A$4=Base!$CO$2,Base!CR13,IF('Fluxo de Caixa'!$A$4=Base!$DB$2,Base!DE13,\"\")))))))))","v":0},{"$f":"IF($A$4=Base!$B$2,Base!F13,IF('Fluxo de Caixa'!$A$4=Base!$O$2,Base!S13,IF('Fluxo de Caixa'!$A$4=Base!$AB$2,Base!AF13,IF('Fluxo de Caixa'!$A$4=Base!$AO$2,Base!AS13,IF('Fluxo de Caixa'!$A$4=Base!$BB$2,Base!BF13,IF('Fluxo de Caixa'!$A$4=Base!$BO$2,Base!BS13,IF('Fluxo de Caixa'!$A$4=Base!$CB$2,Base!CF13,IF('Fluxo de Caixa'!$A$4=Base!$CO$2,Base!CS13,IF('Fluxo de Caixa'!$A$4=Base!$DB$2,Base!DF13,\"\")))))))))","v":0},{"$f":"IF($A$4=Base!$B$2,Base!G13,IF('Fluxo de Caixa'!$A$4=Base!$O$2,Base!T13,IF('Fluxo de Caixa'!$A$4=Base!$AB$2,Base!AG13,IF('Fluxo de Caixa'!$A$4=Base!$AO$2,Base!AT13,IF('Fluxo de Caixa'!$A$4=Base!$BB$2,Base!BG13,IF('Fluxo de Caixa'!$A$4=Base!$BO$2,Base!BT13,IF('Fluxo de Caixa'!$A$4=Base!$CB$2,Base!CG13,IF('Fluxo de Caixa'!$A$4=Base!$CO$2,Base!CT13,IF('Fluxo de Caixa'!$A$4=Base!$DB$2,Base!DG13,\"\")))))))))","v":0},{"$f":"IF($A$4=Base!$B$2,Base!H13,IF('Fluxo de Caixa'!$A$4=Base!$O$2,Base!U13,IF('Fluxo de Caixa'!$A$4=Base!$AB$2,Base!AH13,IF('Fluxo de Caixa'!$A$4=Base!$AO$2,Base!AU13,IF('Fluxo de Caixa'!$A$4=Base!$BB$2,Base!BH13,IF('Fluxo de Caixa'!$A$4=Base!$BO$2,Base!BU13,IF('Fluxo de Caixa'!$A$4=Base!$CB$2,Base!CH13,IF('Fluxo de Caixa'!$A$4=Base!$CO$2,Base!CU13,IF('Fluxo de Caixa'!$A$4=Base!$DB$2,Base!DH13,\"\")))))))))","v":0},{"$f":"IF($A$4=Base!$B$2,Base!I13,IF('Fluxo de Caixa'!$A$4=Base!$O$2,Base!V13,IF('Fluxo de Caixa'!$A$4=Base!$AB$2,Base!AI13,IF('Fluxo de Caixa'!$A$4=Base!$AO$2,Base!AV13,IF('Fluxo de Caixa'!$A$4=Base!$BB$2,Base!BI13,IF('Fluxo de Caixa'!$A$4=Base!$BO$2,Base!BV13,IF('Fluxo de Caixa'!$A$4=Base!$CB$2,Base!CI13,IF('Fluxo de Caixa'!$A$4=Base!$CO$2,Base!CV13,IF('Fluxo de Caixa'!$A$4=Base!$DB$2,Base!DI13,\"\")))))))))","v":0},{"$f":"IF($A$4=Base!$B$2,Base!J13,IF('Fluxo de Caixa'!$A$4=Base!$O$2,Base!W13,IF('Fluxo de Caixa'!$A$4=Base!$AB$2,Base!AJ13,IF('Fluxo de Caixa'!$A$4=Base!$AO$2,Base!AW13,IF('Fluxo de Caixa'!$A$4=Base!$BB$2,Base!BJ13,IF('Fluxo de Caixa'!$A$4=Base!$BO$2,Base!BW13,IF('Fluxo de Caixa'!$A$4=Base!$CB$2,Base!CJ13,IF('Fluxo de Caixa'!$A$4=Base!$CO$2,Base!CW13,IF('Fluxo de Caixa'!$A$4=Base!$DB$2,Base!DJ13,\"\")))))))))","v":0},{"$f":"IF($A$4=Base!$B$2,Base!K13,IF('Fluxo de Caixa'!$A$4=Base!$O$2,Base!X13,IF('Fluxo de Caixa'!$A$4=Base!$AB$2,Base!AK13,IF('Fluxo de Caixa'!$A$4=Base!$AO$2,Base!AX13,IF('Fluxo de Caixa'!$A$4=Base!$BB$2,Base!BK13,IF('Fluxo de Caixa'!$A$4=Base!$BO$2,Base!BX13,IF('Fluxo de Caixa'!$A$4=Base!$CB$2,Base!CK13,IF('Fluxo de Caixa'!$A$4=Base!$CO$2,Base!CX13,IF('Fluxo de Caixa'!$A$4=Base!$DB$2,Base!DK13,\"\")))))))))","v":0},{"$f":"IF($A$4=Base!$B$2,Base!L13,IF('Fluxo de Caixa'!$A$4=Base!$O$2,Base!Y13,IF('Fluxo de Caixa'!$A$4=Base!$AB$2,Base!AL13,IF('Fluxo de Caixa'!$A$4=Base!$AO$2,Base!AY13,IF('Fluxo de Caixa'!$A$4=Base!$BB$2,Base!BL13,IF('Fluxo de Caixa'!$A$4=Base!$BO$2,Base!BY13,IF('Fluxo de Caixa'!$A$4=Base!$CB$2,Base!CL13,IF('Fluxo de Caixa'!$A$4=Base!$CO$2,Base!CY13,IF('Fluxo de Caixa'!$A$4=Base!$DB$2,Base!DL13,\"\")))))))))","v":0},{"$f":"IF($A$4=Base!$B$2,Base!M13,IF('Fluxo de Caixa'!$A$4=Base!$O$2,Base!Z13,IF('Fluxo de Caixa'!$A$4=Base!$AB$2,Base!AM13,IF('Fluxo de Caixa'!$A$4=Base!$AO$2,Base!AZ13,IF('Fluxo de Caixa'!$A$4=Base!$BB$2,Base!BM13,IF('Fluxo de Caixa'!$A$4=Base!$BO$2,Base!BZ13,IF('Fluxo de Caixa'!$A$4=Base!$CB$2,Base!CM13,IF('Fluxo de Caixa'!$A$4=Base!$CO$2,Base!CZ13,IF('Fluxo de Caixa'!$A$4=Base!$DB$2,Base!DM13,\"\")))))))))","v":0},0,{"$f":"N13/$N$24","v":{"$error":"#DIV/0!"}}]
[{"$f":"IF(Lançamentos!A11=\"\",\"\",Lançamentos!A11)","v":"Transferências Bancárias"},{"$f":"IF($A$4=Base!$B$2,Base!B14,IF('Fluxo de Caixa'!$A$4=Base!$O$2,Base!O14,IF('Fluxo de Caixa'!$A$4=Base!$AB$2,Base!AB14,IF('Fluxo de Caixa'!$A$4=Base!$AO$2,Base!AO14,IF('Fluxo de Caixa'!$A$4=Base!$BB$2,Base!BB14,IF('Fluxo de Caixa'!$A$4=Base!$BO$2,Base!BO14,IF('Fluxo de Caixa'!$A$4=Base!$CB$2,Base!CB14,IF('Fluxo de Caixa'!$A$4=Base!$CO$2,Base!CO14,IF('Fluxo de Caixa'!$A$4=Base!$DB$2,Base!DB14,\"\")))))))))","v":0},{"$f":"IF($A$4=Base!$B$2,Base!C14,IF('Fluxo de Caixa'!$A$4=Base!$O$2,Base!P14,IF('Fluxo de Caixa'!$A$4=Base!$AB$2,Base!AC14,IF('Fluxo de Caixa'!$A$4=Base!$AO$2,Base!AP14,IF('Fluxo de Caixa'!$A$4=Base!$BB$2,Base!BC14,IF('Fluxo de Caixa'!$A$4=Base!$BO$2,Base!BP14,IF('Fluxo de Caixa'!$A$4=Base!$CB$2,Base!CC14,IF('Fluxo de Caixa'!$A$4=Base!$CO$2,Base!CP14,IF('Fluxo de Caixa'!$A$4=Base!$DB$2,Base!DC14,\"\")))))))))","v":0},{"$f":"IF($A$4=Base!$B$2,Base!D14,IF('Fluxo de Caixa'!$A$4=Base!$O$2,Base!Q14,IF('Fluxo de Caixa'!$A$4=Base!$AB$2,Base!AD14,IF('Fluxo de Caixa'!$A$4=Base!$AO$2,Base!AQ14,IF('Fluxo de Caixa'!$A$4=Base!$BB$2,Base!BD14,IF('Fluxo de Caixa'!$A$4=Base!$BO$2,Base!BQ14,IF('Fluxo de Caixa'!$A$4=Base!$CB$2,Base!CD14,IF('Fluxo de Caixa'!$A$4=Base!$CO$2,Base!CQ14,IF('Fluxo de Caixa'!$A$4=Base!$DB$2,Base!DD14,\"\")))))))))","v":0},{"$f":"IF($A$4=Base!$B$2,Base!E14,IF('Fluxo de Caixa'!$A$4=Base!$O$2,Base!R14,IF('Fluxo de Caixa'!$A$4=Base!$AB$2,Base!AE14,IF('Fluxo de Caixa'!$A$4=Base!$AO$2,Base!AR14,IF('Fluxo de Caixa'!$A$4=Base!$BB$2,Base!BE14,IF('Fluxo de Caixa'!$A$4=Base!$BO$2,Base!BR14,IF('Fluxo de Caixa'!$A$4=Base!$CB$2,Base!CE14,IF('Fluxo de Caixa'!$A$4=Base!$CO$2,Base!CR14,IF('Fluxo de Caixa'!$A$4=Base!$DB$2,Base!DE14,\"\")))))))))","v":0},{"$f":"IF($A$4=Base!$B$2,Base!F14,IF('Fluxo de Caixa'!$A$4=Base!$O$2,Base!S14,IF('Fluxo de Caixa'!$A$4=Base!$AB$2,Base!AF14,IF('Fluxo de Caixa'!$A$4=Base!$AO$2,Base!AS14,IF('Fluxo de Caixa'!$A$4=Base!$BB$2,Base!BF14,IF('Fluxo de Caixa'!$A$4=Base!$BO$2,Base!BS14,IF('Fluxo de Caixa'!$A$4=Base!$CB$2,Base!CF14,IF('Fluxo de Caixa'!$A$4=Base!$CO$2,Base!CS14,IF('Fluxo de Caixa'!$A$4=Base!$DB$2,Base!DF14,\"\")))))))))","v":0},{"$f":"IF($A$4=Base!$B$2,Base!G14,IF('Fluxo de Caixa'!$A$4=Base!$O$2,Base!T14,IF('Fluxo de Caixa'!$A$4=Base!$AB$2,Base!AG14,IF('Fluxo de Caixa'!$A$4=Base!$AO$2,Base!AT14,IF('Fluxo de Caixa'!$A$4=Base!$BB$2,Base!BG14,IF('Fluxo de Caixa'!$A$4=Base!$BO$2,Base!BT14,IF('Fluxo de Caixa'!$A$4=Base!$CB$2,Base!CG14,IF('Fluxo de Caixa'!$A$4=Base!$CO$2,Base!CT14,IF('Fluxo de Caixa'!$A$4=Base!$DB$2,Base!DG14,\"\")))))))))","v":0},{"$f":"IF($A$4=Base!$B$2,Base!H14,IF('Fluxo de Caixa'!$A$4=Base!$O$2,Base!U14,IF('Fluxo de Caixa'!$A$4=Base!$AB$2,Base!AH14,IF('Fluxo de Caixa'!$A$4=Base!$AO$2,Base!AU14,IF('Fluxo de Caixa'!$A$4=Base!$BB$2,Base!BH14,IF('Fluxo de Caixa'!$A$4=Base!$BO$2,Base!BU14,IF('Fluxo de Caixa'!$A$4=Base!$CB$2,Base!CH14,IF('Fluxo de Caixa'!$A$4=Base!$CO$2,Base!CU14,IF('Fluxo de Caixa'!$A$4=Base!$DB$2,Base!DH14,\"\")))))))))","v":0},{"$f":"IF($A$4=Base!$B$2,Base!I14,IF('Fluxo de Caixa'!$A$4=Base!$O$2,Base!V14,IF('Fluxo de Caixa'!$A$4=Base!$AB$2,Base!AI14,IF('Fluxo de Caixa'!$A$4=Base!$AO$2,Base!AV14,IF('Fluxo de Caixa'!$A$4=Base!$BB$2,Base!BI14,IF('Fluxo de Caixa'!$A$4=Base!$BO$2,Base!BV14,IF('Fluxo de Caixa'!$A$4=Base!$CB$2,Base!CI14,IF('Fluxo de Caixa'!$A$4=Base!$CO$2,Base!CV14,IF('Fluxo de Caixa'!$A$4=Base!$DB$2,Base!DI14,\"\")))))))))","v":0},{"$f":"IF($A$4=Base!$B$2,Base!J14,IF('Fluxo de Caixa'!$A$4=Base!$O$2,Base!W14,IF('Fluxo de Caixa'!$A$4=Base!$AB$2,Base!AJ14,IF('Fluxo de Caixa'!$A$4=Base!$AO$2,Base!AW14,IF('Fluxo de Caixa'!$A$4=Base!$BB$2,Base!BJ14,IF('Fluxo de Caixa'!$A$4=Base!$BO$2,Base!BW14,IF('Fluxo de Caixa'!$A$4=Base!$CB$2,Base!CJ14,IF('Fluxo de Caixa'!$A$4=Base!$CO$2,Base!CW14,IF('Fluxo de Caixa'!$A$4=Base!$DB$2,Base!DJ14,\"\")))))))))","v":0},{"$f":"IF($A$4=Base!$B$2,Base!K14,IF('Fluxo de Caixa'!$A$4=Base!$O$2,Base!X14,IF('Fluxo de Caixa'!$A$4=Base!$AB$2,Base!AK14,IF('Fluxo de Caixa'!$A$4=Base!$AO$2,Base!AX14,IF('Fluxo de Caixa'!$A$4=Base!$BB$2,Base!BK14,IF('Fluxo de Caixa'!$A$4=Base!$BO$2,Base!BX14,IF('Fluxo de Caixa'!$A$4=Base!$CB$2,Base!CK14,IF('Fluxo de Caixa'!$A$4=Base!$CO$2,Base!CX14,IF('Fluxo de Caixa'!$A$4=Base!$DB$2,Base!DK14,\"\")))))))))","v":0},{"$f":"IF($A$4=Base!$B$2,Base!L14,IF('Fluxo de Caixa'!$A$4=Base!$O$2,Base!Y14,IF('Fluxo de Caixa'!$A$4=Base!$AB$2,Base!AL14,IF('Fluxo de Caixa'!$A$4=Base!$AO$2,Base!AY14,IF('Fluxo de Caixa'!$A$4=Base!$BB$2,Base!BL14,IF('Fluxo de Caixa'!$A$4=Base!$BO$2,Base!BY14,IF('Fluxo de Caixa'!$A$4=Base!$CB$2,Base!CL14,IF('Fluxo de Caixa'!$A$4=Base!$CO$2,Base!CY14,IF('Fluxo de Caixa'!$A$4=Base!$DB$2,Base!DL14,\"\")))))))))","v":0},{"$f":"IF($A$4=Base!$B$2,Base!M14,IF('Fluxo de Caixa'!$A$4=Base!$O$2,Base!Z14,IF('Fluxo de Caixa'!$A$4=Base!$AB$2,Base!AM14,IF('Fluxo de Caixa'!$A$4=Base!$AO$2,Base!AZ14,IF('Fluxo de Caixa'!$A$4=Base!$BB$2,Base!BM14,IF('Fluxo de Caixa'!$A$4=Base!$BO$2,Base!BZ14,IF('Fluxo de Caixa'!$A$4=Base!$CB$2,Base!CM14,IF('Fluxo de Caixa'!$A$4=Base!$CO$2,Base!CZ14,IF('Fluxo de Caixa'!$A$4=Base!$DB$2,Base!DM14,\"\")))))))))","v":0},{"$f":"SUM(B14:M14)","v":0},{"$error":"#DIV/0!"}]
[{"$f":"IF(Lançamentos!A12=\"\",\"\",Lançamentos!A12)","v":"Fornecedores"},{"$f":"IF($A$4=Base!$B$2,Base!B15,IF('Fluxo de Caixa'!$A$4=Base!$O$2,Base!O15,IF('Fluxo de Caixa'!$A$4=Base!$AB$2,Base!AB15,IF('Fluxo de Caixa'!$A$4=Base!$AO$2,Base!AO15,IF('Fluxo de Caixa'!$A$4=Base!$BB$2,Base!BB15,IF('Fluxo de Caixa'!$A$4=Base!$BO$2,Base!BO15,IF('Fluxo de Caixa'!$A$4=Base!$CB$2,Base!CB15,IF('Fluxo de Caixa'!$A$4=Base!$CO$2,Base!CO15,IF('Fluxo de Caixa'!$A$4=Base!$DB$2,Base!DB15,\"\")))))))))","v":0},{"$f":"IF($A$4=Base!$B$2,Base!C15,IF('Fluxo de Caixa'!$A$4=Base!$O$2,Base!P15,IF('Fluxo de Caixa'!$A$4=Base!$AB$2,Base!AC15,IF('Fluxo de Caixa'!$A$4=Base!$AO$2,Base!AP15,IF('Fluxo de Caixa'!$A$4=Base!$BB$2,Base!BC15,IF('Fluxo de Caixa'!$A$4=Base!$BO$2,Base!BP15,IF('Fluxo de Caixa'!$A$4=Base!$CB$2,Base!CC15,IF('Fluxo de Caixa'!$A$4=Base!$CO$2,Base!CP15,IF('Fluxo de Caixa'!$A$4=Base!$DB$2,Base!DC15,\"\")))))))))","v":0},{"$f":"IF($A$4=Base!$B$2,Base!D15,IF('Fluxo de Caixa'!$A$4=Base!$O$2,Base!Q15,IF('Fluxo de Caixa'!$A$4=Base!$AB$2,Base!AD15,IF('Fluxo de Caixa'!$A$4=Base!$AO$2,Base!AQ15,IF('Fluxo de Caixa'!$A$4=Base!$BB$2,Base!BD15,IF('Fluxo de Caixa'!$A$4=Base!$BO$2,Base!BQ15,IF('Fluxo de Caixa'!$A$4=Base!$CB$2,Base!CD15,IF('Fluxo de Caixa'!$A$4=Base!$CO$2,Base!CQ15,IF('Fluxo de Caixa'!$A$4=Base!$DB$2,Base!DD15,\"\")))))))))","v":0},{"$f":"IF($A$4=Base!$B$2,Base!E15,IF('Fluxo de Caixa'!$A$4=Base!$O$2,Base!R15,IF('Fluxo de Caixa'!$A$4=Base!$AB$2,Base!AE15,IF('Fluxo de Caixa'!$A$4=Base!$AO$2,Base!AR15,IF('Fluxo de Caixa'!$A$4=Base!$BB$2,Base!BE15,IF('Fluxo de Caixa'!$A$4=Base!$BO$2,Base!BR15,IF('Fluxo de Caixa'!$A$4=Base!$CB$2,Base!CE15,IF('Fluxo de Caixa'!$A$4=Base!$CO$2,Base!CR15,IF('Fluxo de Caixa'!$A$4=Base!$DB$2,Base!DE15,\"\")))))))))","v":0},{"$f":"IF($A$4=Base!$B$2,Base!F15,IF('Fluxo de Caixa'!$A$4=Base!$O$2,Base!S15,IF('Fluxo de Caixa'!$A$4=Base!$AB$2,Base!AF15,IF('Fluxo de Caixa'!$A$4=Base!$AO$2,Base!AS15,IF('Fluxo de Caixa'!$A$4=Base!$BB$2,Base!BF15,IF('Fluxo de Caixa'!$A$4=Base!$BO$2,Base!BS15,IF('Fluxo de Caixa'!$A$4=Base!$CB$2,Base!CF15,IF('Fluxo de Caixa'!$A$4=Base!$CO$2,Base!CS15,IF('Fluxo de Caixa'!$A$4=Base!$DB$2,Base!DF15,\"\")))))))))","v":0},{"$f":"IF($A$4=Base!$B$2,Base!G15,IF('Fluxo de Caixa'!$A$4=Base!$O$2,Base!T15,IF('Fluxo de Caixa'!$A$4=Base!$AB$2,Base!AG15,IF('Fluxo de Caixa'!$A$4=Base!$AO$2,Base!AT15,IF('Fluxo de Caixa'!$A$4=Base!$BB$2,Base!BG15,IF('Fluxo de Caixa'!$A$4=Base!$BO$2,Base!BT15,IF('Fluxo de Caixa'!$A$4=Base!$CB$2,Base!CG15,IF('Fluxo de Caixa'!$A$4=Base!$CO$2,Base!CT15,IF('Fluxo de Caixa'!$A$4=Base!$DB$2,Base!DG15,\"\")))))))))","v":0},{"$f":"IF($A$4=Base!$B$2,Base!H15,IF('Fluxo de Caixa'!$A$4=Base!$O$2,Base!U15,IF('Fluxo de Caixa'!$A$4=Base!$AB$2,Base!AH15,IF('Fluxo de Caixa'!$A$4=Base!$AO$2,Base!AU15,IF('Fluxo de Caixa'!$A$4=Base!$BB$2,Base!BH15,IF('Fluxo de Caixa'!$A$4=Base!$BO$2,Base!BU15,IF('Fluxo de Caixa'!$A$4=Base!$CB$2,Base!CH15,IF('Fluxo de Caixa'!$A$4=Base!$CO$2,Base!CU15,IF('Fluxo de Caixa'!$A$4=Base!$DB$2,Base!DH15,\"\")))))))))","v":0},{"$f":"IF($A$4=Base!$B$2,Base!I15,IF('Fluxo de Caixa'!$A$4=Base!$O$2,Base!V15,IF('Fluxo de Caixa'!$A$4=Base!$AB$2,Base!AI15,IF('Fluxo de Caixa'!$A$4=Base!$AO$2,Base!AV15,IF('Fluxo de Caixa'!$A$4=Base!$BB$2,Base!BI15,IF('Fluxo de Caixa'!$A$4=Base!$BO$2,Base!BV15,IF('Fluxo de Caixa'!$A$4=Base!$CB$2,Base!CI15,IF('Fluxo de Caixa'!$A$4=Base!$CO$2,Base!CV15,IF('Fluxo de Caixa'!$A$4=Base!$DB$2,Base!DI15,\"\")))))))))","v":0},{"$f":"IF($A$4=Base!$B$2,Base!J15,IF('Fluxo de Caixa'!$A$4=Base!$O$2,Base!W15,IF('Fluxo de Caixa'!$A$4=Base!$AB$2,Base!AJ15,IF('Fluxo de Caixa'!$A$4=Base!$AO$2,Base!AW15,IF('Fluxo de Caixa'!$A$4=Base!$BB$2,Base!BJ15,IF('Fluxo de Caixa'!$A$4=Base!$BO$2,Base!BW15,IF('Fluxo de Caixa'!$A$4=Base!$CB$2,Base!CJ15,IF('Fluxo de Caixa'!$A$4=Base!$CO$2,Base!CW15,IF('Fluxo de Caixa'!$A$4=Base!$DB$2,Base!DJ15,\"\")))))))))","v":0},{"$f":"IF($A$4=Base!$B$2,Base!K15,IF('Fluxo de Caixa'!$A$4=Base!$O$2,Base!X15,IF('Fluxo de Caixa'!$A$4=Base!$AB$2,Base!AK15,IF('Fluxo de Caixa'!$A$4=Base!$AO$2,Base!AX15,IF('Fluxo de Caixa'!$A$4=Base!$BB$2,Base!BK15,IF('Fluxo de Caixa'!$A$4=Base!$BO$2,Base!BX15,IF('Fluxo de Caixa'!$A$4=Base!$CB$2,Base!CK15,IF('Fluxo de Caixa'!$A$4=Base!$CO$2,Base!CX15,IF('Fluxo de Caixa'!$A$4=Base!$DB$2,Base!DK15,\"\")))))))))","v":0},{"$f":"IF($A$4=Base!$B$2,Base!L15,IF('Fluxo de Caixa'!$A$4=Base!$O$2,Base!Y15,IF('Fluxo de Caixa'!$A$4=Base!$AB$2,Base!AL15,IF('Fluxo de Caixa'!$A$4=Base!$AO$2,Base!AY15,IF('Fluxo de Caixa'!$A$4=Base!$BB$2,Base!BL15,IF('Fluxo de Caixa'!$A$4=Base!$BO$2,Base!BY15,IF('Fluxo de Caixa'!$A$4=Base!$CB$2,Base!CL15,IF('Fluxo de Caixa'!$A$4=Base!$CO$2,Base!CY15,IF('Fluxo de Caixa'!$A$4=Base!$DB$2,Base!DL15,\"\")))))))))","v":0},{"$f":"IF($A$4=Base!$B$2,Base!M15,IF('Fluxo de Caixa'!$A$4=Base!$O$2,Base!Z15,IF('Fluxo de Caixa'!$A$4=Base!$AB$2,Base!AM15,IF('Fluxo de Caixa'!$A$4=Base!$AO$2,Base!AZ15,IF('Fluxo de Caixa'!$A$4=Base!$BB$2,Base!BM15,IF('Fluxo de Caixa'!$A$4=Base!$BO$2,Base!BZ15,IF('Fluxo de Caixa'!$A$4=Base!$CB$2,Base!CM15,IF('Fluxo de Caixa'!$A$4=Base!$CO$2,Base!CZ15,IF('Fluxo de Caixa'!$A$4=Base!$DB$2,Base!DM15,\"\")))))))))","v":0},0,{"$error":"#DIV/0!"}]
[{"$f":"IF(Lançamentos!A13=\"\",\"\",Lançamentos!A13)","v":"Despesas Financeiras"},{"$f":"IF($A$4=Base!$B$2,Base!B16,IF('Fluxo de Caixa'!$A$4=Base!$O$2,Base!O16,IF('Fluxo de Caixa'!$A$4=Base!$AB$2,Base!AB16,IF('Fluxo de Caixa'!$A$4=Base!$AO$2,Base!AO16,IF('Fluxo de Caixa'!$A$4=Base!$BB$2,Base!BB16,IF('Fluxo de Caixa'!$A$4=Base!$BO$2,Base!BO16,IF('Fluxo de Caixa'!$A$4=Base!$CB$2,Base!CB16,IF('Fluxo de Caixa'!$A$4=Base!$CO$2,Base!CO16,IF('Fluxo de Caixa'!$A$4=Base!$DB$2,Base!DB16,\"\")))))))))","v":0},{"$f":"IF($A$4=Base!$B$2,Base!C16,IF('Fluxo de Caixa'!$A$4=Base!$O$2,Base!P16,IF('Fluxo de Caixa'!$A$4=Base!$AB$2,Base!AC16,IF('Fluxo de Caixa'!$A$4=Base!$AO$2,Base!AP16,IF('Fluxo de Caixa'!$A$4=Base!$BB$2,Base!BC16,IF('Fluxo de Caixa'!$A$4=Base!$BO$2,Base!BP16,IF('Fluxo de Caixa'!$A$4=Base!$CB$2,Base!CC16,IF('Fluxo de Caixa'!$A$4=Base!$CO$2,Base!CP16,IF('Fluxo de Caixa'!$A$4=Base!$DB$2,Base!DC16,\"\")))))))))","v":0},{"$f":"IF($A$4=Base!$B$2,Base!D16,IF('Fluxo de Caixa'!$A$4=Base!$O$2,Base!Q16,IF('Fluxo de Caixa'!$A$4=Base!$AB$2,Base!AD16,IF('Fluxo de Caixa'!$A$4=Base!$AO$2,Base!AQ16,IF('Fluxo de Caixa'!$A$4=Base!$BB$2,Base!BD16,IF('Fluxo de Caixa'!$A$4=Base!$BO$2,Base!BQ16,IF('Fluxo de Caixa'!$A$4=Base!$CB$2,Base!CD16,IF('Fluxo de Caixa'!$A$4=Base!$CO$2,Base!CQ16,IF('Fluxo de Caixa'!$A$4=Base!$DB$2,Base!DD16,\"\")))))))))","v":0},{"$f":"IF($A$4=Base!$B$2,Base!E16,IF('Fluxo de Caixa'!$A$4=Base!$O$2,Base!R16,IF('Fluxo de Caixa'!$A$4=Base!$AB$2,Base!AE16,IF('Fluxo de Caixa'!$A$4=Base!$AO$2,Base!AR16,IF('Fluxo de Caixa'!$A$4=Base!$BB$2,Base!BE16,IF('Fluxo de Caixa'!$A$4=Base!$BO$2,Base!BR16,IF('Fluxo de Caixa'!$A$4=Base!$CB$2,Base!CE16,IF('Fluxo de Caixa'!$A$4=Base!$CO$2,Base!CR16,IF('Fluxo de Caixa'!$A$4=Base!$DB$2,Base!DE16,\"\")))))))))","v":0},{"$f":"IF($A$4=Base!$B$2,Base!F16,IF('Fluxo de Caixa'!$A$4=Base!$O$2,Base!S16,IF('Fluxo de Caixa'!$A$4=Base!$AB$2,Base!AF16,IF('Fluxo de Caixa'!$A$4=Base!$AO$2,Base!AS16,IF('Fluxo de Caixa'!$A$4=Base!$BB$2,Base!BF16,IF('Fluxo de Caixa'!$A$4=Base!$BO$2,Base!BS16,IF('Fluxo de Caixa'!$A$4=Base!$CB$2,Base!CF16,IF('Fluxo de Caixa'!$A$4=Base!$CO$2,Base!CS16,IF('Fluxo de Caixa'!$A$4=Base!$DB$2,Base!DF16,\"\")))))))))","v":0},{"$f":"IF($A$4=Base!$B$2,Base!G16,IF('Fluxo de Caixa'!$A$4=Base!$O$2,Base!T16,IF('Fluxo de Caixa'!$A$4=Base!$AB$2,Base!AG16,IF('Fluxo de Caixa'!$A$4=Base!$AO$2,Base!AT16,IF('Fluxo de Caixa'!$A$4=Base!$BB$2,Base!BG16,IF('Fluxo de Caixa'!$A$4=Base!$BO$2,Base!BT16,IF('Fluxo de Caixa'!$A$4=Base!$CB$2,Base!CG16,IF('Fluxo de Caixa'!$A$4=Base!$CO$2,Base!CT16,IF('Fluxo de Caixa'!$A$4=Base!$DB$2,Base!DG16,\"\")))))))))","v":0},{"$f":"IF($A$4=Base!$B$2,Base!H16,IF('Fluxo de Caixa'!$A$4=Base!$O$2,Base!U16,IF('Fluxo de Caixa'!$A$4=Base!$AB$2,Base!AH16,IF('Fluxo de Caixa'!$A$4=Base!$AO$2,Base!AU16,IF('Fluxo de Caixa'!$A$4=Base!$BB$2,Base!BH16,IF('Fluxo de Caixa'!$A$4=Base!$BO$2,Base!BU16,IF('Fluxo de Caixa'!$A$4=Base!$CB$2,Base!CH16,IF('Fluxo de Caixa'!$A$4=Base!$CO$2,Base!CU16,IF('Fluxo de Caixa'!$A$4=Base!$DB$2,Base!DH16,\"\")))))))))","v":0},{"$f":"IF($A$4=Base!$B$2,Base!I16,IF('Fluxo de Caixa'!$A$4=Base!$O$2,Base!V16,IF('Fluxo de Caixa'!$A$4=Base!$AB$2,Base!AI16,IF('Fluxo de Caixa'!$A$4=Base!$AO$2,Base!AV16,IF('Fluxo de Caixa'!$A$4=Base!$BB$2,Base!BI16,IF('Fluxo de Caixa'!$A$4=Base!$BO$2,Base!BV16,IF('Fluxo de Caixa'!$A$4=Base!$CB$2,Base!CI16,IF('Fluxo de Caixa'!$A$4=Base!$CO$2,Base!CV16,IF('Fluxo de Caixa'!$A$4=Base!$DB$2,Base!DI16,\"\")))))))))","v":0},{"$f":"IF($A$4=Base!$B$2,Base!J16,IF('Fluxo de Caixa'!$A$4=Base!$O$2,Base!W16,IF('Fluxo de Caixa'!$A$4=Base!$AB$2,Base!AJ16,IF('Fluxo de Caixa'!$A$4=Base!$AO$2,Base!AW16,IF('Fluxo de Caixa'!$A$4=Base!$BB$2,Base!BJ16,IF('Fluxo de Caixa'!$A$4=Base!$BO$2,Base!BW16,IF('Fluxo de Caixa'!$A$4=Base!$CB$2,Base!CJ16,IF('Fluxo de Caixa'!$A$4=Base!$CO$2,Base!CW16,IF('Fluxo de Caixa'!$A$4=Base!$DB$2,Base!DJ16,\"\")))))))))","v":0},{"$f":"IF($A$4=Base!$B$2,Base!K16,IF('Fluxo de Caixa'!$A$4=Base!$O$2,Base!X16,IF('Fluxo de Caixa'!$A$4=Base!$AB$2,Base!AK16,IF('Fluxo de Caixa'!$A$4=Base!$AO$2,Base!AX16,IF('Fluxo de Caixa'!$A$4=Base!$BB$2,Base!BK16,IF('Fluxo de Caixa'!$A$4=Base!$BO$2,Base!BX16,IF('Fluxo de Caixa'!$A$4=Base!$CB$2,Base!CK16,IF('Fluxo de Caixa'!$A$4=Base!$CO$2,Base!CX16,IF('Fluxo de Caixa'!$A$4=Base!$DB$2,Base!DK16,\"\")))))))))","v":0},{"$f":"IF($A$4=Base!$B$2,Base!L16,IF('Fluxo de Caixa'!$A$4=Base!$O$2,Base!Y16,IF('Fluxo de Caixa'!$A$4=Base!$AB$2,Base!AL16,IF('Fluxo de Caixa'!$A$4=Base!$AO$2,Base!AY16,IF('Fluxo de Caixa'!$A$4=Base!$BB$2,Base!BL16,IF('Fluxo de Caixa'!$A$4=Base!$BO$2,Base!BY16,IF('Fluxo de Caixa'!$A$4=Base!$CB$2,Base!CL16,IF('Fluxo de Caixa'!$A$4=Base!$CO$2,Base!CY16,IF('Fluxo de Caixa'!$A$4=Base!$DB$2,Base!DL16,\"\")))))))))","v":0},{"$f":"IF($A$4=Base!$B$2,Base!M16,IF('Fluxo de Caixa'!$A$4=Base!$O$2,Base!Z16,IF('Fluxo de Caixa'!$A$4=Base!$AB$2,Base!AM16,IF('Fluxo de Caixa'!$A$4=Base!$AO$2,Base!AZ16,IF('Fluxo de Caixa'!$A$4=Base!$BB$2,Base!BM16,IF('Fluxo de Caixa'!$A$4=Base!$BO$2,Base!BZ16,IF('Fluxo de Caixa'!$A$4=Base!$CB$2,Base!CM16,IF('Fluxo de Caixa'!$A$4=Base!$CO$2,Base!CZ16,IF('Fluxo de Caixa'!$A$4=Base!$DB$2,Base!DM16,\"\")))))))))","v":0},0,{"$error":"#DIV/0!"}]
[{"$f":"IF(Lançamentos!A14=\"\",\"\",Lançamentos!A14)","v":"Impostos"},{"$f":"IF($A$4=Base!$B$2,Base!B17,IF('Fluxo de Caixa'!$A$4=Base!$O$2,Base!O17,IF('Fluxo de Caixa'!$A$4=Base!$AB$2,Base!AB17,IF('Fluxo de Caixa'!$A$4=Base!$AO$2,Base!AO17,IF('Fluxo de Caixa'!$A$4=Base!$BB$2,Base!BB17,IF('Fluxo de Caixa'!$A$4=Base!$BO$2,Base!BO17,IF('Fluxo de Caixa'!$A$4=Base!$CB$2,Base!CB17,IF('Fluxo de Caixa'!$A$4=Base!$CO$2,Base!CO17,IF('Fluxo de Caixa'!$A$4=Base!$DB$2,Base!DB17,\"\")))))))))","v":0},{"$f":"IF($A$4=Base!$B$2,Base!C17,IF('Fluxo de Caixa'!$A$4=Base!$O$2,Base!P17,IF('Fluxo de Caixa'!$A$4=Base!$AB$2,Base!AC17,IF('Fluxo de Caixa'!$A$4=Base!$AO$2,Base!AP17,IF('Fluxo de Caixa'!$A$4=Base!$BB$2,Base!BC17,IF('Fluxo de Caixa'!$A$4=Base!$BO$2,Base!BP17,IF('Fluxo de Caixa'!$A$4=Base!$CB$2,Base!CC17,IF('Fluxo de Caixa'!$A$4=Base!$CO$2,Base!CP17,IF('Fluxo de Caixa'!$A$4=Base!$DB$2,Base!DC17,\"\")))))))))","v":0},{"$f":"IF($A$4=Base!$B$2,Base!D17,IF('Fluxo de Caixa'!$A$4=Base!$O$2,Base!Q17,IF('Fluxo de Caixa'!$A$4=Base!$AB$2,Base!AD17,IF('Fluxo de Caixa'!$A$4=Base!$AO$2,Base!AQ17,IF('Fluxo de Caixa'!$A$4=Base!$BB$2,Base!BD17,IF('Fluxo de Caixa'!$A$4=Base!$BO$2,Base!BQ17,IF('Fluxo de Caixa'!$A$4=Base!$CB$2,Base!CD17,IF('Fluxo de Caixa'!$A$4=Base!$CO$2,Base!CQ17,IF('Fluxo de Caixa'!$A$4=Base!$DB$2,Base!DD17,\"\")))))))))","v":0},{"$f":"IF($A$4=Base!$B$2,Base!E17,IF('Fluxo de Caixa'!$A$4=Base!$O$2,Base!R17,IF('Fluxo de Caixa'!$A$4=Base!$AB$2,Base!AE17,IF('Fluxo de Caixa'!$A$4=Base!$AO$2,Base!AR17,IF('Fluxo de Caixa'!$A$4=Base!$BB$2,Base!BE17,IF('Fluxo de Caixa'!$A$4=Base!$BO$2,Base!BR17,IF('Fluxo de Caixa'!$A$4=Base!$CB$2,Base!CE17,IF('Fluxo de Caixa'!$A$4=Base!$CO$2,Base!CR17,IF('Fluxo de Caixa'!$A$4=Base!$DB$2,Base!DE17,\"\")))))))))","v":0},{"$f":"IF($A$4=Base!$B$2,Base!F17,IF('Fluxo de Caixa'!$A$4=Base!$O$2,Base!S17,IF('Fluxo de Caixa'!$A$4=Base!$AB$2,Base!AF17,IF('Fluxo de Caixa'!$A$4=Base!$AO$2,Base!AS17,IF('Fluxo de Caixa'!$A$4=Base!$BB$2,Base!BF17,IF('Fluxo de Caixa'!$A$4=Base!$BO$2,Base!BS17,IF('Fluxo de Caixa'!$A$4=Base!$CB$2,Base!CF17,IF('Fluxo de Caixa'!$A$4=Base!$CO$2,Base!CS17,IF('Fluxo de Caixa'!$A$4=Base!$DB$2,Base!DF17,\"\")))))))))","v":0},{"$f":"IF($A$4=Base!$B$2,Base!G17,IF('Fluxo de Caixa'!$A$4=Base!$O$2,Base!T17,IF('Fluxo de Caixa'!$A$4=Base!$AB$2,Base!AG17,IF('Fluxo de Caixa'!$A$4=Base!$AO$2,Base!AT17,IF('Fluxo de Caixa'!$A$4=Base!$BB$2,Base!BG17,IF('Fluxo de Caixa'!$A$4=Base!$BO$2,Base!BT17,IF('Fluxo de Caixa'!$A$4=Base!$CB$2,Base!CG17,IF('Fluxo de Caixa'!$A$4=Base!$CO$2,Base!CT17,IF('Fluxo de Caixa'!$A$4=Base!$DB$2,Base!DG17,\"\")))))))))","v":0},{"$f":"IF($A$4=Base!$B$2,Base!H17,IF('Fluxo de Caixa'!$A$4=Base!$O$2,Base!U17,IF('Fluxo de Caixa'!$A$4=Base!$AB$2,Base!AH17,IF('Fluxo de Caixa'!$A$4=Base!$AO$2,Base!AU17,IF('Fluxo de Caixa'!$A$4=Base!$BB$2,Base!BH17,IF('Fluxo de Caixa'!$A$4=Base!$BO$2,Base!BU17,IF('Fluxo de Caixa'!$A$4=Base!$CB$2,Base!CH17,IF('Fluxo de Caixa'!$A$4=Base!$CO$2,Base!CU17,IF('Fluxo de Caixa'!$A$4=Base!$DB$2,Base!DH17,\"\")))))))))","v":0},{"$f":"IF($A$4=Base!$B$2,Base!I17,IF('Fluxo de Caixa'!$A$4=Base!$O$2,Base!V17,IF('Fluxo de Caixa'!$A$4=Base!$AB$2,Base!AI17,IF('Fluxo de Caixa'!$A$4=Base!$AO$2,Base!AV17,IF('Fluxo de Caixa'!$A$4=Base!$BB$2,Base!BI17,IF('Fluxo de Caixa'!$A$4=Base!$BO$2,Base!BV17,IF('Fluxo de Caixa'!$A$4=Base!$CB$2,Base!CI17,IF('Fluxo de Caixa'!$A$4=Base!$CO$2,Base!CV17,IF('Fluxo de Caixa'!$A$4=Base!$DB$2,Base!DI17,\"\")))))))))","v":0},{"$f":"IF($A$4=Base!$B$2,Base!J17,IF('Fluxo de Caixa'!$A$4=Base!$O$2,Base!W17,IF('Fluxo de Caixa'!$A$4=Base!$AB$2,Base!AJ17,IF('Fluxo de Caixa'!$A$4=Base!$AO$2,Base!AW17,IF('Fluxo de Caixa'!$A$4=Base!$BB$2,Base!BJ17,IF('Fluxo de Caixa'!$A$4=Base!$BO$2,Base!BW17,IF('Fluxo de Caixa'!$A$4=Base!$CB$2,Base!CJ17,IF('Fluxo de Caixa'!$A$4=Base!$CO$2,Base!CW17,IF('Fluxo de Caixa'!$A$4=Base!$DB$2,Base!DJ17,\"\")))))))))","v":0},{"$f":"IF($A$4=Base!$B$2,Base!K17,IF('Fluxo de Caixa'!$A$4=Base!$O$2,Base!X17,IF('Fluxo de Caixa'!$A$4=Base!$AB$2,Base!AK17,IF('Fluxo de Caixa'!$A$4=Base!$AO$2,Base!AX17,IF('Fluxo de Caixa'!$A$4=Base!$BB$2,Base!BK17,IF('Fluxo de Caixa'!$A$4=Base!$BO$2,Base!BX17,IF('Fluxo de Caixa'!$A$4=Base!$CB$2,Base!CK17,IF('Fluxo de Caixa'!$A$4=Base!$CO$2,Base!CX17,IF('Fluxo de Caixa'!$A$4=Base!$DB$2,Base!DK17,\"\")))))))))","v":0},{"$f":"IF($A$4=Base!$B$2,Base!L17,IF('Fluxo de Caixa'!$A$4=Base!$O$2,Base!Y17,IF('Fluxo de Caixa'!$A$4=Base!$AB$2,Base!AL17,IF('Fluxo de Caixa'!$A$4=Base!$AO$2,Base!AY17,IF('Fluxo de Caixa'!$A$4=Base!$BB$2,Base!BL17,IF('Fluxo de Caixa'!$A$4=Base!$BO$2,Base!BY17,IF('Fluxo de Caixa'!$A$4=Base!$CB$2,Base!CL17,IF('Fluxo de Caixa'!$A$4=Base!$CO$2,Base!CY17,IF('Fluxo de Caixa'!$A$4=Base!$DB$2,Base!DL17,\"\")))))))))","v":0},{"$f":"IF($A$4=Base!$B$2,Base!M17,IF('Fluxo de Caixa'!$A$4=Base!$O$2,Base!Z17,IF('Fluxo de Caixa'!$A$4=Base!$AB$2,Base!AM17,IF('Fluxo de Caixa'!$A$4=Base!$AO$2,Base!AZ17,IF('Fluxo de Caixa'!$A$4=Base!$BB$2,Base!BM17,IF('Fluxo de Caixa'!$A$4=Base!$BO$2,Base!BZ17,IF('Fluxo de Caixa'!$A$4=Base!$CB$2,Base!CM17,IF('Fluxo de Caixa'!$A$4=Base!$CO$2,Base!CZ17,IF('Fluxo de Caixa'!$A$4=Base!$DB$2,Base!DM17,\"\")))))))))","v":0},0,{"$error":"#DIV/0!"}]
[{"$f":"IF(Lançamentos!A15=\"\",\"\",Lançamentos!A15)","v":"Despesas com Pessoal"},{"$f":"IF($A$4=Base!$B$2,Base!B18,IF('Fluxo de Caixa'!$A$4=Base!$O$2,Base!O18,IF('Fluxo de Caixa'!$A$4=Base!$AB$2,Base!AB18,IF('Fluxo de Caixa'!$A$4=Base!$AO$2,Base!AO18,IF('Fluxo de Caixa'!$A$4=Base!$BB$2,Base!BB18,IF('Fluxo de Caixa'!$A$4=Base!$BO$2,Base!BO18,IF('Fluxo de Caixa'!$A$4=Base!$CB$2,Base!CB18,IF('Fluxo de Caixa'!$A$4=Base!$CO$2,Base!CO18,IF('Fluxo de Caixa'!$A$4=Base!$DB$2,Base!DB18,\"\")))))))))","v":0},{"$f":"IF($A$4=Base!$B$2,Base!C18,IF('Fluxo de Caixa'!$A$4=Base!$O$2,Base!P18,IF('Fluxo de Caixa'!$A$4=Base!$AB$2,Base!AC18,IF('Fluxo de Caixa'!$A$4=Base!$AO$2,Base!AP18,IF('Fluxo de Caixa'!$A$4=Base!$BB$2,Base!BC18,IF('Fluxo de Caixa'!$A$4=Base!$BO$2,Base!BP18,IF('Fluxo de Caixa'!$A$4=Base!$CB$2,Base!CC18,IF('Fluxo de Caixa'!$A$4=Base!$CO$2,Base!CP18,IF('Fluxo de Caixa'!$A$4=Base!$DB$2,Base!DC18,\"\")))))))))","v":0},{"$f":"IF($A$4=Base!$B$2,Base!D18,IF('Fluxo de Caixa'!$A$4=Base!$O$2,Base!Q18,IF('Fluxo de Caixa'!$A$4=Base!$AB$2,Base!AD18,IF('Fluxo de Caixa'!$A$4=Base!$AO$2,Base!AQ18,IF('Fluxo de Caixa'!$A$4=Base!$BB$2,Base!BD18,IF('Fluxo de Caixa'!$A$4=Base!$BO$2,Base!BQ18,IF('Fluxo de Caixa'!$A$4=Base!$CB$2,Base!CD18,IF('Fluxo de Caixa'!$A$4=Base!$CO$2,Base!CQ18,IF('Fluxo de Caixa'!$A$4=Base!$DB$2,Base!DD18,\"\")))))))))","v":0},{"$f":"IF($A$4=Base!$B$2,Base!E18,IF('Fluxo de Caixa'!$A$4=Base!$O$2,Base!R18,IF('Fluxo de Caixa'!$A$4=Base!$AB$2,Base!AE18,IF('Fluxo de Caixa'!$A$4=Base!$AO$2,Base!AR18,IF('Fluxo de Caixa'!$A$4=Base!$BB$2,Base!BE18,IF('Fluxo de Caixa'!$A$4=Base!$BO$2,Base!BR18,IF('Fluxo de Caixa'!$A$4=Base!$CB$2,Base!CE18,IF('Fluxo de Caixa'!$A$4=Base!$CO$2,Base!CR18,IF('Fluxo de Caixa'!$A$4=Base!$DB$2,Base!DE18,\"\")))))))))","v":0},{"$f":"IF($A$4=Base!$B$2,Base!F18,IF('Fluxo de Caixa'!$A$4=Base!$O$2,Base!S18,IF('Fluxo de Caixa'!$A$4=Base!$AB$2,Base!AF18,IF('Fluxo de Caixa'!$A$4=Base!$AO$2,Base!AS18,IF('Fluxo de Caixa'!$A$4=Base!$BB$2,Base!BF18,IF('Fluxo de Caixa'!$A$4=Base!$BO$2,Base!BS18,IF('Fluxo de Caixa'!$A$4=Base!$CB$2,Base!CF18,IF('Fluxo de Caixa'!$A$4=Base!$CO$2,Base!CS18,IF('Fluxo de Caixa'!$A$4=Base!$DB$2,Base!DF18,\"\")))))))))","v":0},{"$f":"IF($A$4=Base!$B$2,Base!G18,IF('Fluxo de Caixa'!$A$4=Base!$O$2,Base!T18,IF('Fluxo de Caixa'!$A$4=Base!$AB$2,Base!AG18,IF('Fluxo de Caixa'!$A$4=Base!$AO$2,Base!AT18,IF('Fluxo de Caixa'!$A$4=Base!$BB$2,Base!BG18,IF('Fluxo de Caixa'!$A$4=Base!$BO$2,Base!BT18,IF('Fluxo de Caixa'!$A$4=Base!$CB$2,Base!CG18,IF('Fluxo de Caixa'!$A$4=Base!$CO$2,Base!CT18,IF('Fluxo de Caixa'!$A$4=Base!$DB$2,Base!DG18,\"\")))))))))","v":0},{"$f":"IF($A$4=Base!$B$2,Base!H18,IF('Fluxo de Caixa'!$A$4=Base!$O$2,Base!U18,IF('Fluxo de Caixa'!$A$4=Base!$AB$2,Base!AH18,IF('Fluxo de Caixa'!$A$4=Base!$AO$2,Base!AU18,IF('Fluxo de Caixa'!$A$4=Base!$BB$2,Base!BH18,IF('Fluxo de Caixa'!$A$4=Base!$BO$2,Base!BU18,IF('Fluxo de Caixa'!$A$4=Base!$CB$2,Base!CH18,IF('Fluxo de Caixa'!$A$4=Base!$CO$2,Base!CU18,IF('Fluxo de Caixa'!$A$4=Base!$DB$2,Base!DH18,\"\")))))))))","v":0},{"$f":"IF($A$4=Base!$B$2,Base!I18,IF('Fluxo de Caixa'!$A$4=Base!$O$2,Base!V18,IF('Fluxo de Caixa'!$A$4=Base!$AB$2,Base!AI18,IF('Fluxo de Caixa'!$A$4=Base!$AO$2,Base!AV18,IF('Fluxo de Caixa'!$A$4=Base!$BB$2,Base!BI18,IF('Fluxo de Caixa'!$A$4=Base!$BO$2,Base!BV18,IF('Fluxo de Caixa'!$A$4=Base!$CB$2,Base!CI18,IF('Fluxo de Caixa'!$A$4=Base!$CO$2,Base!CV18,IF('Fluxo de Caixa'!$A$4=Base!$DB$2,Base!DI18,\"\")))))))))","v":0},{"$f":"IF($A$4=Base!$B$2,Base!J18,IF('Fluxo de Caixa'!$A$4=Base!$O$2,Base!W18,IF('Fluxo de Caixa'!$A$4=Base!$AB$2,Base!AJ18,IF('Fluxo de Caixa'!$A$4=Base!$AO$2,Base!AW18,IF('Fluxo de Caixa'!$A$4=Base!$BB$2,Base!BJ18,IF('Fluxo de Caixa'!$A$4=Base!$BO$2,Base!BW18,IF('Fluxo de Caixa'!$A$4=Base!$CB$2,Base!CJ18,IF('Fluxo de Caixa'!$A$4=Base!$CO$2,Base!CW18,IF('Fluxo de Caixa'!$A$4=Base!$DB$2,Base!DJ18,\"\")))))))))","v":0},{"$f":"IF($A$4=Base!$B$2,Base!K18,IF('Fluxo de Caixa'!$A$4=Base!$O$2,Base!X18,IF('Fluxo de Caixa'!$A$4=Base!$AB$2,Base!AK18,IF('Fluxo de Caixa'!$A$4=Base!$AO$2,Base!AX18,IF('Fluxo de Caixa'!$A$4=Base!$BB$2,Base!BK18,IF('Fluxo de Caixa'!$A$4=Base!$BO$2,Base!BX18,IF('Fluxo de Caixa'!$A$4=Base!$CB$2,Base!CK18,IF('Fluxo de Caixa'!$A$4=Base!$CO$2,Base!CX18,IF('Fluxo de Caixa'!$A$4=Base!$DB$2,Base!DK18,\"\")))))))))","v":0},{"$f":"IF($A$4=Base!$B$2,Base!L18,IF('Fluxo de Caixa'!$A$4=Base!$O$2,Base!Y18,IF('Fluxo de Caixa'!$A$4=Base!$AB$2,Base!AL18,IF('Fluxo de Caixa'!$A$4=Base!$AO$2,Base!AY18,IF('Fluxo de Caixa'!$A$4=Base!$BB$2,Base!BL18,IF('Fluxo de Caixa'!$A$4=Base!$BO$2,Base!BY18,IF('Fluxo de Caixa'!$A$4=Base!$CB$2,Base!CL18,IF('Fluxo de Caixa'!$A$4=Base!$CO$2,Base!CY18,IF('Fluxo de Caixa'!$A$4=Base!$DB$2,Base!DL18,\"\")))))))))","v":0},{"$f":"IF($A$4=Base!$B$2,Base!M18,IF('Fluxo de Caixa'!$A$4=Base!$O$2,Base!Z18,IF('Fluxo de Caixa'!$A$4=Base!$AB$2,Base!AM18,IF('Fluxo de Caixa'!$A$4=Base!$AO$2,Base!AZ18,IF('Fluxo de Caixa'!$A$4=Base!$BB$2,Base!BM18,IF('Fluxo de Caixa'!$A$4=Base!$BO$2,Base!BZ18,IF('Fluxo de Caixa'!$A$4=Base!$CB$2,Base!CM18,IF('Fluxo de Caixa'!$A$4=Base!$CO$2,Base!CZ18,IF('Fluxo de Caixa'!$A$4=Base!$DB$2,Base!DM18,\"\")))))))))","v":0},0,{"$error":"#DIV/0!"}]
[{"$f":"IF(Lançamentos!A16=\"\",\"\",Lançamentos!A16)","v":"Saque"},{"$f":"IF($A$4=Base!$B$2,Base!B19,IF('Fluxo de Caixa'!$A$4=Base!$O$2,Base!O19,IF('Fluxo de Caixa'!$A$4=Base!$AB$2,Base!AB19,IF('Fluxo de Caixa'!$A$4=Base!$AO$2,Base!AO19,IF('Fluxo de Caixa'!$A$4=Base!$BB$2,Base!BB19,IF('Fluxo de Caixa'!$A$4=Base!$BO$2,Base!BO19,IF('Fluxo de Caixa'!$A$4=Base!$CB$2,Base!CB19,IF('Fluxo de Caixa'!$A$4=Base!$CO$2,Base!CO19,IF('Fluxo de Caixa'!$A$4=Base!$DB$2,Base!DB19,\"\")))))))))","v":0},{"$f":"IF($A$4=Base!$B$2,Base!C19,IF('Fluxo de Caixa'!$A$4=Base!$O$2,Base!P19,IF('Fluxo de Caixa'!$A$4=Base!$AB$2,Base!AC19,IF('Fluxo de Caixa'!$A$4=Base!$AO$2,Base!AP19,IF('Fluxo de Caixa'!$A$4=Base!$BB$2,Base!BC19,IF('Fluxo de Caixa'!$A$4=Base!$BO$2,Base!BP19,IF('Fluxo de Caixa'!$A$4=Base!$CB$2,Base!CC19,IF('Fluxo de Caixa'!$A$4=Base!$CO$2,Base!CP19,IF('Fluxo de Caixa'!$A$4=Base!$DB$2,Base!DC19,\"\")))))))))","v":0},{"$f":"IF($A$4=Base!$B$2,Base!D19,IF('Fluxo de Caixa'!$A$4=Base!$O$2,Base!Q19,IF('Fluxo de Caixa'!$A$4=Base!$AB$2,Base!AD19,IF('Fluxo de Caixa'!$A$4=Base!$AO$2,Base!AQ19,IF('Fluxo de Caixa'!$A$4=Base!$BB$2,Base!BD19,IF('Fluxo de Caixa'!$A$4=Base!$BO$2,Base!BQ19,IF('Fluxo de Caixa'!$A$4=Base!$CB$2,Base!CD19,IF('Fluxo de Caixa'!$A$4=Base!$CO$2,Base!CQ19,IF('Fluxo de Caixa'!$A$4=Base!$DB$2,Base!DD19,\"\")))))))))","v":0},{"$f":"IF($A$4=Base!$B$2,Base!E19,IF('Fluxo de Caixa'!$A$4=Base!$O$2,Base!R19,IF('Fluxo de Caixa'!$A$4=Base!$AB$2,Base!AE19,IF('Fluxo de Caixa'!$A$4=Base!$AO$2,Base!AR19,IF('Fluxo de Caixa'!$A$4=Base!$BB$2,Base!BE19,IF('Fluxo de Caixa'!$A$4=Base!$BO$2,Base!BR19,IF('Fluxo de Caixa'!$A$4=Base!$CB$2,Base!CE19,IF('Fluxo de Caixa'!$A$4=Base!$CO$2,Base!CR19,IF('Fluxo de Caixa'!$A$4=Base!$DB$2,Base!DE19,\"\")))))))))","v":0},{"$f":"IF($A$4=Base!$B$2,Base!F19,IF('Fluxo de Caixa'!$A$4=Base!$O$2,Base!S19,IF('Fluxo de Caixa'!$A$4=Base!$AB$2,Base!AF19,IF('Fluxo de Caixa'!$A$4=Base!$AO$2,Base!AS19,IF('Fluxo de Caixa'!$A$4=Base!$BB$2,Base!BF19,IF('Fluxo de Caixa'!$A$4=Base!$BO$2,Base!BS19,IF('Fluxo de Caixa'!$A$4=Base!$CB$2,Base!CF19,IF('Fluxo de Caixa'!$A$4=Base!$CO$2,Base!CS19,IF('Fluxo de Caixa'!$A$4=Base!$DB$2,Base!DF19,\"\")))))))))","v":0},{"$f":"IF($A$4=Base!$B$2,Base!G19,IF('Fluxo de Caixa'!$A$4=Base!$O$2,Base!T19,IF('Fluxo de Caixa'!$A$4=Base!$AB$2,Base!AG19,IF('Fluxo de Caixa'!$A$4=Base!$AO$2,Base!AT19,IF('Fluxo de Caixa'!$A$4=Base!$BB$2,Base!BG19,IF('Fluxo de Caixa'!$A$4=Base!$BO$2,Base!BT19,IF('Fluxo de Caixa'!$A$4=Base!$CB$2,Base!CG19,IF('Fluxo de Caixa'!$A$4=Base!$CO$2,Base!CT19,IF('Fluxo de Caixa'!$A$4=Base!$DB$2,Base!DG19,\"\")))))))))","v":0},{"$f":"IF($A$4=Base!$B$2,Base!H19,IF('Fluxo de Caixa'!$A$4=Base!$O$2,Base!U19,IF('Fluxo de Caixa'!$A$4=Base!$AB$2,Base!AH19,IF('Fluxo de Caixa'!$A$4=Base!$AO$2,Base!AU19,IF('Fluxo de Caixa'!$A$4=Base!$BB$2,Base!BH19,IF('Fluxo de Caixa'!$A$4=Base!$BO$2,Base!BU19,IF('Fluxo de Caixa'!$A$4=Base!$CB$2,Base!CH19,IF('Fluxo de Caixa'!$A$4=Base!$CO$2,Base!CU19,IF('Fluxo de Caixa'!$A$4=Base!$DB$2,Base!DH19,\"\")))))))))","v":0},{"$f":"IF($A$4=Base!$B$2,Base!I19,IF('Fluxo de Caixa'!$A$4=Base!$O$2,Base!V19,IF('Fluxo de Caixa'!$A$4=Base!$AB$2,Base!AI19,IF('Fluxo de Caixa'!$A$4=Base!$AO$2,Base!AV19,IF('Fluxo de Caixa'!$A$4=Base!$BB$2,Base!BI19,IF('Fluxo de Caixa'!$A$4=Base!$BO$2,Base!BV19,IF('Fluxo de Caixa'!$A$4=Base!$CB$2,Base!CI19,IF('Fluxo de Caixa'!$A$4=Base!$CO$2,Base!CV19,IF('Fluxo de Caixa'!$A$4=Base!$DB$2,Base!DI19,\"\")))))))))","v":0},{"$f":"IF($A$4=Base!$B$2,Base!J19,IF('Fluxo de Caixa'!$A$4=Base!$O$2,Base!W19,IF('Fluxo de Caixa'!$A$4=Base!$AB$2,Base!AJ19,IF('Fluxo de Caixa'!$A$4=Base!$AO$2,Base!AW19,IF('Fluxo de Caixa'!$A$4=Base!$BB$2,Base!BJ19,IF('Fluxo de Caixa'!$A$4=Base!$BO$2,Base!BW19,IF('Fluxo de Caixa'!$A$4=Base!$CB$2,Base!CJ19,IF('Fluxo de Caixa'!$A$4=Base!$CO$2,Base!CW19,IF('Fluxo de Caixa'!$A$4=Base!$DB$2,Base!DJ19,\"\")))))))))","v":0},{"$f":"IF($A$4=Base!$B$2,Base!K19,IF('Fluxo de Caixa'!$A$4=Base!$O$2,Base!X19,IF('Fluxo de Caixa'!$A$4=Base!$AB$2,Base!AK19,IF('Fluxo de Caixa'!$A$4=Base!$AO$2,Base!AX19,IF('Fluxo de Caixa'!$A$4=Base!$BB$2,Base!BK19,IF('Fluxo de Caixa'!$A$4=Base!$BO$2,Base!BX19,IF('Fluxo de Caixa'!$A$4=Base!$CB$2,Base!CK19,IF('Fluxo de Caixa'!$A$4=Base!$CO$2,Base!CX19,IF('Fluxo de Caixa'!$A$4=Base!$DB$2,Base!DK19,\"\")))))))))","v":0},{"$f":"IF($A$4=Base!$B$2,Base!L19,IF('Fluxo de Caixa'!$A$4=Base!$O$2,Base!Y19,IF('Fluxo de Caixa'!$A$4=Base!$AB$2,Base!AL19,IF('Fluxo de Caixa'!$A$4=Base!$AO$2,Base!AY19,IF('Fluxo de Caixa'!$A$4=Base!$BB$2,Base!BL19,IF('Fluxo de Caixa'!$A$4=Base!$BO$2,Base!BY19,IF('Fluxo de Caixa'!$A$4=Base!$CB$2,Base!CL19,IF('Fluxo de Caixa'!$A$4=Base!$CO$2,Base!CY19,IF('Fluxo de Caixa'!$A$4=Base!$DB$2,Base!DL19,\"\")))))))))","v":0},{"$f":"IF($A$4=Base!$B$2,Base!M19,IF('Fluxo de Caixa'!$A$4=Base!$O$2,Base!Z19,IF('Fluxo de Caixa'!$A$4=Base!$AB$2,Base!AM19,IF('Fluxo de Caixa'!$A$4=Base!$AO$2,Base!AZ19,IF('Fluxo de Caixa'!$A$4=Base!$BB$2,Base!BM19,IF('Fluxo de Caixa'!$A$4=Base!$BO$2,Base!BZ19,IF('Fluxo de Caixa'!$A$4=Base!$CB$2,Base!CM19,IF('Fluxo de Caixa'!$A$4=Base!$CO$2,Base!CZ19,IF('Fluxo de Caixa'!$A$4=Base!$DB$2,Base!DM19,\"\")))))))))","v":0},0,{"$error":"#DIV/0!"}]
[{"$f":"IF(Lançamentos!A17=\"\",\"\",Lançamentos!A17)","v":"Despesas Administrativas"},{"$f":"IF($A$4=Base!$B$2,Base!B20,IF('Fluxo de Caixa'!$A$4=Base!$O$2,Base!O20,IF('Fluxo de Caixa'!$A$4=Base!$AB$2,Base!AB20,IF('Fluxo de Caixa'!$A$4=Base!$AO$2,Base!AO20,IF('Fluxo de Caixa'!$A$4=Base!$BB$2,Base!BB20,IF('Fluxo de Caixa'!$A$4=Base!$BO$2,Base!BO20,IF('Fluxo de Caixa'!$A$4=Base!$CB$2,Base!CB20,IF('Fluxo de Caixa'!$A$4=Base!$CO$2,Base!CO20,IF('Fluxo de Caixa'!$A$4=Base!$DB$2,Base!DB20,\"\")))))))))","v":0},{"$f":"IF($A$4=Base!$B$2,Base!C20,IF('Fluxo de Caixa'!$A$4=Base!$O$2,Base!P20,IF('Fluxo de Caixa'!$A$4=Base!$AB$2,Base!AC20,IF('Fluxo de Caixa'!$A$4=Base!$AO$2,Base!AP20,IF('Fluxo de Caixa'!$A$4=Base!$BB$2,Base!BC20,IF('Fluxo de Caixa'!$A$4=Base!$BO$2,Base!BP20,IF('Fluxo de Caixa'!$A$4=Base!$CB$2,Base!CC20,IF('Fluxo de Caixa'!$A$4=Base!$CO$2,Base!CP20,IF('Fluxo de Caixa'!$A$4=Base!$DB$2,Base!DC20,\"\")))))))))","v":0},{"$f":"IF($A$4=Base!$B$2,Base!D20,IF('Fluxo de Caixa'!$A$4=Base!$O$2,Base!Q20,IF('Fluxo de Caixa'!$A$4=Base!$AB$2,Base!AD20,IF('Fluxo de Caixa'!$A$4=Base!$AO$2,Base!AQ20,IF('Fluxo de Caixa'!$A$4=Base!$BB$2,Base!BD20,IF('Fluxo de Caixa'!$A$4=Base!$BO$2,Base!BQ20,IF('Fluxo de Caixa'!$A$4=Base!$CB$2,Base!CD20,IF('Fluxo de Caixa'!$A$4=Base!$CO$2,Base!CQ20,IF('Fluxo de Caixa'!$A$4=Base!$DB$2,Base!DD20,\"\")))))))))","v":0},{"$f":"IF($A$4=Base!$B$2,Base!E20,IF('Fluxo de Caixa'!$A$4=Base!$O$2,Base!R20,IF('Fluxo de Caixa'!$A$4=Base!$AB$2,Base!AE20,IF('Fluxo de Caixa'!$A$4=Base!$AO$2,Base!AR20,IF('Fluxo de Caixa'!$A$4=Base!$BB$2,Base!BE20,IF('Fluxo de Caixa'!$A$4=Base!$BO$2,Base!BR20,IF('Fluxo de Caixa'!$A$4=Base!$CB$2,Base!CE20,IF('Fluxo de Caixa'!$A$4=Base!$CO$2,Base!CR20,IF('Fluxo de Caixa'!$A$4=Base!$DB$2,Base!DE20,\"\")))))))))","v":0},{"$f":"IF($A$4=Base!$B$2,Base!F20,IF('Fluxo de Caixa'!$A$4=Base!$O$2,Base!S20,IF('Fluxo de Caixa'!$A$4=Base!$AB$2,Base!AF20,IF('Fluxo de Caixa'!$A$4=Base!$AO$2,Base!AS20,IF('Fluxo de Caixa'!$A$4=Base!$BB$2,Base!BF20,IF('Fluxo de Caixa'!$A$4=Base!$BO$2,Base!BS20,IF('Fluxo de Caixa'!$A$4=Base!$CB$2,Base!CF20,IF('Fluxo de Caixa'!$A$4=Base!$CO$2,Base!CS20,IF('Fluxo de Caixa'!$A$4=Base!$DB$2,Base!DF20,\"\")))))))))","v":0},{"$f":"IF($A$4=Base!$B$2,Base!G20,IF('Fluxo de Caixa'!$A$4=Base!$O$2,Base!T20,IF('Fluxo de Caixa'!$A$4=Base!$AB$2,Base!AG20,IF('Fluxo de Caixa'!$A$4=Base!$AO$2,Base!AT20,IF('Fluxo de Caixa'!$A$4=Base!$BB$2,Base!BG20,IF('Fluxo de Caixa'!$A$4=Base!$BO$2,Base!BT20,IF('Fluxo de Caixa'!$A$4=Base!$CB$2,Base!CG20,IF('Fluxo de Caixa'!$A$4=Base!$CO$2,Base!CT20,IF('Fluxo de Caixa'!$A$4=Base!$DB$2,Base!DG20,\"\")))))))))","v":0},{"$f":"IF($A$4=Base!$B$2,Base!H20,IF('Fluxo de Caixa'!$A$4=Base!$O$2,Base!U20,IF('Fluxo de Caixa'!$A$4=Base!$AB$2,Base!AH20,IF('Fluxo de Caixa'!$A$4=Base!$AO$2,Base!AU20,IF('Fluxo de Caixa'!$A$4=Base!$BB$2,Base!BH20,IF('Fluxo de Caixa'!$A$4=Base!$BO$2,Base!BU20,IF('Fluxo de Caixa'!$A$4=Base!$CB$2,Base!CH20,IF('Fluxo de Caixa'!$A$4=Base!$CO$2,Base!CU20,IF('Fluxo de Caixa'!$A$4=Base!$DB$2,Base!DH20,\"\")))))))))","v":0},{"$f":"IF($A$4=Base!$B$2,Base!I20,IF('Fluxo de Caixa'!$A$4=Base!$O$2,Base!V20,IF('Fluxo de Caixa'!$A$4=Base!$AB$2,Base!AI20,IF('Fluxo de Caixa'!$A$4=Base!$AO$2,Base!AV20,IF('Fluxo de Caixa'!$A$4=Base!$BB$2,Base!BI20,IF('Fluxo de Caixa'!$A$4=Base!$BO$2,Base!BV20,IF('Fluxo de Caixa'!$A$4=Base!$CB$2,Base!CI20,IF('Fluxo de Caixa'!$A$4=Base!$CO$2,Base!CV20,IF('Fluxo de Caixa'!$A$4=Base!$DB$2,Base!DI20,\"\")))))))))","v":0},{"$f":"IF($A$4=Base!$B$2,Base!J20,IF('Fluxo de Caixa'!$A$4=Base!$O$2,Base!W20,IF('Fluxo de Caixa'!$A$4=Base!$AB$2,Base!AJ20,IF('Fluxo de Caixa'!$A$4=Base!$AO$2,Base!AW20,IF('Fluxo de Caixa'!$A$4=Base!$BB$2,Base!BJ20,IF('Fluxo de Caixa'!$A$4=Base!$BO$2,Base!BW20,IF('Fluxo de Caixa'!$A$4=Base!$CB$2,Base!CJ20,IF('Fluxo de Caixa'!$A$4=Base!$CO$2,Base!CW20,IF('Fluxo de Caixa'!$A$4=Base!$DB$2,Base!DJ20,\"\")))))))))","v":0},{"$f":"IF($A$4=Base!$B$2,Base!K20,IF('Fluxo de Caixa'!$A$4=Base!$O$2,Base!X20,IF('Fluxo de Caixa'!$A$4=Base!$AB$2,Base!AK20,IF('Fluxo de Caixa'!$A$4=Base!$AO$2,Base!AX20,IF('Fluxo de Caixa'!$A$4=Base!$BB$2,Base!BK20,IF('Fluxo de Caixa'!$A$4=Base!$BO$2,Base!BX20,IF('Fluxo de Caixa'!$A$4=Base!$CB$2,Base!CK20,IF('Fluxo de Caixa'!$A$4=Base!$CO$2,Base!CX20,IF('Fluxo de Caixa'!$A$4=Base!$DB$2,Base!DK20,\"\")))))))))","v":0},{"$f":"IF($A$4=Base!$B$2,Base!L20,IF('Fluxo de Caixa'!$A$4=Base!$O$2,Base!Y20,IF('Fluxo de Caixa'!$A$4=Base!$AB$2,Base!AL20,IF('Fluxo de Caixa'!$A$4=Base!$AO$2,Base!AY20,IF('Fluxo de Caixa'!$A$4=Base!$BB$2,Base!BL20,IF('Fluxo de Caixa'!$A$4=Base!$BO$2,Base!BY20,IF('Fluxo de Caixa'!$A$4=Base!$CB$2,Base!CL20,IF('Fluxo de Caixa'!$A$4=Base!$CO$2,Base!CY20,IF('Fluxo de Caixa'!$A$4=Base!$DB$2,Base!DL20,\"\")))))))))","v":0},{"$f":"IF($A$4=Base!$B$2,Base!M20,IF('Fluxo de Caixa'!$A$4=Base!$O$2,Base!Z20,IF('Fluxo de Caixa'!$A$4=Base!$AB$2,Base!AM20,IF('Fluxo de Caixa'!$A$4=Base!$AO$2,Base!AZ20,IF('Fluxo de Caixa'!$A$4=Base!$BB$2,Base!BM20,IF('Fluxo de Caixa'!$A$4=Base!$BO$2,Base!BZ20,IF('Fluxo de Caixa'!$A$4=Base!$CB$2,Base!CM20,IF('Fluxo de Caixa'!$A$4=Base!$CO$2,Base!CZ20,IF('Fluxo de Caixa'!$A$4=Base!$DB$2,Base!DM20,\"\")))))))))","v":0},0,{"$error":"#DIV/0!"}]
[{"$f":"IF(Lançamentos!A18=\"\",\"\",Lançamentos!A18)","v":"Contador"},{"$f":"IF($A$4=Base!$B$2,Base!B21,IF('Fluxo de Caixa'!$A$4=Base!$O$2,Base!O21,IF('Fluxo de Caixa'!$A$4=Base!$AB$2,Base!AB21,IF('Fluxo de Caixa'!$A$4=Base!$AO$2,Base!AO21,IF('Fluxo de Caixa'!$A$4=Base!$BB$2,Base!BB21,IF('Fluxo de Caixa'!$A$4=Base!$BO$2,Base!BO21,IF('Fluxo de Caixa'!$A$4=Base!$CB$2,Base!CB21,IF('Fluxo de Caixa'!$A$4=Base!$CO$2,Base!CO21,IF('Fluxo de Caixa'!$A$4=Base!$DB$2,Base!DB21,\"\")))))))))","v":0},{"$f":"IF($A$4=Base!$B$2,Base!C21,IF('Fluxo de Caixa'!$A$4=Base!$O$2,Base!P21,IF('Fluxo de Caixa'!$A$4=Base!$AB$2,Base!AC21,IF('Fluxo de Caixa'!$A$4=Base!$AO$2,Base!AP21,IF('Fluxo de Caixa'!$A$4=Base!$BB$2,Base!BC21,IF('Fluxo de Caixa'!$A$4=Base!$BO$2,Base!BP21,IF('Fluxo de Caixa'!$A$4=Base!$CB$2,Base!CC21,IF('Fluxo de Caixa'!$A$4=Base!$CO$2,Base!CP21,IF('Fluxo de Caixa'!$A$4=Base!$DB$2,Base!DC21,\"\")))))))))","v":0},{"$f":"IF($A$4=Base!$B$2,Base!D21,IF('Fluxo de Caixa'!$A$4=Base!$O$2,Base!Q21,IF('Fluxo de Caixa'!$A$4=Base!$AB$2,Base!AD21,IF('Fluxo de Caixa'!$A$4=Base!$AO$2,Base!AQ21,IF('Fluxo de Caixa'!$A$4=Base!$BB$2,Base!BD21,IF('Fluxo de Caixa'!$A$4=Base!$BO$2,Base!BQ21,IF('Fluxo de Caixa'!$A$4=Base!$CB$2,Base!CD21,IF('Fluxo de Caixa'!$A$4=Base!$CO$2,Base!CQ21,IF('Fluxo de Caixa'!$A$4=Base!$DB$2,Base!DD21,\"\")))))))))","v":0},{"$f":"IF($A$4=Base!$B$2,Base!E21,IF('Fluxo de Caixa'!$A$4=Base!$O$2,Base!R21,IF('Fluxo de Caixa'!$A$4=Base!$AB$2,Base!AE21,IF('Fluxo de Caixa'!$A$4=Base!$AO$2,Base!AR21,IF('Fluxo de Caixa'!$A$4=Base!$BB$2,Base!BE21,IF('Fluxo de Caixa'!$A$4=Base!$BO$2,Base!BR21,IF('Fluxo de Caixa'!$A$4=Base!$CB$2,Base!CE21,IF('Fluxo de Caixa'!$A$4=Base!$CO$2,Base!CR21,IF('Fluxo de Caixa'!$A$4=Base!$DB$2,Base!DE21,\"\")))))))))","v":0},{"$f":"IF($A$4=Base!$B$2,Base!F21,IF('Fluxo de Caixa'!$A$4=Base!$O$2,Base!S21,IF('Fluxo de Caixa'!$A$4=Base!$AB$2,Base!AF21,IF('Fluxo de Caixa'!$A$4=Base!$AO$2,Base!AS21,IF('Fluxo de Caixa'!$A$4=Base!$BB$2,Base!BF21,IF('Fluxo de Caixa'!$A$4=Base!$BO$2,Base!BS21,IF('Fluxo de Caixa'!$A$4=Base!$CB$2,Base!CF21,IF('Fluxo de Caixa'!$A$4=Base!$CO$2,Base!CS21,IF('Fluxo de Caixa'!$A$4=Base!$DB$2,Base!DF21,\"\")))))))))","v":0},{"$f":"IF($A$4=Base!$B$2,Base!G21,IF('Fluxo de Caixa'!$A$4=Base!$O$2,Base!T21,IF('Fluxo de Caixa'!$A$4=Base!$AB$2,Base!AG21,IF('Fluxo de Caixa'!$A$4=Base!$AO$2,Base!AT21,IF('Fluxo de Caixa'!$A$4=Base!$BB$2,Base!BG21,IF('Fluxo de Caixa'!$A$4=Base!$BO$2,Base!BT21,IF('Fluxo de Caixa'!$A$4=Base!$CB$2,Base!CG21,IF('Fluxo de Caixa'!$A$4=Base!$CO$2,Base!CT21,IF('Fluxo de Caixa'!$A$4=Base!$DB$2,Base!DG21,\"\")))))))))","v":0},{"$f":"IF($A$4=Base!$B$2,Base!H21,IF('Fluxo de Caixa'!$A$4=Base!$O$2,Base!U21,IF('Fluxo de Caixa'!$A$4=Base!$AB$2,Base!AH21,IF('Fluxo de Caixa'!$A$4=Base!$AO$2,Base!AU21,IF('Fluxo de Caixa'!$A$4=Base!$BB$2,Base!BH21,IF('Fluxo de Caixa'!$A$4=Base!$BO$2,Base!BU21,IF('Fluxo de Caixa'!$A$4=Base!$CB$2,Base!CH21,IF('Fluxo de Caixa'!$A$4=Base!$CO$2,Base!CU21,IF('Fluxo de Caixa'!$A$4=Base!$DB$2,Base!DH21,\"\")))))))))","v":0},{"$f":"IF($A$4=Base!$B$2,Base!I21,IF('Fluxo de Caixa'!$A$4=Base!$O$2,Base!V21,IF('Fluxo de Caixa'!$A$4=Base!$AB$2,Base!AI21,IF('Fluxo de Caixa'!$A$4=Base!$AO$2,Base!AV21,IF('Fluxo de Caixa'!$A$4=Base!$BB$2,Base!BI21,IF('Fluxo de Caixa'!$A$4=Base!$BO$2,Base!BV21,IF('Fluxo de Caixa'!$A$4=Base!$CB$2,Base!CI21,IF('Fluxo de Caixa'!$A$4=Base!$CO$2,Base!CV21,IF('Fluxo de Caixa'!$A$4=Base!$DB$2,Base!DI21,\"\")))))))))","v":0},{"$f":"IF($A$4=Base!$B$2,Base!J21,IF('Fluxo de Caixa'!$A$4=Base!$O$2,Base!W21,IF('Fluxo de Caixa'!$A$4=Base!$AB$2,Base!AJ21,IF('Fluxo de Caixa'!$A$4=Base!$AO$2,Base!AW21,IF('Fluxo de Caixa'!$A$4=Base!$BB$2,Base!BJ21,IF('Fluxo de Caixa'!$A$4=Base!$BO$2,Base!BW21,IF('Fluxo de Caixa'!$A$4=Base!$CB$2,Base!CJ21,IF('Fluxo de Caixa'!$A$4=Base!$CO$2,Base!CW21,IF('Fluxo de Caixa'!$A$4=Base!$DB$2,Base!DJ21,\"\")))))))))","v":0},{"$f":"IF($A$4=Base!$B$2,Base!K21,IF('Fluxo de Caixa'!$A$4=Base!$O$2,Base!X21,IF('Fluxo de Caixa'!$A$4=Base!$AB$2,Base!AK21,IF('Fluxo de Caixa'!$A$4=Base!$AO$2,Base!AX21,IF('Fluxo de Caixa'!$A$4=Base!$BB$2,Base!BK21,IF('Fluxo de Caixa'!$A$4=Base!$BO$2,Base!BX21,IF('Fluxo de Caixa'!$A$4=Base!$CB$2,Base!CK21,IF('Fluxo de Caixa'!$A$4=Base!$CO$2,Base!CX21,IF('Fluxo de Caixa'!$A$4=Base!$DB$2,Base!DK21,\"\")))))))))","v":0},{"$f":"IF($A$4=Base!$B$2,Base!L21,IF('Fluxo de Caixa'!$A$4=Base!$O$2,Base!Y21,IF('Fluxo de Caixa'!$A$4=Base!$AB$2,Base!AL21,IF('Fluxo de Caixa'!$A$4=Base!$AO$2,Base!AY21,IF('Fluxo de Caixa'!$A$4=Base!$BB$2,Base!BL21,IF('Fluxo de Caixa'!$A$4=Base!$BO$2,Base!BY21,IF('Fluxo de Caixa'!$A$4=Base!$CB$2,Base!CL21,IF('Fluxo de Caixa'!$A$4=Base!$CO$2,Base!CY21,IF('Fluxo de Caixa'!$A$4=Base!$DB$2,Base!DL21,\"\")))))))))","v":0},{"$f":"IF($A$4=Base!$B$2,Base!M21,IF('Fluxo de Caixa'!$A$4=Base!$O$2,Base!Z21,IF('Fluxo de Caixa'!$A$4=Base!$AB$2,Base!AM21,IF('Fluxo de Caixa'!$A$4=Base!$AO$2,Base!AZ21,IF('Fluxo de Caixa'!$A$4=Base!$BB$2,Base!BM21,IF('Fluxo de Caixa'!$A$4=Base!$BO$2,Base!BZ21,IF('Fluxo de Caixa'!$A$4=Base!$CB$2,Base!CM21,IF('Fluxo de Caixa'!$A$4=Base!$CO$2,Base!CZ21,IF('Fluxo de Caixa'!$A$4=Base!$DB$2,Base!DM21,\"\")))))))))","v":0},0,{"$error":"#DIV/0!"}]
[{"$f":"IF(Lançamentos!A19=\"\",\"\",Lançamentos!A19)","v":"Outras Saídas 1"},{"$f":"IF($A$4=Base!$B$2,Base!B22,IF('Fluxo de Caixa'!$A$4=Base!$O$2,Base!O22,IF('Fluxo de Caixa'!$A$4=Base!$AB$2,Base!AB22,IF('Fluxo de Caixa'!$A$4=Base!$AO$2,Base!AO22,IF('Fluxo de Caixa'!$A$4=Base!$BB$2,Base!BB22,IF('Fluxo de Caixa'!$A$4=Base!$BO$2,Base!BO22,IF('Fluxo de Caixa'!$A$4=Base!$CB$2,Base!CB22,IF('Fluxo de Caixa'!$A$4=Base!$CO$2,Base!CO22,IF('Fluxo de Caixa'!$A$4=Base!$DB$2,Base!DB22,\"\")))))))))","v":0},{"$f":"IF($A$4=Base!$B$2,Base!C22,IF('Fluxo de Caixa'!$A$4=Base!$O$2,Base!P22,IF('Fluxo de Caixa'!$A$4=Base!$AB$2,Base!AC22,IF('Fluxo de Caixa'!$A$4=Base!$AO$2,Base!AP22,IF('Fluxo de Caixa'!$A$4=Base!$BB$2,Base!BC22,IF('Fluxo de Caixa'!$A$4=Base!$BO$2,Base!BP22,IF('Fluxo de Caixa'!$A$4=Base!$CB$2,Base!CC22,IF('Fluxo de Caixa'!$A$4=Base!$CO$2,Base!CP22,IF('Fluxo de Caixa'!$A$4=Base!$DB$2,Base!DC22,\"\")))))))))","v":0},{"$f":"IF($A$4=Base!$B$2,Base!D22,IF('Fluxo de Caixa'!$A$4=Base!$O$2,Base!Q22,IF('Fluxo de Caixa'!$A$4=Base!$AB$2,Base!AD22,IF('Fluxo de Caixa'!$A$4=Base!$AO$2,Base!AQ22,IF('Fluxo de Caixa'!$A$4=Base!$BB$2,Base!BD22,IF('Fluxo de Caixa'!$A$4=Base!$BO$2,Base!BQ22,IF('Fluxo de Caixa'!$A$4=Base!$CB$2,Base!CD22,IF('Fluxo de Caixa'!$A$4=Base!$CO$2,Base!CQ22,IF('Fluxo de Caixa'!$A$4=Base!$DB$2,Base!DD22,\"\")))))))))","v":0},{"$f":"IF($A$4=Base!$B$2,Base!E22,IF('Fluxo de Caixa'!$A$4=Base!$O$2,Base!R22,IF('Fluxo de Caixa'!$A$4=Base!$AB$2,Base!AE22,IF('Fluxo de Caixa'!$A$4=Base!$AO$2,Base!AR22,IF('Fluxo de Caixa'!$A$4=Base!$BB$2,Base!BE22,IF('Fluxo de Caixa'!$A$4=Base!$BO$2,Base!BR22,IF('Fluxo de Caixa'!$A$4=Base!$CB$2,Base!CE22,IF('Fluxo de Caixa'!$A$4=Base!$CO$2,Base!CR22,IF('Fluxo de Caixa'!$A$4=Base!$DB$2,Base!DE22,\"\")))))))))","v":0},{"$f":"IF($A$4=Base!$B$2,Base!F22,IF('Fluxo de Caixa'!$A$4=Base!$O$2,Base!S22,IF('Fluxo de Caixa'!$A$4=Base!$AB$2,Base!AF22,IF('Fluxo de Caixa'!$A$4=Base!$AO$2,Base!AS22,IF('Fluxo de Caixa'!$A$4=Base!$BB$2,Base!BF22,IF('Fluxo de Caixa'!$A$4=Base!$BO$2,Base!BS22,IF('Fluxo de Caixa'!$A$4=Base!$CB$2,Base!CF22,IF('Fluxo de Caixa'!$A$4=Base!$CO$2,Base!CS22,IF('Fluxo de Caixa'!$A$4=Base!$DB$2,Base!DF22,\"\")))))))))","v":0},{"$f":"IF($A$4=Base!$B$2,Base!G22,IF('Fluxo de Caixa'!$A$4=Base!$O$2,Base!T22,IF('Fluxo de Caixa'!$A$4=Base!$AB$2,Base!AG22,IF('Fluxo de Caixa'!$A$4=Base!$AO$2,Base!AT22,IF('Fluxo de Caixa'!$A$4=Base!$BB$2,Base!BG22,IF('Fluxo de Caixa'!$A$4=Base!$BO$2,Base!BT22,IF('Fluxo de Caixa'!$A$4=Base!$CB$2,Base!CG22,IF('Fluxo de Caixa'!$A$4=Base!$CO$2,Base!CT22,IF('Fluxo de Caixa'!$A$4=Base!$DB$2,Base!DG22,\"\")))))))))","v":0},{"$f":"IF($A$4=Base!$B$2,Base!H22,IF('Fluxo de Caixa'!$A$4=Base!$O$2,Base!U22,IF('Fluxo de Caixa'!$A$4=Base!$AB$2,Base!AH22,IF('Fluxo de Caixa'!$A$4=Base!$AO$2,Base!AU22,IF('Fluxo de Caixa'!$A$4=Base!$BB$2,Base!BH22,IF('Fluxo de Caixa'!$A$4=Base!$BO$2,Base!BU22,IF('Fluxo de Caixa'!$A$4=Base!$CB$2,Base!CH22,IF('Fluxo de Caixa'!$A$4=Base!$CO$2,Base!CU22,IF('Fluxo de Caixa'!$A$4=Base!$DB$2,Base!DH22,\"\")))))))))","v":0},{"$f":"IF($A$4=Base!$B$2,Base!I22,IF('Fluxo de Caixa'!$A$4=Base!$O$2,Base!V22,IF('Fluxo de Caixa'!$A$4=Base!$AB$2,Base!AI22,IF('Fluxo de Caixa'!$A$4=Base!$AO$2,Base!AV22,IF('Fluxo de Caixa'!$A$4=Base!$BB$2,Base!BI22,IF('Fluxo de Caixa'!$A$4=Base!$BO$2,Base!BV22,IF('Fluxo de Caixa'!$A$4=Base!$CB$2,Base!CI22,IF('Fluxo de Caixa'!$A$4=Base!$CO$2,Base!CV22,IF('Fluxo de Caixa'!$A$4=Base!$DB$2,Base!DI22,\"\")))))))))","v":0},{"$f":"IF($A$4=Base!$B$2,Base!J22,IF('Fluxo de Caixa'!$A$4=Base!$O$2,Base!W22,IF('Fluxo de Caixa'!$A$4=Base!$AB$2,Base!AJ22,IF('Fluxo de Caixa'!$A$4=Base!$AO$2,Base!AW22,IF('Fluxo de Caixa'!$A$4=Base!$BB$2,Base!BJ22,IF('Fluxo de Caixa'!$A$4=Base!$BO$2,Base!BW22,IF('Fluxo de Caixa'!$A$4=Base!$CB$2,Base!CJ22,IF('Fluxo de Caixa'!$A$4=Base!$CO$2,Base!CW22,IF('Fluxo de Caixa'!$A$4=Base!$DB$2,Base!DJ22,\"\")))))))))","v":0},{"$f":"IF($A$4=Base!$B$2,Base!K22,IF('Fluxo de Caixa'!$A$4=Base!$O$2,Base!X22,IF('Fluxo de Caixa'!$A$4=Base!$AB$2,Base!AK22,IF('Fluxo de Caixa'!$A$4=Base!$AO$2,Base!AX22,IF('Fluxo de Caixa'!$A$4=Base!$BB$2,Base!BK22,IF('Fluxo de Caixa'!$A$4=Base!$BO$2,Base!BX22,IF('Fluxo de Caixa'!$A$4=Base!$CB$2,Base!CK22,IF('Fluxo de Caixa'!$A$4=Base!$CO$2,Base!CX22,IF('Fluxo de Caixa'!$A$4=Base!$DB$2,Base!DK22,\"\")))))))))","v":0},{"$f":"IF($A$4=Base!$B$2,Base!L22,IF('Fluxo de Caixa'!$A$4=Base!$O$2,Base!Y22,IF('Fluxo de Caixa'!$A$4=Base!$AB$2,Base!AL22,IF('Fluxo de Caixa'!$A$4=Base!$AO$2,Base!AY22,IF('Fluxo de Caixa'!$A$4=Base!$BB$2,Base!BL22,IF('Fluxo de Caixa'!$A$4=Base!$BO$2,Base!BY22,IF('Fluxo de Caixa'!$A$4=Base!$CB$2,Base!CL22,IF('Fluxo de Caixa'!$A$4=Base!$CO$2,Base!CY22,IF('Fluxo de Caixa'!$A$4=Base!$DB$2,Base!DL22,\"\")))))))))","v":0},{"$f":"IF($A$4=Base!$B$2,Base!M22,IF('Fluxo de Caixa'!$A$4=Base!$O$2,Base!Z22,IF('Fluxo de Caixa'!$A$4=Base!$AB$2,Base!AM22,IF('Fluxo de Caixa'!$A$4=Base!$AO$2,Base!AZ22,IF('Fluxo de Caixa'!$A$4=Base!$BB$2,Base!BM22,IF('Fluxo de Caixa'!$A$4=Base!$BO$2,Base!BZ22,IF('Fluxo de Caixa'!$A$4=Base!$CB$2,Base!CM22,IF('Fluxo de Caixa'!$A$4=Base!$CO$2,Base!CZ22,IF('Fluxo de Caixa'!$A$4=Base!$DB$2,Base!DM22,\"\")))))))))","v":0},0,{"$error":"#DIV/0!"}]
[{"$f":"IF(Lançamentos!A20=\"\",\"\",Lançamentos!A20)","v":"Outras Saídas 2"},{"$f":"IF($A$4=Base!$B$2,Base!B23,IF('Fluxo de Caixa'!$A$4=Base!$O$2,Base!O23,IF('Fluxo de Caixa'!$A$4=Base!$AB$2,Base!AB23,IF('Fluxo de Caixa'!$A$4=Base!$AO$2,Base!AO23,IF('Fluxo de Caixa'!$A$4=Base!$BB$2,Base!BB23,IF('Fluxo de Caixa'!$A$4=Base!$BO$2,Base!BO23,IF('Fluxo de Caixa'!$A$4=Base!$CB$2,Base!CB23,IF('Fluxo de Caixa'!$A$4=Base!$CO$2,Base!CO23,IF('Fluxo de Caixa'!$A$4=Base!$DB$2,Base!DB23,\"\")))))))))","v":0},{"$f":"IF($A$4=Base!$B$2,Base!C23,IF('Fluxo de Caixa'!$A$4=Base!$O$2,Base!P23,IF('Fluxo de Caixa'!$A$4=Base!$AB$2,Base!AC23,IF('Fluxo de Caixa'!$A$4=Base!$AO$2,Base!AP23,IF('Fluxo de Caixa'!$A$4=Base!$BB$2,Base!BC23,IF('Fluxo de Caixa'!$A$4=Base!$BO$2,Base!BP23,IF('Fluxo de Caixa'!$A$4=Base!$CB$2,Base!CC23,IF('Fluxo de Caixa'!$A$4=Base!$CO$2,Base!CP23,IF('Fluxo de Caixa'!$A$4=Base!$DB$2,Base!DC23,\"\")))))))))","v":0},{"$f":"IF($A$4=Base!$B$2,Base!D23,IF('Fluxo de Caixa'!$A$4=Base!$O$2,Base!Q23,IF('Fluxo de Caixa'!$A$4=Base!$AB$2,Base!AD23,IF('Fluxo de Caixa'!$A$4=Base!$AO$2,Base!AQ23,IF('Fluxo de Caixa'!$A$4=Base!$BB$2,Base!BD23,IF('Fluxo de Caixa'!$A$4=Base!$BO$2,Base!BQ23,IF('Fluxo de Caixa'!$A$4=Base!$CB$2,Base!CD23,IF('Fluxo de Caixa'!$A$4=Base!$CO$2,Base!CQ23,IF('Fluxo de Caixa'!$A$4=Base!$DB$2,Base!DD23,\"\")))))))))","v":0},{"$f":"IF($A$4=Base!$B$2,Base!E23,IF('Fluxo de Caixa'!$A$4=Base!$O$2,Base!R23,IF('Fluxo de Caixa'!$A$4=Base!$AB$2,Base!AE23,IF('Fluxo de Caixa'!$A$4=Base!$AO$2,Base!AR23,IF('Fluxo de Caixa'!$A$4=Base!$BB$2,Base!BE23,IF('Fluxo de Caixa'!$A$4=Base!$BO$2,Base!BR23,IF('Fluxo de Caixa'!$A$4=Base!$CB$2,Base!CE23,IF('Fluxo de Caixa'!$A$4=Base!$CO$2,Base!CR23,IF('Fluxo de Caixa'!$A$4=Base!$DB$2,Base!DE23,\"\")))))))))","v":0},{"$f":"IF($A$4=Base!$B$2,Base!F23,IF('Fluxo de Caixa'!$A$4=Base!$O$2,Base!S23,IF('Fluxo de Caixa'!$A$4=Base!$AB$2,Base!AF23,IF('Fluxo de Caixa'!$A$4=Base!$AO$2,Base!AS23,IF('Fluxo de Caixa'!$A$4=Base!$BB$2,Base!BF23,IF('Fluxo de Caixa'!$A$4=Base!$BO$2,Base!BS23,IF('Fluxo de Caixa'!$A$4=Base!$CB$2,Base!CF23,IF('Fluxo de Caixa'!$A$4=Base!$CO$2,Base!CS23,IF('Fluxo de Caixa'!$A$4=Base!$DB$2,Base!DF23,\"\")))))))))","v":0},{"$f":"IF($A$4=Base!$B$2,Base!G23,IF('Fluxo de Caixa'!$A$4=Base!$O$2,Base!T23,IF('Fluxo de Caixa'!$A$4=Base!$AB$2,Base!AG23,IF('Fluxo de Caixa'!$A$4=Base!$AO$2,Base!AT23,IF('Fluxo de Caixa'!$A$4=Base!$BB$2,Base!BG23,IF('Fluxo de Caixa'!$A$4=Base!$BO$2,Base!BT23,IF('Fluxo de Caixa'!$A$4=Base!$CB$2,Base!CG23,IF('Fluxo de Caixa'!$A$4=Base!$CO$2,Base!CT23,IF('Fluxo de Caixa'!$A$4=Base!$DB$2,Base!DG23,\"\")))))))))","v":0},{"$f":"IF($A$4=Base!$B$2,Base!H23,IF('Fluxo de Caixa'!$A$4=Base!$O$2,Base!U23,IF('Fluxo de Caixa'!$A$4=Base!$AB$2,Base!AH23,IF('Fluxo de Caixa'!$A$4=Base!$AO$2,Base!AU23,IF('Fluxo de Caixa'!$A$4=Base!$BB$2,Base!BH23,IF('Fluxo de Caixa'!$A$4=Base!$BO$2,Base!BU23,IF('Fluxo de Caixa'!$A$4=Base!$CB$2,Base!CH23,IF('Fluxo de Caixa'!$A$4=Base!$CO$2,Base!CU23,IF('Fluxo de Caixa'!$A$4=Base!$DB$2,Base!DH23,\"\")))))))))","v":0},{"$f":"IF($A$4=Base!$B$2,Base!I23,IF('Fluxo de Caixa'!$A$4=Base!$O$2,Base!V23,IF('Fluxo de Caixa'!$A$4=Base!$AB$2,Base!AI23,IF('Fluxo de Caixa'!$A$4=Base!$AO$2,Base!AV23,IF('Fluxo de Caixa'!$A$4=Base!$BB$2,Base!BI23,IF('Fluxo de Caixa'!$A$4=Base!$BO$2,Base!BV23,IF('Fluxo de Caixa'!$A$4=Base!$CB$2,Base!CI23,IF('Fluxo de Caixa'!$A$4=Base!$CO$2,Base!CV23,IF('Fluxo de Caixa'!$A$4=Base!$DB$2,Base!DI23,\"\")))))))))","v":0},{"$f":"IF($A$4=Base!$B$2,Base!J23,IF('Fluxo de Caixa'!$A$4=Base!$O$2,Base!W23,IF('Fluxo de Caixa'!$A$4=Base!$AB$2,Base!AJ23,IF('Fluxo de Caixa'!$A$4=Base!$AO$2,Base!AW23,IF('Fluxo de Caixa'!$A$4=Base!$BB$2,Base!BJ23,IF('Fluxo de Caixa'!$A$4=Base!$BO$2,Base!BW23,IF('Fluxo de Caixa'!$A$4=Base!$CB$2,Base!CJ23,IF('Fluxo de Caixa'!$A$4=Base!$CO$2,Base!CW23,IF('Fluxo de Caixa'!$A$4=Base!$DB$2,Base!DJ23,\"\")))))))))","v":0},{"$f":"IF($A$4=Base!$B$2,Base!K23,IF('Fluxo de Caixa'!$A$4=Base!$O$2,Base!X23,IF('Fluxo de Caixa'!$A$4=Base!$AB$2,Base!AK23,IF('Fluxo de Caixa'!$A$4=Base!$AO$2,Base!AX23,IF('Fluxo de Caixa'!$A$4=Base!$BB$2,Base!BK23,IF('Fluxo de Caixa'!$A$4=Base!$BO$2,Base!BX23,IF('Fluxo de Caixa'!$A$4=Base!$CB$2,Base!CK23,IF('Fluxo de Caixa'!$A$4=Base!$CO$2,Base!CX23,IF('Fluxo de Caixa'!$A$4=Base!$DB$2,Base!DK23,\"\")))))))))","v":0},{"$f":"IF($A$4=Base!$B$2,Base!L23,IF('Fluxo de Caixa'!$A$4=Base!$O$2,Base!Y23,IF('Fluxo de Caixa'!$A$4=Base!$AB$2,Base!AL23,IF('Fluxo de Caixa'!$A$4=Base!$AO$2,Base!AY23,IF('Fluxo de Caixa'!$A$4=Base!$BB$2,Base!BL23,IF('Fluxo de Caixa'!$A$4=Base!$BO$2,Base!BY23,IF('Fluxo de Caixa'!$A$4=Base!$CB$2,Base!CL23,IF('Fluxo de Caixa'!$A$4=Base!$CO$2,Base!CY23,IF('Fluxo de Caixa'!$A$4=Base!$DB$2,Base!DL23,\"\")))))))))","v":0},{"$f":"IF($A$4=Base!$B$2,Base!M23,IF('Fluxo de Caixa'!$A$4=Base!$O$2,Base!Z23,IF('Fluxo de Caixa'!$A$4=Base!$AB$2,Base!AM23,IF('Fluxo de Caixa'!$A$4=Base!$AO$2,Base!AZ23,IF('Fluxo de Caixa'!$A$4=Base!$BB$2,Base!BM23,IF('Fluxo de Caixa'!$A$4=Base!$BO$2,Base!BZ23,IF('Fluxo de Caixa'!$A$4=Base!$CB$2,Base!CM23,IF('Fluxo de Caixa'!$A$4=Base!$CO$2,Base!CZ23,IF('Fluxo de Caixa'!$A$4=Base!$DB$2,Base!DM23,\"\")))))))))","v":0},{"$f":"SUM(B23:M23)","v":0},{"$error":"#DIV/0!"}]
["Total de Saídas",{"$f":"SUM(B13:B23)","v":0},{"$f":"SUM(C13:C23)","v":0},0,0,0,0,0,0,0,0,0,0,{"$f":"SUM(B24:M24)","v":0}]
["Saldo Operacional (Entradas - Saídas)",{"$f":"B12-B24","v":0},0,0,0,0,0,0,0,0,0,0,0,0]
["Saldo Acumulado (Saldo Operacional + Saldo Inicial)",{"$f":"B5+B25","v":0},0,0,0,0,0,0,0,0,0,0,0,{"$f":"$N$25+$N$5","v":0}]

{"sheet":"Relatório","index":5,"n_rows":175,"n_cols":2,"rows_kept":175,"cut":false,"hidden":false,"merged":[[174,0,174,31],[4,0,5,31],[0,0,2,31],[78,0,79,31]]}
[{"$f":"CONCATENATE(\"Relatório Consolidado das Contas de Caixa da Empresa \",Lançamentos!$F$2)","v":"Relatório Consolidado das Contas de Caixa da Empresa "}]
[]
[]
["Ano:",{"$f":"'Fluxo de Caixa'!$A$4","v":2017}]
["Fluxo de Caixa"]
[]
[]
[]
[]
[]
[]
[]
[]
[]
[]
[]
[]
[]
[]
[]
[]
[]
[]
[]
[]
[]
[]
[]
[]
[]
[]
[]
[]
[]
[]
[]
[]
[]
[]
[]
[]
[]
[]
[]
[]
[]
[]
[]
[]
[]
[]
[]
[]
[]
[]
[]
[]
[]
[]
[]
[]
[]
[]
[]
[]
[]
[]
[]
[]
[]
[]
[]
[]
[]
[]
[]
[]
[]
["Evolução das Contas de Saída de Caixa no Decorrer do Ano"]
[]
[]
[]
[]
[]
[]
[]
[]
[]
[]
[]
[]
[]
[]
[]
[]
[]
[]
[]
[]
[]
[]
[]
[]
[]
[]
[]
[]
[]
[]
[]
[]
[]
[]
[]
[]
[]
[]
[]
[]
[]
[]
[]
[]
[]
[]
[]
[]
[]
[]
[]
[]
[]
[]
[]
[]
[]
[]
[]
[]
[]
[]
[]
[]
[]
[]
[]
[]
[]
[]
[]
[]
[]
[]
[]
[]
[]
[]
[]
[]
[]
[]
[]
[]
[]
[]
[]
[]
[]
[]
[]
[]
[]
[]
[]
["***Fim***"]

{"sheet":"Base","index":6,"n_rows":26,"n_cols":198,"rows_kept":26,"cut":false,"hidden":true,"merged":[[1,1,1,13],[0,0,0,195],[1,14,1,26],[1,27,1,39],[1,40,1,52],[1,53,1,65],[1,66,1,78],[1,79,1,91],[1,92,1,104],[1,105,1,117],[1,118,1,130],[1,196,1,208],[1,131,1,143],[1,144,1,156],[1,157,1,169],[1,170,1,182],[1,183,1,195]]}
["FLUXO DE CAIXA"]
["ANO",2017,null,null,null,null,null,null,null,null,null,null,null,null,2018,null,null,null,null,null,null,null,null,null,null,null,null,2019,null,null,null,null,null,null,null,null,null,null,null,null,2020,null,null,null,null,null,null,null,null,null,null,null,null,2021,null,null,null,null,null,null,null,null,null,null,null,null,2022,null,null,null,null,null,null,null,null,null,null,null,null,2023,null,null,null,null,null,null,null,null,null,null,null,null,2024,null,null,null,null,null,null,null,null,null,null,null,null,2025,null,null,null,null,null,null,null,null,null,null,null,null,2026,null,null,null,null,null,null,null,null,null,null,null,null,2027,null,null,null,null,null,null,null,null,null,null,null,null,2028,null,null,null,null,null,null,null,null,null,null,null,null,2029,null,null,null,null,null,null,null,null,null,null,null,null,2030,null,null,null,null,null,null,null,null,null,null,null,null,2031]
["MÊS",1,2,3,4,5,6,7,8,9,10,11,12,"Consolidado",1,2,3,4,5,6,7,8,9,10,11,12,"Consolidado",1,2,3,4,5,6,7,8,9,10,11,12,"Consolidado",1,2,3,4,5,6,7,8,9,10,11,12,"Consolidado",1,2,3,4,5,6,7,8,9,10,11,12,"Consolidado",1,2,3,4,5,6,7,8,9,10,11,12,"Consolidado",1,2,3,4,5,6,7,8,9,10,11,12,"Consolidado",1,2,3,4,5,6,7,8,9,10,11,12,"Consolidado",1,2,3,4,5,6,7,8,9,10,11,12,"Consolidado",1,2,3,4,5,6,7,8,9,10,11,12,"Consolidado",1,2,3,4,5,6,7,8,9,10,11,12,"Consolidado",1,2,3,4,5,6,7,8,9,10,11,12,"Consolidado",1,2,3,4,5,6,7,8,9,10,11,12,"Consolidado",1,2,3,4,5,6,7,8,9,10,11,12,"Consolidado",1,2,3,4,5,6,7,8,9,10,11,12,"Consolidado",null,2017]
[null,"Valores","Valores","Valores","Valores","Valores","Valores","Valores","Valores","Valores","Valores","Valores","Valores","Valores","Valores","Valores","Valores","Valores","Valores","Valores","Valores","Valores","Valores","Valores","Valores","Valores","Valores","Valores","Valores","Valores","Valores","Valores","Valores","Valores","Valores","Valores","Valores","Valores","Valores","Valores","Valores","Valores","Valores","Valores","Valores","Valores","Valores","Valores","Valores","Valores","Valores","Valores","Valores","Valores","Valores","Valores","Valores","Valores","Valores","Valores","Valores","Valores","Valores","Valores","Valores","Valores","Valores","Valores","Valores","Valores","Valores","Valores","Valores","Valores","Valores","Valores","Valores","Valores","Valores","Valores","Valores","Valores","Valores","Valores","Valores","Valores","Valores","Valores","Valores","Valores","Valores","Valores","Valores","Valores","Valores","Valores","Valores","Valores","Valores","Valores","Valores","Valores","Valores","Valores","Valores","Valores","Valores","Valores","Valores","Valores","Valores","Valores","Valores","Valores","Valores","Valores","Valores","Valores","Valores","Valores","Valores","Valores","Valores","Valores","Valores","Valores","Valores","Valores","Valores","Valores","Valores","Valores","Valores","Valores","Valores","Valores","Valores","Valores","Valores","Valores","Valores","Valores","Valores","Valores","Valores","Valores","Valores","Valores","Valores","Valores","Valores","Valores","Valores","Valores","Valores","Valores","Valores","Valores","Valores","Valores","Valores","Valores","Valores","Valores","Valores","Valores","Valores","Valores","Valores","Valores","Valores","Valores","Valores","Valores","Valores","Valores","Valores","Valores","Valores","Valores","Valores","Valores","Valores","Valores","Valores","Valores","Valores","Valores","Valores","Valores","Valores","Valores","Valores","Valores","Valores","Valores",null,2018]
["Saldo Inicial do Caixa",{"$f":"IF('Fluxo de Caixa'!$A$4=Base!B2,'Fluxo de Caixa'!$B$5,0)","v":0},{"$f":"B26","v":0},0,0,0,0,0,0,0,0,0,0,{"$f":"$B$5","v":0},{"$f":"IF('Fluxo de Caixa'!$A$4=Base!O2,'Fluxo de Caixa'!$B$5,0)","v":0},{"$f":"O26","v":0},0,0,0,0,0,0,0,0,0,0,{"$f":"$B$5","v":0},{"$f":"IF('Fluxo de Caixa'!$A$4=Base!AB2,'Fluxo de Caixa'!$B$5,0)","v":0},{"$f":"AB26","v":0},0,0,0,0,0,0,0,0,0,0,{"$f":"AB5","v":0},{"$f":"IF('Fluxo de Caixa'!$A$4=Base!AO2,'Fluxo de Caixa'!$B$5,0)","v":0},{"$f":"AO26","v":0},0,0,0,0,0,0,0,0,0,0,{"$f":"AO5","v":0},{"$f":"IF('Fluxo de Caixa'!$A$4=Base!BB2,'Fluxo de Caixa'!$B$5,0)","v":0},{"$f":"BB26","v":0},0,0,0,0,0,0,0,0,0,0,{"$f":"BB5","v":0},{"$f":"IF('Fluxo de Caixa'!$A$4=Base!BO2,'Fluxo de Caixa'!$B$5,0)","v":0},{"$f":"BO26","v":0},0,0,0,0,0,0,0,0,0,0,{"$f":"BO5","v":0},{"$f":"IF('Fluxo de Caixa'!$A$4=Base!CB2,'Fluxo de Caixa'!$B$5,0)","v":0},{"$f":"CB26","v":0},0,0,0,0,0,0,0,0,0,0,{"$f":"CB5","v":0},{"$f":"IF('Fluxo de Caixa'!$A$4=Base!CO2,'Fluxo de Caixa'!$B$5,0)","v":0},{"$f":"CO26","v":0},0,0,0,0,0,0,0,0,0,0,{"$f":"CO5","v":0},{"$f":"IF('Fluxo de Caixa'!$A$4=Base!DB2,'Fluxo de Caixa'!$B$5,0)","v":0},{"$f":"DB26","v":0},0,0,0,0,0,0,0,0,0,0,{"$f":"$B$5","v":0},{"$f":"IF('Fluxo de Caixa'!$A$4=Base!DO2,'Fluxo de Caixa'!$B$5,0)","v":0},{"$f":"DO26","v":0},0,0,0,0,0,0,0,0,0,0,{"$f":"DO5","v":0},{"$f":"IF('Fluxo de Caixa'!$A$4=Base!EB2,'Fluxo de Caixa'!$B$5,0)","v":0},{"$f":"EB26","v":0},0,0,0,0,0,0,0,0,0,0,{"$f":"EB5","v":0},{"$f":"IF('Fluxo de Caixa'!$A$4=Base!EO2,'Fluxo de Caixa'!$B$5,0)","v":0},{"$f":"EO26","v":0},0,0,0,0,0,0,0,0,0,0,{"$f":"EO5","v":0},{"$f":"IF('Fluxo de Caixa'!$A$4=Base!FB2,'Fluxo de Caixa'!$B$5,0)","v":0},{"$f":"FB26","v":0},0,0,0,0,0,0,0,0,0,0,{"$f":"FB5","v":0},{"$f":"IF('Fluxo de Caixa'!$A$4=Base!FO2,'Fluxo de Caixa'!$B$5,0)","v":0},{"$f":"FO26","v":0},0,0,0,0,0,0,0,0,0,0,{"$f":"$B$5","v":0},{"$f":"IF('Fluxo de Caixa'!$A$4=Base!GB2,'Fluxo de Caixa'!$B$5,0)","v":0},{"$f":"GB26","v":0},0,0,0,0,0,0,0,0,0,0,{"$f":"GB5","v":0},null,2019]
[{"$f":"(IF(Lançamentos!A3=\"\",\"\",Lançamentos!A3))","v":"Dinheiro"},{"$f":"SUMIFS(Lançamentos!$G$4:$G$1048576,Lançamentos!$F$4:$F$1048576,Base!$A6,Lançamentos!$D$4:$D$1048576,Base!B$3,Lançamentos!$E$4:$E$1048576,Base!$B$2)","v":0},{"$f":"SUMIFS(Lançamentos!$G$4:$G$1048576,Lançamentos!$F$4:$F$1048576,Base!$A6,Lançamentos!$D$4:$D$1048576,Base!C$3,Lançamentos!$E$4:$E$1048576,Base!$B$2)","v":0},{"$f":"SUMIFS(Lançamentos!$G$4:$G$1048576,Lançamentos!$F$4:$F$1048576,Base!$A6,Lançamentos!$D$4:$D$1048576,Base!D$3,Lançamentos!$E$4:$E$1048576,Base!$B$2)","v":0},{"$f":"SUMIFS(Lançamentos!$G$4:$G$1048576,Lançamentos!$F$4:$F$1048576,Base!$A6,Lançamentos!$D$4:$D$1048576,Base!E$3,Lançamentos!$E$4:$E$1048576,Base!$B$2)","v":0},{"$f":"SUMIFS(Lançamentos!$G$4:$G$1048576,Lançamentos!$F$4:$F$1048576,Base!$A6,Lançamentos!$D$4:$D$1048576,Base!F$3,Lançamentos!$E$4:$E$1048576,Base!$B$2)","v":0},{"$f":"SUMIFS(Lançamentos!$G$4:$G$1048576,Lançamentos!$F$4:$F$1048576,Base!$A6,Lançamentos!$D$4:$D$1048576,Base!G$3,Lançamentos!$E$4:$E$1048576,Base!$B$2)","v":0},{"$f":"SUMIFS(Lançamentos!$G$4:$G$1048576,Lançamentos!$F$4:$F$1048576,Base!$A6,Lançamentos!$D$4:$D$1048576,Base!H$3,Lançamentos!$E$4:$E$1048576,Base!$B$2)","v":0},{"$f":"SUMIFS(Lançamentos!$G$4:$G$1048576,Lançamentos!$F$4:$F$1048576,Base!$A6,Lançamentos!$D$4:$D$1048576,Base!I$3,Lançamentos!$E$4:$E$1048576,Base!$B$2)","v":0},{"$f":"SUMIFS(Lançamentos!$G$4:$G$1048576,Lançamentos!$F$4:$F$1048576,Base!$A6,Lançamentos!$D$4:$D$1048576,Base!J$3,Lançamentos!$E$4:$E$1048576,Base!$B$2)","v":0},{"$f":"SUMIFS(Lançamentos!$G$4:$G$1048576,Lançamentos!$F$4:$F$1048576,Base!$A6,Lançamentos!$D$4:$D$1048576,Base!K$3,Lançamentos!$E$4:$E$1048576,Base!$B$2)","v":0},{"$f":"SUMIFS(Lançamentos!$G$4:$G$1048576,Lançamentos!$F$4:$F$1048576,Base!$A6,Lançamentos!$D$4:$D$1048576,Base!L$3,Lançamentos!$E$4:$E$1048576,Base!$B$2)","v":0},{"$f":"SUMIFS(Lançamentos!$G$4:$G$1048576,Lançamentos!$F$4:$F$1048576,Base!$A6,Lançamentos!$D$4:$D$1048576,Base!M$3,Lançamentos!$E$4:$E$1048576,Base!$B$2)","v":0},{"$f":"SUM(B6:M6)","v":0},{"$f":"SUMIFS(Lançamentos!$G$4:$G$1048576,Lançamentos!$F$4:$F$1048576,Base!$A6,Lançamentos!$D$4:$D$1048576,Base!O$3,Lançamentos!$E$4:$E$1048576,Base!$O$2)","v":0},{"$f":"SUMIFS(Lançamentos!$G$4:$G$1048576,Lançamentos!$F$4:$F$1048576,Base!$A6,Lançamentos!$D$4:$D$1048576,Base!P$3,Lançamentos!$E$4:$E$1048576,Base!$O$2)","v":0},{"$f":"SUMIFS(Lançamentos!$G$4:$G$1048576,Lançamentos!$F$4:$F$1048576,Base!$A6,Lançamentos!$D$4:$D$1048576,Base!Q$3,Lançamentos!$E$4:$E$1048576,Base!$O$2)","v":0},{"$f":"SUMIFS(Lançamentos!$G$4:$G$1048576,Lançamentos!$F$4:$F$1048576,Base!$A6,Lançamentos!$D$4:$D$1048576,Base!R$3,Lançamentos!$E$4:$E$1048576,Base!$O$2)","v":0},{"$f":"SUMIFS(Lançamentos!$G$4:$G$1048576,Lançamentos!$F$4:$F$1048576,Base!$A6,Lançamentos!$D$4:$D$1048576,Base!S$3,Lançamentos!$E$4:$E$1048576,Base!$O$2)","v":0},{"$f":"SUMIFS(Lançamentos!$G$4:$G$1048576,Lançamentos!$F$4:$F$1048576,Base!$A6,Lançamentos!$D$4:$D$1048576,Base!T$3,Lançamentos!$E$4:$E$1048576,Base!$O$2)","v":0},{"$f":"SUMIFS(Lançamentos!$G$4:$G$1048576,Lançamentos!$F$4:$F$1048576,Base!$A6,Lançamentos!$D$4:$D$1048576,Base!U$3,Lançamentos!$E$4:$E$1048576,Base!$O$2)","v":0},{"$f":"SUMIFS(Lançamentos!$G$4:$G$1048576,Lançamentos!$F$4:$F$1048576,Base!$A6,Lançamentos!$D$4:$D$1048576,Base!V$3,Lançamentos!$E$4:$E$1048576,Base!$O$2)","v":0},{"$f":"SUMIFS(Lançamentos!$G$4:$G$1048576,Lançamentos!$F$4:$F$1048576,Base!$A6,Lançamentos!$D$4:$D$1048576,Base!W$3,Lançamentos!$E$4:$E$1048576,Base!$O$2)","v":0},{"$f":"SUMIFS(Lançamentos!$G$4:$G$1048576,Lançamentos!$F$4:$F$1048576,Base!$A6,Lançamentos!$D$4:$D$1048576,Base!X$3,Lançamentos!$E$4:$E$1048576,Base!$O$2)","v":0},{"$f":"SUMIFS(Lançamentos!$G$4:$G$1048576,Lançamentos!$F$4:$F$1048576,Base!$A6,Lançamentos!$D$4:$D$1048576,Base!Y$3,Lançamentos!$E$4:$E$1048576,Base!$O$2)","v":0},{"$f":"SUMIFS(Lançamentos!$G$4:$G$1048576,Lançamentos!$F$4:$F$1048576,Base!$A6,Lançamentos!$D$4:$D$1048576,Base!Z$3,Lançamentos!$E$4:$E$1048576,Base!$O$2)","v":0},{"$f":"SUM(O6:Z6)","v":0},{"$f":"SUMIFS(Lançamentos!$G$4:$G$1048576,Lançamentos!$F$4:$F$1048576,Base!$A6,Lançamentos!$D$4:$D$1048576,Base!AB$3,Lançamentos!$E$4:$E$1048576,Base!$AB$2)","v":0},{"$f":"SUMIFS(Lançamentos!$G$4:$G$1048576,Lançamentos!$F$4:$F$1048576,Base!$A6,Lançamentos!$D$4:$D$1048576,Base!AC$3,Lançamentos!$E$4:$E$1048576,Base!$AB$2)","v":0},{"$f":"SUMIFS(Lançamentos!$G$4:$G$1048576,Lançamentos!$F$4:$F$1048576,Base!$A6,Lançamentos!$D$4:$D$1048576,Base!AD$3,Lançamentos!$E$4:$E$1048576,Base!$AB$2)","v":0},{"$f":"SUMIFS(Lançamentos!$G$4:$G$1048576,Lançamentos!$F$4:$F$1048576,Base!$A6,Lançamentos!$D$4:$D$1048576,Base!AE$3,Lançamentos!$E$4:$E$1048576,Base!$AB$2)","v":0},{"$f":"SUMIFS(Lançamentos!$G$4:$G$1048576,Lançamentos!$F$4:$F$1048576,Base!$A6,Lançamentos!$D$4:$D$1048576,Base!AF$3,Lançamentos!$E$4:$E$1048576,Base!$AB$2)","v":0},{"$f":"SUMIFS(Lançamentos!$G$4:$G$1048576,Lançamentos!$F$4:$F$1048576,Base!$A6,Lançamentos!$D$4:$D$1048576,Base!AG$3,Lançamentos!$E$4:$E$1048576,Base!$AB$2)","v":0},{"$f":"SUMIFS(Lançamentos!$G$4:$G$1048576,Lançamentos!$F$4:$F$1048576,Base!$A6,Lançamentos!$D$4:$D$1048576,Base!AH$3,Lançamentos!$E$4:$E$1048576,Base!$AB$2)","v":0},{"$f":"SUMIFS(Lançamentos!$G$4:$G$1048576,Lançamentos!$F$4:$F$1048576,Base!$A6,Lançamentos!$D$4:$D$1048576,Base!AI$3,Lançamentos!$E$4:$E$1048576,Base!$AB$2)","v":0},{"$f":"SUMIFS(Lançamentos!$G$4:$G$1048576,Lançamentos!$F$4:$F$1048576,Base!$A6,Lançamentos!$D$4:$D$1048576,Base!AJ$3,Lançamentos!$E$4:$E$1048576,Base!$AB$2)","v":0},{"$f":"SUMIFS(Lançamentos!$G$4:$G$1048576,Lançamentos!$F$4:$F$1048576,Base!$A6,Lançamentos!$D$4:$D$1048576,Base!AK$3,Lançamentos!$E$4:$E$1048576,Base!$AB$2)","v":0},{"$f":"SUMIFS(Lançamentos!$G$4:$G$1048576,Lançamentos!$F$4:$F$1048576,Base!$A6,Lançamentos!$D$4:$D$1048576,Base!AL$3,Lançamentos!$E$4:$E$1048576,Base!$AB$2)","v":0},{"$f":"SUMIFS(Lançamentos!$G$4:$G$1048576,Lançamentos!$F$4:$F$1048576,Base!$A6,Lançamentos!$D$4:$D$1048576,Base!AM$3,Lançamentos!$E$4:$E$1048576,Base!$AB$2)","v":0},{"$f":"SUM(AB6:AM6)","v":0},{"$f":"SUMIFS(Lançamentos!$G$4:$G$1048576,Lançamentos!$F$4:$F$1048576,Base!$A6,Lançamentos!$D$4:$D$1048576,Base!AO$3,Lançamentos!$E$4:$E$1048576,Base!$AO$2)","v":0},{"$f":"SUMIFS(Lançamentos!$G$4:$G$1048576,Lançamentos!$F$4:$F$1048576,Base!$A6,Lançamentos!$D$4:$D$1048576,Base!AP$3,Lançamentos!$E$4:$E$1048576,Base!$AO$2)","v":0},{"$f":"SUMIFS(Lançamentos!$G$4:$G$1048576,Lançamentos!$F$4:$F$1048576,Base!$A6,Lançamentos!$D$4:$D$1048576,Base!AQ$3,Lançamentos!$E$4:$E$1048576,Base!$AO$2)","v":0},{"$f":"SUMIFS(Lançamentos!$G$4:$G$1048576,Lançamentos!$F$4:$F$1048576,Base!$A6,Lançamentos!$D$4:$D$1048576,Base!AR$3,Lançamentos!$E$4:$E$1048576,Base!$AO$2)","v":0},{"$f":"SUMIFS(Lançamentos!$G$4:$G$1048576,Lançamentos!$F$4:$F$1048576,Base!$A6,Lançamentos!$D$4:$D$1048576,Base!AS$3,Lançamentos!$E$4:$E$1048576,Base!$AO$2)","v":0},{"$f":"SUMIFS(Lançamentos!$G$4:$G$1048576,Lançamentos!$F$4:$F$1048576,Base!$A6,Lançamentos!$D$4:$D$1048576,Base!AT$3,Lançamentos!$E$4:$E$1048576,Base!$AO$2)","v":0},{"$f":"SUMIFS(Lançamentos!$G$4:$G$1048576,Lançamentos!$F$4:$F$1048576,Base!$A6,Lançamentos!$D$4:$D$1048576,Base!AU$3,Lançamentos!$E$4:$E$1048576,Base!$AO$2)","v":0},{"$f":"SUMIFS(Lançamentos!$G$4:$G$1048576,Lançamentos!$F$4:$F$1048576,Base!$A6,Lançamentos!$D$4:$D$1048576,Base!AV$3,Lançamentos!$E$4:$E$1048576,Base!$AO$2)","v":0},{"$f":"SUMIFS(Lançamentos!$G$4:$G$1048576,Lançamentos!$F$4:$F$1048576,Base!$A6,Lançamentos!$D$4:$D$1048576,Base!AW$3,Lançamentos!$E$4:$E$1048576,Base!$AO$2)","v":0},{"$f":"SUMIFS(Lançamentos!$G$4:$G$1048576,Lançamentos!$F$4:$F$1048576,Base!$A6,Lançamentos!$D$4:$D$1048576,Base!AX$3,Lançamentos!$E$4:$E$1048576,Base!$AO$2)","v":0},{"$f":"SUMIFS(Lançamentos!$G$4:$G$1048576,Lançamentos!$F$4:$F$1048576,Base!$A6,Lançamentos!$D$4:$D$1048576,Base!AY$3,Lançamentos!$E$4:$E$1048576,Base!$AO$2)","v":0},{"$f":"SUMIFS(Lançamentos!$G$4:$G$1048576,Lançamentos!$F$4:$F$1048576,Base!$A6,Lançamentos!$D$4:$D$1048576,Base!AZ$3,Lançamentos!$E$4:$E$1048576,Base!$AO$2)","v":0},{"$f":"SUM(AO6:AZ6)","v":0},{"$f":"SUMIFS(Lançamentos!$G$4:$G$1048576,Lançamentos!$F$4:$F$1048576,Base!$A6,Lançamentos!$D$4:$D$1048576,Base!BB$3,Lançamentos!$E$4:$E$1048576,Base!$BB$2)","v":0},{"$f":"SUMIFS(Lançamentos!$G$4:$G$1048576,Lançamentos!$F$4:$F$1048576,Base!$A6,Lançamentos!$D$4:$D$1048576,Base!BC$3,Lançamentos!$E$4:$E$1048576,Base!$BB$2)","v":0},{"$f":"SUMIFS(Lançamentos!$G$4:$G$1048576,Lançamentos!$F$4:$F$1048576,Base!$A6,Lançamentos!$D$4:$D$1048576,Base!BD$3,Lançamentos!$E$4:$E$1048576,Base!$BB$2)","v":0},{"$f":"SUMIFS(Lançamentos!$G$4:$G$1048576,Lançamentos!$F$4:$F$1048576,Base!$A6,Lançamentos!$D$4:$D$1048576,Base!BE$3,Lançamentos!$E$4:$E$1048576,Base!$BB$2)","v":0},{"$f":"SUMIFS(Lançamentos!$G$4:$G$1048576,Lançamentos!$F$4:$F$1048576,Base!$A6,Lançamentos!$D$4:$D$1048576,Base!BF$3,Lançamentos!$E$4:$E$1048576,Base!$BB$2)","v":0},{"$f":"SUMIFS(Lançamentos!$G$4:$G$1048576,Lançamentos!$F$4:$F$1048576,Base!$A6,Lançamentos!$D$4:$D$1048576,Base!BG$3,Lançamentos!$E$4:$E$1048576,Base!$BB$2)","v":0},{"$f":"SUMIFS(Lançamentos!$G$4:$G$1048576,Lançamentos!$F$4:$F$1048576,Base!$A6,Lançamentos!$D$4:$D$1048576,Base!BH$3,Lançamentos!$E$4:$E$1048576,Base!$BB$2)","v":0},{"$f":"SUMIFS(Lançamentos!$G$4:$G$1048576,Lançamentos!$F$4:$F$1048576,Base!$A6,Lançamentos!$D$4:$D$1048576,Base!BI$3,Lançamentos!$E$4:$E$1048576,Base!$BB$2)","v":0},{"$f":"SUMIFS(Lançamentos!$G$4:$G$1048576,Lançamentos!$F$4:$F$1048576,Base!$A6,Lançamentos!$D$4:$D$1048576,Base!BJ$3,Lançamentos!$E$4:$E$1048576,Base!$BB$2)","v":0},{"$f":"SUMIFS(Lançamentos!$G$4:$G$1048576,Lançamentos!$F$4:$F$1048576,Base!$A6,Lançamentos!$D$4:$D$1048576,Base!BK$3,Lançamentos!$E$4:$E$1048576,Base!$BB$2)","v":0},{"$f":"SUMIFS(Lançamentos!$G$4:$G$1048576,Lançamentos!$F$4:$F$1048576,Base!$A6,Lançamentos!$D$4:$D$1048576,Base!BL$3,Lançamentos!$E$4:$E$1048576,Base!$BB$2)","v":0},{"$f":"SUMIFS(Lançamentos!$G$4:$G$1048576,Lançamentos!$F$4:$F$1048576,Base!$A6,Lançamentos!$D$4:$D$1048576,Base!BM$3,Lançamentos!$E$4:$E$1048576,Base!$BB$2)","v":0},{"$f":"SUM(BB6:BM6)","v":0},{"$f":"SUMIFS(Lançamentos!$G$4:$G$1048576,Lançamentos!$F$4:$F$1048576,Base!$A6,Lançamentos!$D$4:$D$1048576,Base!BO$3,Lançamentos!$E$4:$E$1048576,Base!$BO$2)","v":0},{"$f":"SUMIFS(Lançamentos!$G$4:$G$1048576,Lançamentos!$F$4:$F$1048576,Base!$A6,Lançamentos!$D$4:$D$1048576,Base!BP$3,Lançamentos!$E$4:$E$1048576,Base!$BO$2)","v":0},{"$f":"SUMIFS(Lançamentos!$G$4:$G$1048576,Lançamentos!$F$4:$F$1048576,Base!$A6,Lançamentos!$D$4:$D$1048576,Base!BQ$3,Lançamentos!$E$4:$E$1048576,Base!$BO$2)","v":0},{"$f":"SUMIFS(Lançamentos!$G$4:$G$1048576,Lançamentos!$F$4:$F$1048576,Base!$A6,Lançamentos!$D$4:$D$1048576,Base!BR$3,Lançamentos!$E$4:$E$1048576,Base!$BO$2)","v":0},{"$f":"SUMIFS(Lançamentos!$G$4:$G$1048576,Lançamentos!$F$4:$F$1048576,Base!$A6,Lançamentos!$D$4:$D$1048576,Base!BS$3,Lançamentos!$E$4:$E$1048576,Base!$BO$2)","v":0},{"$f":"SUMIFS(Lançamentos!$G$4:$G$1048576,Lançamentos!$F$4:$F$1048576,Base!$A6,Lançamentos!$D$4:$D$1048576,Base!BT$3,Lançamentos!$E$4:$E$1048576,Base!$BO$2)","v":0},{"$f":"SUMIFS(Lançamentos!$G$4:$G$1048576,Lançamentos!$F$4:$F$1048576,Base!$A6,Lançamentos!$D$4:$D$1048576,Base!BU$3,Lançamentos!$E$4:$E$1048576,Base!$BO$2)","v":0},{"$f":"SUMIFS(Lançamentos!$G$4:$G$1048576,Lançamentos!$F$4:$F$1048576,Base!$A6,Lançamentos!$D$4:$D$1048576,Base!BV$3,Lançamentos!$E$4:$E$1048576,Base!$BO$2)","v":0},{"$f":"SUMIFS(Lançamentos!$G$4:$G$1048576,Lançamentos!$F$4:$F$1048576,Base!$A6,Lançamentos!$D$4:$D$1048576,Base!BW$3,Lançamentos!$E$4:$E$1048576,Base!$BO$2)","v":0},{"$f":"SUMIFS(Lançamentos!$G$4:$G$1048576,Lançamentos!$F$4:$F$1048576,Base!$A6,Lançamentos!$D$4:$D$1048576,Base!BX$3,Lançamentos!$E$4:$E$1048576,Base!$BO$2)","v":0},{"$f":"SUMIFS(Lançamentos!$G$4:$G$1048576,Lançamentos!$F$4:$F$1048576,Base!$A6,Lançamentos!$D$4:$D$1048576,Base!BY$3,Lançamentos!$E$4:$E$1048576,Base!$BO$2)","v":0},{"$f":"SUMIFS(Lançamentos!$G$4:$G$1048576,Lançamentos!$F$4:$F$1048576,Base!$A6,Lançamentos!$D$4:$D$1048576,Base!BZ$3,Lançamentos!$E$4:$E$1048576,Base!$BO$2)","v":0},{"$f":"SUM(BO6:BZ6)","v":0},{"$f":"SUMIFS(Lançamentos!$G$4:$G$1048576,Lançamentos!$F$4:$F$1048576,Base!$A6,Lançamentos!$D$4:$D$1048576,Base!CB$3,Lançamentos!$E$4:$E$1048576,Base!$CB$2)","v":0},{"$f":"SUMIFS(Lançamentos!$G$4:$G$1048576,Lançamentos!$F$4:$F$1048576,Base!$A6,Lançamentos!$D$4:$D$1048576,Base!CC$3,Lançamentos!$E$4:$E$1048576,Base!$CB$2)","v":0},{"$f":"SUMIFS(Lançamentos!$G$4:$G$1048576,Lançamentos!$F$4:$F$1048576,Base!$A6,Lançamentos!$D$4:$D$1048576,Base!CD$3,Lançamentos!$E$4:$E$1048576,Base!$CB$2)","v":0},{"$f":"SUMIFS(Lançamentos!$G$4:$G$1048576,Lançamentos!$F$4:$F$1048576,Base!$A6,Lançamentos!$D$4:$D$1048576,Base!CE$3,Lançamentos!$E$4:$E$1048576,Base!$CB$2)","v":0},{"$f":"SUMIFS(Lançamentos!$G$4:$G$1048576,Lançamentos!$F$4:$F$1048576,Base!$A6,Lançamentos!$D$4:$D$1048576,Base!CF$3,Lançamentos!$E$4:$E$1048576,Base!$CB$2)","v":0},{"$f":"SUMIFS(Lançamentos!$G$4:$G$1048576,Lançamentos!$F$4:$F$1048576,Base!$A6,Lançamentos!$D$4:$D$1048576,Base!CG$3,Lançamentos!$E$4:$E$1048576,Base!$CB$2)","v":0},{"$f":"SUMIFS(Lançamentos!$G$4:$G$1048576,Lançamentos!$F$4:$F$1048576,Base!$A6,Lançamentos!$D$4:$D$1048576,Base!CH$3,Lançamentos!$E$4:$E$1048576,Base!$CB$2)","v":0},{"$f":"SUMIFS(Lançamentos!$G$4:$G$1048576,Lançamentos!$F$4:$F$1048576,Base!$A6,Lançamentos!$D$4:$D$1048576,Base!CI$3,Lançamentos!$E$4:$E$1048576,Base!$CB$2)","v":0},{"$f":"SUMIFS(Lançamentos!$G$4:$G$1048576,Lançamentos!$F$4:$F$1048576,Base!$A6,Lançamentos!$D$4:$D$1048576,Base!CJ$3,Lançamentos!$E$4:$E$1048576,Base!$CB$2)","v":0},{"$f":"SUMIFS(Lançamentos!$G$4:$G$1048576,Lançamentos!$F$4:$F$1048576,Base!$A6,Lançamentos!$D$4:$D$1048576,Base!CK$3,Lançamentos!$E$4:$E$1048576,Base!$CB$2)","v":0},{"$f":"SUMIFS(Lançamentos!$G$4:$G$1048576,Lançamentos!$F$4:$F$1048576,Base!$A6,Lançamentos!$D$4:$D$1048576,Base!CL$3,Lançamentos!$E$4:$E$1048576,Base!$CB$2)","v":0},{"$f":"SUMIFS(Lançamentos!$G$4:$G$1048576,Lançamentos!$F$4:$F$1048576,Base!$A6,Lançamentos!$D$4:$D$1048576,Base!CM$3,Lançamentos!$E$4:$E$1048576,Base!$CB$2)","v":0},{"$f":"SUM(CB6:CM6)","v":0},{"$f":"SUMIFS(Lançamentos!$G$4:$G$1048576,Lançamentos!$F$4:$F$1048576,Base!$A6,Lançamentos!$D$4:$D$1048576,Base!CO$3,Lançamentos!$E$4:$E$1048576,Base!$CO$2)","v":0},{"$f":"SUMIFS(Lançamentos!$G$4:$G$1048576,Lançamentos!$F$4:$F$1048576,Base!$A6,Lançamentos!$D$4:$D$1048576,Base!CP$3,Lançamentos!$E$4:$E$1048576,Base!$CO$2)","v":0},{"$f":"SUMIFS(Lançamentos!$G$4:$G$1048576,Lançamentos!$F$4:$F$1048576,Base!$A6,Lançamentos!$D$4:$D$1048576,Base!CQ$3,Lançamentos!$E$4:$E$1048576,Base!$CO$2)","v":0},{"$f":"SUMIFS(Lançamentos!$G$4:$G$1048576,Lançamentos!$F$4:$F$1048576,Base!$A6,Lançamentos!$D$4:$D$1048576,Base!CR$3,Lançamentos!$E$4:$E$1048576,Base!$CO$2)","v":0},{"$f":"SUMIFS(Lançamentos!$G$4:$G$1048576,Lançamentos!$F$4:$F$1048576,Base!$A6,Lançamentos!$D$4:$D$1048576,Base!CS$3,Lançamentos!$E$4:$E$1048576,Base!$CO$2)","v":0},{"$f":"SUMIFS(Lançamentos!$G$4:$G$1048576,Lançamentos!$F$4:$F$1048576,Base!$A6,Lançamentos!$D$4:$D$1048576,Base!CT$3,Lançamentos!$E$4:$E$1048576,Base!$CO$2)","v":0},{"$f":"SUMIFS(Lançamentos!$G$4:$G$1048576,Lançamentos!$F$4:$F$1048576,Base!$A6,Lançamentos!$D$4:$D$1048576,Base!CU$3,Lançamentos!$E$4:$E$1048576,Base!$CO$2)","v":0},{"$f":"SUMIFS(Lançamentos!$G$4:$G$1048576,Lançamentos!$F$4:$F$1048576,Base!$A6,Lançamentos!$D$4:$D$1048576,Base!CV$3,Lançamentos!$E$4:$E$1048576,Base!$CO$2)","v":0},{"$f":"SUMIFS(Lançamentos!$G$4:$G$1048576,Lançamentos!$F$4:$F$1048576,Base!$A6,Lançamentos!$D$4:$D$1048576,Base!CW$3,Lançamentos!$E$4:$E$1048576,Base!$CO$2)","v":0},{"$f":"SUMIFS(Lançamentos!$G$4:$G$1048576,Lançamentos!$F$4:$F$1048576,Base!$A6,Lançamentos!$D$4:$D$1048576,Base!CX$3,Lançamentos!$E$4:$E$1048576,Base!$CO$2)","v":0},{"$f":"SUMIFS(Lançamentos!$G$4:$G$1048576,Lançamentos!$F$4:$F$1048576,Base!$A6,Lançamentos!$D$4:$D$1048576,Base!CY$3,Lançamentos!$E$4:$E$1048576,Base!$CO$2)","v":0},{"$f":"SUMIFS(Lançamentos!$G$4:$G$1048576,Lançamentos!$F$4:$F$1048576,Base!$A6,Lançamentos!$D$4:$D$1048576,Base!CZ$3,Lançamentos!$E$4:$E$1048576,Base!$CO$2)","v":0},{"$f":"SUM(CO6:CZ6)","v":0},{"$f":"SUMIFS(Lançamentos!$G$4:$G$1048576,Lançamentos!$F$4:$F$1048576,Base!$A6,Lançamentos!$D$4:$D$1048576,Base!DB$3,Lançamentos!$E$4:$E$1048576,Base!$DB$2)","v":0},{"$f":"SUMIFS(Lançamentos!$G$4:$G$1048576,Lançamentos!$F$4:$F$1048576,Base!$A6,Lançamentos!$D$4:$D$1048576,Base!DC$3,Lançamentos!$E$4:$E$1048576,Base!$DB$2)","v":0},{"$f":"SUMIFS(Lançamentos!$G$4:$G$1048576,Lançamentos!$F$4:$F$1048576,Base!$A6,Lançamentos!$D$4:$D$1048576,Base!DD$3,Lançamentos!$E$4:$E$1048576,Base!$DB$2)","v":0},{"$f":"SUMIFS(Lançamentos!$G$4:$G$1048576,Lançamentos!$F$4:$F$1048576,Base!$A6,Lançamentos!$D$4:$D$1048576,Base!DE$3,Lançamentos!$E$4:$E$1048576,Base!$DB$2)","v":0},{"$f":"SUMIFS(Lançamentos!$G$4:$G$1048576,Lançamentos!$F$4:$F$1048576,Base!$A6,Lançamentos!$D$4:$D$1048576,Base!DF$3,Lançamentos!$E$4:$E$1048576,Base!$DB$2)","v":0},{"$f":"SUMIFS(Lançamentos!$G$4:$G$1048576,Lançamentos!$F$4:$F$1048576,Base!$A6,Lançamentos!$D$4:$D$1048576,Base!DG$3,Lançamentos!$E$4:$E$1048576,Base!$DB$2)","v":0},{"$f":"SUMIFS(Lançamentos!$G$4:$G$1048576,Lançamentos!$F$4:$F$1048576,Base!$A6,Lançamentos!$D$4:$D$1048576,Base!DH$3,Lançamentos!$E$4:$E$1048576,Base!$DB$2)","v":0},{"$f":"SUMIFS(Lançamentos!$G$4:$G$1048576,Lançamentos!$F$4:$F$1048576,Base!$A6,Lançamentos!$D$4:$D$1048576,Base!DI$3,Lançamentos!$E$4:$E$1048576,Base!$DB$2)","v":0},{"$f":"SUMIFS(Lançamentos!$G$4:$G$1048576,Lançamentos!$F$4:$F$1048576,Base!$A6,Lançamentos!$D$4:$D$1048576,Base!DJ$3,Lançamentos!$E$4:$E$1048576,Base!$DB$2)","v":0},{"$f":"SUMIFS(Lançamentos!$G$4:$G$1048576,Lançamentos!$F$4:$F$1048576,Base!$A6,Lançamentos!$D$4:$D$1048576,Base!DK$3,Lançamentos!$E$4:$E$1048576,Base!$DB$2)","v":0},{"$f":"SUMIFS(Lançamentos!$G$4:$G$1048576,Lançamentos!$F$4:$F$1048576,Base!$A6,Lançamentos!$D$4:$D$1048576,Base!DL$3,Lançamentos!$E$4:$E$1048576,Base!$DB$2)","v":0},{"$f":"SUMIFS(Lançamentos!$G$4:$G$1048576,Lançamentos!$F$4:$F$1048576,Base!$A6,Lançamentos!$D$4:$D$1048576,Base!DM$3,Lançamentos!$E$4:$E$1048576,Base!$DB$2)","v":0},{"$f":"SUM(DB6:DM6)","v":0},{"$f":"SUMIFS(Lançamentos!$G$4:$G$1048576,Lançamentos!$F$4:$F$1048576,Base!$A6,Lançamentos!$D$4:$D$1048576,Base!DO$3,Lançamentos!$E$4:$E$1048576,Base!$DO$2)","v":0},{"$f":"SUMIFS(Lançamentos!$G$4:$G$1048576,Lançamentos!$F$4:$F$1048576,Base!$A6,Lançamentos!$D$4:$D$1048576,Base!DP$3,Lançamentos!$E$4:$E$1048576,Base!$DO$2)","v":0},{"$f":"SUMIFS(Lançamentos!$G$4:$G$1048576,Lançamentos!$F$4:$F$1048576,Base!$A6,Lançamentos!$D$4:$D$1048576,Base!DQ$3,Lançamentos!$E$4:$E$1048576,Base!$DO$2)","v":0},{"$f":"SUMIFS(Lançamentos!$G$4:$G$1048576,Lançamentos!$F$4:$F$1048576,Base!$A6,Lançamentos!$D$4:$D$1048576,Base!DR$3,Lançamentos!$E$4:$E$1048576,Base!$DO$2)","v":0},{"$f":"SUMIFS(Lançamentos!$G$4:$G$1048576,Lançamentos!$F$4:$F$1048576,Base!$A6,Lançamentos!$D$4:$D$1048576,Base!DS$3,Lançamentos!$E$4:$E$1048576,Base!$DO$2)","v":0},{"$f":"SUMIFS(Lançamentos!$G$4:$G$1048576,Lançamentos!$F$4:$F$1048576,Base!$A6,Lançamentos!$D$4:$D$1048576,Base!DT$3,Lançamentos!$E$4:$E$1048576,Base!$DO$2)","v":0},{"$f":"SUMIFS(Lançamentos!$G$4:$G$1048576,Lançamentos!$F$4:$F$1048576,Base!$A6,Lançamentos!$D$4:$D$1048576,Base!DU$3,Lançamentos!$E$4:$E$1048576,Base!$DO$2)","v":0},{"$f":"SUMIFS(Lançamentos!$G$4:$G$1048576,Lançamentos!$F$4:$F$1048576,Base!$A6,Lançamentos!$D$4:$D$1048576,Base!DV$3,Lançamentos!$E$4:$E$1048576,Base!$DO$2)","v":0},{"$f":"SUMIFS(Lançamentos!$G$4:$G$1048576,Lançamentos!$F$4:$F$1048576,Base!$A6,Lançamentos!$D$4:$D$1048576,Base!DW$3,Lançamentos!$E$4:$E$1048576,Base!$DO$2)","v":0},{"$f":"SUMIFS(Lançamentos!$G$4:$G$1048576,Lançamentos!$F$4:$F$1048576,Base!$A6,Lançamentos!$D$4:$D$1048576,Base!DX$3,Lançamentos!$E$4:$E$1048576,Base!$DO$2)","v":0},{"$f":"SUMIFS(Lançamentos!$G$4:$G$1048576,Lançamentos!$F$4:$F$1048576,Base!$A6,Lançamentos!$D$4:$D$1048576,Base!DY$3,Lançamentos!$E$4:$E$1048576,Base!$DO$2)","v":0},{"$f":"SUMIFS(Lançamentos!$G$4:$G$1048576,Lançamentos!$F$4:$F$1048576,Base!$A6,Lançamentos!$D$4:$D$1048576,Base!DZ$3,Lançamentos!$E$4:$E$1048576,Base!$DO$2)","v":0},{"$f":"SUM(DO6:DZ6)","v":0},{"$f":"SUMIFS(Lançamentos!$G$4:$G$1048576,Lançamentos!$F$4:$F$1048576,Base!$A6,Lançamentos!$D$4:$D$1048576,Base!EB$3,Lançamentos!$E$4:$E$1048576,Base!$EB$2)","v":0},{"$f":"SUMIFS(Lançamentos!$G$4:$G$1048576,Lançamentos!$F$4:$F$1048576,Base!$A6,Lançamentos!$D$4:$D$1048576,Base!EC$3,Lançamentos!$E$4:$E$1048576,Base!$EB$2)","v":0},{"$f":"SUMIFS(Lançamentos!$G$4:$G$1048576,Lançamentos!$F$4:$F$1048576,Base!$A6,Lançamentos!$D$4:$D$1048576,Base!ED$3,Lançamentos!$E$4:$E$1048576,Base!$EB$2)","v":0},{"$f":"SUMIFS(Lançamentos!$G$4:$G$1048576,Lançamentos!$F$4:$F$1048576,Base!$A6,Lançamentos!$D$4:$D$1048576,Base!EE$3,Lançamentos!$E$4:$E$1048576,Base!$EB$2)","v":0},{"$f":"SUMIFS(Lançamentos!$G$4:$G$1048576,Lançamentos!$F$4:$F$1048576,Base!$A6,Lançamentos!$D$4:$D$1048576,Base!EF$3,Lançamentos!$E$4:$E$1048576,Base!$EB$2)","v":0},{"$f":"SUMIFS(Lançamentos!$G$4:$G$1048576,Lançamentos!$F$4:$F$1048576,Base!$A6,Lançamentos!$D$4:$D$1048576,Base!EG$3,Lançamentos!$E$4:$E$1048576,Base!$EB$2)","v":0},{"$f":"SUMIFS(Lançamentos!$G$4:$G$1048576,Lançamentos!$F$4:$F$1048576,Base!$A6,Lançamentos!$D$4:$D$1048576,Base!EH$3,Lançamentos!$E$4:$E$1048576,Base!$EB$2)","v":0},{"$f":"SUMIFS(Lançamentos!$G$4:$G$1048576,Lançamentos!$F$4:$F$1048576,Base!$A6,Lançamentos!$D$4:$D$1048576,Base!EI$3,Lançamentos!$E$4:$E$1048576,Base!$EB$2)","v":0},{"$f":"SUMIFS(Lançamentos!$G$4:$G$1048576,Lançamentos!$F$4:$F$1048576,Base!$A6,Lançamentos!$D$4:$D$1048576,Base!EJ$3,Lançamentos!$E$4:$E$1048576,Base!$EB$2)","v":0},{"$f":"SUMIFS(Lançamentos!$G$4:$G$1048576,Lançamentos!$F$4:$F$1048576,Base!$A6,Lançamentos!$D$4:$D$1048576,Base!EK$3,Lançamentos!$E$4:$E$1048576,Base!$EB$2)","v":0},{"$f":"SUMIFS(Lançamentos!$G$4:$G$1048576,Lançamentos!$F$4:$F$1048576,Base!$A6,Lançamentos!$D$4:$D$1048576,Base!EL$3,Lançamentos!$E$4:$E$1048576,Base!$EB$2)","v":0},{"$f":"SUMIFS(Lançamentos!$G$4:$G$1048576,Lançamentos!$F$4:$F$1048576,Base!$A6,Lançamentos!$D$4:$D$1048576,Base!EM$3,Lançamentos!$E$4:$E$1048576,Base!$EB$2)","v":0},{"$f":"SUM(EB6:EM6)","v":0},{"$f":"SUMIFS(Lançamentos!$G$4:$G$1048576,Lançamentos!$F$4:$F$1048576,Base!$A6,Lançamentos!$D$4:$D$1048576,Base!EO$3,Lançamentos!$E$4:$E$1048576,Base!$EO$2)","v":0},{"$f":"SUMIFS(Lançamentos!$G$4:$G$1048576,Lançamentos!$F$4:$F$1048576,Base!$A6,Lançamentos!$D$4:$D$1048576,Base!EP$3,Lançamentos!$E$4:$E$1048576,Base!$EO$2)","v":0},{"$f":"SUMIFS(Lançamentos!$G$4:$G$1048576,Lançamentos!$F$4:$F$1048576,Base!$A6,Lançamentos!$D$4:$D$1048576,Base!EQ$3,Lançamentos!$E$4:$E$1048576,Base!$EO$2)","v":0},{"$f":"SUMIFS(Lançamentos!$G$4:$G$1048576,Lançamentos!$F$4:$F$1048576,Base!$A6,Lançamentos!$D$4:$D$1048576,Base!ER$3,Lançamentos!$E$4:$E$1048576,Base!$EO$2)","v":0},{"$f":"SUMIFS(Lançamentos!$G$4:$G$1048576,Lançamentos!$F$4:$F$1048576,Base!$A6,Lançamentos!$D$4:$D$1048576,Base!ES$3,Lançamentos!$E$4:$E$1048576,Base!$EO$2)","v":0},{"$f":"SUMIFS(Lançamentos!$G$4:$G$1048576,Lançamentos!$F$4:$F$1048576,Base!$A6,Lançamentos!$D$4:$D$1048576,Base!ET$3,Lançamentos!$E$4:$E$1048576,Base!$EO$2)","v":0},{"$f":"SUMIFS(Lançamentos!$G$4:$G$1048576,Lançamentos!$F$4:$F$1048576,Base!$A6,Lançamentos!$D$4:$D$1048576,Base!EU$3,Lançamentos!$E$4:$E$1048576,Base!$EO$2)","v":0},{"$f":"SUMIFS(Lançamentos!$G$4:$G$1048576,Lançamentos!$F$4:$F$1048576,Base!$A6,Lançamentos!$D$4:$D$1048576,Base!EV$3,Lançamentos!$E$4:$E$1048576,Base!$EO$2)","v":0},{"$f":"SUMIFS(Lançamentos!$G$4:$G$1048576,Lançamentos!$F$4:$F$1048576,Base!$A6,Lançamentos!$D$4:$D$1048576,Base!EW$3,Lançamentos!$E$4:$E$1048576,Base!$EO$2)","v":0},{"$f":"SUMIFS(Lançamentos!$G$4:$G$1048576,Lançamentos!$F$4:$F$1048576,Base!$A6,Lançamentos!$D$4:$D$1048576,Base!EX$3,Lançamentos!$E$4:$E$1048576,Base!$EO$2)","v":0},{"$f":"SUMIFS(Lançamentos!$G$4:$G$1048576,Lançamentos!$F$4:$F$1048576,Base!$A6,Lançamentos!$D$4:$D$1048576,Base!EY$3,Lançamentos!$E$4:$E$1048576,Base!$EO$2)","v":0},{"$f":"SUMIFS(Lançamentos!$G$4:$G$1048576,Lançamentos!$F$4:$F$1048576,Base!$A6,Lançamentos!$D$4:$D$1048576,Base!EZ$3,Lançamentos!$E$4:$E$1048576,Base!$EO$2)","v":0},{"$f":"SUM(EO6:EZ6)","v":0},{"$f":"SUMIFS(Lançamentos!$G$4:$G$1048576,Lançamentos!$F$4:$F$1048576,Base!$A6,Lançamentos!$D$4:$D$1048576,Base!FB$3,Lançamentos!$E$4:$E$1048576,Base!$FB$2)","v":0},{"$f":"SUMIFS(Lançamentos!$G$4:$G$1048576,Lançamentos!$F$4:$F$1048576,Base!$A6,Lançamentos!$D$4:$D$1048576,Base!FC$3,Lançamentos!$E$4:$E$1048576,Base!$FB$2)","v":0},{"$f":"SUMIFS(Lançamentos!$G$4:$G$1048576,Lançamentos!$F$4:$F$1048576,Base!$A6,Lançamentos!$D$4:$D$1048576,Base!FD$3,Lançamentos!$E$4:$E$1048576,Base!$FB$2)","v":0},{"$f":"SUMIFS(Lançamentos!$G$4:$G$1048576,Lançamentos!$F$4:$F$1048576,Base!$A6,Lançamentos!$D$4:$D$1048576,Base!FE$3,Lançamentos!$E$4:$E$1048576,Base!$FB$2)","v":0},{"$f":"SUMIFS(Lançamentos!$G$4:$G$1048576,Lançamentos!$F$4:$F$1048576,Base!$A6,Lançamentos!$D$4:$D$1048576,Base!FF$3,Lançamentos!$E$4:$E$1048576,Base!$FB$2)","v":0},{"$f":"SUMIFS(Lançamentos!$G$4:$G$1048576,Lançamentos!$F$4:$F$1048576,Base!$A6,Lançamentos!$D$4:$D$1048576,Base!FG$3,Lançamentos!$E$4:$E$1048576,Base!$FB$2)","v":0},{"$f":"SUMIFS(Lançamentos!$G$4:$G$1048576,Lançamentos!$F$4:$F$1048576,Base!$A6,Lançamentos!$D$4:$D$1048576,Base!FH$3,Lançamentos!$E$4:$E$1048576,Base!$FB$2)","v":0},{"$f":"SUMIFS(Lançamentos!$G$4:$G$1048576,Lançamentos!$F$4:$F$1048576,Base!$A6,Lançamentos!$D$4:$D$1048576,Base!FI$3,Lançamentos!$E$4:$E$1048576,Base!$FB$2)","v":0},{"$f":"SUMIFS(Lançamentos!$G$4:$G$1048576,Lançamentos!$F$4:$F$1048576,Base!$A6,Lançamentos!$D$4:$D$1048576,Base!FJ$3,Lançamentos!$E$4:$E$1048576,Base!$FB$2)","v":0},{"$f":"SUMIFS(Lançamentos!$G$4:$G$1048576,Lançamentos!$F$4:$F$1048576,Base!$A6,Lançamentos!$D$4:$D$1048576,Base!FK$3,Lançamentos!$E$4:$E$1048576,Base!$FB$2)","v":0},{"$f":"SUMIFS(Lançamentos!$G$4:$G$1048576,Lançamentos!$F$4:$F$1048576,Base!$A6,Lançamentos!$D$4:$D$1048576,Base!FL$3,Lançamentos!$E$4:$E$1048576,Base!$FB$2)","v":0},{"$f":"SUMIFS(Lançamentos!$G$4:$G$1048576,Lançamentos!$F$4:$F$1048576,Base!$A6,Lançamentos!$D$4:$D$1048576,Base!FM$3,Lançamentos!$E$4:$E$1048576,Base!$FB$2)","v":0},{"$f":"SUM(FB6:FM6)","v":0},{"$f":"SUMIFS(Lançamentos!$G$4:$G$1048576,Lançamentos!$F$4:$F$1048576,Base!$A6,Lançamentos!$D$4:$D$1048576,Base!FO$3,Lançamentos!$E$4:$E$1048576,Base!$FO$2)","v":0},{"$f":"SUMIFS(Lançamentos!$G$4:$G$1048576,Lançamentos!$F$4:$F$1048576,Base!$A6,Lançamentos!$D$4:$D$1048576,Base!FP$3,Lançamentos!$E$4:$E$1048576,Base!$FO$2)","v":0},{"$f":"SUMIFS(Lançamentos!$G$4:$G$1048576,Lançamentos!$F$4:$F$1048576,Base!$A6,Lançamentos!$D$4:$D$1048576,Base!FQ$3,Lançamentos!$E$4:$E$1048576,Base!$FO$2)","v":0},{"$f":"SUMIFS(Lançamentos!$G$4:$G$1048576,Lançamentos!$F$4:$F$1048576,Base!$A6,Lançamentos!$D$4:$D$1048576,Base!FR$3,Lançamentos!$E$4:$E$1048576,Base!$FO$2)","v":0},{"$f":"SUMIFS(Lançamentos!$G$4:$G$1048576,Lançamentos!$F$4:$F$1048576,Base!$A6,Lançamentos!$D$4:$D$1048576,Base!FS$3,Lançamentos!$E$4:$E$1048576,Base!$FO$2)","v":0},{"$f":"SUMIFS(Lançamentos!$G$4:$G$1048576,Lançamentos!$F$4:$F$1048576,Base!$A6,Lançamentos!$D$4:$D$1048576,Base!FT$3,Lançamentos!$E$4:$E$1048576,Base!$FO$2)","v":0},{"$f":"SUMIFS(Lançamentos!$G$4:$G$1048576,Lançamentos!$F$4:$F$1048576,Base!$A6,Lançamentos!$D$4:$D$1048576,Base!FU$3,Lançamentos!$E$4:$E$1048576,Base!$FO$2)","v":0},{"$f":"SUMIFS(Lançamentos!$G$4:$G$1048576,Lançamentos!$F$4:$F$1048576,Base!$A6,Lançamentos!$D$4:$D$1048576,Base!FV$3,Lançamentos!$E$4:$E$1048576,Base!$FO$2)","v":0},{"$f":"SUMIFS(Lançamentos!$G$4:$G$1048576,Lançamentos!$F$4:$F$1048576,Base!$A6,Lançamentos!$D$4:$D$1048576,Base!FW$3,Lançamentos!$E$4:$E$1048576,Base!$FO$2)","v":0},{"$f":"SUMIFS(Lançamentos!$G$4:$G$1048576,Lançamentos!$F$4:$F$1048576,Base!$A6,Lançamentos!$D$4:$D$1048576,Base!FX$3,Lançamentos!$E$4:$E$1048576,Base!$FO$2)","v":0},{"$f":"SUMIFS(Lançamentos!$G$4:$G$1048576,Lançamentos!$F$4:$F$1048576,Base!$A6,Lançamentos!$D$4:$D$1048576,Base!FY$3,Lançamentos!$E$4:$E$1048576,Base!$FO$2)","v":0},{"$f":"SUMIFS(Lançamentos!$G$4:$G$1048576,Lançamentos!$F$4:$F$1048576,Base!$A6,Lançamentos!$D$4:$D$1048576,Base!FZ$3,Lançamentos!$E$4:$E$1048576,Base!$FO$2)","v":0},{"$f":"SUM(FO6:FZ6)","v":0},{"$f":"SUMIFS(Lançamentos!$G$4:$G$1048576,Lançamentos!$F$4:$F$1048576,Base!$A6,Lançamentos!$D$4:$D$1048576,Base!GB$3,Lançamentos!$E$4:$E$1048576,Base!$GB$2)","v":0},{"$f":"SUMIFS(Lançamentos!$G$4:$G$1048576,Lançamentos!$F$4:$F$1048576,Base!$A6,Lançamentos!$D$4:$D$1048576,Base!GC$3,Lançamentos!$E$4:$E$1048576,Base!$GB$2)","v":0},{"$f":"SUMIFS(Lançamentos!$G$4:$G$1048576,Lançamentos!$F$4:$F$1048576,Base!$A6,Lançamentos!$D$4:$D$1048576,Base!GD$3,Lançamentos!$E$4:$E$1048576,Base!$GB$2)","v":0},{"$f":"SUMIFS(Lançamentos!$G$4:$G$1048576,Lançamentos!$F$4:$F$1048576,Base!$A6,Lançamentos!$D$4:$D$1048576,Base!GE$3,Lançamentos!$E$4:$E$1048576,Base!$GB$2)","v":0},{"$f":"SUMIFS(Lançamentos!$G$4:$G$1048576,Lançamentos!$F$4:$F$1048576,Base!$A6,Lançamentos!$D$4:$D$1048576,Base!GF$3,Lançamentos!$E$4:$E$1048576,Base!$GB$2)","v":0},{"$f":"SUMIFS(Lançamentos!$G$4:$G$1048576,Lançamentos!$F$4:$F$1048576,Base!$A6,Lançamentos!$D$4:$D$1048576,Base!GG$3,Lançamentos!$E$4:$E$1048576,Base!$GB$2)","v":0},{"$f":"SUMIFS(Lançamentos!$G$4:$G$1048576,Lançamentos!$F$4:$F$1048576,Base!$A6,Lançamentos!$D$4:$D$1048576,Base!GH$3,Lançamentos!$E$4:$E$1048576,Base!$GB$2)","v":0},{"$f":"SUMIFS(Lançamentos!$G$4:$G$1048576,Lançamentos!$F$4:$F$1048576,Base!$A6,Lançamentos!$D$4:$D$1048576,Base!GI$3,Lançamentos!$E$4:$E$1048576,Base!$GB$2)","v":0},{"$f":"SUMIFS(Lançamentos!$G$4:$G$1048576,Lançamentos!$F$4:$F$1048576,Base!$A6,Lançamentos!$D$4:$D$1048576,Base!GJ$3,Lançamentos!$E$4:$E$1048576,Base!$GB$2)","v":0},{"$f":"SUMIFS(Lançamentos!$G$4:$G$1048576,Lançamentos!$F$4:$F$1048576,Base!$A6,Lançamentos!$D$4:$D$1048576,Base!GK$3,Lançamentos!$E$4:$E$1048576,Base!$GB$2)","v":0},{"$f":"SUMIFS(Lançamentos!$G$4:$G$1048576,Lançamentos!$F$4:$F$1048576,Base!$A6,Lançamentos!$D$4:$D$1048576,Base!GL$3,Lançamentos!$E$4:$E$1048576,Base!$GB$2)","v":0},{"$f":"SUMIFS(Lançamentos!$G$4:$G$1048576,Lançamentos!$F$4:$F$1048576,Base!$A6,Lançamentos!$D$4:$D$1048576,Base!GM$3,Lançamentos!$E$4:$E$1048576,Base!$GB$2)","v":0},{"$f":"SUM(GB6:GM6)","v":0},null,2020]
[{"$f":"(IF(Lançamentos!A4=\"\",\"\",Lançamentos!A4))","v":"Cheque"},{"$f":"SUMIFS(Lançamentos!$G$4:$G$1048576,Lançamentos!$F$4:$F$1048576,Base!$A7,Lançamentos!$D$4:$D$1048576,Base!B$3,Lançamentos!$E$4:$E$1048576,Base!$B$2)","v":0},{"$f":"SUMIFS(Lançamentos!$G$4:$G$1048576,Lançamentos!$F$4:$F$1048576,Base!$A7,Lançamentos!$D$4:$D$1048576,Base!C$3,Lançamentos!$E$4:$E$1048576,Base!$B$2)","v":0},{"$f":"SUMIFS(Lançamentos!$G$4:$G$1048576,Lançamentos!$F$4:$F$1048576,Base!$A7,Lançamentos!$D$4:$D$1048576,Base!D$3,Lançamentos!$E$4:$E$1048576,Base!$B$2)","v":0},{"$f":"SUMIFS(Lançamentos!$G$4:$G$1048576,Lançamentos!$F$4:$F$1048576,Base!$A7,Lançamentos!$D$4:$D$1048576,Base!E$3,Lançamentos!$E$4:$E$1048576,Base!$B$2)","v":0},{"$f":"SUMIFS(Lançamentos!$G$4:$G$1048576,Lançamentos!$F$4:$F$1048576,Base!$A7,Lançamentos!$D$4:$D$1048576,Base!F$3,Lançamentos!$E$4:$E$1048576,Base!$B$2)","v":0},{"$f":"SUMIFS(Lançamentos!$G$4:$G$1048576,Lançamentos!$F$4:$F$1048576,Base!$A7,Lançamentos!$D$4:$D$1048576,Base!G$3,Lançamentos!$E$4:$E$1048576,Base!$B$2)","v":0},{"$f":"SUMIFS(Lançamentos!$G$4:$G$1048576,Lançamentos!$F$4:$F$1048576,Base!$A7,Lançamentos!$D$4:$D$1048576,Base!H$3,Lançamentos!$E$4:$E$1048576,Base!$B$2)","v":0},{"$f":"SUMIFS(Lançamentos!$G$4:$G$1048576,Lançamentos!$F$4:$F$1048576,Base!$A7,Lançamentos!$D$4:$D$1048576,Base!I$3,Lançamentos!$E$4:$E$1048576,Base!$B$2)","v":0},{"$f":"SUMIFS(Lançamentos!$G$4:$G$1048576,Lançamentos!$F$4:$F$1048576,Base!$A7,Lançamentos!$D$4:$D$1048576,Base!J$3,Lançamentos!$E$4:$E$1048576,Base!$B$2)","v":0},{"$f":"SUMIFS(Lançamentos!$G$4:$G$1048576,Lançamentos!$F$4:$F$1048576,Base!$A7,Lançamentos!$D$4:$D$1048576,Base!K$3,Lançamentos!$E$4:$E$1048576,Base!$B$2)","v":0},{"$f":"SUMIFS(Lançamentos!$G$4:$G$1048576,Lançamentos!$F$4:$F$1048576,Base!$A7,Lançamentos!$D$4:$D$1048576,Base!L$3,Lançamentos!$E$4:$E$1048576,Base!$B$2)","v":0},{"$f":"SUMIFS(Lançamentos!$G$4:$G$1048576,Lançamentos!$F$4:$F$1048576,Base!$A7,Lançamentos!$D$4:$D$1048576,Base!M$3,Lançamentos!$E$4:$E$1048576,Base!$B$2)","v":0},{"$f":"SUM(B7:M7)","v":0},{"$f":"SUMIFS(Lançamentos!$G$4:$G$1048576,Lançamentos!$F$4:$F$1048576,Base!$A7,Lançamentos!$D$4:$D$1048576,Base!O$3,Lançamentos!$E$4:$E$1048576,Base!$O$2)","v":0},{"$f":"SUMIFS(Lançamentos!$G$4:$G$1048576,Lançamentos!$F$4:$F$1048576,Base!$A7,Lançamentos!$D$4:$D$1048576,Base!P$3,Lançamentos!$E$4:$E$1048576,Base!$O$2)","v":0},{"$f":"SUMIFS(Lançamentos!$G$4:$G$1048576,Lançamentos!$F$4:$F$1048576,Base!$A7,Lançamentos!$D$4:$D$1048576,Base!Q$3,Lançamentos!$E$4:$E$1048576,Base!$O$2)","v":0},{"$f":"SUMIFS(Lançamentos!$G$4:$G$1048576,Lançamentos!$F$4:$F$1048576,Base!$A7,Lançamentos!$D$4:$D$1048576,Base!R$3,Lançamentos!$E$4:$E$1048576,Base!$O$2)","v":0},{"$f":"SUMIFS(Lançamentos!$G$4:$G$1048576,Lançamentos!$F$4:$F$1048576,Base!$A7,Lançamentos!$D$4:$D$1048576,Base!S$3,Lançamentos!$E$4:$E$1048576,Base!$O$2)","v":0},{"$f":"SUMIFS(Lançamentos!$G$4:$G$1048576,Lançamentos!$F$4:$F$1048576,Base!$A7,Lançamentos!$D$4:$D$1048576,Base!T$3,Lançamentos!$E$4:$E$1048576,Base!$O$2)","v":0},{"$f":"SUMIFS(Lançamentos!$G$4:$G$1048576,Lançamentos!$F$4:$F$1048576,Base!$A7,Lançamentos!$D$4:$D$1048576,Base!U$3,Lançamentos!$E$4:$E$1048576,Base!$O$2)","v":0},{"$f":"SUMIFS(Lançamentos!$G$4:$G$1048576,Lançamentos!$F$4:$F$1048576,Base!$A7,Lançamentos!$D$4:$D$1048576,Base!V$3,Lançamentos!$E$4:$E$1048576,Base!$O$2)","v":0},{"$f":"SUMIFS(Lançamentos!$G$4:$G$1048576,Lançamentos!$F$4:$F$1048576,Base!$A7,Lançamentos!$D$4:$D$1048576,Base!W$3,Lançamentos!$E$4:$E$1048576,Base!$O$2)","v":0},{"$f":"SUMIFS(Lançamentos!$G$4:$G$1048576,Lançamentos!$F$4:$F$1048576,Base!$A7,Lançamentos!$D$4:$D$1048576,Base!X$3,Lançamentos!$E$4:$E$1048576,Base!$O$2)","v":0},{"$f":"SUMIFS(Lançamentos!$G$4:$G$1048576,Lançamentos!$F$4:$F$1048576,Base!$A7,Lançamentos!$D$4:$D$1048576,Base!Y$3,Lançamentos!$E$4:$E$1048576,Base!$O$2)","v":0},{"$f":"SUMIFS(Lançamentos!$G$4:$G$1048576,Lançamentos!$F$4:$F$1048576,Base!$A7,Lançamentos!$D$4:$D$1048576,Base!Z$3,Lançamentos!$E$4:$E$1048576,Base!$O$2)","v":0},{"$f":"SUM(O7:Z7)","v":0},{"$f":"SUMIFS(Lançamentos!$G$4:$G$1048576,Lançamentos!$F$4:$F$1048576,Base!$A7,Lançamentos!$D$4:$D$1048576,Base!AB$3,Lançamentos!$E$4:$E$1048576,Base!$AB$2)","v":0},{"$f":"SUMIFS(Lançamentos!$G$4:$G$1048576,Lançamentos!$F$4:$F$1048576,Base!$A7,Lançamentos!$D$4:$D$1048576,Base!AC$3,Lançamentos!$E$4:$E$1048576,Base!$AB$2)","v":0},{"$f":"SUMIFS(Lançamentos!$G$4:$G$1048576,Lançamentos!$F$4:$F$1048576,Base!$A7,Lançamentos!$D$4:$D$1048576,Base!AD$3,Lançamentos!$E$4:$E$1048576,Base!$AB$2)","v":0},{"$f":"SUMIFS(Lançamentos!$G$4:$G$1048576,Lançamentos!$F$4:$F$1048576,Base!$A7,Lançamentos!$D$4:$D$1048576,Base!AE$3,Lançamentos!$E$4:$E$1048576,Base!$AB$2)","v":0},{"$f":"SUMIFS(Lançamentos!$G$4:$G$1048576,Lançamentos!$F$4:$F$1048576,Base!$A7,Lançamentos!$D$4:$D$1048576,Base!AF$3,Lançamentos!$E$4:$E$1048576,Base!$AB$2)","v":0},{"$f":"SUMIFS(Lançamentos!$G$4:$G$1048576,Lançamentos!$F$4:$F$1048576,Base!$A7,Lançamentos!$D$4:$D$1048576,Base!AG$3,Lançamentos!$E$4:$E$1048576,Base!$AB$2)","v":0},{"$f":"SUMIFS(Lançamentos!$G$4:$G$1048576,Lançamentos!$F$4:$F$1048576,Base!$A7,Lançamentos!$D$4:$D$1048576,Base!AH$3,Lançamentos!$E$4:$E$1048576,Base!$AB$2)","v":0},{"$f":"SUMIFS(Lançamentos!$G$4:$G$1048576,Lançamentos!$F$4:$F$1048576,Base!$A7,Lançamentos!$D$4:$D$1048576,Base!AI$3,Lançamentos!$E$4:$E$1048576,Base!$AB$2)","v":0},{"$f":"SUMIFS(Lançamentos!$G$4:$G$1048576,Lançamentos!$F$4:$F$1048576,Base!$A7,Lançamentos!$D$4:$D$1048576,Base!AJ$3,Lançamentos!$E$4:$E$1048576,Base!$AB$2)","v":0},{"$f":"SUMIFS(Lançamentos!$G$4:$G$1048576,Lançamentos!$F$4:$F$1048576,Base!$A7,Lançamentos!$D$4:$D$1048576,Base!AK$3,Lançamentos!$E$4:$E$1048576,Base!$AB$2)","v":0},{"$f":"SUMIFS(Lançamentos!$G$4:$G$1048576,Lançamentos!$F$4:$F$1048576,Base!$A7,Lançamentos!$D$4:$D$1048576,Base!AL$3,Lançamentos!$E$4:$E$1048576,Base!$AB$2)","v":0},{"$f":"SUMIFS(Lançamentos!$G$4:$G$1048576,Lançamentos!$F$4:$F$1048576,Base!$A7,Lançamentos!$D$4:$D$1048576,Base!AM$3,Lançamentos!$E$4:$E$1048576,Base!$AB$2)","v":0},{"$f":"SUM(AB7:AM7)","v":0},{"$f":"SUMIFS(Lançamentos!$G$4:$G$1048576,Lançamentos!$F$4:$F$1048576,Base!$A7,Lançamentos!$D$4:$D$1048576,Base!AO$3,Lançamentos!$E$4:$E$1048576,Base!$AO$2)","v":0},{"$f":"SUMIFS(Lançamentos!$G$4:$G$1048576,Lançamentos!$F$4:$F$1048576,Base!$A7,Lançamentos!$D$4:$D$1048576,Base!AP$3,Lançamentos!$E$4:$E$1048576,Base!$AO$2)","v":0},{"$f":"SUMIFS(Lançamentos!$G$4:$G$1048576,Lançamentos!$F$4:$F$1048576,Base!$A7,Lançamentos!$D$4:$D$1048576,Base!AQ$3,Lançamentos!$E$4:$E$1048576,Base!$AO$2)","v":0},{"$f":"SUMIFS(Lançamentos!$G$4:$G$1048576,Lançamentos!$F$4:$F$1048576,Base!$A7,Lançamentos!$D$4:$D$1048576,Base!AR$3,Lançamentos!$E$4:$E$1048576,Base!$AO$2)","v":0},{"$f":"SUMIFS(Lançamentos!$G$4:$G$1048576,Lançamentos!$F$4:$F$1048576,Base!$A7,Lançamentos!$D$4:$D$1048576,Base!AS$3,Lançamentos!$E$4:$E$1048576,Base!$AO$2)","v":0},{"$f":"SUMIFS(Lançamentos!$G$4:$G$1048576,Lançamentos!$F$4:$F$1048576,Base!$A7,Lançamentos!$D$4:$D$1048576,Base!AT$3,Lançamentos!$E$4:$E$1048576,Base!$AO$2)","v":0},{"$f":"SUMIFS(Lançamentos!$G$4:$G$1048576,Lançamentos!$F$4:$F$1048576,Base!$A7,Lançamentos!$D$4:$D$1048576,Base!AU$3,Lançamentos!$E$4:$E$1048576,Base!$AO$2)","v":0},{"$f":"SUMIFS(Lançamentos!$G$4:$G$1048576,Lançamentos!$F$4:$F$1048576,Base!$A7,Lançamentos!$D$4:$D$1048576,Base!AV$3,Lançamentos!$E$4:$E$1048576,Base!$AO$2)","v":0},{"$f":"SUMIFS(Lançamentos!$G$4:$G$1048576,Lançamentos!$F$4:$F$1048576,Base!$A7,Lançamentos!$D$4:$D$1048576,Base!AW$3,Lançamentos!$E$4:$E$1048576,Base!$AO$2)","v":0},{"$f":"SUMIFS(Lançamentos!$G$4:$G$1048576,Lançamentos!$F$4:$F$1048576,Base!$A7,Lançamentos!$D$4:$D$1048576,Base!AX$3,Lançamentos!$E$4:$E$1048576,Base!$AO$2)","v":0},{"$f":"SUMIFS(Lançamentos!$G$4:$G$1048576,Lançamentos!$F$4:$F$1048576,Base!$A7,Lançamentos!$D$4:$D$1048576,Base!AY$3,Lançamentos!$E$4:$E$1048576,Base!$AO$2)","v":0},{"$f":"SUMIFS(Lançamentos!$G$4:$G$1048576,Lançamentos!$F$4:$F$1048576,Base!$A7,Lançamentos!$D$4:$D$1048576,Base!AZ$3,Lançamentos!$E$4:$E$1048576,Base!$AO$2)","v":0},{"$f":"SUM(AO7:AZ7)","v":0},{"$f":"SUMIFS(Lançamentos!$G$4:$G$1048576,Lançamentos!$F$4:$F$1048576,Base!$A7,Lançamentos!$D$4:$D$1048576,Base!BB$3,Lançamentos!$E$4:$E$1048576,Base!$BB$2)","v":0},{"$f":"SUMIFS(Lançamentos!$G$4:$G$1048576,Lançamentos!$F$4:$F$1048576,Base!$A7,Lançamentos!$D$4:$D$1048576,Base!BC$3,Lançamentos!$E$4:$E$1048576,Base!$BB$2)","v":0},{"$f":"SUMIFS(Lançamentos!$G$4:$G$1048576,Lançamentos!$F$4:$F$1048576,Base!$A7,Lançamentos!$D$4:$D$1048576,Base!BD$3,Lançamentos!$E$4:$E$1048576,Base!$BB$2)","v":0},{"$f":"SUMIFS(Lançamentos!$G$4:$G$1048576,Lançamentos!$F$4:$F$1048576,Base!$A7,Lançamentos!$D$4:$D$1048576,Base!BE$3,Lançamentos!$E$4:$E$1048576,Base!$BB$2)","v":0},{"$f":"SUMIFS(Lançamentos!$G$4:$G$1048576,Lançamentos!$F$4:$F$1048576,Base!$A7,Lançamentos!$D$4:$D$1048576,Base!BF$3,Lançamentos!$E$4:$E$1048576,Base!$BB$2)","v":0},{"$f":"SUMIFS(Lançamentos!$G$4:$G$1048576,Lançamentos!$F$4:$F$1048576,Base!$A7,Lançamentos!$D$4:$D$1048576,Base!BG$3,Lançamentos!$E$4:$E$1048576,Base!$BB$2)","v":0},{"$f":"SUMIFS(Lançamentos!$G$4:$G$1048576,Lançamentos!$F$4:$F$1048576,Base!$A7,Lançamentos!$D$4:$D$1048576,Base!BH$3,Lançamentos!$E$4:$E$1048576,Base!$BB$2)","v":0},{"$f":"SUMIFS(Lançamentos!$G$4:$G$1048576,Lançamentos!$F$4:$F$1048576,Base!$A7,Lançamentos!$D$4:$D$1048576,Base!BI$3,Lançamentos!$E$4:$E$1048576,Base!$BB$2)","v":0},{"$f":"SUMIFS(Lançamentos!$G$4:$G$1048576,Lançamentos!$F$4:$F$1048576,Base!$A7,Lançamentos!$D$4:$D$1048576,Base!BJ$3,Lançamentos!$E$4:$E$1048576,Base!$BB$2)","v":0},{"$f":"SUMIFS(Lançamentos!$G$4:$G$1048576,Lançamentos!$F$4:$F$1048576,Base!$A7,Lançamentos!$D$4:$D$1048576,Base!BK$3,Lançamentos!$E$4:$E$1048576,Base!$BB$2)","v":0},{"$f":"SUMIFS(Lançamentos!$G$4:$G$1048576,Lançamentos!$F$4:$F$1048576,Base!$A7,Lançamentos!$D$4:$D$1048576,Base!BL$3,Lançamentos!$E$4:$E$1048576,Base!$BB$2)","v":0},{"$f":"SUMIFS(Lançamentos!$G$4:$G$1048576,Lançamentos!$F$4:$F$1048576,Base!$A7,Lançamentos!$D$4:$D$1048576,Base!BM$3,Lançamentos!$E$4:$E$1048576,Base!$BB$2)","v":0},{"$f":"SUM(BB7:BM7)","v":0},{"$f":"SUMIFS(Lançamentos!$G$4:$G$1048576,Lançamentos!$F$4:$F$1048576,Base!$A7,Lançamentos!$D$4:$D$1048576,Base!BO$3,Lançamentos!$E$4:$E$1048576,Base!$BO$2)","v":0},{"$f":"SUMIFS(Lançamentos!$G$4:$G$1048576,Lançamentos!$F$4:$F$1048576,Base!$A7,Lançamentos!$D$4:$D$1048576,Base!BP$3,Lançamentos!$E$4:$E$1048576,Base!$BO$2)","v":0},{"$f":"SUMIFS(Lançamentos!$G$4:$G$1048576,Lançamentos!$F$4:$F$1048576,Base!$A7,Lançamentos!$D$4:$D$1048576,Base!BQ$3,Lançamentos!$E$4:$E$1048576,Base!$BO$2)","v":0},{"$f":"SUMIFS(Lançamentos!$G$4:$G$1048576,Lançamentos!$F$4:$F$1048576,Base!$A7,Lançamentos!$D$4:$D$1048576,Base!BR$3,Lançamentos!$E$4:$E$1048576,Base!$BO$2)","v":0},{"$f":"SUMIFS(Lançamentos!$G$4:$G$1048576,Lançamentos!$F$4:$F$1048576,Base!$A7,Lançamentos!$D$4:$D$1048576,Base!BS$3,Lançamentos!$E$4:$E$1048576,Base!$BO$2)","v":0},{"$f":"SUMIFS(Lançamentos!$G$4:$G$1048576,Lançamentos!$F$4:$F$1048576,Base!$A7,Lançamentos!$D$4:$D$1048576,Base!BT$3,Lançamentos!$E$4:$E$1048576,Base!$BO$2)","v":0},{"$f":"SUMIFS(Lançamentos!$G$4:$G$1048576,Lançamentos!$F$4:$F$1048576,Base!$A7,Lançamentos!$D$4:$D$1048576,Base!BU$3,Lançamentos!$E$4:$E$1048576,Base!$BO$2)","v":0},{"$f":"SUMIFS(Lançamentos!$G$4:$G$1048576,Lançamentos!$F$4:$F$1048576,Base!$A7,Lançamentos!$D$4:$D$1048576,Base!BV$3,Lançamentos!$E$4:$E$1048576,Base!$BO$2)","v":0},{"$f":"SUMIFS(Lançamentos!$G$4:$G$1048576,Lançamentos!$F$4:$F$1048576,Base!$A7,Lançamentos!$D$4:$D$1048576,Base!BW$3,Lançamentos!$E$4:$E$1048576,Base!$BO$2)","v":0},{"$f":"SUMIFS(Lançamentos!$G$4:$G$1048576,Lançamentos!$F$4:$F$1048576,Base!$A7,Lançamentos!$D$4:$D$1048576,Base!BX$3,Lançamentos!$E$4:$E$1048576,Base!$BO$2)","v":0},{"$f":"SUMIFS(Lançamentos!$G$4:$G$1048576,Lançamentos!$F$4:$F$1048576,Base!$A7,Lançamentos!$D$4:$D$1048576,Base!BY$3,Lançamentos!$E$4:$E$1048576,Base!$BO$2)","v":0},{"$f":"SUMIFS(Lançamentos!$G$4:$G$1048576,Lançamentos!$F$4:$F$1048576,Base!$A7,Lançamentos!$D$4:$D$1048576,Base!BZ$3,Lançamentos!$E$4:$E$1048576,Base!$BO$2)","v":0},{"$f":"SUM(BO7:BZ7)","v":0},{"$f":"SUMIFS(Lançamentos!$G$4:$G$1048576,Lançamentos!$F$4:$F$1048576,Base!$A7,Lançamentos!$D$4:$D$1048576,Base!CB$3,Lançamentos!$E$4:$E$1048576,Base!$CB$2)","v":0},{"$f":"SUMIFS(Lançamentos!$G$4:$G$1048576,Lançamentos!$F$4:$F$1048576,Base!$A7,Lançamentos!$D$4:$D$1048576,Base!CC$3,Lançamentos!$E$4:$E$1048576,Base!$CB$2)","v":0},{"$f":"SUMIFS(Lançamentos!$G$4:$G$1048576,Lançamentos!$F$4:$F$1048576,Base!$A7,Lançamentos!$D$4:$D$1048576,Base!CD$3,Lançamentos!$E$4:$E$1048576,Base!$CB$2)","v":0},{"$f":"SUMIFS(Lançamentos!$G$4:$G$1048576,Lançamentos!$F$4:$F$1048576,Base!$A7,Lançamentos!$D$4:$D$1048576,Base!CE$3,Lançamentos!$E$4:$E$1048576,Base!$CB$2)","v":0},{"$f":"SUMIFS(Lançamentos!$G$4:$G$1048576,Lançamentos!$F$4:$F$1048576,Base!$A7,Lançamentos!$D$4:$D$1048576,Base!CF$3,Lançamentos!$E$4:$E$1048576,Base!$CB$2)","v":0},{"$f":"SUMIFS(Lançamentos!$G$4:$G$1048576,Lançamentos!$F$4:$F$1048576,Base!$A7,Lançamentos!$D$4:$D$1048576,Base!CG$3,Lançamentos!$E$4:$E$1048576,Base!$CB$2)","v":0},{"$f":"SUMIFS(Lançamentos!$G$4:$G$1048576,Lançamentos!$F$4:$F$1048576,Base!$A7,Lançamentos!$D$4:$D$1048576,Base!CH$3,Lançamentos!$E$4:$E$1048576,Base!$CB$2)","v":0},{"$f":"SUMIFS(Lançamentos!$G$4:$G$1048576,Lançamentos!$F$4:$F$1048576,Base!$A7,Lançamentos!$D$4:$D$1048576,Base!CI$3,Lançamentos!$E$4:$E$1048576,Base!$CB$2)","v":0},{"$f":"SUMIFS(Lançamentos!$G$4:$G$1048576,Lançamentos!$F$4:$F$1048576,Base!$A7,Lançamentos!$D$4:$D$1048576,Base!CJ$3,Lançamentos!$E$4:$E$1048576,Base!$CB$2)","v":0},{"$f":"SUMIFS(Lançamentos!$G$4:$G$1048576,Lançamentos!$F$4:$F$1048576,Base!$A7,Lançamentos!$D$4:$D$1048576,Base!CK$3,Lançamentos!$E$4:$E$1048576,Base!$CB$2)","v":0},{"$f":"SUMIFS(Lançamentos!$G$4:$G$1048576,Lançamentos!$F$4:$F$1048576,Base!$A7,Lançamentos!$D$4:$D$1048576,Base!CL$3,Lançamentos!$E$4:$E$1048576,Base!$CB$2)","v":0},{"$f":"SUMIFS(Lançamentos!$G$4:$G$1048576,Lançamentos!$F$4:$F$1048576,Base!$A7,Lançamentos!$D$4:$D$1048576,Base!CM$3,Lançamentos!$E$4:$E$1048576,Base!$CB$2)","v":0},{"$f":"SUM(CB7:CM7)","v":0},{"$f":"SUMIFS(Lançamentos!$G$4:$G$1048576,Lançamentos!$F$4:$F$1048576,Base!$A7,Lançamentos!$D$4:$D$1048576,Base!CO$3,Lançamentos!$E$4:$E$1048576,Base!$CO$2)","v":0},{"$f":"SUMIFS(Lançamentos!$G$4:$G$1048576,Lançamentos!$F$4:$F$1048576,Base!$A7,Lançamentos!$D$4:$D$1048576,Base!CP$3,Lançamentos!$E$4:$E$1048576,Base!$CO$2)","v":0},{"$f":"SUMIFS(Lançamentos!$G$4:$G$1048576,Lançamentos!$F$4:$F$1048576,Base!$A7,Lançamentos!$D$4:$D$1048576,Base!CQ$3,Lançamentos!$E$4:$E$1048576,Base!$CO$2)","v":0},{"$f":"SUMIFS(Lançamentos!$G$4:$G$1048576,Lançamentos!$F$4:$F$1048576,Base!$A7,Lançamentos!$D$4:$D$1048576,Base!CR$3,Lançamentos!$E$4:$E$1048576,Base!$CO$2)","v":0},{"$f":"SUMIFS(Lançamentos!$G$4:$G$1048576,Lançamentos!$F$4:$F$1048576,Base!$A7,Lançamentos!$D$4:$D$1048576,Base!CS$3,Lançamentos!$E$4:$E$1048576,Base!$CO$2)","v":0},{"$f":"SUMIFS(Lançamentos!$G$4:$G$1048576,Lançamentos!$F$4:$F$1048576,Base!$A7,Lançamentos!$D$4:$D$1048576,Base!CT$3,Lançamentos!$E$4:$E$1048576,Base!$CO$2)","v":0},{"$f":"SUMIFS(Lançamentos!$G$4:$G$1048576,Lançamentos!$F$4:$F$1048576,Base!$A7,Lançamentos!$D$4:$D$1048576,Base!CU$3,Lançamentos!$E$4:$E$1048576,Base!$CO$2)","v":0},{"$f":"SUMIFS(Lançamentos!$G$4:$G$1048576,Lançamentos!$F$4:$F$1048576,Base!$A7,Lançamentos!$D$4:$D$1048576,Base!CV$3,Lançamentos!$E$4:$E$1048576,Base!$CO$2)","v":0},{"$f":"SUMIFS(Lançamentos!$G$4:$G$1048576,Lançamentos!$F$4:$F$1048576,Base!$A7,Lançamentos!$D$4:$D$1048576,Base!CW$3,Lançamentos!$E$4:$E$1048576,Base!$CO$2)","v":0},{"$f":"SUMIFS(Lançamentos!$G$4:$G$1048576,Lançamentos!$F$4:$F$1048576,Base!$A7,Lançamentos!$D$4:$D$1048576,Base!CX$3,Lançamentos!$E$4:$E$1048576,Base!$CO$2)","v":0},{"$f":"SUMIFS(Lançamentos!$G$4:$G$1048576,Lançamentos!$F$4:$F$1048576,Base!$A7,Lançamentos!$D$4:$D$1048576,Base!CY$3,Lançamentos!$E$4:$E$1048576,Base!$CO$2)","v":0},{"$f":"SUMIFS(Lançamentos!$G$4:$G$1048576,Lançamentos!$F$4:$F$1048576,Base!$A7,Lançamentos!$D$4:$D$1048576,Base!CZ$3,Lançamentos!$E$4:$E$1048576,Base!$CO$2)","v":0},{"$f":"SUM(CO7:CZ7)","v":0},{"$f":"SUMIFS(Lançamentos!$G$4:$G$1048576,Lançamentos!$F$4:$F$1048576,Base!$A7,Lançamentos!$D$4:$D$1048576,Base!DB$3,Lançamentos!$E$4:$E$1048576,Base!$DB$2)","v":0},{"$f":"SUMIFS(Lançamentos!$G$4:$G$1048576,Lançamentos!$F$4:$F$1048576,Base!$A7,Lançamentos!$D$4:$D$1048576,Base!DC$3,Lançamentos!$E$4:$E$1048576,Base!$DB$2)","v":0},{"$f":"SUMIFS(Lançamentos!$G$4:$G$1048576,Lançamentos!$F$4:$F$1048576,Base!$A7,Lançamentos!$D$4:$D$1048576,Base!DD$3,Lançamentos!$E$4:$E$1048576,Base!$DB$2)","v":0},{"$f":"SUMIFS(Lançamentos!$G$4:$G$1048576,Lançamentos!$F$4:$F$1048576,Base!$A7,Lançamentos!$D$4:$D$1048576,Base!DE$3,Lançamentos!$E$4:$E$1048576,Base!$DB$2)","v":0},{"$f":"SUMIFS(Lançamentos!$G$4:$G$1048576,Lançamentos!$F$4:$F$1048576,Base!$A7,Lançamentos!$D$4:$D$1048576,Base!DF$3,Lançamentos!$E$4:$E$1048576,Base!$DB$2)","v":0},{"$f":"SUMIFS(Lançamentos!$G$4:$G$1048576,Lançamentos!$F$4:$F$1048576,Base!$A7,Lançamentos!$D$4:$D$1048576,Base!DG$3,Lançamentos!$E$4:$E$1048576,Base!$DB$2)","v":0},{"$f":"SUMIFS(Lançamentos!$G$4:$G$1048576,Lançamentos!$F$4:$F$1048576,Base!$A7,Lançamentos!$D$4:$D$1048576,Base!DH$3,Lançamentos!$E$4:$E$1048576,Base!$DB$2)","v":0},{"$f":"SUMIFS(Lançamentos!$G$4:$G$1048576,Lançamentos!$F$4:$F$1048576,Base!$A7,Lançamentos!$D$4:$D$1048576,Base!DI$3,Lançamentos!$E$4:$E$1048576,Base!$DB$2)","v":0},{"$f":"SUMIFS(Lançamentos!$G$4:$G$1048576,Lançamentos!$F$4:$F$1048576,Base!$A7,Lançamentos!$D$4:$D$1048576,Base!DJ$3,Lançamentos!$E$4:$E$1048576,Base!$DB$2)","v":0},{"$f":"SUMIFS(Lançamentos!$G$4:$G$1048576,Lançamentos!$F$4:$F$1048576,Base!$A7,Lançamentos!$D$4:$D$1048576,Base!DK$3,Lançamentos!$E$4:$E$1048576,Base!$DB$2)","v":0},{"$f":"SUMIFS(Lançamentos!$G$4:$G$1048576,Lançamentos!$F$4:$F$1048576,Base!$A7,Lançamentos!$D$4:$D$1048576,Base!DL$3,Lançamentos!$E$4:$E$1048576,Base!$DB$2)","v":0},{"$f":"SUMIFS(Lançamentos!$G$4:$G$1048576,Lançamentos!$F$4:$F$1048576,Base!$A7,Lançamentos!$D$4:$D$1048576,Base!DM$3,Lançamentos!$E$4:$E$1048576,Base!$DB$2)","v":0},{"$f":"SUM(DB7:DM7)","v":0},{"$f":"SUMIFS(Lançamentos!$G$4:$G$1048576,Lançamentos!$F$4:$F$1048576,Base!$A7,Lançamentos!$D$4:$D$1048576,Base!DO$3,Lançamentos!$E$4:$E$1048576,Base!$DO$2)","v":0},{"$f":"SUMIFS(Lançamentos!$G$4:$G$1048576,Lançamentos!$F$4:$F$1048576,Base!$A7,Lançamentos!$D$4:$D$1048576,Base!DP$3,Lançamentos!$E$4:$E$1048576,Base!$DO$2)","v":0},{"$f":"SUMIFS(Lançamentos!$G$4:$G$1048576,Lançamentos!$F$4:$F$1048576,Base!$A7,Lançamentos!$D$4:$D$1048576,Base!DQ$3,Lançamentos!$E$4:$E$1048576,Base!$DO$2)","v":0},{"$f":"SUMIFS(Lançamentos!$G$4:$G$1048576,Lançamentos!$F$4:$F$1048576,Base!$A7,Lançamentos!$D$4:$D$1048576,Base!DR$3,Lançamentos!$E$4:$E$1048576,Base!$DO$2)","v":0},{"$f":"SUMIFS(Lançamentos!$G$4:$G$1048576,Lançamentos!$F$4:$F$1048576,Base!$A7,Lançamentos!$D$4:$D$1048576,Base!DS$3,Lançamentos!$E$4:$E$1048576,Base!$DO$2)","v":0},{"$f":"SUMIFS(Lançamentos!$G$4:$G$1048576,Lançamentos!$F$4:$F$1048576,Base!$A7,Lançamentos!$D$4:$D$1048576,Base!DT$3,Lançamentos!$E$4:$E$1048576,Base!$DO$2)","v":0},{"$f":"SUMIFS(Lançamentos!$G$4:$G$1048576,Lançamentos!$F$4:$F$1048576,Base!$A7,Lançamentos!$D$4:$D$1048576,Base!DU$3,Lançamentos!$E$4:$E$1048576,Base!$DO$2)","v":0},{"$f":"SUMIFS(Lançamentos!$G$4:$G$1048576,Lançamentos!$F$4:$F$1048576,Base!$A7,Lançamentos!$D$4:$D$1048576,Base!DV$3,Lançamentos!$E$4:$E$1048576,Base!$DO$2)","v":0},{"$f":"SUMIFS(Lançamentos!$G$4:$G$1048576,Lançamentos!$F$4:$F$1048576,Base!$A7,Lançamentos!$D$4:$D$1048576,Base!DW$3,Lançamentos!$E$4:$E$1048576,Base!$DO$2)","v":0},{"$f":"SUMIFS(Lançamentos!$G$4:$G$1048576,Lançamentos!$F$4:$F$1048576,Base!$A7,Lançamentos!$D$4:$D$1048576,Base!DX$3,Lançamentos!$E$4:$E$1048576,Base!$DO$2)","v":0},{"$f":"SUMIFS(Lançamentos!$G$4:$G$1048576,Lançamentos!$F$4:$F$1048576,Base!$A7,Lançamentos!$D$4:$D$1048576,Base!DY$3,Lançamentos!$E$4:$E$1048576,Base!$DO$2)","v":0},{"$f":"SUMIFS(Lançamentos!$G$4:$G$1048576,Lançamentos!$F$4:$F$1048576,Base!$A7,Lançamentos!$D$4:$D$1048576,Base!DZ$3,Lançamentos!$E$4:$E$1048576,Base!$DO$2)","v":0},{"$f":"SUM(DO7:DZ7)","v":0},{"$f":"SUMIFS(Lançamentos!$G$4:$G$1048576,Lançamentos!$F$4:$F$1048576,Base!$A7,Lançamentos!$D$4:$D$1048576,Base!EB$3,Lançamentos!$E$4:$E$1048576,Base!$EB$2)","v":0},{"$f":"SUMIFS(Lançamentos!$G$4:$G$1048576,Lançamentos!$F$4:$F$1048576,Base!$A7,Lançamentos!$D$4:$D$1048576,Base!EC$3,Lançamentos!$E$4:$E$1048576,Base!$EB$2)","v":0},{"$f":"SUMIFS(Lançamentos!$G$4:$G$1048576,Lançamentos!$F$4:$F$1048576,Base!$A7,Lançamentos!$D$4:$D$1048576,Base!ED$3,Lançamentos!$E$4:$E$1048576,Base!$EB$2)","v":0},{"$f":"SUMIFS(Lançamentos!$G$4:$G$1048576,Lançamentos!$F$4:$F$1048576,Base!$A7,Lançamentos!$D$4:$D$1048576,Base!EE$3,Lançamentos!$E$4:$E$1048576,Base!$EB$2)","v":0},{"$f":"SUMIFS(Lançamentos!$G$4:$G$1048576,Lançamentos!$F$4:$F$1048576,Base!$A7,Lançamentos!$D$4:$D$1048576,Base!EF$3,Lançamentos!$E$4:$E$1048576,Base!$EB$2)","v":0},{"$f":"SUMIFS(Lançamentos!$G$4:$G$1048576,Lançamentos!$F$4:$F$1048576,Base!$A7,Lançamentos!$D$4:$D$1048576,Base!EG$3,Lançamentos!$E$4:$E$1048576,Base!$EB$2)","v":0},{"$f":"SUMIFS(Lançamentos!$G$4:$G$1048576,Lançamentos!$F$4:$F$1048576,Base!$A7,Lançamentos!$D$4:$D$1048576,Base!EH$3,Lançamentos!$E$4:$E$1048576,Base!$EB$2)","v":0},{"$f":"SUMIFS(Lançamentos!$G$4:$G$1048576,Lançamentos!$F$4:$F$1048576,Base!$A7,Lançamentos!$D$4:$D$1048576,Base!EI$3,Lançamentos!$E$4:$E$1048576,Base!$EB$2)","v":0},{"$f":"SUMIFS(Lançamentos!$G$4:$G$1048576,Lançamentos!$F$4:$F$1048576,Base!$A7,Lançamentos!$D$4:$D$1048576,Base!EJ$3,Lançamentos!$E$4:$E$1048576,Base!$EB$2)","v":0},{"$f":"SUMIFS(Lançamentos!$G$4:$G$1048576,Lançamentos!$F$4:$F$1048576,Base!$A7,Lançamentos!$D$4:$D$1048576,Base!EK$3,Lançamentos!$E$4:$E$1048576,Base!$EB$2)","v":0},{"$f":"SUMIFS(Lançamentos!$G$4:$G$1048576,Lançamentos!$F$4:$F$1048576,Base!$A7,Lançamentos!$D$4:$D$1048576,Base!EL$3,Lançamentos!$E$4:$E$1048576,Base!$EB$2)","v":0},{"$f":"SUMIFS(Lançamentos!$G$4:$G$1048576,Lançamentos!$F$4:$F$1048576,Base!$A7,Lançamentos!$D$4:$D$1048576,Base!EM$3,Lançamentos!$E$4:$E$1048576,Base!$EB$2)","v":0},{"$f":"SUM(EB7:EM7)","v":0},{"$f":"SUMIFS(Lançamentos!$G$4:$G$1048576,Lançamentos!$F$4:$F$1048576,Base!$A7,Lançamentos!$D$4:$D$1048576,Base!EO$3,Lançamentos!$E$4:$E$1048576,Base!$EO$2)","v":0},{"$f":"SUMIFS(Lançamentos!$G$4:$G$1048576,Lançamentos!$F$4:$F$1048576,Base!$A7,Lançamentos!$D$4:$D$1048576,Base!EP$3,Lançamentos!$E$4:$E$1048576,Base!$EO$2)","v":0},{"$f":"SUMIFS(Lançamentos!$G$4:$G$1048576,Lançamentos!$F$4:$F$1048576,Base!$A7,Lançamentos!$D$4:$D$1048576,Base!EQ$3,Lançamentos!$E$4:$E$1048576,Base!$EO$2)","v":0},{"$f":"SUMIFS(Lançamentos!$G$4:$G$1048576,Lançamentos!$F$4:$F$1048576,Base!$A7,Lançamentos!$D$4:$D$1048576,Base!ER$3,Lançamentos!$E$4:$E$1048576,Base!$EO$2)","v":0},{"$f":"SUMIFS(Lançamentos!$G$4:$G$1048576,Lançamentos!$F$4:$F$1048576,Base!$A7,Lançamentos!$D$4:$D$1048576,Base!ES$3,Lançamentos!$E$4:$E$1048576,Base!$EO$2)","v":0},{"$f":"SUMIFS(Lançamentos!$G$4:$G$1048576,Lançamentos!$F$4:$F$1048576,Base!$A7,Lançamentos!$D$4:$D$1048576,Base!ET$3,Lançamentos!$E$4:$E$1048576,Base!$EO$2)","v":0},{"$f":"SUMIFS(Lançamentos!$G$4:$G$1048576,Lançamentos!$F$4:$F$1048576,Base!$A7,Lançamentos!$D$4:$D$1048576,Base!EU$3,Lançamentos!$E$4:$E$1048576,Base!$EO$2)","v":0},{"$f":"SUMIFS(Lançamentos!$G$4:$G$1048576,Lançamentos!$F$4:$F$1048576,Base!$A7,Lançamentos!$D$4:$D$1048576,Base!EV$3,Lançamentos!$E$4:$E$1048576,Base!$EO$2)","v":0},{"$f":"SUMIFS(Lançamentos!$G$4:$G$1048576,Lançamentos!$F$4:$F$1048576,Base!$A7,Lançamentos!$D$4:$D$1048576,Base!EW$3,Lançamentos!$E$4:$E$1048576,Base!$EO$2)","v":0},{"$f":"SUMIFS(Lançamentos!$G$4:$G$1048576,Lançamentos!$F$4:$F$1048576,Base!$A7,Lançamentos!$D$4:$D$1048576,Base!EX$3,Lançamentos!$E$4:$E$1048576,Base!$EO$2)","v":0},{"$f":"SUMIFS(Lançamentos!$G$4:$G$1048576,Lançamentos!$F$4:$F$1048576,Base!$A7,Lançamentos!$D$4:$D$1048576,Base!EY$3,Lançamentos!$E$4:$E$1048576,Base!$EO$2)","v":0},{"$f":"SUMIFS(Lançamentos!$G$4:$G$1048576,Lançamentos!$F$4:$F$1048576,Base!$A7,Lançamentos!$D$4:$D$1048576,Base!EZ$3,Lançamentos!$E$4:$E$1048576,Base!$EO$2)","v":0},{"$f":"SUM(EO7:EZ7)","v":0},{"$f":"SUMIFS(Lançamentos!$G$4:$G$1048576,Lançamentos!$F$4:$F$1048576,Base!$A7,Lançamentos!$D$4:$D$1048576,Base!FB$3,Lançamentos!$E$4:$E$1048576,Base!$FB$2)","v":0},{"$f":"SUMIFS(Lançamentos!$G$4:$G$1048576,Lançamentos!$F$4:$F$1048576,Base!$A7,Lançamentos!$D$4:$D$1048576,Base!FC$3,Lançamentos!$E$4:$E$1048576,Base!$FB$2)","v":0},{"$f":"SUMIFS(Lançamentos!$G$4:$G$1048576,Lançamentos!$F$4:$F$1048576,Base!$A7,Lançamentos!$D$4:$D$1048576,Base!FD$3,Lançamentos!$E$4:$E$1048576,Base!$FB$2)","v":0},{"$f":"SUMIFS(Lançamentos!$G$4:$G$1048576,Lançamentos!$F$4:$F$1048576,Base!$A7,Lançamentos!$D$4:$D$1048576,Base!FE$3,Lançamentos!$E$4:$E$1048576,Base!$FB$2)","v":0},{"$f":"SUMIFS(Lançamentos!$G$4:$G$1048576,Lançamentos!$F$4:$F$1048576,Base!$A7,Lançamentos!$D$4:$D$1048576,Base!FF$3,Lançamentos!$E$4:$E$1048576,Base!$FB$2)","v":0},{"$f":"SUMIFS(Lançamentos!$G$4:$G$1048576,Lançamentos!$F$4:$F$1048576,Base!$A7,Lançamentos!$D$4:$D$1048576,Base!FG$3,Lançamentos!$E$4:$E$1048576,Base!$FB$2)","v":0},{"$f":"SUMIFS(Lançamentos!$G$4:$G$1048576,Lançamentos!$F$4:$F$1048576,Base!$A7,Lançamentos!$D$4:$D$1048576,Base!FH$3,Lançamentos!$E$4:$E$1048576,Base!$FB$2)","v":0},{"$f":"SUMIFS(Lançamentos!$G$4:$G$1048576,Lançamentos!$F$4:$F$1048576,Base!$A7,Lançamentos!$D$4:$D$1048576,Base!FI$3,Lançamentos!$E$4:$E$1048576,Base!$FB$2)","v":0},{"$f":"SUMIFS(Lançamentos!$G$4:$G$1048576,Lançamentos!$F$4:$F$1048576,Base!$A7,Lançamentos!$D$4:$D$1048576,Base!FJ$3,Lançamentos!$E$4:$E$1048576,Base!$FB$2)","v":0},{"$f":"SUMIFS(Lançamentos!$G$4:$G$1048576,Lançamentos!$F$4:$F$1048576,Base!$A7,Lançamentos!$D$4:$D$1048576,Base!FK$3,Lançamentos!$E$4:$E$1048576,Base!$FB$2)","v":0},{"$f":"SUMIFS(Lançamentos!$G$4:$G$1048576,Lançamentos!$F$4:$F$1048576,Base!$A7,Lançamentos!$D$4:$D$1048576,Base!FL$3,Lançamentos!$E$4:$E$1048576,Base!$FB$2)","v":0},{"$f":"SUMIFS(Lançamentos!$G$4:$G$1048576,Lançamentos!$F$4:$F$1048576,Base!$A7,Lançamentos!$D$4:$D$1048576,Base!FM$3,Lançamentos!$E$4:$E$1048576,Base!$FB$2)","v":0},{"$f":"SUM(FB7:FM7)","v":0},{"$f":"SUMIFS(Lançamentos!$G$4:$G$1048576,Lançamentos!$F$4:$F$1048576,Base!$A7,Lançamentos!$D$4:$D$1048576,Base!FO$3,Lançamentos!$E$4:$E$1048576,Base!$FO$2)","v":0},{"$f":"SUMIFS(Lançamentos!$G$4:$G$1048576,Lançamentos!$F$4:$F$1048576,Base!$A7,Lançamentos!$D$4:$D$1048576,Base!FP$3,Lançamentos!$E$4:$E$1048576,Base!$FO$2)","v":0},{"$f":"SUMIFS(Lançamentos!$G$4:$G$1048576,Lançamentos!$F$4:$F$1048576,Base!$A7,Lançamentos!$D$4:$D$1048576,Base!FQ$3,Lançamentos!$E$4:$E$1048576,Base!$FO$2)","v":0},{"$f":"SUMIFS(Lançamentos!$G$4:$G$1048576,Lançamentos!$F$4:$F$1048576,Base!$A7,Lançamentos!$D$4:$D$1048576,Base!FR$3,Lançamentos!$E$4:$E$1048576,Base!$FO$2)","v":0},{"$f":"SUMIFS(Lançamentos!$G$4:$G$1048576,Lançamentos!$F$4:$F$1048576,Base!$A7,Lançamentos!$D$4:$D$1048576,Base!FS$3,Lançamentos!$E$4:$E$1048576,Base!$FO$2)","v":0},{"$f":"SUMIFS(Lançamentos!$G$4:$G$1048576,Lançamentos!$F$4:$F$1048576,Base!$A7,Lançamentos!$D$4:$D$1048576,Base!FT$3,Lançamentos!$E$4:$E$1048576,Base!$FO$2)","v":0},{"$f":"SUMIFS(Lançamentos!$G$4:$G$1048576,Lançamentos!$F$4:$F$1048576,Base!$A7,Lançamentos!$D$4:$D$1048576,Base!FU$3,Lançamentos!$E$4:$E$1048576,Base!$FO$2)","v":0},{"$f":"SUMIFS(Lançamentos!$G$4:$G$1048576,Lançamentos!$F$4:$F$1048576,Base!$A7,Lançamentos!$D$4:$D$1048576,Base!FV$3,Lançamentos!$E$4:$E$1048576,Base!$FO$2)","v":0},{"$f":"SUMIFS(Lançamentos!$G$4:$G$1048576,Lançamentos!$F$4:$F$1048576,Base!$A7,Lançamentos!$D$4:$D$1048576,Base!FW$3,Lançamentos!$E$4:$E$1048576,Base!$FO$2)","v":0},{"$f":"SUMIFS(Lançamentos!$G$4:$G$1048576,Lançamentos!$F$4:$F$1048576,Base!$A7,Lançamentos!$D$4:$D$1048576,Base!FX$3,Lançamentos!$E$4:$E$1048576,Base!$FO$2)","v":0},{"$f":"SUMIFS(Lançamentos!$G$4:$G$1048576,Lançamentos!$F$4:$F$1048576,Base!$A7,Lançamentos!$D$4:$D$1048576,Base!FY$3,Lançamentos!$E$4:$E$1048576,Base!$FO$2)","v":0},{"$f":"SUMIFS(Lançamentos!$G$4:$G$1048576,Lançamentos!$F$4:$F$1048576,Base!$A7,Lançamentos!$D$4:$D$1048576,Base!FZ$3,Lançamentos!$E$4:$E$1048576,Base!$FO$2)","v":0},{"$f":"SUM(FO7:FZ7)","v":0},{"$f":"SUMIFS(Lançamentos!$G$4:$G$1048576,Lançamentos!$F$4:$F$1048576,Base!$A7,Lançamentos!$D$4:$D$1048576,Base!GB$3,Lançamentos!$E$4:$E$1048576,Base!$GB$2)","v":0},{"$f":"SUMIFS(Lançamentos!$G$4:$G$1048576,Lançamentos!$F$4:$F$1048576,Base!$A7,Lançamentos!$D$4:$D$1048576,Base!GC$3,Lançamentos!$E$4:$E$1048576,Base!$GB$2)","v":0},{"$f":"SUMIFS(Lançamentos!$G$4:$G$1048576,Lançamentos!$F$4:$F$1048576,Base!$A7,Lançamentos!$D$4:$D$1048576,Base!GD$3,Lançamentos!$E$4:$E$1048576,Base!$GB$2)","v":0},{"$f":"SUMIFS(Lançamentos!$G$4:$G$1048576,Lançamentos!$F$4:$F$1048576,Base!$A7,Lançamentos!$D$4:$D$1048576,Base!GE$3,Lançamentos!$E$4:$E$1048576,Base!$GB$2)","v":0},{"$f":"SUMIFS(Lançamentos!$G$4:$G$1048576,Lançamentos!$F$4:$F$1048576,Base!$A7,Lançamentos!$D$4:$D$1048576,Base!GF$3,Lançamentos!$E$4:$E$1048576,Base!$GB$2)","v":0},{"$f":"SUMIFS(Lançamentos!$G$4:$G$1048576,Lançamentos!$F$4:$F$1048576,Base!$A7,Lançamentos!$D$4:$D$1048576,Base!GG$3,Lançamentos!$E$4:$E$1048576,Base!$GB$2)","v":0},{"$f":"SUMIFS(Lançamentos!$G$4:$G$1048576,Lançamentos!$F$4:$F$1048576,Base!$A7,Lançamentos!$D$4:$D$1048576,Base!GH$3,Lançamentos!$E$4:$E$1048576,Base!$GB$2)","v":0},{"$f":"SUMIFS(Lançamentos!$G$4:$G$1048576,Lançamentos!$F$4:$F$1048576,Base!$A7,Lançamentos!$D$4:$D$1048576,Base!GI$3,Lançamentos!$E$4:$E$1048576,Base!$GB$2)","v":0},{"$f":"SUMIFS(Lançamentos!$G$4:$G$1048576,Lançamentos!$F$4:$F$1048576,Base!$A7,Lançamentos!$D$4:$D$1048576,Base!GJ$3,Lançamentos!$E$4:$E$1048576,Base!$GB$2)","v":0},{"$f":"SUMIFS(Lançamentos!$G$4:$G$1048576,Lançamentos!$F$4:$F$1048576,Base!$A7,Lançamentos!$D$4:$D$1048576,Base!GK$3,Lançamentos!$E$4:$E$1048576,Base!$GB$2)","v":0},{"$f":"SUMIFS(Lançamentos!$G$4:$G$1048576,Lançamentos!$F$4:$F$1048576,Base!$A7,Lançamentos!$D$4:$D$1048576,Base!GL$3,Lançamentos!$E$4:$E$1048576,Base!$GB$2)","v":0},{"$f":"SUMIFS(Lançamentos!$G$4:$G$1048576,Lançamentos!$F$4:$F$1048576,Base!$A7,Lançamentos!$D$4:$D$1048576,Base!GM$3,Lançamentos!$E$4:$E$1048576,Base!$GB$2)","v":0},{"$f":"SUM(GB7:GM7)","v":0},null,2021]
[{"$f":"(IF(Lançamentos!A5=\"\",\"\",Lançamentos!A5))","v":"Cartão de Débito"},{"$f":"SUMIFS(Lançamentos!$G$4:$G$1048576,Lançamentos!$F$4:$F$1048576,Base!$A8,Lançamentos!$D$4:$D$1048576,Base!B$3,Lançamentos!$E$4:$E$1048576,Base!$B$2)","v":0},{"$f":"SUMIFS(Lançamentos!$G$4:$G$1048576,Lançamentos!$F$4:$F$1048576,Base!$A8,Lançamentos!$D$4:$D$1048576,Base!C$3,Lançamentos!$E$4:$E$1048576,Base!$B$2)","v":0},{"$f":"SUMIFS(Lançamentos!$G$4:$G$1048576,Lançamentos!$F$4:$F$1048576,Base!$A8,Lançamentos!$D$4:$D$1048576,Base!D$3,Lançamentos!$E$4:$E$1048576,Base!$B$2)","v":0},{"$f":"SUMIFS(Lançamentos!$G$4:$G$1048576,Lançamentos!$F$4:$F$1048576,Base!$A8,Lançamentos!$D$4:$D$1048576,Base!E$3,Lançamentos!$E$4:$E$1048576,Base!$B$2)","v":0},{"$f":"SUMIFS(Lançamentos!$G$4:$G$1048576,Lançamentos!$F$4:$F$1048576,Base!$A8,Lançamentos!$D$4:$D$1048576,Base!F$3,Lançamentos!$E$4:$E$1048576,Base!$B$2)","v":0},{"$f":"SUMIFS(Lançamentos!$G$4:$G$1048576,Lançamentos!$F$4:$F$1048576,Base!$A8,Lançamentos!$D$4:$D$1048576,Base!G$3,Lançamentos!$E$4:$E$1048576,Base!$B$2)","v":0},{"$f":"SUMIFS(Lançamentos!$G$4:$G$1048576,Lançamentos!$F$4:$F$1048576,Base!$A8,Lançamentos!$D$4:$D$1048576,Base!H$3,Lançamentos!$E$4:$E$1048576,Base!$B$2)","v":0},{"$f":"SUMIFS(Lançamentos!$G$4:$G$1048576,Lançamentos!$F$4:$F$1048576,Base!$A8,Lançamentos!$D$4:$D$1048576,Base!I$3,Lançamentos!$E$4:$E$1048576,Base!$B$2)","v":0},{"$f":"SUMIFS(Lançamentos!$G$4:$G$1048576,Lançamentos!$F$4:$F$1048576,Base!$A8,Lançamentos!$D$4:$D$1048576,Base!J$3,Lançamentos!$E$4:$E$1048576,Base!$B$2)","v":0},{"$f":"SUMIFS(Lançamentos!$G$4:$G$1048576,Lançamentos!$F$4:$F$1048576,Base!$A8,Lançamentos!$D$4:$D$1048576,Base!K$3,Lançamentos!$E$4:$E$1048576,Base!$B$2)","v":0},{"$f":"SUMIFS(Lançamentos!$G$4:$G$1048576,Lançamentos!$F$4:$F$1048576,Base!$A8,Lançamentos!$D$4:$D$1048576,Base!L$3,Lançamentos!$E$4:$E$1048576,Base!$B$2)","v":0},{"$f":"SUMIFS(Lançamentos!$G$4:$G$1048576,Lançamentos!$F$4:$F$1048576,Base!$A8,Lançamentos!$D$4:$D$1048576,Base!M$3,Lançamentos!$E$4:$E$1048576,Base!$B$2)","v":0},0,{"$f":"SUMIFS(Lançamentos!$G$4:$G$1048576,Lançamentos!$F$4:$F$1048576,Base!$A8,Lançamentos!$D$4:$D$1048576,Base!O$3,Lançamentos!$E$4:$E$1048576,Base!$O$2)","v":0},{"$f":"SUMIFS(Lançamentos!$G$4:$G$1048576,Lançamentos!$F$4:$F$1048576,Base!$A8,Lançamentos!$D$4:$D$1048576,Base!P$3,Lançamentos!$E$4:$E$1048576,Base!$O$2)","v":0},{"$f":"SUMIFS(Lançamentos!$G$4:$G$1048576,Lançamentos!$F$4:$F$1048576,Base!$A8,Lançamentos!$D$4:$D$1048576,Base!Q$3,Lançamentos!$E$4:$E$1048576,Base!$O$2)","v":0},{"$f":"SUMIFS(Lançamentos!$G$4:$G$1048576,Lançamentos!$F$4:$F$1048576,Base!$A8,Lançamentos!$D$4:$D$1048576,Base!R$3,Lançamentos!$E$4:$E$1048576,Base!$O$2)","v":0},{"$f":"SUMIFS(Lançamentos!$G$4:$G$1048576,Lançamentos!$F$4:$F$1048576,Base!$A8,Lançamentos!$D$4:$D$1048576,Base!S$3,Lançamentos!$E$4:$E$1048576,Base!$O$2)","v":0},{"$f":"SUMIFS(Lançamentos!$G$4:$G$1048576,Lançamentos!$F$4:$F$1048576,Base!$A8,Lançamentos!$D$4:$D$1048576,Base!T$3,Lançamentos!$E$4:$E$1048576,Base!$O$2)","v":0},{"$f":"SUMIFS(Lançamentos!$G$4:$G$1048576,Lançamentos!$F$4:$F$1048576,Base!$A8,Lançamentos!$D$4:$D$1048576,Base!U$3,Lançamentos!$E$4:$E$1048576,Base!$O$2)","v":0},{"$f":"SUMIFS(Lançamentos!$G$4:$G$1048576,Lançamentos!$F$4:$F$1048576,Base!$A8,Lançamentos!$D$4:$D$1048576,Base!V$3,Lançamentos!$E$4:$E$1048576,Base!$O$2)","v":0},{"$f":"SUMIFS(Lançamentos!$G$4:$G$1048576,Lançamentos!$F$4:$F$1048576,Base!$A8,Lançamentos!$D$4:$D$1048576,Base!W$3,Lançamentos!$E$4:$E$1048576,Base!$O$2)","v":0},{"$f":"SUMIFS(Lançamentos!$G$4:$G$1048576,Lançamentos!$F$4:$F$1048576,Base!$A8,Lançamentos!$D$4:$D$1048576,Base!X$3,Lançamentos!$E$4:$E$1048576,Base!$O$2)","v":0},{"$f":"SUMIFS(Lançamentos!$G$4:$G$1048576,Lançamentos!$F$4:$F$1048576,Base!$A8,Lançamentos!$D$4:$D$1048576,Base!Y$3,Lançamentos!$E$4:$E$1048576,Base!$O$2)","v":0},{"$f":"SUMIFS(Lançamentos!$G$4:$G$1048576,Lançamentos!$F$4:$F$1048576,Base!$A8,Lançamentos!$D$4:$D$1048576,Base!Z$3,Lançamentos!$E$4:$E$1048576,Base!$O$2)","v":0},0,{"$f":"SUMIFS(Lançamentos!$G$4:$G$1048576,Lançamentos!$F$4:$F$1048576,Base!$A8,Lançamentos!$D$4:$D$1048576,Base!AB$3,Lançamentos!$E$4:$E$1048576,Base!$AB$2)","v":0},{"$f":"SUMIFS(Lançamentos!$G$4:$G$1048576,Lançamentos!$F$4:$F$1048576,Base!$A8,Lançamentos!$D$4:$D$1048576,Base!AC$3,Lançamentos!$E$4:$E$1048576,Base!$AB$2)","v":0},{"$f":"SUMIFS(Lançamentos!$G$4:$G$1048576,Lançamentos!$F$4:$F$1048576,Base!$A8,Lançamentos!$D$4:$D$1048576,Base!AD$3,Lançamentos!$E$4:$E$1048576,Base!$AB$2)","v":0},{"$f":"SUMIFS(Lançamentos!$G$4:$G$1048576,Lançamentos!$F$4:$F$1048576,Base!$A8,Lançamentos!$D$4:$D$1048576,Base!AE$3,Lançamentos!$E$4:$E$1048576,Base!$AB$2)","v":0},{"$f":"SUMIFS(Lançamentos!$G$4:$G$1048576,Lançamentos!$F$4:$F$1048576,Base!$A8,Lançamentos!$D$4:$D$1048576,Base!AF$3,Lançamentos!$E$4:$E$1048576,Base!$AB$2)","v":0},{"$f":"SUMIFS(Lançamentos!$G$4:$G$1048576,Lançamentos!$F$4:$F$1048576,Base!$A8,Lançamentos!$D$4:$D$1048576,Base!AG$3,Lançamentos!$E$4:$E$1048576,Base!$AB$2)","v":0},{"$f":"SUMIFS(Lançamentos!$G$4:$G$1048576,Lançamentos!$F$4:$F$1048576,Base!$A8,Lançamentos!$D$4:$D$1048576,Base!AH$3,Lançamentos!$E$4:$E$1048576,Base!$AB$2)","v":0},{"$f":"SUMIFS(Lançamentos!$G$4:$G$1048576,Lançamentos!$F$4:$F$1048576,Base!$A8,Lançamentos!$D$4:$D$1048576,Base!AI$3,Lançamentos!$E$4:$E$1048576,Base!$AB$2)","v":0},{"$f":"SUMIFS(Lançamentos!$G$4:$G$1048576,Lançamentos!$F$4:$F$1048576,Base!$A8,Lançamentos!$D$4:$D$1048576,Base!AJ$3,Lançamentos!$E$4:$E$1048576,Base!$AB$2)","v":0},{"$f":"SUMIFS(Lançamentos!$G$4:$G$1048576,Lançamentos!$F$4:$F$1048576,Base!$A8,Lançamentos!$D$4:$D$1048576,Base!AK$3,Lançamentos!$E$4:$E$1048576,Base!$AB$2)","v":0},{"$f":"SUMIFS(Lançamentos!$G$4:$G$1048576,Lançamentos!$F$4:$F$1048576,Base!$A8,Lançamentos!$D$4:$D$1048576,Base!AL$3,Lançamentos!$E$4:$E$1048576,Base!$AB$2)","v":0},{"$f":"SUMIFS(Lançamentos!$G$4:$G$1048576,Lançamentos!$F$4:$F$1048576,Base!$A8,Lançamentos!$D$4:$D$1048576,Base!AM$3,Lançamentos!$E$4:$E$1048576,Base!$AB$2)","v":0},0,{"$f":"SUMIFS(Lançamentos!$G$4:$G$1048576,Lançamentos!$F$4:$F$1048576,Base!$A8,Lançamentos!$D$4:$D$1048576,Base!AO$3,Lançamentos!$E$4:$E$1048576,Base!$AO$2)","v":0},{"$f":"SUMIFS(Lançamentos!$G$4:$G$1048576,Lançamentos!$F$4:$F$1048576,Base!$A8,Lançamentos!$D$4:$D$1048576,Base!AP$3,Lançamentos!$E$4:$E$1048576,Base!$AO$2)","v":0},{"$f":"SUMIFS(Lançamentos!$G$4:$G$1048576,Lançamentos!$F$4:$F$1048576,Base!$A8,Lançamentos!$D$4:$D$1048576,Base!AQ$3,Lançamentos!$E$4:$E$1048576,Base!$AO$2)","v":0},{"$f":"SUMIFS(Lançamentos!$G$4:$G$1048576,Lançamentos!$F$4:$F$1048576,Base!$A8,Lançamentos!$D$4:$D$1048576,Base!AR$3,Lançamentos!$E$4:$E$1048576,Base!$AO$2)","v":0},{"$f":"SUMIFS(Lançamentos!$G$4:$G$1048576,Lançamentos!$F$4:$F$1048576,Base!$A8,Lançamentos!$D$4:$D$1048576,Base!AS$3,Lançamentos!$E$4:$E$1048576,Base!$AO$2)","v":0},{"$f":"SUMIFS(Lançamentos!$G$4:$G$1048576,Lançamentos!$F$4:$F$1048576,Base!$A8,Lançamentos!$D$4:$D$1048576,Base!AT$3,Lançamentos!$E$4:$E$1048576,Base!$AO$2)","v":0},{"$f":"SUMIFS(Lançamentos!$G$4:$G$1048576,Lançamentos!$F$4:$F$1048576,Base!$A8,Lançamentos!$D$4:$D$1048576,Base!AU$3,Lançamentos!$E$4:$E$1048576,Base!$AO$2)","v":0},{"$f":"SUMIFS(Lançamentos!$G$4:$G$1048576,Lançamentos!$F$4:$F$1048576,Base!$A8,Lançamentos!$D$4:$D$1048576,Base!AV$3,Lançamentos!$E$4:$E$1048576,Base!$AO$2)","v":0},{"$f":"SUMIFS(Lançamentos!$G$4:$G$1048576,Lançamentos!$F$4:$F$1048576,Base!$A8,Lançamentos!$D$4:$D$1048576,Base!AW$3,Lançamentos!$E$4:$E$1048576,Base!$AO$2)","v":0},{"$f":"SUMIFS(Lançamentos!$G$4:$G$1048576,Lançamentos!$F$4:$F$1048576,Base!$A8,Lançamentos!$D$4:$D$1048576,Base!AX$3,Lançamentos!$E$4:$E$1048576,Base!$AO$2)","v":0},{"$f":"SUMIFS(Lançamentos!$G$4:$G$1048576,Lançamentos!$F$4:$F$1048576,Base!$A8,Lançamentos!$D$4:$D$1048576,Base!AY$3,Lançamentos!$E$4:$E$1048576,Base!$AO$2)","v":0},{"$f":"SUMIFS(Lançamentos!$G$4:$G$1048576,Lançamentos!$F$4:$F$1048576,Base!$A8,Lançamentos!$D$4:$D$1048576,Base!AZ$3,Lançamentos!$E$4:$E$1048576,Base!$AO$2)","v":0},0,{"$f":"SUMIFS(Lançamentos!$G$4:$G$1048576,Lançamentos!$F$4:$F$1048576,Base!$A8,Lançamentos!$D$4:$D$1048576,Base!BB$3,Lançamentos!$E$4:$E$1048576,Base!$BB$2)","v":0},{"$f":"SUMIFS(Lançamentos!$G$4:$G$1048576,Lançamentos!$F$4:$F$1048576,Base!$A8,Lançamentos!$D$4:$D$1048576,Base!BC$3,Lançamentos!$E$4:$E$1048576,Base!$BB$2)","v":0},{"$f":"SUMIFS(Lançamentos!$G$4:$G$1048576,Lançamentos!$F$4:$F$1048576,Base!$A8,Lançamentos!$D$4:$D$1048576,Base!BD$3,Lançamentos!$E$4:$E$1048576,Base!$BB$2)","v":0},{"$f":"SUMIFS(Lançamentos!$G$4:$G$1048576,Lançamentos!$F$4:$F$1048576,Base!$A8,Lançamentos!$D$4:$D$1048576,Base!BE$3,Lançamentos!$E$4:$E$1048576,Base!$BB$2)","v":0},{"$f":"SUMIFS(Lançamentos!$G$4:$G$1048576,Lançamentos!$F$4:$F$1048576,Base!$A8,Lançamentos!$D$4:$D$1048576,Base!BF$3,Lançamentos!$E$4:$E$1048576,Base!$BB$2)","v":0},{"$f":"SUMIFS(Lançamentos!$G$4:$G$1048576,Lançamentos!$F$4:$F$1048576,Base!$A8,Lançamentos!$D$4:$D$1048576,Base!BG$3,Lançamentos!$E$4:$E$1048576,Base!$BB$2)","v":0},{"$f":"SUMIFS(Lançamentos!$G$4:$G$1048576,Lançamentos!$F$4:$F$1048576,Base!$A8,Lançamentos!$D$4:$D$1048576,Base!BH$3,Lançamentos!$E$4:$E$1048576,Base!$BB$2)","v":0},{"$f":"SUMIFS(Lançamentos!$G$4:$G$1048576,Lançamentos!$F$4:$F$1048576,Base!$A8,Lançamentos!$D$4:$D$1048576,Base!BI$3,Lançamentos!$E$4:$E$1048576,Base!$BB$2)","v":0},{"$f":"SUMIFS(Lançamentos!$G$4:$G$1048576,Lançamentos!$F$4:$F$1048576,Base!$A8,Lançamentos!$D$4:$D$1048576,Base!BJ$3,Lançamentos!$E$4:$E$1048576,Base!$BB$2)","v":0},{"$f":"SUMIFS(Lançamentos!$G$4:$G$1048576,Lançamentos!$F$4:$F$1048576,Base!$A8,Lançamentos!$D$4:$D$1048576,Base!BK$3,Lançamentos!$E$4:$E$1048576,Base!$BB$2)","v":0},{"$f":"SUMIFS(Lançamentos!$G$4:$G$1048576,Lançamentos!$F$4:$F$1048576,Base!$A8,Lançamentos!$D$4:$D$1048576,Base!BL$3,Lançamentos!$E$4:$E$1048576,Base!$BB$2)","v":0},{"$f":"SUMIFS(Lançamentos!$G$4:$G$1048576,Lançamentos!$F$4:$F$1048576,Base!$A8,Lançamentos!$D$4:$D$1048576,Base!BM$3,Lançamentos!$E$4:$E$1048576,Base!$BB$2)","v":0},0,{"$f":"SUMIFS(Lançamentos!$G$4:$G$1048576,Lançamentos!$F$4:$F$1048576,Base!$A8,Lançamentos!$D$4:$D$1048576,Base!BO$3,Lançamentos!$E$4:$E$1048576,Base!$BO$2)","v":0},{"$f":"SUMIFS(Lançamentos!$G$4:$G$1048576,Lançamentos!$F$4:$F$1048576,Base!$A8,Lançamentos!$D$4:$D$1048576,Base!BP$3,Lançamentos!$E$4:$E$1048576,Base!$BO$2)","v":0},{"$f":"SUMIFS(Lançamentos!$G$4:$G$1048576,Lançamentos!$F$4:$F$1048576,Base!$A8,Lançamentos!$D$4:$D$1048576,Base!BQ$3,Lançamentos!$E$4:$E$1048576,Base!$BO$2)","v":0},{"$f":"SUMIFS(Lançamentos!$G$4:$G$1048576,Lançamentos!$F$4:$F$1048576,Base!$A8,Lançamentos!$D$4:$D$1048576,Base!BR$3,Lançamentos!$E$4:$E$1048576,Base!$BO$2)","v":0},{"$f":"SUMIFS(Lançamentos!$G$4:$G$1048576,Lançamentos!$F$4:$F$1048576,Base!$A8,Lançamentos!$D$4:$D$1048576,Base!BS$3,Lançamentos!$E$4:$E$1048576,Base!$BO$2)","v":0},{"$f":"SUMIFS(Lançamentos!$G$4:$G$1048576,Lançamentos!$F$4:$F$1048576,Base!$A8,Lançamentos!$D$4:$D$1048576,Base!BT$3,Lançamentos!$E$4:$E$1048576,Base!$BO$2)","v":0},{"$f":"SUMIFS(Lançamentos!$G$4:$G$1048576,Lançamentos!$F$4:$F$1048576,Base!$A8,Lançamentos!$D$4:$D$1048576,Base!BU$3,Lançamentos!$E$4:$E$1048576,Base!$BO$2)","v":0},{"$f":"SUMIFS(Lançamentos!$G$4:$G$1048576,Lançamentos!$F$4:$F$1048576,Base!$A8,Lançamentos!$D$4:$D$1048576,Base!BV$3,Lançamentos!$E$4:$E$1048576,Base!$BO$2)","v":0},{"$f":"SUMIFS(Lançamentos!$G$4:$G$1048576,Lançamentos!$F$4:$F$1048576,Base!$A8,Lançamentos!$D$4:$D$1048576,Base!BW$3,Lançamentos!$E$4:$E$1048576,Base!$BO$2)","v":0},{"$f":"SUMIFS(Lançamentos!$G$4:$G$1048576,Lançamentos!$F$4:$F$1048576,Base!$A8,Lançamentos!$D$4:$D$1048576,Base!BX$3,Lançamentos!$E$4:$E$1048576,Base!$BO$2)","v":0},{"$f":"SUMIFS(Lançamentos!$G$4:$G$1048576,Lançamentos!$F$4:$F$1048576,Base!$A8,Lançamentos!$D$4:$D$1048576,Base!BY$3,Lançamentos!$E$4:$E$1048576,Base!$BO$2)","v":0},{"$f":"SUMIFS(Lançamentos!$G$4:$G$1048576,Lançamentos!$F$4:$F$1048576,Base!$A8,Lançamentos!$D$4:$D$1048576,Base!BZ$3,Lançamentos!$E$4:$E$1048576,Base!$BO$2)","v":0},0,{"$f":"SUMIFS(Lançamentos!$G$4:$G$1048576,Lançamentos!$F$4:$F$1048576,Base!$A8,Lançamentos!$D$4:$D$1048576,Base!CB$3,Lançamentos!$E$4:$E$1048576,Base!$CB$2)","v":0},{"$f":"SUMIFS(Lançamentos!$G$4:$G$1048576,Lançamentos!$F$4:$F$1048576,Base!$A8,Lançamentos!$D$4:$D$1048576,Base!CC$3,Lançamentos!$E$4:$E$1048576,Base!$CB$2)","v":0},{"$f":"SUMIFS(Lançamentos!$G$4:$G$1048576,Lançamentos!$F$4:$F$1048576,Base!$A8,Lançamentos!$D$4:$D$1048576,Base!CD$3,Lançamentos!$E$4:$E$1048576,Base!$CB$2)","v":0},{"$f":"SUMIFS(Lançamentos!$G$4:$G$1048576,Lançamentos!$F$4:$F$1048576,Base!$A8,Lançamentos!$D$4:$D$1048576,Base!CE$3,Lançamentos!$E$4:$E$1048576,Base!$CB$2)","v":0},{"$f":"SUMIFS(Lançamentos!$G$4:$G$1048576,Lançamentos!$F$4:$F$1048576,Base!$A8,Lançamentos!$D$4:$D$1048576,Base!CF$3,Lançamentos!$E$4:$E$1048576,Base!$CB$2)","v":0},{"$f":"SUMIFS(Lançamentos!$G$4:$G$1048576,Lançamentos!$F$4:$F$1048576,Base!$A8,Lançamentos!$D$4:$D$1048576,Base!CG$3,Lançamentos!$E$4:$E$1048576,Base!$CB$2)","v":0},{"$f":"SUMIFS(Lançamentos!$G$4:$G$1048576,Lançamentos!$F$4:$F$1048576,Base!$A8,Lançamentos!$D$4:$D$1048576,Base!CH$3,Lançamentos!$E$4:$E$1048576,Base!$CB$2)","v":0},{"$f":"SUMIFS(Lançamentos!$G$4:$G$1048576,Lançamentos!$F$4:$F$1048576,Base!$A8,Lançamentos!$D$4:$D$1048576,Base!CI$3,Lançamentos!$E$4:$E$1048576,Base!$CB$2)","v":0},{"$f":"SUMIFS(Lançamentos!$G$4:$G$1048576,Lançamentos!$F$4:$F$1048576,Base!$A8,Lançamentos!$D$4:$D$1048576,Base!CJ$3,Lançamentos!$E$4:$E$1048576,Base!$CB$2)","v":0},{"$f":"SUMIFS(Lançamentos!$G$4:$G$1048576,Lançamentos!$F$4:$F$1048576,Base!$A8,Lançamentos!$D$4:$D$1048576,Base!CK$3,Lançamentos!$E$4:$E$1048576,Base!$CB$2)","v":0},{"$f":"SUMIFS(Lançamentos!$G$4:$G$1048576,Lançamentos!$F$4:$F$1048576,Base!$A8,Lançamentos!$D$4:$D$1048576,Base!CL$3,Lançamentos!$E$4:$E$1048576,Base!$CB$2)","v":0},{"$f":"SUMIFS(Lançamentos!$G$4:$G$1048576,Lançamentos!$F$4:$F$1048576,Base!$A8,Lançamentos!$D$4:$D$1048576,Base!CM$3,Lançamentos!$E$4:$E$1048576,Base!$CB$2)","v":0},0,{"$f":"SUMIFS(Lançamentos!$G$4:$G$1048576,Lançamentos!$F$4:$F$1048576,Base!$A8,Lançamentos!$D$4:$D$1048576,Base!CO$3,Lançamentos!$E$4:$E$1048576,Base!$CO$2)","v":0},{"$f":"SUMIFS(Lançamentos!$G$4:$G$1048576,Lançamentos!$F$4:$F$1048576,Base!$A8,Lançamentos!$D$4:$D$1048576,Base!CP$3,Lançamentos!$E$4:$E$1048576,Base!$CO$2)","v":0},{"$f":"SUMIFS(Lançamentos!$G$4:$G$1048576,Lançamentos!$F$4:$F$1048576,Base!$A8,Lançamentos!$D$4:$D$1048576,Base!CQ$3,Lançamentos!$E$4:$E$1048576,Base!$CO$2)","v":0},{"$f":"SUMIFS(Lançamentos!$G$4:$G$1048576,Lançamentos!$F$4:$F$1048576,Base!$A8,Lançamentos!$D$4:$D$1048576,Base!CR$3,Lançamentos!$E$4:$E$1048576,Base!$CO$2)","v":0},{"$f":"SUMIFS(Lançamentos!$G$4:$G$1048576,Lançamentos!$F$4:$F$1048576,Base!$A8,Lançamentos!$D$4:$D$1048576,Base!CS$3,Lançamentos!$E$4:$E$1048576,Base!$CO$2)","v":0},{"$f":"SUMIFS(Lançamentos!$G$4:$G$1048576,Lançamentos!$F$4:$F$1048576,Base!$A8,Lançamentos!$D$4:$D$1048576,Base!CT$3,Lançamentos!$E$4:$E$1048576,Base!$CO$2)","v":0},{"$f":"SUMIFS(Lançamentos!$G$4:$G$1048576,Lançamentos!$F$4:$F$1048576,Base!$A8,Lançamentos!$D$4:$D$1048576,Base!CU$3,Lançamentos!$E$4:$E$1048576,Base!$CO$2)","v":0},{"$f":"SUMIFS(Lançamentos!$G$4:$G$1048576,Lançamentos!$F$4:$F$1048576,Base!$A8,Lançamentos!$D$4:$D$1048576,Base!CV$3,Lançamentos!$E$4:$E$1048576,Base!$CO$2)","v":0},{"$f":"SUMIFS(Lançamentos!$G$4:$G$1048576,Lançamentos!$F$4:$F$1048576,Base!$A8,Lançamentos!$D$4:$D$1048576,Base!CW$3,Lançamentos!$E$4:$E$1048576,Base!$CO$2)","v":0},{"$f":"SUMIFS(Lançamentos!$G$4:$G$1048576,Lançamentos!$F$4:$F$1048576,Base!$A8,Lançamentos!$D$4:$D$1048576,Base!CX$3,Lançamentos!$E$4:$E$1048576,Base!$CO$2)","v":0},{"$f":"SUMIFS(Lançamentos!$G$4:$G$1048576,Lançamentos!$F$4:$F$1048576,Base!$A8,Lançamentos!$D$4:$D$1048576,Base!CY$3,Lançamentos!$E$4:$E$1048576,Base!$CO$2)","v":0},{"$f":"SUMIFS(Lançamentos!$G$4:$G$1048576,Lançamentos!$F$4:$F$1048576,Base!$A8,Lançamentos!$D$4:$D$1048576,Base!CZ$3,Lançamentos!$E$4:$E$1048576,Base!$CO$2)","v":0},0,{"$f":"SUMIFS(Lançamentos!$G$4:$G$1048576,Lançamentos!$F$4:$F$1048576,Base!$A8,Lançamentos!$D$4:$D$1048576,Base!DB$3,Lançamentos!$E$4:$E$1048576,Base!$DB$2)","v":0},{"$f":"SUMIFS(Lançamentos!$G$4:$G$1048576,Lançamentos!$F$4:$F$1048576,Base!$A8,Lançamentos!$D$4:$D$1048576,Base!DC$3,Lançamentos!$E$4:$E$1048576,Base!$DB$2)","v":0},{"$f":"SUMIFS(Lançamentos!$G$4:$G$1048576,Lançamentos!$F$4:$F$1048576,Base!$A8,Lançamentos!$D$4:$D$1048576,Base!DD$3,Lançamentos!$E$4:$E$1048576,Base!$DB$2)","v":0},{"$f":"SUMIFS(Lançamentos!$G$4:$G$1048576,Lançamentos!$F$4:$F$1048576,Base!$A8,Lançamentos!$D$4:$D$1048576,Base!DE$3,Lançamentos!$E$4:$E$1048576,Base!$DB$2)","v":0},{"$f":"SUMIFS(Lançamentos!$G$4:$G$1048576,Lançamentos!$F$4:$F$1048576,Base!$A8,Lançamentos!$D$4:$D$1048576,Base!DF$3,Lançamentos!$E$4:$E$1048576,Base!$DB$2)","v":0},{"$f":"SUMIFS(Lançamentos!$G$4:$G$1048576,Lançamentos!$F$4:$F$1048576,Base!$A8,Lançamentos!$D$4:$D$1048576,Base!DG$3,Lançamentos!$E$4:$E$1048576,Base!$DB$2)","v":0},{"$f":"SUMIFS(Lançamentos!$G$4:$G$1048576,Lançamentos!$F$4:$F$1048576,Base!$A8,Lançamentos!$D$4:$D$1048576,Base!DH$3,Lançamentos!$E$4:$E$1048576,Base!$DB$2)","v":0},{"$f":"SUMIFS(Lançamentos!$G$4:$G$1048576,Lançamentos!$F$4:$F$1048576,Base!$A8,Lançamentos!$D$4:$D$1048576,Base!DI$3,Lançamentos!$E$4:$E$1048576,Base!$DB$2)","v":0},{"$f":"SUMIFS(Lançamentos!$G$4:$G$1048576,Lançamentos!$F$4:$F$1048576,Base!$A8,Lançamentos!$D$4:$D$1048576,Base!DJ$3,Lançamentos!$E$4:$E$1048576,Base!$DB$2)","v":0},{"$f":"SUMIFS(Lançamentos!$G$4:$G$1048576,Lançamentos!$F$4:$F$1048576,Base!$A8,Lançamentos!$D$4:$D$1048576,Base!DK$3,Lançamentos!$E$4:$E$1048576,Base!$DB$2)","v":0},{"$f":"SUMIFS(Lançamentos!$G$4:$G$1048576,Lançamentos!$F$4:$F$1048576,Base!$A8,Lançamentos!$D$4:$D$1048576,Base!DL$3,Lançamentos!$E$4:$E$1048576,Base!$DB$2)","v":0},{"$f":"SUMIFS(Lançamentos!$G$4:$G$1048576,Lançamentos!$F$4:$F$1048576,Base!$A8,Lançamentos!$D$4:$D$1048576,Base!DM$3,Lançamentos!$E$4:$E$1048576,Base!$DB$2)","v":0},0,{"$f":"SUMIFS(Lançamentos!$G$4:$G$1048576,Lançamentos!$F$4:$F$1048576,Base!$A8,Lançamentos!$D$4:$D$1048576,Base!DO$3,Lançamentos!$E$4:$E$1048576,Base!$DO$2)","v":0},{"$f":"SUMIFS(Lançamentos!$G$4:$G$1048576,Lançamentos!$F$4:$F$1048576,Base!$A8,Lançamentos!$D$4:$D$1048576,Base!DP$3,Lançamentos!$E$4:$E$1048576,Base!$DO$2)","v":0},{"$f":"SUMIFS(Lançamentos!$G$4:$G$1048576,Lançamentos!$F$4:$F$1048576,Base!$A8,Lançamentos!$D$4:$D$1048576,Base!DQ$3,Lançamentos!$E$4:$E$1048576,Base!$DO$2)","v":0},{"$f":"SUMIFS(Lançamentos!$G$4:$G$1048576,Lançamentos!$F$4:$F$1048576,Base!$A8,Lançamentos!$D$4:$D$1048576,Base!DR$3,Lançamentos!$E$4:$E$1048576,Base!$DO$2)","v":0},{"$f":"SUMIFS(Lançamentos!$G$4:$G$1048576,Lançamentos!$F$4:$F$1048576,Base!$A8,Lançamentos!$D$4:$D$1048576,Base!DS$3,Lançamentos!$E$4:$E$1048576,Base!$DO$2)","v":0},{"$f":"SUMIFS(Lançamentos!$G$4:$G$1048576,Lançamentos!$F$4:$F$1048576,Base!$A8,Lançamentos!$D$4:$D$1048576,Base!DT$3,Lançamentos!$E$4:$E$1048576,Base!$DO$2)","v":0},{"$f":"SUMIFS(Lançamentos!$G$4:$G$1048576,Lançamentos!$F$4:$F$1048576,Base!$A8,Lançamentos!$D$4:$D$1048576,Base!DU$3,Lançamentos!$E$4:$E$1048576,Base!$DO$2)","v":0},{"$f":"SUMIFS(Lançamentos!$G$4:$G$1048576,Lançamentos!$F$4:$F$1048576,Base!$A8,Lançamentos!$D$4:$D$1048576,Base!DV$3,Lançamentos!$E$4:$E$1048576,Base!$DO$2)","v":0},{"$f":"SUMIFS(Lançamentos!$G$4:$G$1048576,Lançamentos!$F$4:$F$1048576,Base!$A8,Lançamentos!$D$4:$D$1048576,Base!DW$3,Lançamentos!$E$4:$E$1048576,Base!$DO$2)","v":0},{"$f":"SUMIFS(Lançamentos!$G$4:$G$1048576,Lançamentos!$F$4:$F$1048576,Base!$A8,Lançamentos!$D$4:$D$1048576,Base!DX$3,Lançamentos!$E$4:$E$1048576,Base!$DO$2)","v":0},{"$f":"SUMIFS(Lançamentos!$G$4:$G$1048576,Lançamentos!$F$4:$F$1048576,Base!$A8,Lançamentos!$D$4:$D$1048576,Base!DY$3,Lançamentos!$E$4:$E$1048576,Base!$DO$2)","v":0},{"$f":"SUMIFS(Lançamentos!$G$4:$G$1048576,Lançamentos!$F$4:$F$1048576,Base!$A8,Lançamentos!$D$4:$D$1048576,Base!DZ$3,Lançamentos!$E$4:$E$1048576,Base!$DO$2)","v":0},0,{"$f":"SUMIFS(Lançamentos!$G$4:$G$1048576,Lançamentos!$F$4:$F$1048576,Base!$A8,Lançamentos!$D$4:$D$1048576,Base!EB$3,Lançamentos!$E$4:$E$1048576,Base!$EB$2)","v":0},{"$f":"SUMIFS(Lançamentos!$G$4:$G$1048576,Lançamentos!$F$4:$F$1048576,Base!$A8,Lançamentos!$D$4:$D$1048576,Base!EC$3,Lançamentos!$E$4:$E$1048576,Base!$EB$2)","v":0},{"$f":"SUMIFS(Lançamentos!$G$4:$G$1048576,Lançamentos!$F$4:$F$1048576,Base!$A8,Lançamentos!$D$4:$D$1048576,Base!ED$3,Lançamentos!$E$4:$E$1048576,Base!$EB$2)","v":0},{"$f":"SUMIFS(Lançamentos!$G$4:$G$1048576,Lançamentos!$F$4:$F$1048576,Base!$A8,Lançamentos!$D$4:$D$1048576,Base!EE$3,Lançamentos!$E$4:$E$1048576,Base!$EB$2)","v":0},{"$f":"SUMIFS(Lançamentos!$G$4:$G$1048576,Lançamentos!$F$4:$F$1048576,Base!$A8,Lançamentos!$D$4:$D$1048576,Base!EF$3,Lançamentos!$E$4:$E$1048576,Base!$EB$2)","v":0},{"$f":"SUMIFS(Lançamentos!$G$4:$G$1048576,Lançamentos!$F$4:$F$1048576,Base!$A8,Lançamentos!$D$4:$D$1048576,Base!EG$3,Lançamentos!$E$4:$E$1048576,Base!$EB$2)","v":0},{"$f":"SUMIFS(Lançamentos!$G$4:$G$1048576,Lançamentos!$F$4:$F$1048576,Base!$A8,Lançamentos!$D$4:$D$1048576,Base!EH$3,Lançamentos!$E$4:$E$1048576,Base!$EB$2)","v":0},{"$f":"SUMIFS(Lançamentos!$G$4:$G$1048576,Lançamentos!$F$4:$F$1048576,Base!$A8,Lançamentos!$D$4:$D$1048576,Base!EI$3,Lançamentos!$E$4:$E$1048576,Base!$EB$2)","v":0},{"$f":"SUMIFS(Lançamentos!$G$4:$G$1048576,Lançamentos!$F$4:$F$1048576,Base!$A8,Lançamentos!$D$4:$D$1048576,Base!EJ$3,Lançamentos!$E$4:$E$1048576,Base!$EB$2)","v":0},{"$f":"SUMIFS(Lançamentos!$G$4:$G$1048576,Lançamentos!$F$4:$F$1048576,Base!$A8,Lançamentos!$D$4:$D$1048576,Base!EK$3,Lançamentos!$E$4:$E$1048576,Base!$EB$2)","v":0},{"$f":"SUMIFS(Lançamentos!$G$4:$G$1048576,Lançamentos!$F$4:$F$1048576,Base!$A8,Lançamentos!$D$4:$D$1048576,Base!EL$3,Lançamentos!$E$4:$E$1048576,Base!$EB$2)","v":0},{"$f":"SUMIFS(Lançamentos!$G$4:$G$1048576,Lançamentos!$F$4:$F$1048576,Base!$A8,Lançamentos!$D$4:$D$1048576,Base!EM$3,Lançamentos!$E$4:$E$1048576,Base!$EB$2)","v":0},0,{"$f":"SUMIFS(Lançamentos!$G$4:$G$1048576,Lançamentos!$F$4:$F$1048576,Base!$A8,Lançamentos!$D$4:$D$1048576,Base!EO$3,Lançamentos!$E$4:$E$1048576,Base!$EO$2)","v":0},{"$f":"SUMIFS(Lançamentos!$G$4:$G$1048576,Lançamentos!$F$4:$F$1048576,Base!$A8,Lançamentos!$D$4:$D$1048576,Base!EP$3,Lançamentos!$E$4:$E$1048576,Base!$EO$2)","v":0},{"$f":"SUMIFS(Lançamentos!$G$4:$G$1048576,Lançamentos!$F$4:$F$1048576,Base!$A8,Lançamentos!$D$4:$D$1048576,Base!EQ$3,Lançamentos!$E$4:$E$1048576,Base!$EO$2)","v":0},{"$f":"SUMIFS(Lançamentos!$G$4:$G$1048576,Lançamentos!$F$4:$F$1048576,Base!$A8,Lançamentos!$D$4:$D$1048576,Base!ER$3,Lançamentos!$E$4:$E$1048576,Base!$EO$2)","v":0},{"$f":"SUMIFS(Lançamentos!$G$4:$G$1048576,Lançamentos!$F$4:$F$1048576,Base!$A8,Lançamentos!$D$4:$D$1048576,Base!ES$3,Lançamentos!$E$4:$E$1048576,Base!$EO$2)","v":0},{"$f":"SUMIFS(Lançamentos!$G$4:$G$1048576,Lançamentos!$F$4:$F$1048576,Base!$A8,Lançamentos!$D$4:$D$1048576,Base!ET$3,Lançamentos!$E$4:$E$1048576,Base!$EO$2)","v":0},{"$f":"SUMIFS(Lançamentos!$G$4:$G$1048576,Lançamentos!$F$4:$F$1048576,Base!$A8,Lançamentos!$D$4:$D$1048576,Base!EU$3,Lançamentos!$E$4:$E$1048576,Base!$EO$2)","v":0},{"$f":"SUMIFS(Lançamentos!$G$4:$G$1048576,Lançamentos!$F$4:$F$1048576,Base!$A8,Lançamentos!$D$4:$D$1048576,Base!EV$3,Lançamentos!$E$4:$E$1048576,Base!$EO$2)","v":0},{"$f":"SUMIFS(Lançamentos!$G$4:$G$1048576,Lançamentos!$F$4:$F$1048576,Base!$A8,Lançamentos!$D$4:$D$1048576,Base!EW$3,Lançamentos!$E$4:$E$1048576,Base!$EO$2)","v":0},{"$f":"SUMIFS(Lançamentos!$G$4:$G$1048576,Lançamentos!$F$4:$F$1048576,Base!$A8,Lançamentos!$D$4:$D$1048576,Base!EX$3,Lançamentos!$E$4:$E$1048576,Base!$EO$2)","v":0},{"$f":"SUMIFS(Lançamentos!$G$4:$G$1048576,Lançamentos!$F$4:$F$1048576,Base!$A8,Lançamentos!$D$4:$D$1048576,Base!EY$3,Lançamentos!$E$4:$E$1048576,Base!$EO$2)","v":0},{"$f":"SUMIFS(Lançamentos!$G$4:$G$1048576,Lançamentos!$F$4:$F$1048576,Base!$A8,Lançamentos!$D$4:$D$1048576,Base!EZ$3,Lançamentos!$E$4:$E$1048576,Base!$EO$2)","v":0},0,{"$f":"SUMIFS(Lançamentos!$G$4:$G$1048576,Lançamentos!$F$4:$F$1048576,Base!$A8,Lançamentos!$D$4:$D$1048576,Base!FB$3,Lançamentos!$E$4:$E$1048576,Base!$FB$2)","v":0},{"$f":"SUMIFS(Lançamentos!$G$4:$G$1048576,Lançamentos!$F$4:$F$1048576,Base!$A8,Lançamentos!$D$4:$D$1048576,Base!FC$3,Lançamentos!$E$4:$E$1048576,Base!$FB$2)","v":0},{"$f":"SUMIFS(Lançamentos!$G$4:$G$1048576,Lançamentos!$F$4:$F$1048576,Base!$A8,Lançamentos!$D$4:$D$1048576,Base!FD$3,Lançamentos!$E$4:$E$1048576,Base!$FB$2)","v":0},{"$f":"SUMIFS(Lançamentos!$G$4:$G$1048576,Lançamentos!$F$4:$F$1048576,Base!$A8,Lançamentos!$D$4:$D$1048576,Base!FE$3,Lançamentos!$E$4:$E$1048576,Base!$FB$2)","v":0},{"$f":"SUMIFS(Lançamentos!$G$4:$G$1048576,Lançamentos!$F$4:$F$1048576,Base!$A8,Lançamentos!$D$4:$D$1048576,Base!FF$3,Lançamentos!$E$4:$E$1048576,Base!$FB$2)","v":0},{"$f":"SUMIFS(Lançamentos!$G$4:$G$1048576,Lançamentos!$F$4:$F$1048576,Base!$A8,Lançamentos!$D$4:$D$1048576,Base!FG$3,Lançamentos!$E$4:$E$1048576,Base!$FB$2)","v":0},{"$f":"SUMIFS(Lançamentos!$G$4:$G$1048576,Lançamentos!$F$4:$F$1048576,Base!$A8,Lançamentos!$D$4:$D$1048576,Base!FH$3,Lançamentos!$E$4:$E$1048576,Base!$FB$2)","v":0},{"$f":"SUMIFS(Lançamentos!$G$4:$G$1048576,Lançamentos!$F$4:$F$1048576,Base!$A8,Lançamentos!$D$4:$D$1048576,Base!FI$3,Lançamentos!$E$4:$E$1048576,Base!$FB$2)","v":0},{"$f":"SUMIFS(Lançamentos!$G$4:$G$1048576,Lançamentos!$F$4:$F$1048576,Base!$A8,Lançamentos!$D$4:$D$1048576,Base!FJ$3,Lançamentos!$E$4:$E$1048576,Base!$FB$2)","v":0},{"$f":"SUMIFS(Lançamentos!$G$4:$G$1048576,Lançamentos!$F$4:$F$1048576,Base!$A8,Lançamentos!$D$4:$D$1048576,Base!FK$3,Lançamentos!$E$4:$E$1048576,Base!$FB$2)","v":0},{"$f":"SUMIFS(Lançamentos!$G$4:$G$1048576,Lançamentos!$F$4:$F$1048576,Base!$A8,Lançamentos!$D$4:$D$1048576,Base!FL$3,Lançamentos!$E$4:$E$1048576,Base!$FB$2)","v":0},{"$f":"SUMIFS(Lançamentos!$G$4:$G$1048576,Lançamentos!$F$4:$F$1048576,Base!$A8,Lançamentos!$D$4:$D$1048576,Base!FM$3,Lançamentos!$E$4:$E$1048576,Base!$FB$2)","v":0},0,{"$f":"SUMIFS(Lançamentos!$G$4:$G$1048576,Lançamentos!$F$4:$F$1048576,Base!$A8,Lançamentos!$D$4:$D$1048576,Base!FO$3,Lançamentos!$E$4:$E$1048576,Base!$FO$2)","v":0},{"$f":"SUMIFS(Lançamentos!$G$4:$G$1048576,Lançamentos!$F$4:$F$1048576,Base!$A8,Lançamentos!$D$4:$D$1048576,Base!FP$3,Lançamentos!$E$4:$E$1048576,Base!$FO$2)","v":0},{"$f":"SUMIFS(Lançamentos!$G$4:$G$1048576,Lançamentos!$F$4:$F$1048576,Base!$A8,Lançamentos!$D$4:$D$1048576,Base!FQ$3,Lançamentos!$E$4:$E$1048576,Base!$FO$2)","v":0},{"$f":"SUMIFS(Lançamentos!$G$4:$G$1048576,Lançamentos!$F$4:$F$1048576,Base!$A8,Lançamentos!$D$4:$D$1048576,Base!FR$3,Lançamentos!$E$4:$E$1048576,Base!$FO$2)","v":0},{"$f":"SUMIFS(Lançamentos!$G$4:$G$1048576,Lançamentos!$F$4:$F$1048576,Base!$A8,Lançamentos!$D$4:$D$1048576,Base!FS$3,Lançamentos!$E$4:$E$1048576,Base!$FO$2)","v":0},{"$f":"SUMIFS(Lançamentos!$G$4:$G$1048576,Lançamentos!$F$4:$F$1048576,Base!$A8,Lançamentos!$D$4:$D$1048576,Base!FT$3,Lançamentos!$E$4:$E$1048576,Base!$FO$2)","v":0},{"$f":"SUMIFS(Lançamentos!$G$4:$G$1048576,Lançamentos!$F$4:$F$1048576,Base!$A8,Lançamentos!$D$4:$D$1048576,Base!FU$3,Lançamentos!$E$4:$E$1048576,Base!$FO$2)","v":0},{"$f":"SUMIFS(Lançamentos!$G$4:$G$1048576,Lançamentos!$F$4:$F$1048576,Base!$A8,Lançamentos!$D$4:$D$1048576,Base!FV$3,Lançamentos!$E$4:$E$1048576,Base!$FO$2)","v":0},{"$f":"SUMIFS(Lançamentos!$G$4:$G$1048576,Lançamentos!$F$4:$F$1048576,Base!$A8,Lançamentos!$D$4:$D$1048576,Base!FW$3,Lançamentos!$E$4:$E$1048576,Base!$FO$2)","v":0},{"$f":"SUMIFS(Lançamentos!$G$4:$G$1048576,Lançamentos!$F$4:$F$1048576,Base!$A8,Lançamentos!$D$4:$D$1048576,Base!FX$3,Lançamentos!$E$4:$E$1048576,Base!$FO$2)","v":0},{"$f":"SUMIFS(Lançamentos!$G$4:$G$1048576,Lançamentos!$F$4:$F$1048576,Base!$A8,Lançamentos!$D$4:$D$1048576,Base!FY$3,Lançamentos!$E$4:$E$1048576,Base!$FO$2)","v":0},{"$f":"SUMIFS(Lançamentos!$G$4:$G$1048576,Lançamentos!$F$4:$F$1048576,Base!$A8,Lançamentos!$D$4:$D$1048576,Base!FZ$3,Lançamentos!$E$4:$E$1048576,Base!$FO$2)","v":0},0,{"$f":"SUMIFS(Lançamentos!$G$4:$G$1048576,Lançamentos!$F$4:$F$1048576,Base!$A8,Lançamentos!$D$4:$D$1048576,Base!GB$3,Lançamentos!$E$4:$E$1048576,Base!$GB$2)","v":0},{"$f":"SUMIFS(Lançamentos!$G$4:$G$1048576,Lançamentos!$F$4:$F$1048576,Base!$A8,Lançamentos!$D$4:$D$1048576,Base!GC$3,Lançamentos!$E$4:$E$1048576,Base!$GB$2)","v":0},{"$f":"SUMIFS(Lançamentos!$G$4:$G$1048576,Lançamentos!$F$4:$F$1048576,Base!$A8,Lançamentos!$D$4:$D$1048576,Base!GD$3,Lançamentos!$E$4:$E$1048576,Base!$GB$2)","v":0},{"$f":"SUMIFS(Lançamentos!$G$4:$G$1048576,Lançamentos!$F$4:$F$1048576,Base!$A8,Lançamentos!$D$4:$D$1048576,Base!GE$3,Lançamentos!$E$4:$E$1048576,Base!$GB$2)","v":0},{"$f":"SUMIFS(Lançamentos!$G$4:$G$1048576,Lançamentos!$F$4:$F$1048576,Base!$A8,Lançamentos!$D$4:$D$1048576,Base!GF$3,Lançamentos!$E$4:$E$1048576,Base!$GB$2)","v":0},{"$f":"SUMIFS(Lançamentos!$G$4:$G$1048576,Lançamentos!$F$4:$F$1048576,Base!$A8,Lançamentos!$D$4:$D$1048576,Base!GG$3,Lançamentos!$E$4:$E$1048576,Base!$GB$2)","v":0},{"$f":"SUMIFS(Lançamentos!$G$4:$G$1048576,Lançamentos!$F$4:$F$1048576,Base!$A8,Lançamentos!$D$4:$D$1048576,Base!GH$3,Lançamentos!$E$4:$E$1048576,Base!$GB$2)","v":0},{"$f":"SUMIFS(Lançamentos!$G$4:$G$1048576,Lançamentos!$F$4:$F$1048576,Base!$A8,Lançamentos!$D$4:$D$1048576,Base!GI$3,Lançamentos!$E$4:$E$1048576,Base!$GB$2)","v":0},{"$f":"SUMIFS(Lançamentos!$G$4:$G$1048576,Lançamentos!$F$4:$F$1048576,Base!$A8,Lançamentos!$D$4:$D$1048576,Base!GJ$3,Lançamentos!$E$4:$E$1048576,Base!$GB$2)","v":0},{"$f":"SUMIFS(Lançamentos!$G$4:$G$1048576,Lançamentos!$F$4:$F$1048576,Base!$A8,Lançamentos!$D$4:$D$1048576,Base!GK$3,Lançamentos!$E$4:$E$1048576,Base!$GB$2)","v":0},{"$f":"SUMIFS(Lançamentos!$G$4:$G$1048576,Lançamentos!$F$4:$F$1048576,Base!$A8,Lançamentos!$D$4:$D$1048576,Base!GL$3,Lançamentos!$E$4:$E$1048576,Base!$GB$2)","v":0},{"$f":"SUMIFS(Lançamentos!$G$4:$G$1048576,Lançamentos!$F$4:$F$1048576,Base!$A8,Lançamentos!$D$4:$D$1048576,Base!GM$3,Lançamentos!$E$4:$E$1048576,Base!$GB$2)","v":0},0,null,2022]
[{"$f":"(IF(Lançamentos!A6=\"\",\"\",Lançamentos!A6))","v":"Cartão de Crédito"},{"$f":"SUMIFS(Lançamentos!$G$4:$G$1048576,Lançamentos!$F$4:$F$1048576,Base!$A9,Lançamentos!$D$4:$D$1048576,Base!B$3,Lançamentos!$E$4:$E$1048576,Base!$B$2)","v":0},{"$f":"SUMIFS(Lançamentos!$G$4:$G$1048576,Lançamentos!$F$4:$F$1048576,Base!$A9,Lançamentos!$D$4:$D$1048576,Base!C$3,Lançamentos!$E$4:$E$1048576,Base!$B$2)","v":0},{"$f":"SUMIFS(Lançamentos!$G$4:$G$1048576,Lançamentos!$F$4:$F$1048576,Base!$A9,Lançamentos!$D$4:$D$1048576,Base!D$3,Lançamentos!$E$4:$E$1048576,Base!$B$2)","v":0},{"$f":"SUMIFS(Lançamentos!$G$4:$G$1048576,Lançamentos!$F$4:$F$1048576,Base!$A9,Lançamentos!$D$4:$D$1048576,Base!E$3,Lançamentos!$E$4:$E$1048576,Base!$B$2)","v":0},{"$f":"SUMIFS(Lançamentos!$G$4:$G$1048576,Lançamentos!$F$4:$F$1048576,Base!$A9,Lançamentos!$D$4:$D$1048576,Base!F$3,Lançamentos!$E$4:$E$1048576,Base!$B$2)","v":0},{"$f":"SUMIFS(Lançamentos!$G$4:$G$1048576,Lançamentos!$F$4:$F$1048576,Base!$A9,Lançamentos!$D$4:$D$1048576,Base!G$3,Lançamentos!$E$4:$E$1048576,Base!$B$2)","v":0},{"$f":"SUMIFS(Lançamentos!$G$4:$G$1048576,Lançamentos!$F$4:$F$1048576,Base!$A9,Lançamentos!$D$4:$D$1048576,Base!H$3,Lançamentos!$E$4:$E$1048576,Base!$B$2)","v":0},{"$f":"SUMIFS(Lançamentos!$G$4:$G$1048576,Lançamentos!$F$4:$F$1048576,Base!$A9,Lançamentos!$D$4:$D$1048576,Base!I$3,Lançamentos!$E$4:$E$1048576,Base!$B$2)","v":0},{"$f":"SUMIFS(Lançamentos!$G$4:$G$1048576,Lançamentos!$F$4:$F$1048576,Base!$A9,Lançamentos!$D$4:$D$1048576,Base!J$3,Lançamentos!$E$4:$E$1048576,Base!$B$2)","v":0},{"$f":"SUMIFS(Lançamentos!$G$4:$G$1048576,Lançamentos!$F$4:$F$1048576,Base!$A9,Lançamentos!$D$4:$D$1048576,Base!K$3,Lançamentos!$E$4:$E$1048576,Base!$B$2)","v":0},{"$f":"SUMIFS(Lançamentos!$G$4:$G$1048576,Lançamentos!$F$4:$F$1048576,Base!$A9,Lançamentos!$D$4:$D$1048576,Base!L$3,Lançamentos!$E$4:$E$1048576,Base!$B$2)","v":0},{"$f":"SUMIFS(Lançamentos!$G$4:$G$1048576,Lançamentos!$F$4:$F$1048576,Base!$A9,Lançamentos!$D$4:$D$1048576,Base!M$3,Lançamentos!$E$4:$E$1048576,Base!$B$2)","v":0},0,{"$f":"SUMIFS(Lançamentos!$G$4:$G$1048576,Lançamentos!$F$4:$F$1048576,Base!$A9,Lançamentos!$D$4:$D$1048576,Base!O$3,Lançamentos!$E$4:$E$1048576,Base!$O$2)","v":0},{"$f":"SUMIFS(Lançamentos!$G$4:$G$1048576,Lançamentos!$F$4:$F$1048576,Base!$A9,Lançamentos!$D$4:$D$1048576,Base!P$3,Lançamentos!$E$4:$E$1048576,Base!$O$2)","v":0},{"$f":"SUMIFS(Lançamentos!$G$4:$G$1048576,Lançamentos!$F$4:$F$1048576,Base!$A9,Lançamentos!$D$4:$D$1048576,Base!Q$3,Lançamentos!$E$4:$E$1048576,Base!$O$2)","v":0},{"$f":"SUMIFS(Lançamentos!$G$4:$G$1048576,Lançamentos!$F$4:$F$1048576,Base!$A9,Lançamentos!$D$4:$D$1048576,Base!R$3,Lançamentos!$E$4:$E$1048576,Base!$O$2)","v":0},{"$f":"SUMIFS(Lançamentos!$G$4:$G$1048576,Lançamentos!$F$4:$F$1048576,Base!$A9,Lançamentos!$D$4:$D$1048576,Base!S$3,Lançamentos!$E$4:$E$1048576,Base!$O$2)","v":0},{"$f":"SUMIFS(Lançamentos!$G$4:$G$1048576,Lançamentos!$F$4:$F$1048576,Base!$A9,Lançamentos!$D$4:$D$1048576,Base!T$3,Lançamentos!$E$4:$E$1048576,Base!$O$2)","v":0},{"$f":"SUMIFS(Lançamentos!$G$4:$G$1048576,Lançamentos!$F$4:$F$1048576,Base!$A9,Lançamentos!$D$4:$D$1048576,Base!U$3,Lançamentos!$E$4:$E$1048576,Base!$O$2)","v":0},{"$f":"SUMIFS(Lançamentos!$G$4:$G$1048576,Lançamentos!$F$4:$F$1048576,Base!$A9,Lançamentos!$D$4:$D$1048576,Base!V$3,Lançamentos!$E$4:$E$1048576,Base!$O$2)","v":0},{"$f":"SUMIFS(Lançamentos!$G$4:$G$1048576,Lançamentos!$F$4:$F$1048576,Base!$A9,Lançamentos!$D$4:$D$1048576,Base!W$3,Lançamentos!$E$4:$E$1048576,Base!$O$2)","v":0},{"$f":"SUMIFS(Lançamentos!$G$4:$G$1048576,Lançamentos!$F$4:$F$1048576,Base!$A9,Lançamentos!$D$4:$D$1048576,Base!X$3,Lançamentos!$E$4:$E$1048576,Base!$O$2)","v":0},{"$f":"SUMIFS(Lançamentos!$G$4:$G$1048576,Lançamentos!$F$4:$F$1048576,Base!$A9,Lançamentos!$D$4:$D$1048576,Base!Y$3,Lançamentos!$E$4:$E$1048576,Base!$O$2)","v":0},{"$f":"SUMIFS(Lançamentos!$G$4:$G$1048576,Lançamentos!$F$4:$F$1048576,Base!$A9,Lançamentos!$D$4:$D$1048576,Base!Z$3,Lançamentos!$E$4:$E$1048576,Base!$O$2)","v":0},0,{"$f":"SUMIFS(Lançamentos!$G$4:$G$1048576,Lançamentos!$F$4:$F$1048576,Base!$A9,Lançamentos!$D$4:$D$1048576,Base!AB$3,Lançamentos!$E$4:$E$1048576,Base!$AB$2)","v":0},{"$f":"SUMIFS(Lançamentos!$G$4:$G$1048576,Lançamentos!$F$4:$F$1048576,Base!$A9,Lançamentos!$D$4:$D$1048576,Base!AC$3,Lançamentos!$E$4:$E$1048576,Base!$AB$2)","v":0},{"$f":"SUMIFS(Lançamentos!$G$4:$G$1048576,Lançamentos!$F$4:$F$1048576,Base!$A9,Lançamentos!$D$4:$D$1048576,Base!AD$3,Lançamentos!$E$4:$E$1048576,Base!$AB$2)","v":0},{"$f":"SUMIFS(Lançamentos!$G$4:$G$1048576,Lançamentos!$F$4:$F$1048576,Base!$A9,Lançamentos!$D$4:$D$1048576,Base!AE$3,Lançamentos!$E$4:$E$1048576,Base!$AB$2)","v":0},{"$f":"SUMIFS(Lançamentos!$G$4:$G$1048576,Lançamentos!$F$4:$F$1048576,Base!$A9,Lançamentos!$D$4:$D$1048576,Base!AF$3,Lançamentos!$E$4:$E$1048576,Base!$AB$2)","v":0},{"$f":"SUMIFS(Lançamentos!$G$4:$G$1048576,Lançamentos!$F$4:$F$1048576,Base!$A9,Lançamentos!$D$4:$D$1048576,Base!AG$3,Lançamentos!$E$4:$E$1048576,Base!$AB$2)","v":0},{"$f":"SUMIFS(Lançamentos!$G$4:$G$1048576,Lançamentos!$F$4:$F$1048576,Base!$A9,Lançamentos!$D$4:$D$1048576,Base!AH$3,Lançamentos!$E$4:$E$1048576,Base!$AB$2)","v":0},{"$f":"SUMIFS(Lançamentos!$G$4:$G$1048576,Lançamentos!$F$4:$F$1048576,Base!$A9,Lançamentos!$D$4:$D$1048576,Base!AI$3,Lançamentos!$E$4:$E$1048576,Base!$AB$2)","v":0},{"$f":"SUMIFS(Lançamentos!$G$4:$G$1048576,Lançamentos!$F$4:$F$1048576,Base!$A9,Lançamentos!$D$4:$D$1048576,Base!AJ$3,Lançamentos!$E$4:$E$1048576,Base!$AB$2)","v":0},{"$f":"SUMIFS(Lançamentos!$G$4:$G$1048576,Lançamentos!$F$4:$F$1048576,Base!$A9,Lançamentos!$D$4:$D$1048576,Base!AK$3,Lançamentos!$E$4:$E$1048576,Base!$AB$2)","v":0},{"$f":"SUMIFS(Lançamentos!$G$4:$G$1048576,Lançamentos!$F$4:$F$1048576,Base!$A9,Lançamentos!$D$4:$D$1048576,Base!AL$3,Lançamentos!$E$4:$E$1048576,Base!$AB$2)","v":0},{"$f":"SUMIFS(Lançamentos!$G$4:$G$1048576,Lançamentos!$F$4:$F$1048576,Base!$A9,Lançamentos!$D$4:$D$1048576,Base!AM$3,Lançamentos!$E$4:$E$1048576,Base!$AB$2)","v":0},0,{"$f":"SUMIFS(Lançamentos!$G$4:$G$1048576,Lançamentos!$F$4:$F$1048576,Base!$A9,Lançamentos!$D$4:$D$1048576,Base!AO$3,Lançamentos!$E$4:$E$1048576,Base!$AO$2)","v":0},{"$f":"SUMIFS(Lançamentos!$G$4:$G$1048576,Lançamentos!$F$4:$F$1048576,Base!$A9,Lançamentos!$D$4:$D$1048576,Base!AP$3,Lançamentos!$E$4:$E$1048576,Base!$AO$2)","v":0},{"$f":"SUMIFS(Lançamentos!$G$4:$G$1048576,Lançamentos!$F$4:$F$1048576,Base!$A9,Lançamentos!$D$4:$D$1048576,Base!AQ$3,Lançamentos!$E$4:$E$1048576,Base!$AO$2)","v":0},{"$f":"SUMIFS(Lançamentos!$G$4:$G$1048576,Lançamentos!$F$4:$F$1048576,Base!$A9,Lançamentos!$D$4:$D$1048576,Base!AR$3,Lançamentos!$E$4:$E$1048576,Base!$AO$2)","v":0},{"$f":"SUMIFS(Lançamentos!$G$4:$G$1048576,Lançamentos!$F$4:$F$1048576,Base!$A9,Lançamentos!$D$4:$D$1048576,Base!AS$3,Lançamentos!$E$4:$E$1048576,Base!$AO$2)","v":0},{"$f":"SUMIFS(Lançamentos!$G$4:$G$1048576,Lançamentos!$F$4:$F$1048576,Base!$A9,Lançamentos!$D$4:$D$1048576,Base!AT$3,Lançamentos!$E$4:$E$1048576,Base!$AO$2)","v":0},{"$f":"SUMIFS(Lançamentos!$G$4:$G$1048576,Lançamentos!$F$4:$F$1048576,Base!$A9,Lançamentos!$D$4:$D$1048576,Base!AU$3,Lançamentos!$E$4:$E$1048576,Base!$AO$2)","v":0},{"$f":"SUMIFS(Lançamentos!$G$4:$G$1048576,Lançamentos!$F$4:$F$1048576,Base!$A9,Lançamentos!$D$4:$D$1048576,Base!AV$3,Lançamentos!$E$4:$E$1048576,Base!$AO$2)","v":0},{"$f":"SUMIFS(Lançamentos!$G$4:$G$1048576,Lançamentos!$F$4:$F$1048576,Base!$A9,Lançamentos!$D$4:$D$1048576,Base!AW$3,Lançamentos!$E$4:$E$1048576,Base!$AO$2)","v":0},{"$f":"SUMIFS(Lançamentos!$G$4:$G$1048576,Lançamentos!$F$4:$F$1048576,Base!$A9,Lançamentos!$D$4:$D$1048576,Base!AX$3,Lançamentos!$E$4:$E$1048576,Base!$AO$2)","v":0},{"$f":"SUMIFS(Lançamentos!$G$4:$G$1048576,Lançamentos!$F$4:$F$1048576,Base!$A9,Lançamentos!$D$4:$D$1048576,Base!AY$3,Lançamentos!$E$4:$E$1048576,Base!$AO$2)","v":0},{"$f":"SUMIFS(Lançamentos!$G$4:$G$1048576,Lançamentos!$F$4:$F$1048576,Base!$A9,Lançamentos!$D$4:$D$1048576,Base!AZ$3,Lançamentos!$E$4:$E$1048576,Base!$AO$2)","v":0},0,{"$f":"SUMIFS(Lançamentos!$G$4:$G$1048576,Lançamentos!$F$4:$F$1048576,Base!$A9,Lançamentos!$D$4:$D$1048576,Base!BB$3,Lançamentos!$E$4:$E$1048576,Base!$BB$2)","v":0},{"$f":"SUMIFS(Lançamentos!$G$4:$G$1048576,Lançamentos!$F$4:$F$1048576,Base!$A9,Lançamentos!$D$4:$D$1048576,Base!BC$3,Lançamentos!$E$4:$E$1048576,Base!$BB$2)","v":0},{"$f":"SUMIFS(Lançamentos!$G$4:$G$1048576,Lançamentos!$F$4:$F$1048576,Base!$A9,Lançamentos!$D$4:$D$1048576,Base!BD$3,Lançamentos!$E$4:$E$1048576,Base!$BB$2)","v":0},{"$f":"SUMIFS(Lançamentos!$G$4:$G$1048576,Lançamentos!$F$4:$F$1048576,Base!$A9,Lançamentos!$D$4:$D$1048576,Base!BE$3,Lançamentos!$E$4:$E$1048576,Base!$BB$2)","v":0},{"$f":"SUMIFS(Lançamentos!$G$4:$G$1048576,Lançamentos!$F$4:$F$1048576,Base!$A9,Lançamentos!$D$4:$D$1048576,Base!BF$3,Lançamentos!$E$4:$E$1048576,Base!$BB$2)","v":0},{"$f":"SUMIFS(Lançamentos!$G$4:$G$1048576,Lançamentos!$F$4:$F$1048576,Base!$A9,Lançamentos!$D$4:$D$1048576,Base!BG$3,Lançamentos!$E$4:$E$1048576,Base!$BB$2)","v":0},{"$f":"SUMIFS(Lançamentos!$G$4:$G$1048576,Lançamentos!$F$4:$F$1048576,Base!$A9,Lançamentos!$D$4:$D$1048576,Base!BH$3,Lançamentos!$E$4:$E$1048576,Base!$BB$2)","v":0},{"$f":"SUMIFS(Lançamentos!$G$4:$G$1048576,Lançamentos!$F$4:$F$1048576,Base!$A9,Lançamentos!$D$4:$D$1048576,Base!BI$3,Lançamentos!$E$4:$E$1048576,Base!$BB$2)","v":0},{"$f":"SUMIFS(Lançamentos!$G$4:$G$1048576,Lançamentos!$F$4:$F$1048576,Base!$A9,Lançamentos!$D$4:$D$1048576,Base!BJ$3,Lançamentos!$E$4:$E$1048576,Base!$BB$2)","v":0},{"$f":"SUMIFS(Lançamentos!$G$4:$G$1048576,Lançamentos!$F$4:$F$1048576,Base!$A9,Lançamentos!$D$4:$D$1048576,Base!BK$3,Lançamentos!$E$4:$E$1048576,Base!$BB$2)","v":0},{"$f":"SUMIFS(Lançamentos!$G$4:$G$1048576,Lançamentos!$F$4:$F$1048576,Base!$A9,Lançamentos!$D$4:$D$1048576,Base!BL$3,Lançamentos!$E$4:$E$1048576,Base!$BB$2)","v":0},{"$f":"SUMIFS(Lançamentos!$G$4:$G$1048576,Lançamentos!$F$4:$F$1048576,Base!$A9,Lançamentos!$D$4:$D$1048576,Base!BM$3,Lançamentos!$E$4:$E$1048576,Base!$BB$2)","v":0},0,{"$f":"SUMIFS(Lançamentos!$G$4:$G$1048576,Lançamentos!$F$4:$F$1048576,Base!$A9,Lançamentos!$D$4:$D$1048576,Base!BO$3,Lançamentos!$E$4:$E$1048576,Base!$BO$2)","v":0},{"$f":"SUMIFS(Lançamentos!$G$4:$G$1048576,Lançamentos!$F$4:$F$1048576,Base!$A9,Lançamentos!$D$4:$D$1048576,Base!BP$3,Lançamentos!$E$4:$E$1048576,Base!$BO$2)","v":0},{"$f":"SUMIFS(Lançamentos!$G$4:$G$1048576,Lançamentos!$F$4:$F$1048576,Base!$A9,Lançamentos!$D$4:$D$1048576,Base!BQ$3,Lançamentos!$E$4:$E$1048576,Base!$BO$2)","v":0},{"$f":"SUMIFS(Lançamentos!$G$4:$G$1048576,Lançamentos!$F$4:$F$1048576,Base!$A9,Lançamentos!$D$4:$D$1048576,Base!BR$3,Lançamentos!$E$4:$E$1048576,Base!$BO$2)","v":0},{"$f":"SUMIFS(Lançamentos!$G$4:$G$1048576,Lançamentos!$F$4:$F$1048576,Base!$A9,Lançamentos!$D$4:$D$1048576,Base!BS$3,Lançamentos!$E$4:$E$1048576,Base!$BO$2)","v":0},{"$f":"SUMIFS(Lançamentos!$G$4:$G$1048576,Lançamentos!$F$4:$F$1048576,Base!$A9,Lançamentos!$D$4:$D$1048576,Base!BT$3,Lançamentos!$E$4:$E$1048576,Base!$BO$2)","v":0},{"$f":"SUMIFS(Lançamentos!$G$4:$G$1048576,Lançamentos!$F$4:$F$1048576,Base!$A9,Lançamentos!$D$4:$D$1048576,Base!BU$3,Lançamentos!$E$4:$E$1048576,Base!$BO$2)","v":0},{"$f":"SUMIFS(Lançamentos!$G$4:$G$1048576,Lançamentos!$F$4:$F$1048576,Base!$A9,Lançamentos!$D$4:$D$1048576,Base!BV$3,Lançamentos!$E$4:$E$1048576,Base!$BO$2)","v":0},{"$f":"SUMIFS(Lançamentos!$G$4:$G$1048576,Lançamentos!$F$4:$F$1048576,Base!$A9,Lançamentos!$D$4:$D$1048576,Base!BW$3,Lançamentos!$E$4:$E$1048576,Base!$BO$2)","v":0},{"$f":"SUMIFS(Lançamentos!$G$4:$G$1048576,Lançamentos!$F$4:$F$1048576,Base!$A9,Lançamentos!$D$4:$D$1048576,Base!BX$3,Lançamentos!$E$4:$E$1048576,Base!$BO$2)","v":0},{"$f":"SUMIFS(Lançamentos!$G$4:$G$1048576,Lançamentos!$F$4:$F$1048576,Base!$A9,Lançamentos!$D$4:$D$1048576,Base!BY$3,Lançamentos!$E$4:$E$1048576,Base!$BO$2)","v":0},{"$f":"SUMIFS(Lançamentos!$G$4:$G$1048576,Lançamentos!$F$4:$F$1048576,Base!$A9,Lançamentos!$D$4:$D$1048576,Base!BZ$3,Lançamentos!$E$4:$E$1048576,Base!$BO$2)","v":0},0,{"$f":"SUMIFS(Lançamentos!$G$4:$G$1048576,Lançamentos!$F$4:$F$1048576,Base!$A9,Lançamentos!$D$4:$D$1048576,Base!CB$3,Lançamentos!$E$4:$E$1048576,Base!$CB$2)","v":0},{"$f":"SUMIFS(Lançamentos!$G$4:$G$1048576,Lançamentos!$F$4:$F$1048576,Base!$A9,Lançamentos!$D$4:$D$1048576,Base!CC$3,Lançamentos!$E$4:$E$1048576,Base!$CB$2)","v":0},{"$f":"SUMIFS(Lançamentos!$G$4:$G$1048576,Lançamentos!$F$4:$F$1048576,Base!$A9,Lançamentos!$D$4:$D$1048576,Base!CD$3,Lançamentos!$E$4:$E$1048576,Base!$CB$2)","v":0},{"$f":"SUMIFS(Lançamentos!$G$4:$G$1048576,Lançamentos!$F$4:$F$1048576,Base!$A9,Lançamentos!$D$4:$D$1048576,Base!CE$3,Lançamentos!$E$4:$E$1048576,Base!$CB$2)","v":0},{"$f":"SUMIFS(Lançamentos!$G$4:$G$1048576,Lançamentos!$F$4:$F$1048576,Base!$A9,Lançamentos!$D$4:$D$1048576,Base!CF$3,Lançamentos!$E$4:$E$1048576,Base!$CB$2)","v":0},{"$f":"SUMIFS(Lançamentos!$G$4:$G$1048576,Lançamentos!$F$4:$F$1048576,Base!$A9,Lançamentos!$D$4:$D$1048576,Base!CG$3,Lançamentos!$E$4:$E$1048576,Base!$CB$2)","v":0},{"$f":"SUMIFS(Lançamentos!$G$4:$G$1048576,Lançamentos!$F$4:$F$1048576,Base!$A9,Lançamentos!$D$4:$D$1048576,Base!CH$3,Lançamentos!$E$4:$E$1048576,Base!$CB$2)","v":0},{"$f":"SUMIFS(Lançamentos!$G$4:$G$1048576,Lançamentos!$F$4:$F$1048576,Base!$A9,Lançamentos!$D$4:$D$1048576,Base!CI$3,Lançamentos!$E$4:$E$1048576,Base!$CB$2)","v":0},{"$f":"SUMIFS(Lançamentos!$G$4:$G$1048576,Lançamentos!$F$4:$F$1048576,Base!$A9,Lançamentos!$D$4:$D$1048576,Base!CJ$3,Lançamentos!$E$4:$E$1048576,Base!$CB$2)","v":0},{"$f":"SUMIFS(Lançamentos!$G$4:$G$1048576,Lançamentos!$F$4:$F$1048576,Base!$A9,Lançamentos!$D$4:$D$1048576,Base!CK$3,Lançamentos!$E$4:$E$1048576,Base!$CB$2)","v":0},{"$f":"SUMIFS(Lançamentos!$G$4:$G$1048576,Lançamentos!$F$4:$F$1048576,Base!$A9,Lançamentos!$D$4:$D$1048576,Base!CL$3,Lançamentos!$E$4:$E$1048576,Base!$CB$2)","v":0},{"$f":"SUMIFS(Lançamentos!$G$4:$G$1048576,Lançamentos!$F$4:$F$1048576,Base!$A9,Lançamentos!$D$4:$D$1048576,Base!CM$3,Lançamentos!$E$4:$E$1048576,Base!$CB$2)","v":0},0,{"$f":"SUMIFS(Lançamentos!$G$4:$G$1048576,Lançamentos!$F$4:$F$1048576,Base!$A9,Lançamentos!$D$4:$D$1048576,Base!CO$3,Lançamentos!$E$4:$E$1048576,Base!$CO$2)","v":0},{"$f":"SUMIFS(Lançamentos!$G$4:$G$1048576,Lançamentos!$F$4:$F$1048576,Base!$A9,Lançamentos!$D$4:$D$1048576,Base!CP$3,Lançamentos!$E$4:$E$1048576,Base!$CO$2)","v":0},{"$f":"SUMIFS(Lançamentos!$G$4:$G$1048576,Lançamentos!$F$4:$F$1048576,Base!$A9,Lançamentos!$D$4:$D$1048576,Base!CQ$3,Lançamentos!$E$4:$E$1048576,Base!$CO$2)","v":0},{"$f":"SUMIFS(Lançamentos!$G$4:$G$1048576,Lançamentos!$F$4:$F$1048576,Base!$A9,Lançamentos!$D$4:$D$1048576,Base!CR$3,Lançamentos!$E$4:$E$1048576,Base!$CO$2)","v":0},{"$f":"SUMIFS(Lançamentos!$G$4:$G$1048576,Lançamentos!$F$4:$F$1048576,Base!$A9,Lançamentos!$D$4:$D$1048576,Base!CS$3,Lançamentos!$E$4:$E$1048576,Base!$CO$2)","v":0},{"$f":"SUMIFS(Lançamentos!$G$4:$G$1048576,Lançamentos!$F$4:$F$1048576,Base!$A9,Lançamentos!$D$4:$D$1048576,Base!CT$3,Lançamentos!$E$4:$E$1048576,Base!$CO$2)","v":0},{"$f":"SUMIFS(Lançamentos!$G$4:$G$1048576,Lançamentos!$F$4:$F$1048576,Base!$A9,Lançamentos!$D$4:$D$1048576,Base!CU$3,Lançamentos!$E$4:$E$1048576,Base!$CO$2)","v":0},{"$f":"SUMIFS(Lançamentos!$G$4:$G$1048576,Lançamentos!$F$4:$F$1048576,Base!$A9,Lançamentos!$D$4:$D$1048576,Base!CV$3,Lançamentos!$E$4:$E$1048576,Base!$CO$2)","v":0},{"$f":"SUMIFS(Lançamentos!$G$4:$G$1048576,Lançamentos!$F$4:$F$1048576,Base!$A9,Lançamentos!$D$4:$D$1048576,Base!CW$3,Lançamentos!$E$4:$E$1048576,Base!$CO$2)","v":0},{"$f":"SUMIFS(Lançamentos!$G$4:$G$1048576,Lançamentos!$F$4:$F$1048576,Base!$A9,Lançamentos!$D$4:$D$1048576,Base!CX$3,Lançamentos!$E$4:$E$1048576,Base!$CO$2)","v":0},{"$f":"SUMIFS(Lançamentos!$G$4:$G$1048576,Lançamentos!$F$4:$F$1048576,Base!$A9,Lançamentos!$D$4:$D$1048576,Base!CY$3,Lançamentos!$E$4:$E$1048576,Base!$CO$2)","v":0},{"$f":"SUMIFS(Lançamentos!$G$4:$G$1048576,Lançamentos!$F$4:$F$1048576,Base!$A9,Lançamentos!$D$4:$D$1048576,Base!CZ$3,Lançamentos!$E$4:$E$1048576,Base!$CO$2)","v":0},0,{"$f":"SUMIFS(Lançamentos!$G$4:$G$1048576,Lançamentos!$F$4:$F$1048576,Base!$A9,Lançamentos!$D$4:$D$1048576,Base!DB$3,Lançamentos!$E$4:$E$1048576,Base!$DB$2)","v":0},{"$f":"SUMIFS(Lançamentos!$G$4:$G$1048576,Lançamentos!$F$4:$F$1048576,Base!$A9,Lançamentos!$D$4:$D$1048576,Base!DC$3,Lançamentos!$E$4:$E$1048576,Base!$DB$2)","v":0},{"$f":"SUMIFS(Lançamentos!$G$4:$G$1048576,Lançamentos!$F$4:$F$1048576,Base!$A9,Lançamentos!$D$4:$D$1048576,Base!DD$3,Lançamentos!$E$4:$E$1048576,Base!$DB$2)","v":0},{"$f":"SUMIFS(Lançamentos!$G$4:$G$1048576,Lançamentos!$F$4:$F$1048576,Base!$A9,Lançamentos!$D$4:$D$1048576,Base!DE$3,Lançamentos!$E$4:$E$1048576,Base!$DB$2)","v":0},{"$f":"SUMIFS(Lançamentos!$G$4:$G$1048576,Lançamentos!$F$4:$F$1048576,Base!$A9,Lançamentos!$D$4:$D$1048576,Base!DF$3,Lançamentos!$E$4:$E$1048576,Base!$DB$2)","v":0},{"$f":"SUMIFS(Lançamentos!$G$4:$G$1048576,Lançamentos!$F$4:$F$1048576,Base!$A9,Lançamentos!$D$4:$D$1048576,Base!DG$3,Lançamentos!$E$4:$E$1048576,Base!$DB$2)","v":0},{"$f":"SUMIFS(Lançamentos!$G$4:$G$1048576,Lançamentos!$F$4:$F$1048576,Base!$A9,Lançamentos!$D$4:$D$1048576,Base!DH$3,Lançamentos!$E$4:$E$1048576,Base!$DB$2)","v":0},{"$f":"SUMIFS(Lançamentos!$G$4:$G$1048576,Lançamentos!$F$4:$F$1048576,Base!$A9,Lançamentos!$D$4:$D$1048576,Base!DI$3,Lançamentos!$E$4:$E$1048576,Base!$DB$2)","v":0},{"$f":"SUMIFS(Lançamentos!$G$4:$G$1048576,Lançamentos!$F$4:$F$1048576,Base!$A9,Lançamentos!$D$4:$D$1048576,Base!DJ$3,Lançamentos!$E$4:$E$1048576,Base!$DB$2)","v":0},{"$f":"SUMIFS(Lançamentos!$G$4:$G$1048576,Lançamentos!$F$4:$F$1048576,Base!$A9,Lançamentos!$D$4:$D$1048576,Base!DK$3,Lançamentos!$E$4:$E$1048576,Base!$DB$2)","v":0},{"$f":"SUMIFS(Lançamentos!$G$4:$G$1048576,Lançamentos!$F$4:$F$1048576,Base!$A9,Lançamentos!$D$4:$D$1048576,Base!DL$3,Lançamentos!$E$4:$E$1048576,Base!$DB$2)","v":0},{"$f":"SUMIFS(Lançamentos!$G$4:$G$1048576,Lançamentos!$F$4:$F$1048576,Base!$A9,Lançamentos!$D$4:$D$1048576,Base!DM$3,Lançamentos!$E$4:$E$1048576,Base!$DB$2)","v":0},0,{"$f":"SUMIFS(Lançamentos!$G$4:$G$1048576,Lançamentos!$F$4:$F$1048576,Base!$A9,Lançamentos!$D$4:$D$1048576,Base!DO$3,Lançamentos!$E$4:$E$1048576,Base!$DO$2)","v":0},{"$f":"SUMIFS(Lançamentos!$G$4:$G$1048576,Lançamentos!$F$4:$F$1048576,Base!$A9,Lançamentos!$D$4:$D$1048576,Base!DP$3,Lançamentos!$E$4:$E$1048576,Base!$DO$2)","v":0},{"$f":"SUMIFS(Lançamentos!$G$4:$G$1048576,Lançamentos!$F$4:$F$1048576,Base!$A9,Lançamentos!$D$4:$D$1048576,Base!DQ$3,Lançamentos!$E$4:$E$1048576,Base!$DO$2)","v":0},{"$f":"SUMIFS(Lançamentos!$G$4:$G$1048576,Lançamentos!$F$4:$F$1048576,Base!$A9,Lançamentos!$D$4:$D$1048576,Base!DR$3,Lançamentos!$E$4:$E$1048576,Base!$DO$2)","v":0},{"$f":"SUMIFS(Lançamentos!$G$4:$G$1048576,Lançamentos!$F$4:$F$1048576,Base!$A9,Lançamentos!$D$4:$D$1048576,Base!DS$3,Lançamentos!$E$4:$E$1048576,Base!$DO$2)","v":0},{"$f":"SUMIFS(Lançamentos!$G$4:$G$1048576,Lançamentos!$F$4:$F$1048576,Base!$A9,Lançamentos!$D$4:$D$1048576,Base!DT$3,Lançamentos!$E$4:$E$1048576,Base!$DO$2)","v":0},{"$f":"SUMIFS(Lançamentos!$G$4:$G$1048576,Lançamentos!$F$4:$F$1048576,Base!$A9,Lançamentos!$D$4:$D$1048576,Base!DU$3,Lançamentos!$E$4:$E$1048576,Base!$DO$2)","v":0},{"$f":"SUMIFS(Lançamentos!$G$4:$G$1048576,Lançamentos!$F$4:$F$1048576,Base!$A9,Lançamentos!$D$4:$D$1048576,Base!DV$3,Lançamentos!$E$4:$E$1048576,Base!$DO$2)","v":0},{"$f":"SUMIFS(Lançamentos!$G$4:$G$1048576,Lançamentos!$F$4:$F$1048576,Base!$A9,Lançamentos!$D$4:$D$1048576,Base!DW$3,Lançamentos!$E$4:$E$1048576,Base!$DO$2)","v":0},{"$f":"SUMIFS(Lançamentos!$G$4:$G$1048576,Lançamentos!$F$4:$F$1048576,Base!$A9,Lançamentos!$D$4:$D$1048576,Base!DX$3,Lançamentos!$E$4:$E$1048576,Base!$DO$2)","v":0},{"$f":"SUMIFS(Lançamentos!$G$4:$G$1048576,Lançamentos!$F$4:$F$1048576,Base!$A9,Lançamentos!$D$4:$D$1048576,Base!DY$3,Lançamentos!$E$4:$E$1048576,Base!$DO$2)","v":0},{"$f":"SUMIFS(Lançamentos!$G$4:$G$1048576,Lançamentos!$F$4:$F$1048576,Base!$A9,Lançamentos!$D$4:$D$1048576,Base!DZ$3,Lançamentos!$E$4:$E$1048576,Base!$DO$2)","v":0},0,{"$f":"SUMIFS(Lançamentos!$G$4:$G$1048576,Lançamentos!$F$4:$F$1048576,Base!$A9,Lançamentos!$D$4:$D$1048576,Base!EB$3,Lançamentos!$E$4:$E$1048576,Base!$EB$2)","v":0},{"$f":"SUMIFS(Lançamentos!$G$4:$G$1048576,Lançamentos!$F$4:$F$1048576,Base!$A9,Lançamentos!$D$4:$D$1048576,Base!EC$3,Lançamentos!$E$4:$E$1048576,Base!$EB$2)","v":0},{"$f":"SUMIFS(Lançamentos!$G$4:$G$1048576,Lançamentos!$F$4:$F$1048576,Base!$A9,Lançamentos!$D$4:$D$1048576,Base!ED$3,Lançamentos!$E$4:$E$1048576,Base!$EB$2)","v":0},{"$f":"SUMIFS(Lançamentos!$G$4:$G$1048576,Lançamentos!$F$4:$F$1048576,Base!$A9,Lançamentos!$D$4:$D$1048576,Base!EE$3,Lançamentos!$E$4:$E$1048576,Base!$EB$2)","v":0},{"$f":"SUMIFS(Lançamentos!$G$4:$G$1048576,Lançamentos!$F$4:$F$1048576,Base!$A9,Lançamentos!$D$4:$D$1048576,Base!EF$3,Lançamentos!$E$4:$E$1048576,Base!$EB$2)","v":0},{"$f":"SUMIFS(Lançamentos!$G$4:$G$1048576,Lançamentos!$F$4:$F$1048576,Base!$A9,Lançamentos!$D$4:$D$1048576,Base!EG$3,Lançamentos!$E$4:$E$1048576,Base!$EB$2)","v":0},{"$f":"SUMIFS(Lançamentos!$G$4:$G$1048576,Lançamentos!$F$4:$F$1048576,Base!$A9,Lançamentos!$D$4:$D$1048576,Base!EH$3,Lançamentos!$E$4:$E$1048576,Base!$EB$2)","v":0},{"$f":"SUMIFS(Lançamentos!$G$4:$G$1048576,Lançamentos!$F$4:$F$1048576,Base!$A9,Lançamentos!$D$4:$D$1048576,Base!EI$3,Lançamentos!$E$4:$E$1048576,Base!$EB$2)","v":0},{"$f":"SUMIFS(Lançamentos!$G$4:$G$1048576,Lançamentos!$F$4:$F$1048576,Base!$A9,Lançamentos!$D$4:$D$1048576,Base!EJ$3,Lançamentos!$E$4:$E$1048576,Base!$EB$2)","v":0},{"$f":"SUMIFS(Lançamentos!$G$4:$G$1048576,Lançamentos!$F$4:$F$1048576,Base!$A9,Lançamentos!$D$4:$D$1048576,Base!EK$3,Lançamentos!$E$4:$E$1048576,Base!$EB$2)","v":0},{"$f":"SUMIFS(Lançamentos!$G$4:$G$1048576,Lançamentos!$F$4:$F$1048576,Base!$A9,Lançamentos!$D$4:$D$1048576,Base!EL$3,Lançamentos!$E$4:$E$1048576,Base!$EB$2)","v":0},{"$f":"SUMIFS(Lançamentos!$G$4:$G$1048576,Lançamentos!$F$4:$F$1048576,Base!$A9,Lançamentos!$D$4:$D$1048576,Base!EM$3,Lançamentos!$E$4:$E$1048576,Base!$EB$2)","v":0},0,{"$f":"SUMIFS(Lançamentos!$G$4:$G$1048576,Lançamentos!$F$4:$F$1048576,Base!$A9,Lançamentos!$D$4:$D$1048576,Base!EO$3,Lançamentos!$E$4:$E$1048576,Base!$EO$2)","v":0},{"$f":"SUMIFS(Lançamentos!$G$4:$G$1048576,Lançamentos!$F$4:$F$1048576,Base!$A9,Lançamentos!$D$4:$D$1048576,Base!EP$3,Lançamentos!$E$4:$E$1048576,Base!$EO$2)","v":0},{"$f":"SUMIFS(Lançamentos!$G$4:$G$1048576,Lançamentos!$F$4:$F$1048576,Base!$A9,Lançamentos!$D$4:$D$1048576,Base!EQ$3,Lançamentos!$E$4:$E$1048576,Base!$EO$2)","v":0},{"$f":"SUMIFS(Lançamentos!$G$4:$G$1048576,Lançamentos!$F$4:$F$1048576,Base!$A9,Lançamentos!$D$4:$D$1048576,Base!ER$3,Lançamentos!$E$4:$E$1048576,Base!$EO$2)","v":0},{"$f":"SUMIFS(Lançamentos!$G$4:$G$1048576,Lançamentos!$F$4:$F$1048576,Base!$A9,Lançamentos!$D$4:$D$1048576,Base!ES$3,Lançamentos!$E$4:$E$1048576,Base!$EO$2)","v":0},{"$f":"SUMIFS(Lançamentos!$G$4:$G$1048576,Lançamentos!$F$4:$F$1048576,Base!$A9,Lançamentos!$D$4:$D$1048576,Base!ET$3,Lançamentos!$E$4:$E$1048576,Base!$EO$2)","v":0},{"$f":"SUMIFS(Lançamentos!$G$4:$G$1048576,Lançamentos!$F$4:$F$1048576,Base!$A9,Lançamentos!$D$4:$D$1048576,Base!EU$3,Lançamentos!$E$4:$E$1048576,Base!$EO$2)","v":0},{"$f":"SUMIFS(Lançamentos!$G$4:$G$1048576,Lançamentos!$F$4:$F$1048576,Base!$A9,Lançamentos!$D$4:$D$1048576,Base!EV$3,Lançamentos!$E$4:$E$1048576,Base!$EO$2)","v":0},{"$f":"SUMIFS(Lançamentos!$G$4:$G$1048576,Lançamentos!$F$4:$F$1048576,Base!$A9,Lançamentos!$D$4:$D$1048576,Base!EW$3,Lançamentos!$E$4:$E$1048576,Base!$EO$2)","v":0},{"$f":"SUMIFS(Lançamentos!$G$4:$G$1048576,Lançamentos!$F$4:$F$1048576,Base!$A9,Lançamentos!$D$4:$D$1048576,Base!EX$3,Lançamentos!$E$4:$E$1048576,Base!$EO$2)","v":0},{"$f":"SUMIFS(Lançamentos!$G$4:$G$1048576,Lançamentos!$F$4:$F$1048576,Base!$A9,Lançamentos!$D$4:$D$1048576,Base!EY$3,Lançamentos!$E$4:$E$1048576,Base!$EO$2)","v":0},{"$f":"SUMIFS(Lançamentos!$G$4:$G$1048576,Lançamentos!$F$4:$F$1048576,Base!$A9,Lançamentos!$D$4:$D$1048576,Base!EZ$3,Lançamentos!$E$4:$E$1048576,Base!$EO$2)","v":0},0,{"$f":"SUMIFS(Lançamentos!$G$4:$G$1048576,Lançamentos!$F$4:$F$1048576,Base!$A9,Lançamentos!$D$4:$D$1048576,Base!FB$3,Lançamentos!$E$4:$E$1048576,Base!$FB$2)","v":0},{"$f":"SUMIFS(Lançamentos!$G$4:$G$1048576,Lançamentos!$F$4:$F$1048576,Base!$A9,Lançamentos!$D$4:$D$1048576,Base!FC$3,Lançamentos!$E$4:$E$1048576,Base!$FB$2)","v":0},{"$f":"SUMIFS(Lançamentos!$G$4:$G$1048576,Lançamentos!$F$4:$F$1048576,Base!$A9,Lançamentos!$D$4:$D$1048576,Base!FD$3,Lançamentos!$E$4:$E$1048576,Base!$FB$2)","v":0},{"$f":"SUMIFS(Lançamentos!$G$4:$G$1048576,Lançamentos!$F$4:$F$1048576,Base!$A9,Lançamentos!$D$4:$D$1048576,Base!FE$3,Lançamentos!$E$4:$E$1048576,Base!$FB$2)","v":0},{"$f":"SUMIFS(Lançamentos!$G$4:$G$1048576,Lançamentos!$F$4:$F$1048576,Base!$A9,Lançamentos!$D$4:$D$1048576,Base!FF$3,Lançamentos!$E$4:$E$1048576,Base!$FB$2)","v":0},{"$f":"SUMIFS(Lançamentos!$G$4:$G$1048576,Lançamentos!$F$4:$F$1048576,Base!$A9,Lançamentos!$D$4:$D$1048576,Base!FG$3,Lançamentos!$E$4:$E$1048576,Base!$FB$2)","v":0},{"$f":"SUMIFS(Lançamentos!$G$4:$G$1048576,Lançamentos!$F$4:$F$1048576,Base!$A9,Lançamentos!$D$4:$D$1048576,Base!FH$3,Lançamentos!$E$4:$E$1048576,Base!$FB$2)","v":0},{"$f":"SUMIFS(Lançamentos!$G$4:$G$1048576,Lançamentos!$F$4:$F$1048576,Base!$A9,Lançamentos!$D$4:$D$1048576,Base!FI$3,Lançamentos!$E$4:$E$1048576,Base!$FB$2)","v":0},{"$f":"SUMIFS(Lançamentos!$G$4:$G$1048576,Lançamentos!$F$4:$F$1048576,Base!$A9,Lançamentos!$D$4:$D$1048576,Base!FJ$3,Lançamentos!$E$4:$E$1048576,Base!$FB$2)","v":0},{"$f":"SUMIFS(Lançamentos!$G$4:$G$1048576,Lançamentos!$F$4:$F$1048576,Base!$A9,Lançamentos!$D$4:$D$1048576,Base!FK$3,Lançamentos!$E$4:$E$1048576,Base!$FB$2)","v":0},{"$f":"SUMIFS(Lançamentos!$G$4:$G$1048576,Lançamentos!$F$4:$F$1048576,Base!$A9,Lançamentos!$D$4:$D$1048576,Base!FL$3,Lançamentos!$E$4:$E$1048576,Base!$FB$2)","v":0},{"$f":"SUMIFS(Lançamentos!$G$4:$G$1048576,Lançamentos!$F$4:$F$1048576,Base!$A9,Lançamentos!$D$4:$D$1048576,Base!FM$3,Lançamentos!$E$4:$E$1048576,Base!$FB$2)","v":0},0,{"$f":"SUMIFS(Lançamentos!$G$4:$G$1048576,Lançamentos!$F$4:$F$1048576,Base!$A9,Lançamentos!$D$4:$D$1048576,Base!FO$3,Lançamentos!$E$4:$E$1048576,Base!$FO$2)","v":0},{"$f":"SUMIFS(Lançamentos!$G$4:$G$1048576,Lançamentos!$F$4:$F$1048576,Base!$A9,Lançamentos!$D$4:$D$1048576,Base!FP$3,Lançamentos!$E$4:$E$1048576,Base!$FO$2)","v":0},{"$f":"SUMIFS(Lançamentos!$G$4:$G$1048576,Lançamentos!$F$4:$F$1048576,Base!$A9,Lançamentos!$D$4:$D$1048576,Base!FQ$3,Lançamentos!$E$4:$E$1048576,Base!$FO$2)","v":0},{"$f":"SUMIFS(Lançamentos!$G$4:$G$1048576,Lançamentos!$F$4:$F$1048576,Base!$A9,Lançamentos!$D$4:$D$1048576,Base!FR$3,Lançamentos!$E$4:$E$1048576,Base!$FO$2)","v":0},{"$f":"SUMIFS(Lançamentos!$G$4:$G$1048576,Lançamentos!$F$4:$F$1048576,Base!$A9,Lançamentos!$D$4:$D$1048576,Base!FS$3,Lançamentos!$E$4:$E$1048576,Base!$FO$2)","v":0},{"$f":"SUMIFS(Lançamentos!$G$4:$G$1048576,Lançamentos!$F$4:$F$1048576,Base!$A9,Lançamentos!$D$4:$D$1048576,Base!FT$3,Lançamentos!$E$4:$E$1048576,Base!$FO$2)","v":0},{"$f":"SUMIFS(Lançamentos!$G$4:$G$1048576,Lançamentos!$F$4:$F$1048576,Base!$A9,Lançamentos!$D$4:$D$1048576,Base!FU$3,Lançamentos!$E$4:$E$1048576,Base!$FO$2)","v":0},{"$f":"SUMIFS(Lançamentos!$G$4:$G$1048576,Lançamentos!$F$4:$F$1048576,Base!$A9,Lançamentos!$D$4:$D$1048576,Base!FV$3,Lançamentos!$E$4:$E$1048576,Base!$FO$2)","v":0},{"$f":"SUMIFS(Lançamentos!$G$4:$G$1048576,Lançamentos!$F$4:$F$1048576,Base!$A9,Lançamentos!$D$4:$D$1048576,Base!FW$3,Lançamentos!$E$4:$E$1048576,Base!$FO$2)","v":0},{"$f":"SUMIFS(Lançamentos!$G$4:$G$1048576,Lançamentos!$F$4:$F$1048576,Base!$A9,Lançamentos!$D$4:$D$1048576,Base!FX$3,Lançamentos!$E$4:$E$1048576,Base!$FO$2)","v":0},{"$f":"SUMIFS(Lançamentos!$G$4:$G$1048576,Lançamentos!$F$4:$F$1048576,Base!$A9,Lançamentos!$D$4:$D$1048576,Base!FY$3,Lançamentos!$E$4:$E$1048576,Base!$FO$2)","v":0},{"$f":"SUMIFS(Lançamentos!$G$4:$G$1048576,Lançamentos!$F$4:$F$1048576,Base!$A9,Lançamentos!$D$4:$D$1048576,Base!FZ$3,Lançamentos!$E$4:$E$1048576,Base!$FO$2)","v":0},0,{"$f":"SUMIFS(Lançamentos!$G$4:$G$1048576,Lançamentos!$F$4:$F$1048576,Base!$A9,Lançamentos!$D$4:$D$1048576,Base!GB$3,Lançamentos!$E$4:$E$1048576,Base!$GB$2)","v":0},{"$f":"SUMIFS(Lançamentos!$G$4:$G$1048576,Lançamentos!$F$4:$F$1048576,Base!$A9,Lançamentos!$D$4:$D$1048576,Base!GC$3,Lançamentos!$E$4:$E$1048576,Base!$GB$2)","v":0},{"$f":"SUMIFS(Lançamentos!$G$4:$G$1048576,Lançamentos!$F$4:$F$1048576,Base!$A9,Lançamentos!$D$4:$D$1048576,Base!GD$3,Lançamentos!$E$4:$E$1048576,Base!$GB$2)","v":0},{"$f":"SUMIFS(Lançamentos!$G$4:$G$1048576,Lançamentos!$F$4:$F$1048576,Base!$A9,Lançamentos!$D$4:$D$1048576,Base!GE$3,Lançamentos!$E$4:$E$1048576,Base!$GB$2)","v":0},{"$f":"SUMIFS(Lançamentos!$G$4:$G$1048576,Lançamentos!$F$4:$F$1048576,Base!$A9,Lançamentos!$D$4:$D$1048576,Base!GF$3,Lançamentos!$E$4:$E$1048576,Base!$GB$2)","v":0},{"$f":"SUMIFS(Lançamentos!$G$4:$G$1048576,Lançamentos!$F$4:$F$1048576,Base!$A9,Lançamentos!$D$4:$D$1048576,Base!GG$3,Lançamentos!$E$4:$E$1048576,Base!$GB$2)","v":0},{"$f":"SUMIFS(Lançamentos!$G$4:$G$1048576,Lançamentos!$F$4:$F$1048576,Base!$A9,Lançamentos!$D$4:$D$1048576,Base!GH$3,Lançamentos!$E$4:$E$1048576,Base!$GB$2)","v":0},{"$f":"SUMIFS(Lançamentos!$G$4:$G$1048576,Lançamentos!$F$4:$F$1048576,Base!$A9,Lançamentos!$D$4:$D$1048576,Base!GI$3,Lançamentos!$E$4:$E$1048576,Base!$GB$2)","v":0},{"$f":"SUMIFS(Lançamentos!$G$4:$G$1048576,Lançamentos!$F$4:$F$1048576,Base!$A9,Lançamentos!$D$4:$D$1048576,Base!GJ$3,Lançamentos!$E$4:$E$1048576,Base!$GB$2)","v":0},{"$f":"SUMIFS(Lançamentos!$G$4:$G$1048576,Lançamentos!$F$4:$F$1048576,Base!$A9,Lançamentos!$D$4:$D$1048576,Base!GK$3,Lançamentos!$E$4:$E$1048576,Base!$GB$2)","v":0},{"$f":"SUMIFS(Lançamentos!$G$4:$G$1048576,Lançamentos!$F$4:$F$1048576,Base!$A9,Lançamentos!$D$4:$D$1048576,Base!GL$3,Lançamentos!$E$4:$E$1048576,Base!$GB$2)","v":0},{"$f":"SUMIFS(Lançamentos!$G$4:$G$1048576,Lançamentos!$F$4:$F$1048576,Base!$A9,Lançamentos!$D$4:$D$1048576,Base!GM$3,Lançamentos!$E$4:$E$1048576,Base!$GB$2)","v":0},0,null,2023]
[{"$f":"(IF(Lançamentos!A7=\"\",\"\",Lançamentos!A7))","v":"Outros Recebimentos 1"},{"$f":"SUMIFS(Lançamentos!$G$4:$G$1048576,Lançamentos!$F$4:$F$1048576,Base!$A10,Lançamentos!$D$4:$D$1048576,Base!B$3,Lançamentos!$E$4:$E$1048576,Base!$B$2)","v":0},{"$f":"SUMIFS(Lançamentos!$G$4:$G$1048576,Lançamentos!$F$4:$F$1048576,Base!$A10,Lançamentos!$D$4:$D$1048576,Base!C$3,Lançamentos!$E$4:$E$1048576,Base!$B$2)","v":0},{"$f":"SUMIFS(Lançamentos!$G$4:$G$1048576,Lançamentos!$F$4:$F$1048576,Base!$A10,Lançamentos!$D$4:$D$1048576,Base!D$3,Lançamentos!$E$4:$E$1048576,Base!$B$2)","v":0},{"$f":"SUMIFS(Lançamentos!$G$4:$G$1048576,Lançamentos!$F$4:$F$1048576,Base!$A10,Lançamentos!$D$4:$D$1048576,Base!E$3,Lançamentos!$E$4:$E$1048576,Base!$B$2)","v":0},{"$f":"SUMIFS(Lançamentos!$G$4:$G$1048576,Lançamentos!$F$4:$F$1048576,Base!$A10,Lançamentos!$D$4:$D$1048576,Base!F$3,Lançamentos!$E$4:$E$1048576,Base!$B$2)","v":0},{"$f":"SUMIFS(Lançamentos!$G$4:$G$1048576,Lançamentos!$F$4:$F$1048576,Base!$A10,Lançamentos!$D$4:$D$1048576,Base!G$3,Lançamentos!$E$4:$E$1048576,Base!$B$2)","v":0},{"$f":"SUMIFS(Lançamentos!$G$4:$G$1048576,Lançamentos!$F$4:$F$1048576,Base!$A10,Lançamentos!$D$4:$D$1048576,Base!H$3,Lançamentos!$E$4:$E$1048576,Base!$B$2)","v":0},{"$f":"SUMIFS(Lançamentos!$G$4:$G$1048576,Lançamentos!$F$4:$F$1048576,Base!$A10,Lançamentos!$D$4:$D$1048576,Base!I$3,Lançamentos!$E$4:$E$1048576,Base!$B$2)","v":0},{"$f":"SUMIFS(Lançamentos!$G$4:$G$1048576,Lançamentos!$F$4:$F$1048576,Base!$A10,Lançamentos!$D$4:$D$1048576,Base!J$3,Lançamentos!$E$4:$E$1048576,Base!$B$2)","v":0},{"$f":"SUMIFS(Lançamentos!$G$4:$G$1048576,Lançamentos!$F$4:$F$1048576,Base!$A10,Lançamentos!$D$4:$D$1048576,Base!K$3,Lançamentos!$E$4:$E$1048576,Base!$B$2)","v":0},{"$f":"SUMIFS(Lançamentos!$G$4:$G$1048576,Lançamentos!$F$4:$F$1048576,Base!$A10,Lançamentos!$D$4:$D$1048576,Base!L$3,Lançamentos!$E$4:$E$1048576,Base!$B$2)","v":0},{"$f":"SUMIFS(Lançamentos!$G$4:$G$1048576,Lançamentos!$F$4:$F$1048576,Base!$A10,Lançamentos!$D$4:$D$1048576,Base!M$3,Lançamentos!$E$4:$E$1048576,Base!$B$2)","v":0},0,{"$f":"SUMIFS(Lançamentos!$G$4:$G$1048576,Lançamentos!$F$4:$F$1048576,Base!$A10,Lançamentos!$D$4:$D$1048576,Base!O$3,Lançamentos!$E$4:$E$1048576,Base!$O$2)","v":0},{"$f":"SUMIFS(Lançamentos!$G$4:$G$1048576,Lançamentos!$F$4:$F$1048576,Base!$A10,Lançamentos!$D$4:$D$1048576,Base!P$3,Lançamentos!$E$4:$E$1048576,Base!$O$2)","v":0},{"$f":"SUMIFS(Lançamentos!$G$4:$G$1048576,Lançamentos!$F$4:$F$1048576,Base!$A10,Lançamentos!$D$4:$D$1048576,Base!Q$3,Lançamentos!$E$4:$E$1048576,Base!$O$2)","v":0},{"$f":"SUMIFS(Lançamentos!$G$4:$G$1048576,Lançamentos!$F$4:$F$1048576,Base!$A10,Lançamentos!$D$4:$D$1048576,Base!R$3,Lançamentos!$E$4:$E$1048576,Base!$O$2)","v":0},{"$f":"SUMIFS(Lançamentos!$G$4:$G$1048576,Lançamentos!$F$4:$F$1048576,Base!$A10,Lançamentos!$D$4:$D$1048576,Base!S$3,Lançamentos!$E$4:$E$1048576,Base!$O$2)","v":0},{"$f":"SUMIFS(Lançamentos!$G$4:$G$1048576,Lançamentos!$F$4:$F$1048576,Base!$A10,Lançamentos!$D$4:$D$1048576,Base!T$3,Lançamentos!$E$4:$E$1048576,Base!$O$2)","v":0},{"$f":"SUMIFS(Lançamentos!$G$4:$G$1048576,Lançamentos!$F$4:$F$1048576,Base!$A10,Lançamentos!$D$4:$D$1048576,Base!U$3,Lançamentos!$E$4:$E$1048576,Base!$O$2)","v":0},{"$f":"SUMIFS(Lançamentos!$G$4:$G$1048576,Lançamentos!$F$4:$F$1048576,Base!$A10,Lançamentos!$D$4:$D$1048576,Base!V$3,Lançamentos!$E$4:$E$1048576,Base!$O$2)","v":0},{"$f":"SUMIFS(Lançamentos!$G$4:$G$1048576,Lançamentos!$F$4:$F$1048576,Base!$A10,Lançamentos!$D$4:$D$1048576,Base!W$3,Lançamentos!$E$4:$E$1048576,Base!$O$2)","v":0},{"$f":"SUMIFS(Lançamentos!$G$4:$G$1048576,Lançamentos!$F$4:$F$1048576,Base!$A10,Lançamentos!$D$4:$D$1048576,Base!X$3,Lançamentos!$E$4:$E$1048576,Base!$O$2)","v":0},{"$f":"SUMIFS(Lançamentos!$G$4:$G$1048576,Lançamentos!$F$4:$F$1048576,Base!$A10,Lançamentos!$D$4:$D$1048576,Base!Y$3,Lançamentos!$E$4:$E$1048576,Base!$O$2)","v":0},{"$f":"SUMIFS(Lançamentos!$G$4:$G$1048576,Lançamentos!$F$4:$F$1048576,Base!$A10,Lançamentos!$D$4:$D$1048576,Base!Z$3,Lançamentos!$E$4:$E$1048576,Base!$O$2)","v":0},0,{"$f":"SUMIFS(Lançamentos!$G$4:$G$1048576,Lançamentos!$F$4:$F$1048576,Base!$A10,Lançamentos!$D$4:$D$1048576,Base!AB$3,Lançamentos!$E$4:$E$1048576,Base!$AB$2)","v":0},{"$f":"SUMIFS(Lançamentos!$G$4:$G$1048576,Lançamentos!$F$4:$F$1048576,Base!$A10,Lançamentos!$D$4:$D$1048576,Base!AC$3,Lançamentos!$E$4:$E$1048576,Base!$AB$2)","v":0},{"$f":"SUMIFS(Lançamentos!$G$4:$G$1048576,Lançamentos!$F$4:$F$1048576,Base!$A10,Lançamentos!$D$4:$D$1048576,Base!AD$3,Lançamentos!$E$4:$E$1048576,Base!$AB$2)","v":0},{"$f":"SUMIFS(Lançamentos!$G$4:$G$1048576,Lançamentos!$F$4:$F$1048576,Base!$A10,Lançamentos!$D$4:$D$1048576,Base!AE$3,Lançamentos!$E$4:$E$1048576,Base!$AB$2)","v":0},{"$f":"SUMIFS(Lançamentos!$G$4:$G$1048576,Lançamentos!$F$4:$F$1048576,Base!$A10,Lançamentos!$D$4:$D$1048576,Base!AF$3,Lançamentos!$E$4:$E$1048576,Base!$AB$2)","v":0},{"$f":"SUMIFS(Lançamentos!$G$4:$G$1048576,Lançamentos!$F$4:$F$1048576,Base!$A10,Lançamentos!$D$4:$D$1048576,Base!AG$3,Lançamentos!$E$4:$E$1048576,Base!$AB$2)","v":0},{"$f":"SUMIFS(Lançamentos!$G$4:$G$1048576,Lançamentos!$F$4:$F$1048576,Base!$A10,Lançamentos!$D$4:$D$1048576,Base!AH$3,Lançamentos!$E$4:$E$1048576,Base!$AB$2)","v":0},{"$f":"SUMIFS(Lançamentos!$G$4:$G$1048576,Lançamentos!$F$4:$F$1048576,Base!$A10,Lançamentos!$D$4:$D$1048576,Base!AI$3,Lançamentos!$E$4:$E$1048576,Base!$AB$2)","v":0},{"$f":"SUMIFS(Lançamentos!$G$4:$G$1048576,Lançamentos!$F$4:$F$1048576,Base!$A10,Lançamentos!$D$4:$D$1048576,Base!AJ$3,Lançamentos!$E$4:$E$1048576,Base!$AB$2)","v":0},{"$f":"SUMIFS(Lançamentos!$G$4:$G$1048576,Lançamentos!$F$4:$F$1048576,Base!$A10,Lançamentos!$D$4:$D$1048576,Base!AK$3,Lançamentos!$E$4:$E$1048576,Base!$AB$2)","v":0},{"$f":"SUMIFS(Lançamentos!$G$4:$G$1048576,Lançamentos!$F$4:$F$1048576,Base!$A10,Lançamentos!$D$4:$D$1048576,Base!AL$3,Lançamentos!$E$4:$E$1048576,Base!$AB$2)","v":0},{"$f":"SUMIFS(Lançamentos!$G$4:$G$1048576,Lançamentos!$F$4:$F$1048576,Base!$A10,Lançamentos!$D$4:$D$1048576,Base!AM$3,Lançamentos!$E$4:$E$1048576,Base!$AB$2)","v":0},0,{"$f":"SUMIFS(Lançamentos!$G$4:$G$1048576,Lançamentos!$F$4:$F$1048576,Base!$A10,Lançamentos!$D$4:$D$1048576,Base!AO$3,Lançamentos!$E$4:$E$1048576,Base!$AO$2)","v":0},{"$f":"SUMIFS(Lançamentos!$G$4:$G$1048576,Lançamentos!$F$4:$F$1048576,Base!$A10,Lançamentos!$D$4:$D$1048576,Base!AP$3,Lançamentos!$E$4:$E$1048576,Base!$AO$2)","v":0},{"$f":"SUMIFS(Lançamentos!$G$4:$G$1048576,Lançamentos!$F$4:$F$1048576,Base!$A10,Lançamentos!$D$4:$D$1048576,Base!AQ$3,Lançamentos!$E$4:$E$1048576,Base!$AO$2)","v":0},{"$f":"SUMIFS(Lançamentos!$G$4:$G$1048576,Lançamentos!$F$4:$F$1048576,Base!$A10,Lançamentos!$D$4:$D$1048576,Base!AR$3,Lançamentos!$E$4:$E$1048576,Base!$AO$2)","v":0},{"$f":"SUMIFS(Lançamentos!$G$4:$G$1048576,Lançamentos!$F$4:$F$1048576,Base!$A10,Lançamentos!$D$4:$D$1048576,Base!AS$3,Lançamentos!$E$4:$E$1048576,Base!$AO$2)","v":0},{"$f":"SUMIFS(Lançamentos!$G$4:$G$1048576,Lançamentos!$F$4:$F$1048576,Base!$A10,Lançamentos!$D$4:$D$1048576,Base!AT$3,Lançamentos!$E$4:$E$1048576,Base!$AO$2)","v":0},{"$f":"SUMIFS(Lançamentos!$G$4:$G$1048576,Lançamentos!$F$4:$F$1048576,Base!$A10,Lançamentos!$D$4:$D$1048576,Base!AU$3,Lançamentos!$E$4:$E$1048576,Base!$AO$2)","v":0},{"$f":"SUMIFS(Lançamentos!$G$4:$G$1048576,Lançamentos!$F$4:$F$1048576,Base!$A10,Lançamentos!$D$4:$D$1048576,Base!AV$3,Lançamentos!$E$4:$E$1048576,Base!$AO$2)","v":0},{"$f":"SUMIFS(Lançamentos!$G$4:$G$1048576,Lançamentos!$F$4:$F$1048576,Base!$A10,Lançamentos!$D$4:$D$1048576,Base!AW$3,Lançamentos!$E$4:$E$1048576,Base!$AO$2)","v":0},{"$f":"SUMIFS(Lançamentos!$G$4:$G$1048576,Lançamentos!$F$4:$F$1048576,Base!$A10,Lançamentos!$D$4:$D$1048576,Base!AX$3,Lançamentos!$E$4:$E$1048576,Base!$AO$2)","v":0},{"$f":"SUMIFS(Lançamentos!$G$4:$G$1048576,Lançamentos!$F$4:$F$1048576,Base!$A10,Lançamentos!$D$4:$D$1048576,Base!AY$3,Lançamentos!$E$4:$E$1048576,Base!$AO$2)","v":0},{"$f":"SUMIFS(Lançamentos!$G$4:$G$1048576,Lançamentos!$F$4:$F$1048576,Base!$A10,Lançamentos!$D$4:$D$1048576,Base!AZ$3,Lançamentos!$E$4:$E$1048576,Base!$AO$2)","v":0},0,{"$f":"SUMIFS(Lançamentos!$G$4:$G$1048576,Lançamentos!$F$4:$F$1048576,Base!$A10,Lançamentos!$D$4:$D$1048576,Base!BB$3,Lançamentos!$E$4:$E$1048576,Base!$BB$2)","v":0},{"$f":"SUMIFS(Lançamentos!$G$4:$G$1048576,Lançamentos!$F$4:$F$1048576,Base!$A10,Lançamentos!$D$4:$D$1048576,Base!BC$3,Lançamentos!$E$4:$E$1048576,Base!$BB$2)","v":0},{"$f":"SUMIFS(Lançamentos!$G$4:$G$1048576,Lançamentos!$F$4:$F$1048576,Base!$A10,Lançamentos!$D$4:$D$1048576,Base!BD$3,Lançamentos!$E$4:$E$1048576,Base!$BB$2)","v":0},{"$f":"SUMIFS(Lançamentos!$G$4:$G$1048576,Lançamentos!$F$4:$F$1048576,Base!$A10,Lançamentos!$D$4:$D$1048576,Base!BE$3,Lançamentos!$E$4:$E$1048576,Base!$BB$2)","v":0},{"$f":"SUMIFS(Lançamentos!$G$4:$G$1048576,Lançamentos!$F$4:$F$1048576,Base!$A10,Lançamentos!$D$4:$D$1048576,Base!BF$3,Lançamentos!$E$4:$E$1048576,Base!$BB$2)","v":0},{"$f":"SUMIFS(Lançamentos!$G$4:$G$1048576,Lançamentos!$F$4:$F$1048576,Base!$A10,Lançamentos!$D$4:$D$1048576,Base!BG$3,Lançamentos!$E$4:$E$1048576,Base!$BB$2)","v":0},{"$f":"SUMIFS(Lançamentos!$G$4:$G$1048576,Lançamentos!$F$4:$F$1048576,Base!$A10,Lançamentos!$D$4:$D$1048576,Base!BH$3,Lançamentos!$E$4:$E$1048576,Base!$BB$2)","v":0},{"$f":"SUMIFS(Lançamentos!$G$4:$G$1048576,Lançamentos!$F$4:$F$1048576,Base!$A10,Lançamentos!$D$4:$D$1048576,Base!BI$3,Lançamentos!$E$4:$E$1048576,Base!$BB$2)","v":0},{"$f":"SUMIFS(Lançamentos!$G$4:$G$1048576,Lançamentos!$F$4:$F$1048576,Base!$A10,Lançamentos!$D$4:$D$1048576,Base!BJ$3,Lançamentos!$E$4:$E$1048576,Base!$BB$2)","v":0},{"$f":"SUMIFS(Lançamentos!$G$4:$G$1048576,Lançamentos!$F$4:$F$1048576,Base!$A10,Lançamentos!$D$4:$D$1048576,Base!BK$3,Lançamentos!$E$4:$E$1048576,Base!$BB$2)","v":0},{"$f":"SUMIFS(Lançamentos!$G$4:$G$1048576,Lançamentos!$F$4:$F$1048576,Base!$A10,Lançamentos!$D$4:$D$1048576,Base!BL$3,Lançamentos!$E$4:$E$1048576,Base!$BB$2)","v":0},{"$f":"SUMIFS(Lançamentos!$G$4:$G$1048576,Lançamentos!$F$4:$F$1048576,Base!$A10,Lançamentos!$D$4:$D$1048576,Base!BM$3,Lançamentos!$E$4:$E$1048576,Base!$BB$2)","v":0},0,{"$f":"SUMIFS(Lançamentos!$G$4:$G$1048576,Lançamentos!$F$4:$F$1048576,Base!$A10,Lançamentos!$D$4:$D$1048576,Base!BO$3,Lançamentos!$E$4:$E$1048576,Base!$BO$2)","v":0},{"$f":"SUMIFS(Lançamentos!$G$4:$G$1048576,Lançamentos!$F$4:$F$1048576,Base!$A10,Lançamentos!$D$4:$D$1048576,Base!BP$3,Lançamentos!$E$4:$E$1048576,Base!$BO$2)","v":0},{"$f":"SUMIFS(Lançamentos!$G$4:$G$1048576,Lançamentos!$F$4:$F$1048576,Base!$A10,Lançamentos!$D$4:$D$1048576,Base!BQ$3,Lançamentos!$E$4:$E$1048576,Base!$BO$2)","v":0},{"$f":"SUMIFS(Lançamentos!$G$4:$G$1048576,Lançamentos!$F$4:$F$1048576,Base!$A10,Lançamentos!$D$4:$D$1048576,Base!BR$3,Lançamentos!$E$4:$E$1048576,Base!$BO$2)","v":0},{"$f":"SUMIFS(Lançamentos!$G$4:$G$1048576,Lançamentos!$F$4:$F$1048576,Base!$A10,Lançamentos!$D$4:$D$1048576,Base!BS$3,Lançamentos!$E$4:$E$1048576,Base!$BO$2)","v":0},{"$f":"SUMIFS(Lançamentos!$G$4:$G$1048576,Lançamentos!$F$4:$F$1048576,Base!$A10,Lançamentos!$D$4:$D$1048576,Base!BT$3,Lançamentos!$E$4:$E$1048576,Base!$BO$2)","v":0},{"$f":"SUMIFS(Lançamentos!$G$4:$G$1048576,Lançamentos!$F$4:$F$1048576,Base!$A10,Lançamentos!$D$4:$D$1048576,Base!BU$3,Lançamentos!$E$4:$E$1048576,Base!$BO$2)","v":0},{"$f":"SUMIFS(Lançamentos!$G$4:$G$1048576,Lançamentos!$F$4:$F$1048576,Base!$A10,Lançamentos!$D$4:$D$1048576,Base!BV$3,Lançamentos!$E$4:$E$1048576,Base!$BO$2)","v":0},{"$f":"SUMIFS(Lançamentos!$G$4:$G$1048576,Lançamentos!$F$4:$F$1048576,Base!$A10,Lançamentos!$D$4:$D$1048576,Base!BW$3,Lançamentos!$E$4:$E$1048576,Base!$BO$2)","v":0},{"$f":"SUMIFS(Lançamentos!$G$4:$G$1048576,Lançamentos!$F$4:$F$1048576,Base!$A10,Lançamentos!$D$4:$D$1048576,Base!BX$3,Lançamentos!$E$4:$E$1048576,Base!$BO$2)","v":0},{"$f":"SUMIFS(Lançamentos!$G$4:$G$1048576,Lançamentos!$F$4:$F$1048576,Base!$A10,Lançamentos!$D$4:$D$1048576,Base!BY$3,Lançamentos!$E$4:$E$1048576,Base!$BO$2)","v":0},{"$f":"SUMIFS(Lançamentos!$G$4:$G$1048576,Lançamentos!$F$4:$F$1048576,Base!$A10,Lançamentos!$D$4:$D$1048576,Base!BZ$3,Lançamentos!$E$4:$E$1048576,Base!$BO$2)","v":0},0,{"$f":"SUMIFS(Lançamentos!$G$4:$G$1048576,Lançamentos!$F$4:$F$1048576,Base!$A10,Lançamentos!$D$4:$D$1048576,Base!CB$3,Lançamentos!$E$4:$E$1048576,Base!$CB$2)","v":0},{"$f":"SUMIFS(Lançamentos!$G$4:$G$1048576,Lançamentos!$F$4:$F$1048576,Base!$A10,Lançamentos!$D$4:$D$1048576,Base!CC$3,Lançamentos!$E$4:$E$1048576,Base!$CB$2)","v":0},{"$f":"SUMIFS(Lançamentos!$G$4:$G$1048576,Lançamentos!$F$4:$F$1048576,Base!$A10,Lançamentos!$D$4:$D$1048576,Base!CD$3,Lançamentos!$E$4:$E$1048576,Base!$CB$2)","v":0},{"$f":"SUMIFS(Lançamentos!$G$4:$G$1048576,Lançamentos!$F$4:$F$1048576,Base!$A10,Lançamentos!$D$4:$D$1048576,Base!CE$3,Lançamentos!$E$4:$E$1048576,Base!$CB$2)","v":0},{"$f":"SUMIFS(Lançamentos!$G$4:$G$1048576,Lançamentos!$F$4:$F$1048576,Base!$A10,Lançamentos!$D$4:$D$1048576,Base!CF$3,Lançamentos!$E$4:$E$1048576,Base!$CB$2)","v":0},{"$f":"SUMIFS(Lançamentos!$G$4:$G$1048576,Lançamentos!$F$4:$F$1048576,Base!$A10,Lançamentos!$D$4:$D$1048576,Base!CG$3,Lançamentos!$E$4:$E$1048576,Base!$CB$2)","v":0},{"$f":"SUMIFS(Lançamentos!$G$4:$G$1048576,Lançamentos!$F$4:$F$1048576,Base!$A10,Lançamentos!$D$4:$D$1048576,Base!CH$3,Lançamentos!$E$4:$E$1048576,Base!$CB$2)","v":0},{"$f":"SUMIFS(Lançamentos!$G$4:$G$1048576,Lançamentos!$F$4:$F$1048576,Base!$A10,Lançamentos!$D$4:$D$1048576,Base!CI$3,Lançamentos!$E$4:$E$1048576,Base!$CB$2)","v":0},{"$f":"SUMIFS(Lançamentos!$G$4:$G$1048576,Lançamentos!$F$4:$F$1048576,Base!$A10,Lançamentos!$D$4:$D$1048576,Base!CJ$3,Lançamentos!$E$4:$E$1048576,Base!$CB$2)","v":0},{"$f":"SUMIFS(Lançamentos!$G$4:$G$1048576,Lançamentos!$F$4:$F$1048576,Base!$A10,Lançamentos!$D$4:$D$1048576,Base!CK$3,Lançamentos!$E$4:$E$1048576,Base!$CB$2)","v":0},{"$f":"SUMIFS(Lançamentos!$G$4:$G$1048576,Lançamentos!$F$4:$F$1048576,Base!$A10,Lançamentos!$D$4:$D$1048576,Base!CL$3,Lançamentos!$E$4:$E$1048576,Base!$CB$2)","v":0},{"$f":"SUMIFS(Lançamentos!$G$4:$G$1048576,Lançamentos!$F$4:$F$1048576,Base!$A10,Lançamentos!$D$4:$D$1048576,Base!CM$3,Lançamentos!$E$4:$E$1048576,Base!$CB$2)","v":0},0,{"$f":"SUMIFS(Lançamentos!$G$4:$G$1048576,Lançamentos!$F$4:$F$1048576,Base!$A10,Lançamentos!$D$4:$D$1048576,Base!CO$3,Lançamentos!$E$4:$E$1048576,Base!$CO$2)","v":0},{"$f":"SUMIFS(Lançamentos!$G$4:$G$1048576,Lançamentos!$F$4:$F$1048576,Base!$A10,Lançamentos!$D$4:$D$1048576,Base!CP$3,Lançamentos!$E$4:$E$1048576,Base!$CO$2)","v":0},{"$f":"SUMIFS(Lançamentos!$G$4:$G$1048576,Lançamentos!$F$4:$F$1048576,Base!$A10,Lançamentos!$D$4:$D$1048576,Base!CQ$3,Lançamentos!$E$4:$E$1048576,Base!$CO$2)","v":0},{"$f":"SUMIFS(Lançamentos!$G$4:$G$1048576,Lançamentos!$F$4:$F$1048576,Base!$A10,Lançamentos!$D$4:$D$1048576,Base!CR$3,Lançamentos!$E$4:$E$1048576,Base!$CO$2)","v":0},{"$f":"SUMIFS(Lançamentos!$G$4:$G$1048576,Lançamentos!$F$4:$F$1048576,Base!$A10,Lançamentos!$D$4:$D$1048576,Base!CS$3,Lançamentos!$E$4:$E$1048576,Base!$CO$2)","v":0},{"$f":"SUMIFS(Lançamentos!$G$4:$G$1048576,Lançamentos!$F$4:$F$1048576,Base!$A10,Lançamentos!$D$4:$D$1048576,Base!CT$3,Lançamentos!$E$4:$E$1048576,Base!$CO$2)","v":0},{"$f":"SUMIFS(Lançamentos!$G$4:$G$1048576,Lançamentos!$F$4:$F$1048576,Base!$A10,Lançamentos!$D$4:$D$1048576,Base!CU$3,Lançamentos!$E$4:$E$1048576,Base!$CO$2)","v":0},{"$f":"SUMIFS(Lançamentos!$G$4:$G$1048576,Lançamentos!$F$4:$F$1048576,Base!$A10,Lançamentos!$D$4:$D$1048576,Base!CV$3,Lançamentos!$E$4:$E$1048576,Base!$CO$2)","v":0},{"$f":"SUMIFS(Lançamentos!$G$4:$G$1048576,Lançamentos!$F$4:$F$1048576,Base!$A10,Lançamentos!$D$4:$D$1048576,Base!CW$3,Lançamentos!$E$4:$E$1048576,Base!$CO$2)","v":0},{"$f":"SUMIFS(Lançamentos!$G$4:$G$1048576,Lançamentos!$F$4:$F$1048576,Base!$A10,Lançamentos!$D$4:$D$1048576,Base!CX$3,Lançamentos!$E$4:$E$1048576,Base!$CO$2)","v":0},{"$f":"SUMIFS(Lançamentos!$G$4:$G$1048576,Lançamentos!$F$4:$F$1048576,Base!$A10,Lançamentos!$D$4:$D$1048576,Base!CY$3,Lançamentos!$E$4:$E$1048576,Base!$CO$2)","v":0},{"$f":"SUMIFS(Lançamentos!$G$4:$G$1048576,Lançamentos!$F$4:$F$1048576,Base!$A10,Lançamentos!$D$4:$D$1048576,Base!CZ$3,Lançamentos!$E$4:$E$1048576,Base!$CO$2)","v":0},0,{"$f":"SUMIFS(Lançamentos!$G$4:$G$1048576,Lançamentos!$F$4:$F$1048576,Base!$A10,Lançamentos!$D$4:$D$1048576,Base!DB$3,Lançamentos!$E$4:$E$1048576,Base!$DB$2)","v":0},{"$f":"SUMIFS(Lançamentos!$G$4:$G$1048576,Lançamentos!$F$4:$F$1048576,Base!$A10,Lançamentos!$D$4:$D$1048576,Base!DC$3,Lançamentos!$E$4:$E$1048576,Base!$DB$2)","v":0},{"$f":"SUMIFS(Lançamentos!$G$4:$G$1048576,Lançamentos!$F$4:$F$1048576,Base!$A10,Lançamentos!$D$4:$D$1048576,Base!DD$3,Lançamentos!$E$4:$E$1048576,Base!$DB$2)","v":0},{"$f":"SUMIFS(Lançamentos!$G$4:$G$1048576,Lançamentos!$F$4:$F$1048576,Base!$A10,Lançamentos!$D$4:$D$1048576,Base!DE$3,Lançamentos!$E$4:$E$1048576,Base!$DB$2)","v":0},{"$f":"SUMIFS(Lançamentos!$G$4:$G$1048576,Lançamentos!$F$4:$F$1048576,Base!$A10,Lançamentos!$D$4:$D$1048576,Base!DF$3,Lançamentos!$E$4:$E$1048576,Base!$DB$2)","v":0},{"$f":"SUMIFS(Lançamentos!$G$4:$G$1048576,Lançamentos!$F$4:$F$1048576,Base!$A10,Lançamentos!$D$4:$D$1048576,Base!DG$3,Lançamentos!$E$4:$E$1048576,Base!$DB$2)","v":0},{"$f":"SUMIFS(Lançamentos!$G$4:$G$1048576,Lançamentos!$F$4:$F$1048576,Base!$A10,Lançamentos!$D$4:$D$1048576,Base!DH$3,Lançamentos!$E$4:$E$1048576,Base!$DB$2)","v":0},{"$f":"SUMIFS(Lançamentos!$G$4:$G$1048576,Lançamentos!$F$4:$F$1048576,Base!$A10,Lançamentos!$D$4:$D$1048576,Base!DI$3,Lançamentos!$E$4:$E$1048576,Base!$DB$2)","v":0},{"$f":"SUMIFS(Lançamentos!$G$4:$G$1048576,Lançamentos!$F$4:$F$1048576,Base!$A10,Lançamentos!$D$4:$D$1048576,Base!DJ$3,Lançamentos!$E$4:$E$1048576,Base!$DB$2)","v":0},{"$f":"SUMIFS(Lançamentos!$G$4:$G$1048576,Lançamentos!$F$4:$F$1048576,Base!$A10,Lançamentos!$D$4:$D$1048576,Base!DK$3,Lançamentos!$E$4:$E$1048576,Base!$DB$2)","v":0},{"$f":"SUMIFS(Lançamentos!$G$4:$G$1048576,Lançamentos!$F$4:$F$1048576,Base!$A10,Lançamentos!$D$4:$D$1048576,Base!DL$3,Lançamentos!$E$4:$E$1048576,Base!$DB$2)","v":0},{"$f":"SUMIFS(Lançamentos!$G$4:$G$1048576,Lançamentos!$F$4:$F$1048576,Base!$A10,Lançamentos!$D$4:$D$1048576,Base!DM$3,Lançamentos!$E$4:$E$1048576,Base!$DB$2)","v":0},0,{"$f":"SUMIFS(Lançamentos!$G$4:$G$1048576,Lançamentos!$F$4:$F$1048576,Base!$A10,Lançamentos!$D$4:$D$1048576,Base!DO$3,Lançamentos!$E$4:$E$1048576,Base!$DO$2)","v":0},{"$f":"SUMIFS(Lançamentos!$G$4:$G$1048576,Lançamentos!$F$4:$F$1048576,Base!$A10,Lançamentos!$D$4:$D$1048576,Base!DP$3,Lançamentos!$E$4:$E$1048576,Base!$DO$2)","v":0},{"$f":"SUMIFS(Lançamentos!$G$4:$G$1048576,Lançamentos!$F$4:$F$1048576,Base!$A10,Lançamentos!$D$4:$D$1048576,Base!DQ$3,Lançamentos!$E$4:$E$1048576,Base!$DO$2)","v":0},{"$f":"SUMIFS(Lançamentos!$G$4:$G$1048576,Lançamentos!$F$4:$F$1048576,Base!$A10,Lançamentos!$D$4:$D$1048576,Base!DR$3,Lançamentos!$E$4:$E$1048576,Base!$DO$2)","v":0},{"$f":"SUMIFS(Lançamentos!$G$4:$G$1048576,Lançamentos!$F$4:$F$1048576,Base!$A10,Lançamentos!$D$4:$D$1048576,Base!DS$3,Lançamentos!$E$4:$E$1048576,Base!$DO$2)","v":0},{"$f":"SUMIFS(Lançamentos!$G$4:$G$1048576,Lançamentos!$F$4:$F$1048576,Base!$A10,Lançamentos!$D$4:$D$1048576,Base!DT$3,Lançamentos!$E$4:$E$1048576,Base!$DO$2)","v":0},{"$f":"SUMIFS(Lançamentos!$G$4:$G$1048576,Lançamentos!$F$4:$F$1048576,Base!$A10,Lançamentos!$D$4:$D$1048576,Base!DU$3,Lançamentos!$E$4:$E$1048576,Base!$DO$2)","v":0},{"$f":"SUMIFS(Lançamentos!$G$4:$G$1048576,Lançamentos!$F$4:$F$1048576,Base!$A10,Lançamentos!$D$4:$D$1048576,Base!DV$3,Lançamentos!$E$4:$E$1048576,Base!$DO$2)","v":0},{"$f":"SUMIFS(Lançamentos!$G$4:$G$1048576,Lançamentos!$F$4:$F$1048576,Base!$A10,Lançamentos!$D$4:$D$1048576,Base!DW$3,Lançamentos!$E$4:$E$1048576,Base!$DO$2)","v":0},{"$f":"SUMIFS(Lançamentos!$G$4:$G$1048576,Lançamentos!$F$4:$F$1048576,Base!$A10,Lançamentos!$D$4:$D$1048576,Base!DX$3,Lançamentos!$E$4:$E$1048576,Base!$DO$2)","v":0},{"$f":"SUMIFS(Lançamentos!$G$4:$G$1048576,Lançamentos!$F$4:$F$1048576,Base!$A10,Lançamentos!$D$4:$D$1048576,Base!DY$3,Lançamentos!$E$4:$E$1048576,Base!$DO$2)","v":0},{"$f":"SUMIFS(Lançamentos!$G$4:$G$1048576,Lançamentos!$F$4:$F$1048576,Base!$A10,Lançamentos!$D$4:$D$1048576,Base!DZ$3,Lançamentos!$E$4:$E$1048576,Base!$DO$2)","v":0},0,{"$f":"SUMIFS(Lançamentos!$G$4:$G$1048576,Lançamentos!$F$4:$F$1048576,Base!$A10,Lançamentos!$D$4:$D$1048576,Base!EB$3,Lançamentos!$E$4:$E$1048576,Base!$EB$2)","v":0},{"$f":"SUMIFS(Lançamentos!$G$4:$G$1048576,Lançamentos!$F$4:$F$1048576,Base!$A10,Lançamentos!$D$4:$D$1048576,Base!EC$3,Lançamentos!$E$4:$E$1048576,Base!$EB$2)","v":0},{"$f":"SUMIFS(Lançamentos!$G$4:$G$1048576,Lançamentos!$F$4:$F$1048576,Base!$A10,Lançamentos!$D$4:$D$1048576,Base!ED$3,Lançamentos!$E$4:$E$1048576,Base!$EB$2)","v":0},{"$f":"SUMIFS(Lançamentos!$G$4:$G$1048576,Lançamentos!$F$4:$F$1048576,Base!$A10,Lançamentos!$D$4:$D$1048576,Base!EE$3,Lançamentos!$E$4:$E$1048576,Base!$EB$2)","v":0},{"$f":"SUMIFS(Lançamentos!$G$4:$G$1048576,Lançamentos!$F$4:$F$1048576,Base!$A10,Lançamentos!$D$4:$D$1048576,Base!EF$3,Lançamentos!$E$4:$E$1048576,Base!$EB$2)","v":0},{"$f":"SUMIFS(Lançamentos!$G$4:$G$1048576,Lançamentos!$F$4:$F$1048576,Base!$A10,Lançamentos!$D$4:$D$1048576,Base!EG$3,Lançamentos!$E$4:$E$1048576,Base!$EB$2)","v":0},{"$f":"SUMIFS(Lançamentos!$G$4:$G$1048576,Lançamentos!$F$4:$F$1048576,Base!$A10,Lançamentos!$D$4:$D$1048576,Base!EH$3,Lançamentos!$E$4:$E$1048576,Base!$EB$2)","v":0},{"$f":"SUMIFS(Lançamentos!$G$4:$G$1048576,Lançamentos!$F$4:$F$1048576,Base!$A10,Lançamentos!$D$4:$D$1048576,Base!EI$3,Lançamentos!$E$4:$E$1048576,Base!$EB$2)","v":0},{"$f":"SUMIFS(Lançamentos!$G$4:$G$1048576,Lançamentos!$F$4:$F$1048576,Base!$A10,Lançamentos!$D$4:$D$1048576,Base!EJ$3,Lançamentos!$E$4:$E$1048576,Base!$EB$2)","v":0},{"$f":"SUMIFS(Lançamentos!$G$4:$G$1048576,Lançamentos!$F$4:$F$1048576,Base!$A10,Lançamentos!$D$4:$D$1048576,Base!EK$3,Lançamentos!$E$4:$E$1048576,Base!$EB$2)","v":0},{"$f":"SUMIFS(Lançamentos!$G$4:$G$1048576,Lançamentos!$F$4:$F$1048576,Base!$A10,Lançamentos!$D$4:$D$1048576,Base!EL$3,Lançamentos!$E$4:$E$1048576,Base!$EB$2)","v":0},{"$f":"SUMIFS(Lançamentos!$G$4:$G$1048576,Lançamentos!$F$4:$F$1048576,Base!$A10,Lançamentos!$D$4:$D$1048576,Base!EM$3,Lançamentos!$E$4:$E$1048576,Base!$EB$2)","v":0},0,{"$f":"SUMIFS(Lançamentos!$G$4:$G$1048576,Lançamentos!$F$4:$F$1048576,Base!$A10,Lançamentos!$D$4:$D$1048576,Base!EO$3,Lançamentos!$E$4:$E$1048576,Base!$EO$2)","v":0},{"$f":"SUMIFS(Lançamentos!$G$4:$G$1048576,Lançamentos!$F$4:$F$1048576,Base!$A10,Lançamentos!$D$4:$D$1048576,Base!EP$3,Lançamentos!$E$4:$E$1048576,Base!$EO$2)","v":0},{"$f":"SUMIFS(Lançamentos!$G$4:$G$1048576,Lançamentos!$F$4:$F$1048576,Base!$A10,Lançamentos!$D$4:$D$1048576,Base!EQ$3,Lançamentos!$E$4:$E$1048576,Base!$EO$2)","v":0},{"$f":"SUMIFS(Lançamentos!$G$4:$G$1048576,Lançamentos!$F$4:$F$1048576,Base!$A10,Lançamentos!$D$4:$D$1048576,Base!ER$3,Lançamentos!$E$4:$E$1048576,Base!$EO$2)","v":0},{"$f":"SUMIFS(Lançamentos!$G$4:$G$1048576,Lançamentos!$F$4:$F$1048576,Base!$A10,Lançamentos!$D$4:$D$1048576,Base!ES$3,Lançamentos!$E$4:$E$1048576,Base!$EO$2)","v":0},{"$f":"SUMIFS(Lançamentos!$G$4:$G$1048576,Lançamentos!$F$4:$F$1048576,Base!$A10,Lançamentos!$D$4:$D$1048576,Base!ET$3,Lançamentos!$E$4:$E$1048576,Base!$EO$2)","v":0},{"$f":"SUMIFS(Lançamentos!$G$4:$G$1048576,Lançamentos!$F$4:$F$1048576,Base!$A10,Lançamentos!$D$4:$D$1048576,Base!EU$3,Lançamentos!$E$4:$E$1048576,Base!$EO$2)","v":0},{"$f":"SUMIFS(Lançamentos!$G$4:$G$1048576,Lançamentos!$F$4:$F$1048576,Base!$A10,Lançamentos!$D$4:$D$1048576,Base!EV$3,Lançamentos!$E$4:$E$1048576,Base!$EO$2)","v":0},{"$f":"SUMIFS(Lançamentos!$G$4:$G$1048576,Lançamentos!$F$4:$F$1048576,Base!$A10,Lançamentos!$D$4:$D$1048576,Base!EW$3,Lançamentos!$E$4:$E$1048576,Base!$EO$2)","v":0},{"$f":"SUMIFS(Lançamentos!$G$4:$G$1048576,Lançamentos!$F$4:$F$1048576,Base!$A10,Lançamentos!$D$4:$D$1048576,Base!EX$3,Lançamentos!$E$4:$E$1048576,Base!$EO$2)","v":0},{"$f":"SUMIFS(Lançamentos!$G$4:$G$1048576,Lançamentos!$F$4:$F$1048576,Base!$A10,Lançamentos!$D$4:$D$1048576,Base!EY$3,Lançamentos!$E$4:$E$1048576,Base!$EO$2)","v":0},{"$f":"SUMIFS(Lançamentos!$G$4:$G$1048576,Lançamentos!$F$4:$F$1048576,Base!$A10,Lançamentos!$D$4:$D$1048576,Base!EZ$3,Lançamentos!$E$4:$E$1048576,Base!$EO$2)","v":0},0,{"$f":"SUMIFS(Lançamentos!$G$4:$G$1048576,Lançamentos!$F$4:$F$1048576,Base!$A10,Lançamentos!$D$4:$D$1048576,Base!FB$3,Lançamentos!$E$4:$E$1048576,Base!$FB$2)","v":0},{"$f":"SUMIFS(Lançamentos!$G$4:$G$1048576,Lançamentos!$F$4:$F$1048576,Base!$A10,Lançamentos!$D$4:$D$1048576,Base!FC$3,Lançamentos!$E$4:$E$1048576,Base!$FB$2)","v":0},{"$f":"SUMIFS(Lançamentos!$G$4:$G$1048576,Lançamentos!$F$4:$F$1048576,Base!$A10,Lançamentos!$D$4:$D$1048576,Base!FD$3,Lançamentos!$E$4:$E$1048576,Base!$FB$2)","v":0},{"$f":"SUMIFS(Lançamentos!$G$4:$G$1048576,Lançamentos!$F$4:$F$1048576,Base!$A10,Lançamentos!$D$4:$D$1048576,Base!FE$3,Lançamentos!$E$4:$E$1048576,Base!$FB$2)","v":0},{"$f":"SUMIFS(Lançamentos!$G$4:$G$1048576,Lançamentos!$F$4:$F$1048576,Base!$A10,Lançamentos!$D$4:$D$1048576,Base!FF$3,Lançamentos!$E$4:$E$1048576,Base!$FB$2)","v":0},{"$f":"SUMIFS(Lançamentos!$G$4:$G$1048576,Lançamentos!$F$4:$F$1048576,Base!$A10,Lançamentos!$D$4:$D$1048576,Base!FG$3,Lançamentos!$E$4:$E$1048576,Base!$FB$2)","v":0},{"$f":"SUMIFS(Lançamentos!$G$4:$G$1048576,Lançamentos!$F$4:$F$1048576,Base!$A10,Lançamentos!$D$4:$D$1048576,Base!FH$3,Lançamentos!$E$4:$E$1048576,Base!$FB$2)","v":0},{"$f":"SUMIFS(Lançamentos!$G$4:$G$1048576,Lançamentos!$F$4:$F$1048576,Base!$A10,Lançamentos!$D$4:$D$1048576,Base!FI$3,Lançamentos!$E$4:$E$1048576,Base!$FB$2)","v":0},{"$f":"SUMIFS(Lançamentos!$G$4:$G$1048576,Lançamentos!$F$4:$F$1048576,Base!$A10,Lançamentos!$D$4:$D$1048576,Base!FJ$3,Lançamentos!$E$4:$E$1048576,Base!$FB$2)","v":0},{"$f":"SUMIFS(Lançamentos!$G$4:$G$1048576,Lançamentos!$F$4:$F$1048576,Base!$A10,Lançamentos!$D$4:$D$1048576,Base!FK$3,Lançamentos!$E$4:$E$1048576,Base!$FB$2)","v":0},{"$f":"SUMIFS(Lançamentos!$G$4:$G$1048576,Lançamentos!$F$4:$F$1048576,Base!$A10,Lançamentos!$D$4:$D$1048576,Base!FL$3,Lançamentos!$E$4:$E$1048576,Base!$FB$2)","v":0},{"$f":"SUMIFS(Lançamentos!$G$4:$G$1048576,Lançamentos!$F$4:$F$1048576,Base!$A10,Lançamentos!$D$4:$D$1048576,Base!FM$3,Lançamentos!$E$4:$E$1048576,Base!$FB$2)","v":0},0,{"$f":"SUMIFS(Lançamentos!$G$4:$G$1048576,Lançamentos!$F$4:$F$1048576,Base!$A10,Lançamentos!$D$4:$D$1048576,Base!FO$3,Lançamentos!$E$4:$E$1048576,Base!$FO$2)","v":0},{"$f":"SUMIFS(Lançamentos!$G$4:$G$1048576,Lançamentos!$F$4:$F$1048576,Base!$A10,Lançamentos!$D$4:$D$1048576,Base!FP$3,Lançamentos!$E$4:$E$1048576,Base!$FO$2)","v":0},{"$f":"SUMIFS(Lançamentos!$G$4:$G$1048576,Lançamentos!$F$4:$F$1048576,Base!$A10,Lançamentos!$D$4:$D$1048576,Base!FQ$3,Lançamentos!$E$4:$E$1048576,Base!$FO$2)","v":0},{"$f":"SUMIFS(Lançamentos!$G$4:$G$1048576,Lançamentos!$F$4:$F$1048576,Base!$A10,Lançamentos!$D$4:$D$1048576,Base!FR$3,Lançamentos!$E$4:$E$1048576,Base!$FO$2)","v":0},{"$f":"SUMIFS(Lançamentos!$G$4:$G$1048576,Lançamentos!$F$4:$F$1048576,Base!$A10,Lançamentos!$D$4:$D$1048576,Base!FS$3,Lançamentos!$E$4:$E$1048576,Base!$FO$2)","v":0},{"$f":"SUMIFS(Lançamentos!$G$4:$G$1048576,Lançamentos!$F$4:$F$1048576,Base!$A10,Lançamentos!$D$4:$D$1048576,Base!FT$3,Lançamentos!$E$4:$E$1048576,Base!$FO$2)","v":0},{"$f":"SUMIFS(Lançamentos!$G$4:$G$1048576,Lançamentos!$F$4:$F$1048576,Base!$A10,Lançamentos!$D$4:$D$1048576,Base!FU$3,Lançamentos!$E$4:$E$1048576,Base!$FO$2)","v":0},{"$f":"SUMIFS(Lançamentos!$G$4:$G$1048576,Lançamentos!$F$4:$F$1048576,Base!$A10,Lançamentos!$D$4:$D$1048576,Base!FV$3,Lançamentos!$E$4:$E$1048576,Base!$FO$2)","v":0},{"$f":"SUMIFS(Lançamentos!$G$4:$G$1048576,Lançamentos!$F$4:$F$1048576,Base!$A10,Lançamentos!$D$4:$D$1048576,Base!FW$3,Lançamentos!$E$4:$E$1048576,Base!$FO$2)","v":0},{"$f":"SUMIFS(Lançamentos!$G$4:$G$1048576,Lançamentos!$F$4:$F$1048576,Base!$A10,Lançamentos!$D$4:$D$1048576,Base!FX$3,Lançamentos!$E$4:$E$1048576,Base!$FO$2)","v":0},{"$f":"SUMIFS(Lançamentos!$G$4:$G$1048576,Lançamentos!$F$4:$F$1048576,Base!$A10,Lançamentos!$D$4:$D$1048576,Base!FY$3,Lançamentos!$E$4:$E$1048576,Base!$FO$2)","v":0},{"$f":"SUMIFS(Lançamentos!$G$4:$G$1048576,Lançamentos!$F$4:$F$1048576,Base!$A10,Lançamentos!$D$4:$D$1048576,Base!FZ$3,Lançamentos!$E$4:$E$1048576,Base!$FO$2)","v":0},0,{"$f":"SUMIFS(Lançamentos!$G$4:$G$1048576,Lançamentos!$F$4:$F$1048576,Base!$A10,Lançamentos!$D$4:$D$1048576,Base!GB$3,Lançamentos!$E$4:$E$1048576,Base!$GB$2)","v":0},{"$f":"SUMIFS(Lançamentos!$G$4:$G$1048576,Lançamentos!$F$4:$F$1048576,Base!$A10,Lançamentos!$D$4:$D$1048576,Base!GC$3,Lançamentos!$E$4:$E$1048576,Base!$GB$2)","v":0},{"$f":"SUMIFS(Lançamentos!$G$4:$G$1048576,Lançamentos!$F$4:$F$1048576,Base!$A10,Lançamentos!$D$4:$D$1048576,Base!GD$3,Lançamentos!$E$4:$E$1048576,Base!$GB$2)","v":0},{"$f":"SUMIFS(Lançamentos!$G$4:$G$1048576,Lançamentos!$F$4:$F$1048576,Base!$A10,Lançamentos!$D$4:$D$1048576,Base!GE$3,Lançamentos!$E$4:$E$1048576,Base!$GB$2)","v":0},{"$f":"SUMIFS(Lançamentos!$G$4:$G$1048576,Lançamentos!$F$4:$F$1048576,Base!$A10,Lançamentos!$D$4:$D$1048576,Base!GF$3,Lançamentos!$E$4:$E$1048576,Base!$GB$2)","v":0},{"$f":"SUMIFS(Lançamentos!$G$4:$G$1048576,Lançamentos!$F$4:$F$1048576,Base!$A10,Lançamentos!$D$4:$D$1048576,Base!GG$3,Lançamentos!$E$4:$E$1048576,Base!$GB$2)","v":0},{"$f":"SUMIFS(Lançamentos!$G$4:$G$1048576,Lançamentos!$F$4:$F$1048576,Base!$A10,Lançamentos!$D$4:$D$1048576,Base!GH$3,Lançamentos!$E$4:$E$1048576,Base!$GB$2)","v":0},{"$f":"SUMIFS(Lançamentos!$G$4:$G$1048576,Lançamentos!$F$4:$F$1048576,Base!$A10,Lançamentos!$D$4:$D$1048576,Base!GI$3,Lançamentos!$E$4:$E$1048576,Base!$GB$2)","v":0},{"$f":"SUMIFS(Lançamentos!$G$4:$G$1048576,Lançamentos!$F$4:$F$1048576,Base!$A10,Lançamentos!$D$4:$D$1048576,Base!GJ$3,Lançamentos!$E$4:$E$1048576,Base!$GB$2)","v":0},{"$f":"SUMIFS(Lançamentos!$G$4:$G$1048576,Lançamentos!$F$4:$F$1048576,Base!$A10,Lançamentos!$D$4:$D$1048576,Base!GK$3,Lançamentos!$E$4:$E$1048576,Base!$GB$2)","v":0},{"$f":"SUMIFS(Lançamentos!$G$4:$G$1048576,Lançamentos!$F$4:$F$1048576,Base!$A10,Lançamentos!$D$4:$D$1048576,Base!GL$3,Lançamentos!$E$4:$E$1048576,Base!$GB$2)","v":0},{"$f":"SUMIFS(Lançamentos!$G$4:$G$1048576,Lançamentos!$F$4:$F$1048576,Base!$A10,Lançamentos!$D$4:$D$1048576,Base!GM$3,Lançamentos!$E$4:$E$1048576,Base!$GB$2)","v":0},0,null,2024]
[{"$f":"(IF(Lançamentos!A8=\"\",\"\",Lançamentos!A8))","v":"Outros Recebimentos 2"},{"$f":"SUMIFS(Lançamentos!$G$4:$G$1048576,Lançamentos!$F$4:$F$1048576,Base!$A11,Lançamentos!$D$4:$D$1048576,Base!B$3,Lançamentos!$E$4:$E$1048576,Base!$B$2)","v":0},{"$f":"SUMIFS(Lançamentos!$G$4:$G$1048576,Lançamentos!$F$4:$F$1048576,Base!$A11,Lançamentos!$D$4:$D$1048576,Base!C$3,Lançamentos!$E$4:$E$1048576,Base!$B$2)","v":0},{"$f":"SUMIFS(Lançamentos!$G$4:$G$1048576,Lançamentos!$F$4:$F$1048576,Base!$A11,Lançamentos!$D$4:$D$1048576,Base!D$3,Lançamentos!$E$4:$E$1048576,Base!$B$2)","v":0},{"$f":"SUMIFS(Lançamentos!$G$4:$G$1048576,Lançamentos!$F$4:$F$1048576,Base!$A11,Lançamentos!$D$4:$D$1048576,Base!E$3,Lançamentos!$E$4:$E$1048576,Base!$B$2)","v":0},{"$f":"SUMIFS(Lançamentos!$G$4:$G$1048576,Lançamentos!$F$4:$F$1048576,Base!$A11,Lançamentos!$D$4:$D$1048576,Base!F$3,Lançamentos!$E$4:$E$1048576,Base!$B$2)","v":0},{"$f":"SUMIFS(Lançamentos!$G$4:$G$1048576,Lançamentos!$F$4:$F$1048576,Base!$A11,Lançamentos!$D$4:$D$1048576,Base!G$3,Lançamentos!$E$4:$E$1048576,Base!$B$2)","v":0},{"$f":"SUMIFS(Lançamentos!$G$4:$G$1048576,Lançamentos!$F$4:$F$1048576,Base!$A11,Lançamentos!$D$4:$D$1048576,Base!H$3,Lançamentos!$E$4:$E$1048576,Base!$B$2)","v":0},{"$f":"SUMIFS(Lançamentos!$G$4:$G$1048576,Lançamentos!$F$4:$F$1048576,Base!$A11,Lançamentos!$D$4:$D$1048576,Base!I$3,Lançamentos!$E$4:$E$1048576,Base!$B$2)","v":0},{"$f":"SUMIFS(Lançamentos!$G$4:$G$1048576,Lançamentos!$F$4:$F$1048576,Base!$A11,Lançamentos!$D$4:$D$1048576,Base!J$3,Lançamentos!$E$4:$E$1048576,Base!$B$2)","v":0},{"$f":"SUMIFS(Lançamentos!$G$4:$G$1048576,Lançamentos!$F$4:$F$1048576,Base!$A11,Lançamentos!$D$4:$D$1048576,Base!K$3,Lançamentos!$E$4:$E$1048576,Base!$B$2)","v":0},{"$f":"SUMIFS(Lançamentos!$G$4:$G$1048576,Lançamentos!$F$4:$F$1048576,Base!$A11,Lançamentos!$D$4:$D$1048576,Base!L$3,Lançamentos!$E$4:$E$1048576,Base!$B$2)","v":0},{"$f":"SUMIFS(Lançamentos!$G$4:$G$1048576,Lançamentos!$F$4:$F$1048576,Base!$A11,Lançamentos!$D$4:$D$1048576,Base!M$3,Lançamentos!$E$4:$E$1048576,Base!$B$2)","v":0},{"$f":"SUM(B11:M11)","v":0},{"$f":"SUMIFS(Lançamentos!$G$4:$G$1048576,Lançamentos!$F$4:$F$1048576,Base!$A11,Lançamentos!$D$4:$D$1048576,Base!O$3,Lançamentos!$E$4:$E$1048576,Base!$O$2)","v":0},{"$f":"SUMIFS(Lançamentos!$G$4:$G$1048576,Lançamentos!$F$4:$F$1048576,Base!$A11,Lançamentos!$D$4:$D$1048576,Base!P$3,Lançamentos!$E$4:$E$1048576,Base!$O$2)","v":0},{"$f":"SUMIFS(Lançamentos!$G$4:$G$1048576,Lançamentos!$F$4:$F$1048576,Base!$A11,Lançamentos!$D$4:$D$1048576,Base!Q$3,Lançamentos!$E$4:$E$1048576,Base!$O$2)","v":0},{"$f":"SUMIFS(Lançamentos!$G$4:$G$1048576,Lançamentos!$F$4:$F$1048576,Base!$A11,Lançamentos!$D$4:$D$1048576,Base!R$3,Lançamentos!$E$4:$E$1048576,Base!$O$2)","v":0},{"$f":"SUMIFS(Lançamentos!$G$4:$G$1048576,Lançamentos!$F$4:$F$1048576,Base!$A11,Lançamentos!$D$4:$D$1048576,Base!S$3,Lançamentos!$E$4:$E$1048576,Base!$O$2)","v":0},{"$f":"SUMIFS(Lançamentos!$G$4:$G$1048576,Lançamentos!$F$4:$F$1048576,Base!$A11,Lançamentos!$D$4:$D$1048576,Base!T$3,Lançamentos!$E$4:$E$1048576,Base!$O$2)","v":0},{"$f":"SUMIFS(Lançamentos!$G$4:$G$1048576,Lançamentos!$F$4:$F$1048576,Base!$A11,Lançamentos!$D$4:$D$1048576,Base!U$3,Lançamentos!$E$4:$E$1048576,Base!$O$2)","v":0},{"$f":"SUMIFS(Lançamentos!$G$4:$G$1048576,Lançamentos!$F$4:$F$1048576,Base!$A11,Lançamentos!$D$4:$D$1048576,Base!V$3,Lançamentos!$E$4:$E$1048576,Base!$O$2)","v":0},{"$f":"SUMIFS(Lançamentos!$G$4:$G$1048576,Lançamentos!$F$4:$F$1048576,Base!$A11,Lançamentos!$D$4:$D$1048576,Base!W$3,Lançamentos!$E$4:$E$1048576,Base!$O$2)","v":0},{"$f":"SUMIFS(Lançamentos!$G$4:$G$1048576,Lançamentos!$F$4:$F$1048576,Base!$A11,Lançamentos!$D$4:$D$1048576,Base!X$3,Lançamentos!$E$4:$E$1048576,Base!$O$2)","v":0},{"$f":"SUMIFS(Lançamentos!$G$4:$G$1048576,Lançamentos!$F$4:$F$1048576,Base!$A11,Lançamentos!$D$4:$D$1048576,Base!Y$3,Lançamentos!$E$4:$E$1048576,Base!$O$2)","v":0},{"$f":"SUMIFS(Lançamentos!$G$4:$G$1048576,Lançamentos!$F$4:$F$1048576,Base!$A11,Lançamentos!$D$4:$D$1048576,Base!Z$3,Lançamentos!$E$4:$E$1048576,Base!$O$2)","v":0},{"$f":"SUM(O11:Z11)","v":0},{"$f":"SUMIFS(Lançamentos!$G$4:$G$1048576,Lançamentos!$F$4:$F$1048576,Base!$A11,Lançamentos!$D$4:$D$1048576,Base!AB$3,Lançamentos!$E$4:$E$1048576,Base!$AB$2)","v":0},{"$f":"SUMIFS(Lançamentos!$G$4:$G$1048576,Lançamentos!$F$4:$F$1048576,Base!$A11,Lançamentos!$D$4:$D$1048576,Base!AC$3,Lançamentos!$E$4:$E$1048576,Base!$AB$2)","v":0},{"$f":"SUMIFS(Lançamentos!$G$4:$G$1048576,Lançamentos!$F$4:$F$1048576,Base!$A11,Lançamentos!$D$4:$D$1048576,Base!AD$3,Lançamentos!$E$4:$E$1048576,Base!$AB$2)","v":0},{"$f":"SUMIFS(Lançamentos!$G$4:$G$1048576,Lançamentos!$F$4:$F$1048576,Base!$A11,Lançamentos!$D$4:$D$1048576,Base!AE$3,Lançamentos!$E$4:$E$1048576,Base!$AB$2)","v":0},{"$f":"SUMIFS(Lançamentos!$G$4:$G$1048576,Lançamentos!$F$4:$F$1048576,Base!$A11,Lançamentos!$D$4:$D$1048576,Base!AF$3,Lançamentos!$E$4:$E$1048576,Base!$AB$2)","v":0},{"$f":"SUMIFS(Lançamentos!$G$4:$G$1048576,Lançamentos!$F$4:$F$1048576,Base!$A11,Lançamentos!$D$4:$D$1048576,Base!AG$3,Lançamentos!$E$4:$E$1048576,Base!$AB$2)","v":0},{"$f":"SUMIFS(Lançamentos!$G$4:$G$1048576,Lançamentos!$F$4:$F$1048576,Base!$A11,Lançamentos!$D$4:$D$1048576,Base!AH$3,Lançamentos!$E$4:$E$1048576,Base!$AB$2)","v":0},{"$f":"SUMIFS(Lançamentos!$G$4:$G$1048576,Lançamentos!$F$4:$F$1048576,Base!$A11,Lançamentos!$D$4:$D$1048576,Base!AI$3,Lançamentos!$E$4:$E$1048576,Base!$AB$2)","v":0},{"$f":"SUMIFS(Lançamentos!$G$4:$G$1048576,Lançamentos!$F$4:$F$1048576,Base!$A11,Lançamentos!$D$4:$D$1048576,Base!AJ$3,Lançamentos!$E$4:$E$1048576,Base!$AB$2)","v":0},{"$f":"SUMIFS(Lançamentos!$G$4:$G$1048576,Lançamentos!$F$4:$F$1048576,Base!$A11,Lançamentos!$D$4:$D$1048576,Base!AK$3,Lançamentos!$E$4:$E$1048576,Base!$AB$2)","v":0},{"$f":"SUMIFS(Lançamentos!$G$4:$G$1048576,Lançamentos!$F$4:$F$1048576,Base!$A11,Lançamentos!$D$4:$D$1048576,Base!AL$3,Lançamentos!$E$4:$E$1048576,Base!$AB$2)","v":0},{"$f":"SUMIFS(Lançamentos!$G$4:$G$1048576,Lançamentos!$F$4:$F$1048576,Base!$A11,Lançamentos!$D$4:$D$1048576,Base!AM$3,Lançamentos!$E$4:$E$1048576,Base!$AB$2)","v":0},{"$f":"SUM(AB11:AM11)","v":0},{"$f":"SUMIFS(Lançamentos!$G$4:$G$1048576,Lançamentos!$F$4:$F$1048576,Base!$A11,Lançamentos!$D$4:$D$1048576,Base!AO$3,Lançamentos!$E$4:$E$1048576,Base!$AO$2)","v":0},{"$f":"SUMIFS(Lançamentos!$G$4:$G$1048576,Lançamentos!$F$4:$F$1048576,Base!$A11,Lançamentos!$D$4:$D$1048576,Base!AP$3,Lançamentos!$E$4:$E$1048576,Base!$AO$2)","v":0},{"$f":"SUMIFS(Lançamentos!$G$4:$G$1048576,Lançamentos!$F$4:$F$1048576,Base!$A11,Lançamentos!$D$4:$D$1048576,Base!AQ$3,Lançamentos!$E$4:$E$1048576,Base!$AO$2)","v":0},{"$f":"SUMIFS(Lançamentos!$G$4:$G$1048576,Lançamentos!$F$4:$F$1048576,Base!$A11,Lançamentos!$D$4:$D$1048576,Base!AR$3,Lançamentos!$E$4:$E$1048576,Base!$AO$2)","v":0},{"$f":"SUMIFS(Lançamentos!$G$4:$G$1048576,Lançamentos!$F$4:$F$1048576,Base!$A11,Lançamentos!$D$4:$D$1048576,Base!AS$3,Lançamentos!$E$4:$E$1048576,Base!$AO$2)","v":0},{"$f":"SUMIFS(Lançamentos!$G$4:$G$1048576,Lançamentos!$F$4:$F$1048576,Base!$A11,Lançamentos!$D$4:$D$1048576,Base!AT$3,Lançamentos!$E$4:$E$1048576,Base!$AO$2)","v":0},{"$f":"SUMIFS(Lançamentos!$G$4:$G$1048576,Lançamentos!$F$4:$F$1048576,Base!$A11,Lançamentos!$D$4:$D$1048576,Base!AU$3,Lançamentos!$E$4:$E$1048576,Base!$AO$2)","v":0},{"$f":"SUMIFS(Lançamentos!$G$4:$G$1048576,Lançamentos!$F$4:$F$1048576,Base!$A11,Lançamentos!$D$4:$D$1048576,Base!AV$3,Lançamentos!$E$4:$E$1048576,Base!$AO$2)","v":0},{"$f":"SUMIFS(Lançamentos!$G$4:$G$1048576,Lançamentos!$F$4:$F$1048576,Base!$A11,Lançamentos!$D$4:$D$1048576,Base!AW$3,Lançamentos!$E$4:$E$1048576,Base!$AO$2)","v":0},{"$f":"SUMIFS(Lançamentos!$G$4:$G$1048576,Lançamentos!$F$4:$F$1048576,Base!$A11,Lançamentos!$D$4:$D$1048576,Base!AX$3,Lançamentos!$E$4:$E$1048576,Base!$AO$2)","v":0},{"$f":"SUMIFS(Lançamentos!$G$4:$G$1048576,Lançamentos!$F$4:$F$1048576,Base!$A11,Lançamentos!$D$4:$D$1048576,Base!AY$3,Lançamentos!$E$4:$E$1048576,Base!$AO$2)","v":0},{"$f":"SUMIFS(Lançamentos!$G$4:$G$1048576,Lançamentos!$F$4:$F$1048576,Base!$A11,Lançamentos!$D$4:$D$1048576,Base!AZ$3,Lançamentos!$E$4:$E$1048576,Base!$AO$2)","v":0},{"$f":"SUM(AO11:AZ11)","v":0},{"$f":"SUMIFS(Lançamentos!$G$4:$G$1048576,Lançamentos!$F$4:$F$1048576,Base!$A11,Lançamentos!$D$4:$D$1048576,Base!BB$3,Lançamentos!$E$4:$E$1048576,Base!$BB$2)","v":0},{"$f":"SUMIFS(Lançamentos!$G$4:$G$1048576,Lançamentos!$F$4:$F$1048576,Base!$A11,Lançamentos!$D$4:$D$1048576,Base!BC$3,Lançamentos!$E$4:$E$1048576,Base!$BB$2)","v":0},{"$f":"SUMIFS(Lançamentos!$G$4:$G$1048576,Lançamentos!$F$4:$F$1048576,Base!$A11,Lançamentos!$D$4:$D$1048576,Base!BD$3,Lançamentos!$E$4:$E$1048576,Base!$BB$2)","v":0},{"$f":"SUMIFS(Lançamentos!$G$4:$G$1048576,Lançamentos!$F$4:$F$1048576,Base!$A11,Lançamentos!$D$4:$D$1048576,Base!BE$3,Lançamentos!$E$4:$E$1048576,Base!$BB$2)","v":0},{"$f":"SUMIFS(Lançamentos!$G$4:$G$1048576,Lançamentos!$F$4:$F$1048576,Base!$A11,Lançamentos!$D$4:$D$1048576,Base!BF$3,Lançamentos!$E$4:$E$1048576,Base!$BB$2)","v":0},{"$f":"SUMIFS(Lançamentos!$G$4:$G$1048576,Lançamentos!$F$4:$F$1048576,Base!$A11,Lançamentos!$D$4:$D$1048576,Base!BG$3,Lançamentos!$E$4:$E$1048576,Base!$BB$2)","v":0},{"$f":"SUMIFS(Lançamentos!$G$4:$G$1048576,Lançamentos!$F$4:$F$1048576,Base!$A11,Lançamentos!$D$4:$D$1048576,Base!BH$3,Lançamentos!$E$4:$E$1048576,Base!$BB$2)","v":0},{"$f":"SUMIFS(Lançamentos!$G$4:$G$1048576,Lançamentos!$F$4:$F$1048576,Base!$A11,Lançamentos!$D$4:$D$1048576,Base!BI$3,Lançamentos!$E$4:$E$1048576,Base!$BB$2)","v":0},{"$f":"SUMIFS(Lançamentos!$G$4:$G$1048576,Lançamentos!$F$4:$F$1048576,Base!$A11,Lançamentos!$D$4:$D$1048576,Base!BJ$3,Lançamentos!$E$4:$E$1048576,Base!$BB$2)","v":0},{"$f":"SUMIFS(Lançamentos!$G$4:$G$1048576,Lançamentos!$F$4:$F$1048576,Base!$A11,Lançamentos!$D$4:$D$1048576,Base!BK$3,Lançamentos!$E$4:$E$1048576,Base!$BB$2)","v":0},{"$f":"SUMIFS(Lançamentos!$G$4:$G$1048576,Lançamentos!$F$4:$F$1048576,Base!$A11,Lançamentos!$D$4:$D$1048576,Base!BL$3,Lançamentos!$E$4:$E$1048576,Base!$BB$2)","v":0},{"$f":"SUMIFS(Lançamentos!$G$4:$G$1048576,Lançamentos!$F$4:$F$1048576,Base!$A11,Lançamentos!$D$4:$D$1048576,Base!BM$3,Lançamentos!$E$4:$E$1048576,Base!$BB$2)","v":0},{"$f":"SUM(BB11:BM11)","v":0},{"$f":"SUMIFS(Lançamentos!$G$4:$G$1048576,Lançamentos!$F$4:$F$1048576,Base!$A11,Lançamentos!$D$4:$D$1048576,Base!BO$3,Lançamentos!$E$4:$E$1048576,Base!$BO$2)","v":0},{"$f":"SUMIFS(Lançamentos!$G$4:$G$1048576,Lançamentos!$F$4:$F$1048576,Base!$A11,Lançamentos!$D$4:$D$1048576,Base!BP$3,Lançamentos!$E$4:$E$1048576,Base!$BO$2)","v":0},{"$f":"SUMIFS(Lançamentos!$G$4:$G$1048576,Lançamentos!$F$4:$F$1048576,Base!$A11,Lançamentos!$D$4:$D$1048576,Base!BQ$3,Lançamentos!$E$4:$E$1048576,Base!$BO$2)","v":0},{"$f":"SUMIFS(Lançamentos!$G$4:$G$1048576,Lançamentos!$F$4:$F$1048576,Base!$A11,Lançamentos!$D$4:$D$1048576,Base!BR$3,Lançamentos!$E$4:$E$1048576,Base!$BO$2)","v":0},{"$f":"SUMIFS(Lançamentos!$G$4:$G$1048576,Lançamentos!$F$4:$F$1048576,Base!$A11,Lançamentos!$D$4:$D$1048576,Base!BS$3,Lançamentos!$E$4:$E$1048576,Base!$BO$2)","v":0},{"$f":"SUMIFS(Lançamentos!$G$4:$G$1048576,Lançamentos!$F$4:$F$1048576,Base!$A11,Lançamentos!$D$4:$D$1048576,Base!BT$3,Lançamentos!$E$4:$E$1048576,Base!$BO$2)","v":0},{"$f":"SUMIFS(Lançamentos!$G$4:$G$1048576,Lançamentos!$F$4:$F$1048576,Base!$A11,Lançamentos!$D$4:$D$1048576,Base!BU$3,Lançamentos!$E$4:$E$1048576,Base!$BO$2)","v":0},{"$f":"SUMIFS(Lançamentos!$G$4:$G$1048576,Lançamentos!$F$4:$F$1048576,Base!$A11,Lançamentos!$D$4:$D$1048576,Base!BV$3,Lançamentos!$E$4:$E$1048576,Base!$BO$2)","v":0},{"$f":"SUMIFS(Lançamentos!$G$4:$G$1048576,Lançamentos!$F$4:$F$1048576,Base!$A11,Lançamentos!$D$4:$D$1048576,Base!BW$3,Lançamentos!$E$4:$E$1048576,Base!$BO$2)","v":0},{"$f":"SUMIFS(Lançamentos!$G$4:$G$1048576,Lançamentos!$F$4:$F$1048576,Base!$A11,Lançamentos!$D$4:$D$1048576,Base!BX$3,Lançamentos!$E$4:$E$1048576,Base!$BO$2)","v":0},{"$f":"SUMIFS(Lançamentos!$G$4:$G$1048576,Lançamentos!$F$4:$F$1048576,Base!$A11,Lançamentos!$D$4:$D$1048576,Base!BY$3,Lançamentos!$E$4:$E$1048576,Base!$BO$2)","v":0},{"$f":"SUMIFS(Lançamentos!$G$4:$G$1048576,Lançamentos!$F$4:$F$1048576,Base!$A11,Lançamentos!$D$4:$D$1048576,Base!BZ$3,Lançamentos!$E$4:$E$1048576,Base!$BO$2)","v":0},{"$f":"SUM(BO11:BZ11)","v":0},{"$f":"SUMIFS(Lançamentos!$G$4:$G$1048576,Lançamentos!$F$4:$F$1048576,Base!$A11,Lançamentos!$D$4:$D$1048576,Base!CB$3,Lançamentos!$E$4:$E$1048576,Base!$CB$2)","v":0},{"$f":"SUMIFS(Lançamentos!$G$4:$G$1048576,Lançamentos!$F$4:$F$1048576,Base!$A11,Lançamentos!$D$4:$D$1048576,Base!CC$3,Lançamentos!$E$4:$E$1048576,Base!$CB$2)","v":0},{"$f":"SUMIFS(Lançamentos!$G$4:$G$1048576,Lançamentos!$F$4:$F$1048576,Base!$A11,Lançamentos!$D$4:$D$1048576,Base!CD$3,Lançamentos!$E$4:$E$1048576,Base!$CB$2)","v":0},{"$f":"SUMIFS(Lançamentos!$G$4:$G$1048576,Lançamentos!$F$4:$F$1048576,Base!$A11,Lançamentos!$D$4:$D$1048576,Base!CE$3,Lançamentos!$E$4:$E$1048576,Base!$CB$2)","v":0},{"$f":"SUMIFS(Lançamentos!$G$4:$G$1048576,Lançamentos!$F$4:$F$1048576,Base!$A11,Lançamentos!$D$4:$D$1048576,Base!CF$3,Lançamentos!$E$4:$E$1048576,Base!$CB$2)","v":0},{"$f":"SUMIFS(Lançamentos!$G$4:$G$1048576,Lançamentos!$F$4:$F$1048576,Base!$A11,Lançamentos!$D$4:$D$1048576,Base!CG$3,Lançamentos!$E$4:$E$1048576,Base!$CB$2)","v":0},{"$f":"SUMIFS(Lançamentos!$G$4:$G$1048576,Lançamentos!$F$4:$F$1048576,Base!$A11,Lançamentos!$D$4:$D$1048576,Base!CH$3,Lançamentos!$E$4:$E$1048576,Base!$CB$2)","v":0},{"$f":"SUMIFS(Lançamentos!$G$4:$G$1048576,Lançamentos!$F$4:$F$1048576,Base!$A11,Lançamentos!$D$4:$D$1048576,Base!CI$3,Lançamentos!$E$4:$E$1048576,Base!$CB$2)","v":0},{"$f":"SUMIFS(Lançamentos!$G$4:$G$1048576,Lançamentos!$F$4:$F$1048576,Base!$A11,Lançamentos!$D$4:$D$1048576,Base!CJ$3,Lançamentos!$E$4:$E$1048576,Base!$CB$2)","v":0},{"$f":"SUMIFS(Lançamentos!$G$4:$G$1048576,Lançamentos!$F$4:$F$1048576,Base!$A11,Lançamentos!$D$4:$D$1048576,Base!CK$3,Lançamentos!$E$4:$E$1048576,Base!$CB$2)","v":0},{"$f":"SUMIFS(Lançamentos!$G$4:$G$1048576,Lançamentos!$F$4:$F$1048576,Base!$A11,Lançamentos!$D$4:$D$1048576,Base!CL$3,Lançamentos!$E$4:$E$1048576,Base!$CB$2)","v":0},{"$f":"SUMIFS(Lançamentos!$G$4:$G$1048576,Lançamentos!$F$4:$F$1048576,Base!$A11,Lançamentos!$D$4:$D$1048576,Base!CM$3,Lançamentos!$E$4:$E$1048576,Base!$CB$2)","v":0},{"$f":"SUM(CB11:CM11)","v":0},{"$f":"SUMIFS(Lançamentos!$G$4:$G$1048576,Lançamentos!$F$4:$F$1048576,Base!$A11,Lançamentos!$D$4:$D$1048576,Base!CO$3,Lançamentos!$E$4:$E$1048576,Base!$CO$2)","v":0},{"$f":"SUMIFS(Lançamentos!$G$4:$G$1048576,Lançamentos!$F$4:$F$1048576,Base!$A11,Lançamentos!$D$4:$D$1048576,Base!CP$3,Lançamentos!$E$4:$E$1048576,Base!$CO$2)","v":0},{"$f":"SUMIFS(Lançamentos!$G$4:$G$1048576,Lançamentos!$F$4:$F$1048576,Base!$A11,Lançamentos!$D$4:$D$1048576,Base!CQ$3,Lançamentos!$E$4:$E$1048576,Base!$CO$2)","v":0},{"$f":"SUMIFS(Lançamentos!$G$4:$G$1048576,Lançamentos!$F$4:$F$1048576,Base!$A11,Lançamentos!$D$4:$D$1048576,Base!CR$3,Lançamentos!$E$4:$E$1048576,Base!$CO$2)","v":0},{"$f":"SUMIFS(Lançamentos!$G$4:$G$1048576,Lançamentos!$F$4:$F$1048576,Base!$A11,Lançamentos!$D$4:$D$1048576,Base!CS$3,Lançamentos!$E$4:$E$1048576,Base!$CO$2)","v":0},{"$f":"SUMIFS(Lançamentos!$G$4:$G$1048576,Lançamentos!$F$4:$F$1048576,Base!$A11,Lançamentos!$D$4:$D$1048576,Base!CT$3,Lançamentos!$E$4:$E$1048576,Base!$CO$2)","v":0},{"$f":"SUMIFS(Lançamentos!$G$4:$G$1048576,Lançamentos!$F$4:$F$1048576,Base!$A11,Lançamentos!$D$4:$D$1048576,Base!CU$3,Lançamentos!$E$4:$E$1048576,Base!$CO$2)","v":0},{"$f":"SUMIFS(Lançamentos!$G$4:$G$1048576,Lançamentos!$F$4:$F$1048576,Base!$A11,Lançamentos!$D$4:$D$1048576,Base!CV$3,Lançamentos!$E$4:$E$1048576,Base!$CO$2)","v":0},{"$f":"SUMIFS(Lançamentos!$G$4:$G$1048576,Lançamentos!$F$4:$F$1048576,Base!$A11,Lançamentos!$D$4:$D$1048576,Base!CW$3,Lançamentos!$E$4:$E$1048576,Base!$CO$2)","v":0},{"$f":"SUMIFS(Lançamentos!$G$4:$G$1048576,Lançamentos!$F$4:$F$1048576,Base!$A11,Lançamentos!$D$4:$D$1048576,Base!CX$3,Lançamentos!$E$4:$E$1048576,Base!$CO$2)","v":0},{"$f":"SUMIFS(Lançamentos!$G$4:$G$1048576,Lançamentos!$F$4:$F$1048576,Base!$A11,Lançamentos!$D$4:$D$1048576,Base!CY$3,Lançamentos!$E$4:$E$1048576,Base!$CO$2)","v":0},{"$f":"SUMIFS(Lançamentos!$G$4:$G$1048576,Lançamentos!$F$4:$F$1048576,Base!$A11,Lançamentos!$D$4:$D$1048576,Base!CZ$3,Lançamentos!$E$4:$E$1048576,Base!$CO$2)","v":0},{"$f":"SUM(CO11:CZ11)","v":0},{"$f":"SUMIFS(Lançamentos!$G$4:$G$1048576,Lançamentos!$F$4:$F$1048576,Base!$A11,Lançamentos!$D$4:$D$1048576,Base!DB$3,Lançamentos!$E$4:$E$1048576,Base!$DB$2)","v":0},{"$f":"SUMIFS(Lançamentos!$G$4:$G$1048576,Lançamentos!$F$4:$F$1048576,Base!$A11,Lançamentos!$D$4:$D$1048576,Base!DC$3,Lançamentos!$E$4:$E$1048576,Base!$DB$2)","v":0},{"$f":"SUMIFS(Lançamentos!$G$4:$G$1048576,Lançamentos!$F$4:$F$1048576,Base!$A11,Lançamentos!$D$4:$D$1048576,Base!DD$3,Lançamentos!$E$4:$E$1048576,Base!$DB$2)","v":0},{"$f":"SUMIFS(Lançamentos!$G$4:$G$1048576,Lançamentos!$F$4:$F$1048576,Base!$A11,Lançamentos!$D$4:$D$1048576,Base!DE$3,Lançamentos!$E$4:$E$1048576,Base!$DB$2)","v":0},{"$f":"SUMIFS(Lançamentos!$G$4:$G$1048576,Lançamentos!$F$4:$F$1048576,Base!$A11,Lançamentos!$D$4:$D$1048576,Base!DF$3,Lançamentos!$E$4:$E$1048576,Base!$DB$2)","v":0},{"$f":"SUMIFS(Lançamentos!$G$4:$G$1048576,Lançamentos!$F$4:$F$1048576,Base!$A11,Lançamentos!$D$4:$D$1048576,Base!DG$3,Lançamentos!$E$4:$E$1048576,Base!$DB$2)","v":0},{"$f":"SUMIFS(Lançamentos!$G$4:$G$1048576,Lançamentos!$F$4:$F$1048576,Base!$A11,Lançamentos!$D$4:$D$1048576,Base!DH$3,Lançamentos!$E$4:$E$1048576,Base!$DB$2)","v":0},{"$f":"SUMIFS(Lançamentos!$G$4:$G$1048576,Lançamentos!$F$4:$F$1048576,Base!$A11,Lançamentos!$D$4:$D$1048576,Base!DI$3,Lançamentos!$E$4:$E$1048576,Base!$DB$2)","v":0},{"$f":"SUMIFS(Lançamentos!$G$4:$G$1048576,Lançamentos!$F$4:$F$1048576,Base!$A11,Lançamentos!$D$4:$D$1048576,Base!DJ$3,Lançamentos!$E$4:$E$1048576,Base!$DB$2)","v":0},{"$f":"SUMIFS(Lançamentos!$G$4:$G$1048576,Lançamentos!$F$4:$F$1048576,Base!$A11,Lançamentos!$D$4:$D$1048576,Base!DK$3,Lançamentos!$E$4:$E$1048576,Base!$DB$2)","v":0},{"$f":"SUMIFS(Lançamentos!$G$4:$G$1048576,Lançamentos!$F$4:$F$1048576,Base!$A11,Lançamentos!$D$4:$D$1048576,Base!DL$3,Lançamentos!$E$4:$E$1048576,Base!$DB$2)","v":0},{"$f":"SUMIFS(Lançamentos!$G$4:$G$1048576,Lançamentos!$F$4:$F$1048576,Base!$A11,Lançamentos!$D$4:$D$1048576,Base!DM$3,Lançamentos!$E$4:$E$1048576,Base!$DB$2)","v":0},{"$f":"SUM(DB11:DM11)","v":0},{"$f":"SUMIFS(Lançamentos!$G$4:$G$1048576,Lançamentos!$F$4:$F$1048576,Base!$A11,Lançamentos!$D$4:$D$1048576,Base!DO$3,Lançamentos!$E$4:$E$1048576,Base!$DO$2)","v":0},{"$f":"SUMIFS(Lançamentos!$G$4:$G$1048576,Lançamentos!$F$4:$F$1048576,Base!$A11,Lançamentos!$D$4:$D$1048576,Base!DP$3,Lançamentos!$E$4:$E$1048576,Base!$DO$2)","v":0},{"$f":"SUMIFS(Lançamentos!$G$4:$G$1048576,Lançamentos!$F$4:$F$1048576,Base!$A11,Lançamentos!$D$4:$D$1048576,Base!DQ$3,Lançamentos!$E$4:$E$1048576,Base!$DO$2)","v":0},{"$f":"SUMIFS(Lançamentos!$G$4:$G$1048576,Lançamentos!$F$4:$F$1048576,Base!$A11,Lançamentos!$D$4:$D$1048576,Base!DR$3,Lançamentos!$E$4:$E$1048576,Base!$DO$2)","v":0},{"$f":"SUMIFS(Lançamentos!$G$4:$G$1048576,Lançamentos!$F$4:$F$1048576,Base!$A11,Lançamentos!$D$4:$D$1048576,Base!DS$3,Lançamentos!$E$4:$E$1048576,Base!$DO$2)","v":0},{"$f":"SUMIFS(Lançamentos!$G$4:$G$1048576,Lançamentos!$F$4:$F$1048576,Base!$A11,Lançamentos!$D$4:$D$1048576,Base!DT$3,Lançamentos!$E$4:$E$1048576,Base!$DO$2)","v":0},{"$f":"SUMIFS(Lançamentos!$G$4:$G$1048576,Lançamentos!$F$4:$F$1048576,Base!$A11,Lançamentos!$D$4:$D$1048576,Base!DU$3,Lançamentos!$E$4:$E$1048576,Base!$DO$2)","v":0},{"$f":"SUMIFS(Lançamentos!$G$4:$G$1048576,Lançamentos!$F$4:$F$1048576,Base!$A11,Lançamentos!$D$4:$D$1048576,Base!DV$3,Lançamentos!$E$4:$E$1048576,Base!$DO$2)","v":0},{"$f":"SUMIFS(Lançamentos!$G$4:$G$1048576,Lançamentos!$F$4:$F$1048576,Base!$A11,Lançamentos!$D$4:$D$1048576,Base!DW$3,Lançamentos!$E$4:$E$1048576,Base!$DO$2)","v":0},{"$f":"SUMIFS(Lançamentos!$G$4:$G$1048576,Lançamentos!$F$4:$F$1048576,Base!$A11,Lançamentos!$D$4:$D$1048576,Base!DX$3,Lançamentos!$E$4:$E$1048576,Base!$DO$2)","v":0},{"$f":"SUMIFS(Lançamentos!$G$4:$G$1048576,Lançamentos!$F$4:$F$1048576,Base!$A11,Lançamentos!$D$4:$D$1048576,Base!DY$3,Lançamentos!$E$4:$E$1048576,Base!$DO$2)","v":0},{"$f":"SUMIFS(Lançamentos!$G$4:$G$1048576,Lançamentos!$F$4:$F$1048576,Base!$A11,Lançamentos!$D$4:$D$1048576,Base!DZ$3,Lançamentos!$E$4:$E$1048576,Base!$DO$2)","v":0},{"$f":"SUM(DO11:DZ11)","v":0},{"$f":"SUMIFS(Lançamentos!$G$4:$G$1048576,Lançamentos!$F$4:$F$1048576,Base!$A11,Lançamentos!$D$4:$D$1048576,Base!EB$3,Lançamentos!$E$4:$E$1048576,Base!$EB$2)","v":0},{"$f":"SUMIFS(Lançamentos!$G$4:$G$1048576,Lançamentos!$F$4:$F$1048576,Base!$A11,Lançamentos!$D$4:$D$1048576,Base!EC$3,Lançamentos!$E$4:$E$1048576,Base!$EB$2)","v":0},{"$f":"SUMIFS(Lançamentos!$G$4:$G$1048576,Lançamentos!$F$4:$F$1048576,Base!$A11,Lançamentos!$D$4:$D$1048576,Base!ED$3,Lançamentos!$E$4:$E$1048576,Base!$EB$2)","v":0},{"$f":"SUMIFS(Lançamentos!$G$4:$G$1048576,Lançamentos!$F$4:$F$1048576,Base!$A11,Lançamentos!$D$4:$D$1048576,Base!EE$3,Lançamentos!$E$4:$E$1048576,Base!$EB$2)","v":0},{"$f":"SUMIFS(Lançamentos!$G$4:$G$1048576,Lançamentos!$F$4:$F$1048576,Base!$A11,Lançamentos!$D$4:$D$1048576,Base!EF$3,Lançamentos!$E$4:$E$1048576,Base!$EB$2)","v":0},{"$f":"SUMIFS(Lançamentos!$G$4:$G$1048576,Lançamentos!$F$4:$F$1048576,Base!$A11,Lançamentos!$D$4:$D$1048576,Base!EG$3,Lançamentos!$E$4:$E$1048576,Base!$EB$2)","v":0},{"$f":"SUMIFS(Lançamentos!$G$4:$G$1048576,Lançamentos!$F$4:$F$1048576,Base!$A11,Lançamentos!$D$4:$D$1048576,Base!EH$3,Lançamentos!$E$4:$E$1048576,Base!$EB$2)","v":0},{"$f":"SUMIFS(Lançamentos!$G$4:$G$1048576,Lançamentos!$F$4:$F$1048576,Base!$A11,Lançamentos!$D$4:$D$1048576,Base!EI$3,Lançamentos!$E$4:$E$1048576,Base!$EB$2)","v":0},{"$f":"SUMIFS(Lançamentos!$G$4:$G$1048576,Lançamentos!$F$4:$F$1048576,Base!$A11,Lançamentos!$D$4:$D$1048576,Base!EJ$3,Lançamentos!$E$4:$E$1048576,Base!$EB$2)","v":0},{"$f":"SUMIFS(Lançamentos!$G$4:$G$1048576,Lançamentos!$F$4:$F$1048576,Base!$A11,Lançamentos!$D$4:$D$1048576,Base!EK$3,Lançamentos!$E$4:$E$1048576,Base!$EB$2)","v":0},{"$f":"SUMIFS(Lançamentos!$G$4:$G$1048576,Lançamentos!$F$4:$F$1048576,Base!$A11,Lançamentos!$D$4:$D$1048576,Base!EL$3,Lançamentos!$E$4:$E$1048576,Base!$EB$2)","v":0},{"$f":"SUMIFS(Lançamentos!$G$4:$G$1048576,Lançamentos!$F$4:$F$1048576,Base!$A11,Lançamentos!$D$4:$D$1048576,Base!EM$3,Lançamentos!$E$4:$E$1048576,Base!$EB$2)","v":0},{"$f":"SUM(EB11:EM11)","v":0},{"$f":"SUMIFS(Lançamentos!$G$4:$G$1048576,Lançamentos!$F$4:$F$1048576,Base!$A11,Lançamentos!$D$4:$D$1048576,Base!EO$3,Lançamentos!$E$4:$E$1048576,Base!$EO$2)","v":0},{"$f":"SUMIFS(Lançamentos!$G$4:$G$1048576,Lançamentos!$F$4:$F$1048576,Base!$A11,Lançamentos!$D$4:$D$1048576,Base!EP$3,Lançamentos!$E$4:$E$1048576,Base!$EO$2)","v":0},{"$f":"SUMIFS(Lançamentos!$G$4:$G$1048576,Lançamentos!$F$4:$F$1048576,Base!$A11,Lançamentos!$D$4:$D$1048576,Base!EQ$3,Lançamentos!$E$4:$E$1048576,Base!$EO$2)","v":0},{"$f":"SUMIFS(Lançamentos!$G$4:$G$1048576,Lançamentos!$F$4:$F$1048576,Base!$A11,Lançamentos!$D$4:$D$1048576,Base!ER$3,Lançamentos!$E$4:$E$1048576,Base!$EO$2)","v":0},{"$f":"SUMIFS(Lançamentos!$G$4:$G$1048576,Lançamentos!$F$4:$F$1048576,Base!$A11,Lançamentos!$D$4:$D$1048576,Base!ES$3,Lançamentos!$E$4:$E$1048576,Base!$EO$2)","v":0},{"$f":"SUMIFS(Lançamentos!$G$4:$G$1048576,Lançamentos!$F$4:$F$1048576,Base!$A11,Lançamentos!$D$4:$D$1048576,Base!ET$3,Lançamentos!$E$4:$E$1048576,Base!$EO$2)","v":0},{"$f":"SUMIFS(Lançamentos!$G$4:$G$1048576,Lançamentos!$F$4:$F$1048576,Base!$A11,Lançamentos!$D$4:$D$1048576,Base!EU$3,Lançamentos!$E$4:$E$1048576,Base!$EO$2)","v":0},{"$f":"SUMIFS(Lançamentos!$G$4:$G$1048576,Lançamentos!$F$4:$F$1048576,Base!$A11,Lançamentos!$D$4:$D$1048576,Base!EV$3,Lançamentos!$E$4:$E$1048576,Base!$EO$2)","v":0},{"$f":"SUMIFS(Lançamentos!$G$4:$G$1048576,Lançamentos!$F$4:$F$1048576,Base!$A11,Lançamentos!$D$4:$D$1048576,Base!EW$3,Lançamentos!$E$4:$E$1048576,Base!$EO$2)","v":0},{"$f":"SUMIFS(Lançamentos!$G$4:$G$1048576,Lançamentos!$F$4:$F$1048576,Base!$A11,Lançamentos!$D$4:$D$1048576,Base!EX$3,Lançamentos!$E$4:$E$1048576,Base!$EO$2)","v":0},{"$f":"SUMIFS(Lançamentos!$G$4:$G$1048576,Lançamentos!$F$4:$F$1048576,Base!$A11,Lançamentos!$D$4:$D$1048576,Base!EY$3,Lançamentos!$E$4:$E$1048576,Base!$EO$2)","v":0},{"$f":"SUMIFS(Lançamentos!$G$4:$G$1048576,Lançamentos!$F$4:$F$1048576,Base!$A11,Lançamentos!$D$4:$D$1048576,Base!EZ$3,Lançamentos!$E$4:$E$1048576,Base!$EO$2)","v":0},{"$f":"SUM(EO11:EZ11)","v":0},{"$f":"SUMIFS(Lançamentos!$G$4:$G$1048576,Lançamentos!$F$4:$F$1048576,Base!$A11,Lançamentos!$D$4:$D$1048576,Base!FB$3,Lançamentos!$E$4:$E$1048576,Base!$FB$2)","v":0},{"$f":"SUMIFS(Lançamentos!$G$4:$G$1048576,Lançamentos!$F$4:$F$1048576,Base!$A11,Lançamentos!$D$4:$D$1048576,Base!FC$3,Lançamentos!$E$4:$E$1048576,Base!$FB$2)","v":0},{"$f":"SUMIFS(Lançamentos!$G$4:$G$1048576,Lançamentos!$F$4:$F$1048576,Base!$A11,Lançamentos!$D$4:$D$1048576,Base!FD$3,Lançamentos!$E$4:$E$1048576,Base!$FB$2)","v":0},{"$f":"SUMIFS(Lançamentos!$G$4:$G$1048576,Lançamentos!$F$4:$F$1048576,Base!$A11,Lançamentos!$D$4:$D$1048576,Base!FE$3,Lançamentos!$E$4:$E$1048576,Base!$FB$2)","v":0},{"$f":"SUMIFS(Lançamentos!$G$4:$G$1048576,Lançamentos!$F$4:$F$1048576,Base!$A11,Lançamentos!$D$4:$D$1048576,Base!FF$3,Lançamentos!$E$4:$E$1048576,Base!$FB$2)","v":0},{"$f":"SUMIFS(Lançamentos!$G$4:$G$1048576,Lançamentos!$F$4:$F$1048576,Base!$A11,Lançamentos!$D$4:$D$1048576,Base!FG$3,Lançamentos!$E$4:$E$1048576,Base!$FB$2)","v":0},{"$f":"SUMIFS(Lançamentos!$G$4:$G$1048576,Lançamentos!$F$4:$F$1048576,Base!$A11,Lançamentos!$D$4:$D$1048576,Base!FH$3,Lançamentos!$E$4:$E$1048576,Base!$FB$2)","v":0},{"$f":"SUMIFS(Lançamentos!$G$4:$G$1048576,Lançamentos!$F$4:$F$1048576,Base!$A11,Lançamentos!$D$4:$D$1048576,Base!FI$3,Lançamentos!$E$4:$E$1048576,Base!$FB$2)","v":0},{"$f":"SUMIFS(Lançamentos!$G$4:$G$1048576,Lançamentos!$F$4:$F$1048576,Base!$A11,Lançamentos!$D$4:$D$1048576,Base!FJ$3,Lançamentos!$E$4:$E$1048576,Base!$FB$2)","v":0},{"$f":"SUMIFS(Lançamentos!$G$4:$G$1048576,Lançamentos!$F$4:$F$1048576,Base!$A11,Lançamentos!$D$4:$D$1048576,Base!FK$3,Lançamentos!$E$4:$E$1048576,Base!$FB$2)","v":0},{"$f":"SUMIFS(Lançamentos!$G$4:$G$1048576,Lançamentos!$F$4:$F$1048576,Base!$A11,Lançamentos!$D$4:$D$1048576,Base!FL$3,Lançamentos!$E$4:$E$1048576,Base!$FB$2)","v":0},{"$f":"SUMIFS(Lançamentos!$G$4:$G$1048576,Lançamentos!$F$4:$F$1048576,Base!$A11,Lançamentos!$D$4:$D$1048576,Base!FM$3,Lançamentos!$E$4:$E$1048576,Base!$FB$2)","v":0},{"$f":"SUM(FB11:FM11)","v":0},{"$f":"SUMIFS(Lançamentos!$G$4:$G$1048576,Lançamentos!$F$4:$F$1048576,Base!$A11,Lançamentos!$D$4:$D$1048576,Base!FO$3,Lançamentos!$E$4:$E$1048576,Base!$FO$2)","v":0},{"$f":"SUMIFS(Lançamentos!$G$4:$G$1048576,Lançamentos!$F$4:$F$1048576,Base!$A11,Lançamentos!$D$4:$D$1048576,Base!FP$3,Lançamentos!$E$4:$E$1048576,Base!$FO$2)","v":0},{"$f":"SUMIFS(Lançamentos!$G$4:$G$1048576,Lançamentos!$F$4:$F$1048576,Base!$A11,Lançamentos!$D$4:$D$1048576,Base!FQ$3,Lançamentos!$E$4:$E$1048576,Base!$FO$2)","v":0},{"$f":"SUMIFS(Lançamentos!$G$4:$G$1048576,Lançamentos!$F$4:$F$1048576,Base!$A11,Lançamentos!$D$4:$D$1048576,Base!FR$3,Lançamentos!$E$4:$E$1048576,Base!$FO$2)","v":0},{"$f":"SUMIFS(Lançamentos!$G$4:$G$1048576,Lançamentos!$F$4:$F$1048576,Base!$A11,Lançamentos!$D$4:$D$1048576,Base!FS$3,Lançamentos!$E$4:$E$1048576,Base!$FO$2)","v":0},{"$f":"SUMIFS(Lançamentos!$G$4:$G$1048576,Lançamentos!$F$4:$F$1048576,Base!$A11,Lançamentos!$D$4:$D$1048576,Base!FT$3,Lançamentos!$E$4:$E$1048576,Base!$FO$2)","v":0},{"$f":"SUMIFS(Lançamentos!$G$4:$G$1048576,Lançamentos!$F$4:$F$1048576,Base!$A11,Lançamentos!$D$4:$D$1048576,Base!FU$3,Lançamentos!$E$4:$E$1048576,Base!$FO$2)","v":0},{"$f":"SUMIFS(Lançamentos!$G$4:$G$1048576,Lançamentos!$F$4:$F$1048576,Base!$A11,Lançamentos!$D$4:$D$1048576,Base!FV$3,Lançamentos!$E$4:$E$1048576,Base!$FO$2)","v":0},{"$f":"SUMIFS(Lançamentos!$G$4:$G$1048576,Lançamentos!$F$4:$F$1048576,Base!$A11,Lançamentos!$D$4:$D$1048576,Base!FW$3,Lançamentos!$E$4:$E$1048576,Base!$FO$2)","v":0},{"$f":"SUMIFS(Lançamentos!$G$4:$G$1048576,Lançamentos!$F$4:$F$1048576,Base!$A11,Lançamentos!$D$4:$D$1048576,Base!FX$3,Lançamentos!$E$4:$E$1048576,Base!$FO$2)","v":0},{"$f":"SUMIFS(Lançamentos!$G$4:$G$1048576,Lançamentos!$F$4:$F$1048576,Base!$A11,Lançamentos!$D$4:$D$1048576,Base!FY$3,Lançamentos!$E$4:$E$1048576,Base!$FO$2)","v":0},{"$f":"SUMIFS(Lançamentos!$G$4:$G$1048576,Lançamentos!$F$4:$F$1048576,Base!$A11,Lançamentos!$D$4:$D$1048576,Base!FZ$3,Lançamentos!$E$4:$E$1048576,Base!$FO$2)","v":0},{"$f":"SUM(FO11:FZ11)","v":0},{"$f":"SUMIFS(Lançamentos!$G$4:$G$1048576,Lançamentos!$F$4:$F$1048576,Base!$A11,Lançamentos!$D$4:$D$1048576,Base!GB$3,Lançamentos!$E$4:$E$1048576,Base!$GB$2)","v":0},{"$f":"SUMIFS(Lançamentos!$G$4:$G$1048576,Lançamentos!$F$4:$F$1048576,Base!$A11,Lançamentos!$D$4:$D$1048576,Base!GC$3,Lançamentos!$E$4:$E$1048576,Base!$GB$2)","v":0},{"$f":"SUMIFS(Lançamentos!$G$4:$G$1048576,Lançamentos!$F$4:$F$1048576,Base!$A11,Lançamentos!$D$4:$D$1048576,Base!GD$3,Lançamentos!$E$4:$E$1048576,Base!$GB$2)","v":0},{"$f":"SUMIFS(Lançamentos!$G$4:$G$1048576,Lançamentos!$F$4:$F$1048576,Base!$A11,Lançamentos!$D$4:$D$1048576,Base!GE$3,Lançamentos!$E$4:$E$1048576,Base!$GB$2)","v":0},{"$f":"SUMIFS(Lançamentos!$G$4:$G$1048576,Lançamentos!$F$4:$F$1048576,Base!$A11,Lançamentos!$D$4:$D$1048576,Base!GF$3,Lançamentos!$E$4:$E$1048576,Base!$GB$2)","v":0},{"$f":"SUMIFS(Lançamentos!$G$4:$G$1048576,Lançamentos!$F$4:$F$1048576,Base!$A11,Lançamentos!$D$4:$D$1048576,Base!GG$3,Lançamentos!$E$4:$E$1048576,Base!$GB$2)","v":0},{"$f":"SUMIFS(Lançamentos!$G$4:$G$1048576,Lançamentos!$F$4:$F$1048576,Base!$A11,Lançamentos!$D$4:$D$1048576,Base!GH$3,Lançamentos!$E$4:$E$1048576,Base!$GB$2)","v":0},{"$f":"SUMIFS(Lançamentos!$G$4:$G$1048576,Lançamentos!$F$4:$F$1048576,Base!$A11,Lançamentos!$D$4:$D$1048576,Base!GI$3,Lançamentos!$E$4:$E$1048576,Base!$GB$2)","v":0},{"$f":"SUMIFS(Lançamentos!$G$4:$G$1048576,Lançamentos!$F$4:$F$1048576,Base!$A11,Lançamentos!$D$4:$D$1048576,Base!GJ$3,Lançamentos!$E$4:$E$1048576,Base!$GB$2)","v":0},{"$f":"SUMIFS(Lançamentos!$G$4:$G$1048576,Lançamentos!$F$4:$F$1048576,Base!$A11,Lançamentos!$D$4:$D$1048576,Base!GK$3,Lançamentos!$E$4:$E$1048576,Base!$GB$2)","v":0},{"$f":"SUMIFS(Lançamentos!$G$4:$G$1048576,Lançamentos!$F$4:$F$1048576,Base!$A11,Lançamentos!$D$4:$D$1048576,Base!GL$3,Lançamentos!$E$4:$E$1048576,Base!$GB$2)","v":0},{"$f":"SUMIFS(Lançamentos!$G$4:$G$1048576,Lançamentos!$F$4:$F$1048576,Base!$A11,Lançamentos!$D$4:$D$1048576,Base!GM$3,Lançamentos!$E$4:$E$1048576,Base!$GB$2)","v":0},{"$f":"SUM(GB11:GM11)","v":0}]
["Total de Entradas",{"$f":"SUM(B6:B10)","v":0},0,0,0,0,0,0,0,0,0,0,0,{"$f":"SUM(B12:M12)","v":0},{"$f":"SUM(O6:O10)","v":0},0,0,0,0,0,0,0,0,0,0,0,{"$f":"SUM(O12:Z12)","v":0},{"$f":"SUM(AB6:AB10)","v":0},0,0,0,0,0,0,0,0,0,0,0,{"$f":"SUM(AB12:AM12)","v":0},{"$f":"SUM(AO6:AO10)","v":0},0,0,0,0,0,0,0,0,0,0,0,{"$f":"SUM(AO12:AZ12)","v":0},{"$f":"SUM(BB6:BB10)","v":0},0,0,0,0,0,0,0,0,0,0,0,{"$f":"SUM(BB12:BM12)","v":0},{"$f":"SUM(BO6:BO10)","v":0},0,0,0,0,0,0,0,0,0,0,0,{"$f":"SUM(BO12:BZ12)","v":0},{"$f":"SUM(CB6:CB10)","v":0},0,0,0,0,0,0,0,0,0,0,0,{"$f":"SUM(CB12:CM12)","v":0},{"$f":"SUM(CO6:CO10)","v":0},0,0,0,0,0,0,0,0,0,0,0,{"$f":"SUM(CO12:CZ12)","v":0},{"$f":"SUM(DB6:DB10)","v":0},0,0,0,0,0,0,0,0,0,0,0,{"$f":"SUM(DB12:DM12)","v":0},{"$f":"SUM(DO6:DO10)","v":0},0,0,0,0,0,0,0,0,0,0,0,{"$f":"SUM(DO12:DZ12)","v":0},{"$f":"SUM(EB6:EB10)","v":0},0,0,0,0,0,0,0,0,0,0,0,{"$f":"SUM(EB12:EM12)","v":0},{"$f":"SUM(EO6:EO10)","v":0},0,0,0,0,0,0,0,0,0,0,0,{"$f":"SUM(EO12:EZ12)","v":0},{"$f":"SUM(FB6:FB10)","v":0},0,0,0,0,0,0,0,0,0,0,0,{"$f":"SUM(FB12:FM12)","v":0},{"$f":"SUM(FO6:FO10)","v":0},0,0,0,0,0,0,0,0,0,0,0,{"$f":"SUM(FO12:FZ12)","v":0},{"$f":"SUM(GB6:GB10)","v":0},0,0,0,0,0,0,0,0,0,0,0,{"$f":"SUM(GB12:GM12)","v":0},null,2025]
[{"$f":"IF(Lançamentos!A10=\"\",\"\",Lançamentos!A10)","v":"Retirada de Sócio"},{"$f":"SUMIFS(Lançamentos!$G$4:$G$1048576,Lançamentos!$F$4:$F$1048576,Base!$A13,Lançamentos!$D$4:$D$1048576,Base!B$3,Lançamentos!$E$4:$E$1048576,Base!$B$2)","v":0},{"$f":"SUMIFS(Lançamentos!$G$4:$G$1048576,Lançamentos!$F$4:$F$1048576,Base!$A13,Lançamentos!$D$4:$D$1048576,Base!C$3,Lançamentos!$E$4:$E$1048576,Base!$B$2)","v":0},{"$f":"SUMIFS(Lançamentos!$G$4:$G$1048576,Lançamentos!$F$4:$F$1048576,Base!$A13,Lançamentos!$D$4:$D$1048576,Base!D$3,Lançamentos!$E$4:$E$1048576,Base!$B$2)","v":0},{"$f":"SUMIFS(Lançamentos!$G$4:$G$1048576,Lançamentos!$F$4:$F$1048576,Base!$A13,Lançamentos!$D$4:$D$1048576,Base!E$3,Lançamentos!$E$4:$E$1048576,Base!$B$2)","v":0},{"$f":"SUMIFS(Lançamentos!$G$4:$G$1048576,Lançamentos!$F$4:$F$1048576,Base!$A13,Lançamentos!$D$4:$D$1048576,Base!F$3,Lançamentos!$E$4:$E$1048576,Base!$B$2)","v":0},{"$f":"SUMIFS(Lançamentos!$G$4:$G$1048576,Lançamentos!$F$4:$F$1048576,Base!$A13,Lançamentos!$D$4:$D$1048576,Base!G$3,Lançamentos!$E$4:$E$1048576,Base!$B$2)","v":0},{"$f":"SUMIFS(Lançamentos!$G$4:$G$1048576,Lançamentos!$F$4:$F$1048576,Base!$A13,Lançamentos!$D$4:$D$1048576,Base!H$3,Lançamentos!$E$4:$E$1048576,Base!$B$2)","v":0},{"$f":"SUMIFS(Lançamentos!$G$4:$G$1048576,Lançamentos!$F$4:$F$1048576,Base!$A13,Lançamentos!$D$4:$D$1048576,Base!I$3,Lançamentos!$E$4:$E$1048576,Base!$B$2)","v":0},{"$f":"SUMIFS(Lançamentos!$G$4:$G$1048576,Lançamentos!$F$4:$F$1048576,Base!$A13,Lançamentos!$D$4:$D$1048576,Base!J$3,Lançamentos!$E$4:$E$1048576,Base!$B$2)","v":0},{"$f":"SUMIFS(Lançamentos!$G$4:$G$1048576,Lançamentos!$F$4:$F$1048576,Base!$A13,Lançamentos!$D$4:$D$1048576,Base!K$3,Lançamentos!$E$4:$E$1048576,Base!$B$2)","v":0},{"$f":"SUMIFS(Lançamentos!$G$4:$G$1048576,Lançamentos!$F$4:$F$1048576,Base!$A13,Lançamentos!$D$4:$D$1048576,Base!L$3,Lançamentos!$E$4:$E$1048576,Base!$B$2)","v":0},{"$f":"SUMIFS(Lançamentos!$G$4:$G$1048576,Lançamentos!$F$4:$F$1048576,Base!$A13,Lançamentos!$D$4:$D$1048576,Base!M$3,Lançamentos!$E$4:$E$1048576,Base!$B$2)","v":0},0,{"$f":"SUMIFS(Lançamentos!$G$4:$G$1048576,Lançamentos!$F$4:$F$1048576,Base!$A13,Lançamentos!$D$4:$D$1048576,Base!O$3,Lançamentos!$E$4:$E$1048576,Base!$O$2)","v":0},{"$f":"SUMIFS(Lançamentos!$G$4:$G$1048576,Lançamentos!$F$4:$F$1048576,Base!$A13,Lançamentos!$D$4:$D$1048576,Base!P$3,Lançamentos!$E$4:$E$1048576,Base!$O$2)","v":0},{"$f":"SUMIFS(Lançamentos!$G$4:$G$1048576,Lançamentos!$F$4:$F$1048576,Base!$A13,Lançamentos!$D$4:$D$1048576,Base!Q$3,Lançamentos!$E$4:$E$1048576,Base!$O$2)","v":0},{"$f":"SUMIFS(Lançamentos!$G$4:$G$1048576,Lançamentos!$F$4:$F$1048576,Base!$A13,Lançamentos!$D$4:$D$1048576,Base!R$3,Lançamentos!$E$4:$E$1048576,Base!$O$2)","v":0},{"$f":"SUMIFS(Lançamentos!$G$4:$G$1048576,Lançamentos!$F$4:$F$1048576,Base!$A13,Lançamentos!$D$4:$D$1048576,Base!S$3,Lançamentos!$E$4:$E$1048576,Base!$O$2)","v":0},{"$f":"SUMIFS(Lançamentos!$G$4:$G$1048576,Lançamentos!$F$4:$F$1048576,Base!$A13,Lançamentos!$D$4:$D$1048576,Base!T$3,Lançamentos!$E$4:$E$1048576,Base!$O$2)","v":0},{"$f":"SUMIFS(Lançamentos!$G$4:$G$1048576,Lançamentos!$F$4:$F$1048576,Base!$A13,Lançamentos!$D$4:$D$1048576,Base!U$3,Lançamentos!$E$4:$E$1048576,Base!$O$2)","v":0},{"$f":"SUMIFS(Lançamentos!$G$4:$G$1048576,Lançamentos!$F$4:$F$1048576,Base!$A13,Lançamentos!$D$4:$D$1048576,Base!V$3,Lançamentos!$E$4:$E$1048576,Base!$O$2)","v":0},{"$f":"SUMIFS(Lançamentos!$G$4:$G$1048576,Lançamentos!$F$4:$F$1048576,Base!$A13,Lançamentos!$D$4:$D$1048576,Base!W$3,Lançamentos!$E$4:$E$1048576,Base!$O$2)","v":0},{"$f":"SUMIFS(Lançamentos!$G$4:$G$1048576,Lançamentos!$F$4:$F$1048576,Base!$A13,Lançamentos!$D$4:$D$1048576,Base!X$3,Lançamentos!$E$4:$E$1048576,Base!$O$2)","v":0},{"$f":"SUMIFS(Lançamentos!$G$4:$G$1048576,Lançamentos!$F$4:$F$1048576,Base!$A13,Lançamentos!$D$4:$D$1048576,Base!Y$3,Lançamentos!$E$4:$E$1048576,Base!$O$2)","v":0},{"$f":"SUMIFS(Lançamentos!$G$4:$G$1048576,Lançamentos!$F$4:$F$1048576,Base!$A13,Lançamentos!$D$4:$D$1048576,Base!Z$3,Lançamentos!$E$4:$E$1048576,Base!$O$2)","v":0},0,{"$f":"SUMIFS(Lançamentos!$G$4:$G$1048576,Lançamentos!$F$4:$F$1048576,Base!$A13,Lançamentos!$D$4:$D$1048576,Base!AB$3,Lançamentos!$E$4:$E$1048576,Base!$AB$2)","v":0},{"$f":"SUMIFS(Lançamentos!$G$4:$G$1048576,Lançamentos!$F$4:$F$1048576,Base!$A13,Lançamentos!$D$4:$D$1048576,Base!AC$3,Lançamentos!$E$4:$E$1048576,Base!$AB$2)","v":0},{"$f":"SUMIFS(Lançamentos!$G$4:$G$1048576,Lançamentos!$F$4:$F$1048576,Base!$A13,Lançamentos!$D$4:$D$1048576,Base!AD$3,Lançamentos!$E$4:$E$1048576,Base!$AB$2)","v":0},{"$f":"SUMIFS(Lançamentos!$G$4:$G$1048576,Lançamentos!$F$4:$F$1048576,Base!$A13,Lançamentos!$D$4:$D$1048576,Base!AE$3,Lançamentos!$E$4:$E$1048576,Base!$AB$2)","v":0},{"$f":"SUMIFS(Lançamentos!$G$4:$G$1048576,Lançamentos!$F$4:$F$1048576,Base!$A13,Lançamentos!$D$4:$D$1048576,Base!AF$3,Lançamentos!$E$4:$E$1048576,Base!$AB$2)","v":0},{"$f":"SUMIFS(Lançamentos!$G$4:$G$1048576,Lançamentos!$F$4:$F$1048576,Base!$A13,Lançamentos!$D$4:$D$1048576,Base!AG$3,Lançamentos!$E$4:$E$1048576,Base!$AB$2)","v":0},{"$f":"SUMIFS(Lançamentos!$G$4:$G$1048576,Lançamentos!$F$4:$F$1048576,Base!$A13,Lançamentos!$D$4:$D$1048576,Base!AH$3,Lançamentos!$E$4:$E$1048576,Base!$AB$2)","v":0},{"$f":"SUMIFS(Lançamentos!$G$4:$G$1048576,Lançamentos!$F$4:$F$1048576,Base!$A13,Lançamentos!$D$4:$D$1048576,Base!AI$3,Lançamentos!$E$4:$E$1048576,Base!$AB$2)","v":0},{"$f":"SUMIFS(Lançamentos!$G$4:$G$1048576,Lançamentos!$F$4:$F$1048576,Base!$A13,Lançamentos!$D$4:$D$1048576,Base!AJ$3,Lançamentos!$E$4:$E$1048576,Base!$AB$2)","v":0},{"$f":"SUMIFS(Lançamentos!$G$4:$G$1048576,Lançamentos!$F$4:$F$1048576,Base!$A13,Lançamentos!$D$4:$D$1048576,Base!AK$3,Lançamentos!$E$4:$E$1048576,Base!$AB$2)","v":0},{"$f":"SUMIFS(Lançamentos!$G$4:$G$1048576,Lançamentos!$F$4:$F$1048576,Base!$A13,Lançamentos!$D$4:$D$1048576,Base!AL$3,Lançamentos!$E$4:$E$1048576,Base!$AB$2)","v":0},{"$f":"SUMIFS(Lançamentos!$G$4:$G$1048576,Lançamentos!$F$4:$F$1048576,Base!$A13,Lançamentos!$D$4:$D$1048576,Base!AM$3,Lançamentos!$E$4:$E$1048576,Base!$AB$2)","v":0},0,{"$f":"SUMIFS(Lançamentos!$G$4:$G$1048576,Lançamentos!$F$4:$F$1048576,Base!$A13,Lançamentos!$D$4:$D$1048576,Base!AO$3,Lançamentos!$E$4:$E$1048576,Base!$AO$2)","v":0},{"$f":"SUMIFS(Lançamentos!$G$4:$G$1048576,Lançamentos!$F$4:$F$1048576,Base!$A13,Lançamentos!$D$4:$D$1048576,Base!AP$3,Lançamentos!$E$4:$E$1048576,Base!$AO$2)","v":0},{"$f":"SUMIFS(Lançamentos!$G$4:$G$1048576,Lançamentos!$F$4:$F$1048576,Base!$A13,Lançamentos!$D$4:$D$1048576,Base!AQ$3,Lançamentos!$E$4:$E$1048576,Base!$AO$2)","v":0},{"$f":"SUMIFS(Lançamentos!$G$4:$G$1048576,Lançamentos!$F$4:$F$1048576,Base!$A13,Lançamentos!$D$4:$D$1048576,Base!AR$3,Lançamentos!$E$4:$E$1048576,Base!$AO$2)","v":0},{"$f":"SUMIFS(Lançamentos!$G$4:$G$1048576,Lançamentos!$F$4:$F$1048576,Base!$A13,Lançamentos!$D$4:$D$1048576,Base!AS$3,Lançamentos!$E$4:$E$1048576,Base!$AO$2)","v":0},{"$f":"SUMIFS(Lançamentos!$G$4:$G$1048576,Lançamentos!$F$4:$F$1048576,Base!$A13,Lançamentos!$D$4:$D$1048576,Base!AT$3,Lançamentos!$E$4:$E$1048576,Base!$AO$2)","v":0},{"$f":"SUMIFS(Lançamentos!$G$4:$G$1048576,Lançamentos!$F$4:$F$1048576,Base!$A13,Lançamentos!$D$4:$D$1048576,Base!AU$3,Lançamentos!$E$4:$E$1048576,Base!$AO$2)","v":0},{"$f":"SUMIFS(Lançamentos!$G$4:$G$1048576,Lançamentos!$F$4:$F$1048576,Base!$A13,Lançamentos!$D$4:$D$1048576,Base!AV$3,Lançamentos!$E$4:$E$1048576,Base!$AO$2)","v":0},{"$f":"SUMIFS(Lançamentos!$G$4:$G$1048576,Lançamentos!$F$4:$F$1048576,Base!$A13,Lançamentos!$D$4:$D$1048576,Base!AW$3,Lançamentos!$E$4:$E$1048576,Base!$AO$2)","v":0},{"$f":"SUMIFS(Lançamentos!$G$4:$G$1048576,Lançamentos!$F$4:$F$1048576,Base!$A13,Lançamentos!$D$4:$D$1048576,Base!AX$3,Lançamentos!$E$4:$E$1048576,Base!$AO$2)","v":0},{"$f":"SUMIFS(Lançamentos!$G$4:$G$1048576,Lançamentos!$F$4:$F$1048576,Base!$A13,Lançamentos!$D$4:$D$1048576,Base!AY$3,Lançamentos!$E$4:$E$1048576,Base!$AO$2)","v":0},{"$f":"SUMIFS(Lançamentos!$G$4:$G$1048576,Lançamentos!$F$4:$F$1048576,Base!$A13,Lançamentos!$D$4:$D$1048576,Base!AZ$3,Lançamentos!$E$4:$E$1048576,Base!$AO$2)","v":0},0,{"$f":"SUMIFS(Lançamentos!$G$4:$G$1048576,Lançamentos!$F$4:$F$1048576,Base!$A13,Lançamentos!$D$4:$D$1048576,Base!BB$3,Lançamentos!$E$4:$E$1048576,Base!$BB$2)","v":0},{"$f":"SUMIFS(Lançamentos!$G$4:$G$1048576,Lançamentos!$F$4:$F$1048576,Base!$A13,Lançamentos!$D$4:$D$1048576,Base!BC$3,Lançamentos!$E$4:$E$1048576,Base!$BB$2)","v":0},{"$f":"SUMIFS(Lançamentos!$G$4:$G$1048576,Lançamentos!$F$4:$F$1048576,Base!$A13,Lançamentos!$D$4:$D$1048576,Base!BD$3,Lançamentos!$E$4:$E$1048576,Base!$BB$2)","v":0},{"$f":"SUMIFS(Lançamentos!$G$4:$G$1048576,Lançamentos!$F$4:$F$1048576,Base!$A13,Lançamentos!$D$4:$D$1048576,Base!BE$3,Lançamentos!$E$4:$E$1048576,Base!$BB$2)","v":0},{"$f":"SUMIFS(Lançamentos!$G$4:$G$1048576,Lançamentos!$F$4:$F$1048576,Base!$A13,Lançamentos!$D$4:$D$1048576,Base!BF$3,Lançamentos!$E$4:$E$1048576,Base!$BB$2)","v":0},{"$f":"SUMIFS(Lançamentos!$G$4:$G$1048576,Lançamentos!$F$4:$F$1048576,Base!$A13,Lançamentos!$D$4:$D$1048576,Base!BG$3,Lançamentos!$E$4:$E$1048576,Base!$BB$2)","v":0},{"$f":"SUMIFS(Lançamentos!$G$4:$G$1048576,Lançamentos!$F$4:$F$1048576,Base!$A13,Lançamentos!$D$4:$D$1048576,Base!BH$3,Lançamentos!$E$4:$E$1048576,Base!$BB$2)","v":0},{"$f":"SUMIFS(Lançamentos!$G$4:$G$1048576,Lançamentos!$F$4:$F$1048576,Base!$A13,Lançamentos!$D$4:$D$1048576,Base!BI$3,Lançamentos!$E$4:$E$1048576,Base!$BB$2)","v":0},{"$f":"SUMIFS(Lançamentos!$G$4:$G$1048576,Lançamentos!$F$4:$F$1048576,Base!$A13,Lançamentos!$D$4:$D$1048576,Base!BJ$3,Lançamentos!$E$4:$E$1048576,Base!$BB$2)","v":0},{"$f":"SUMIFS(Lançamentos!$G$4:$G$1048576,Lançamentos!$F$4:$F$1048576,Base!$A13,Lançamentos!$D$4:$D$1048576,Base!BK$3,Lançamentos!$E$4:$E$1048576,Base!$BB$2)","v":0},{"$f":"SUMIFS(Lançamentos!$G$4:$G$1048576,Lançamentos!$F$4:$F$1048576,Base!$A13,Lançamentos!$D$4:$D$1048576,Base!BL$3,Lançamentos!$E$4:$E$1048576,Base!$BB$2)","v":0},{"$f":"SUMIFS(Lançamentos!$G$4:$G$1048576,Lançamentos!$F$4:$F$1048576,Base!$A13,Lançamentos!$D$4:$D$1048576,Base!BM$3,Lançamentos!$E$4:$E$1048576,Base!$BB$2)","v":0},0,{"$f":"SUMIFS(Lançamentos!$G$4:$G$1048576,Lançamentos!$F$4:$F$1048576,Base!$A13,Lançamentos!$D$4:$D$1048576,Base!BO$3,Lançamentos!$E$4:$E$1048576,Base!$BO$2)","v":0},{"$f":"SUMIFS(Lançamentos!$G$4:$G$1048576,Lançamentos!$F$4:$F$1048576,Base!$A13,Lançamentos!$D$4:$D$1048576,Base!BP$3,Lançamentos!$E$4:$E$1048576,Base!$BO$2)","v":0},{"$f":"SUMIFS(Lançamentos!$G$4:$G$1048576,Lançamentos!$F$4:$F$1048576,Base!$A13,Lançamentos!$D$4:$D$1048576,Base!BQ$3,Lançamentos!$E$4:$E$1048576,Base!$BO$2)","v":0},{"$f":"SUMIFS(Lançamentos!$G$4:$G$1048576,Lançamentos!$F$4:$F$1048576,Base!$A13,Lançamentos!$D$4:$D$1048576,Base!BR$3,Lançamentos!$E$4:$E$1048576,Base!$BO$2)","v":0},{"$f":"SUMIFS(Lançamentos!$G$4:$G$1048576,Lançamentos!$F$4:$F$1048576,Base!$A13,Lançamentos!$D$4:$D$1048576,Base!BS$3,Lançamentos!$E$4:$E$1048576,Base!$BO$2)","v":0},{"$f":"SUMIFS(Lançamentos!$G$4:$G$1048576,Lançamentos!$F$4:$F$1048576,Base!$A13,Lançamentos!$D$4:$D$1048576,Base!BT$3,Lançamentos!$E$4:$E$1048576,Base!$BO$2)","v":0},{"$f":"SUMIFS(Lançamentos!$G$4:$G$1048576,Lançamentos!$F$4:$F$1048576,Base!$A13,Lançamentos!$D$4:$D$1048576,Base!BU$3,Lançamentos!$E$4:$E$1048576,Base!$BO$2)","v":0},{"$f":"SUMIFS(Lançamentos!$G$4:$G$1048576,Lançamentos!$F$4:$F$1048576,Base!$A13,Lançamentos!$D$4:$D$1048576,Base!BV$3,Lançamentos!$E$4:$E$1048576,Base!$BO$2)","v":0},{"$f":"SUMIFS(Lançamentos!$G$4:$G$1048576,Lançamentos!$F$4:$F$1048576,Base!$A13,Lançamentos!$D$4:$D$1048576,Base!BW$3,Lançamentos!$E$4:$E$1048576,Base!$BO$2)","v":0},{"$f":"SUMIFS(Lançamentos!$G$4:$G$1048576,Lançamentos!$F$4:$F$1048576,Base!$A13,Lançamentos!$D$4:$D$1048576,Base!BX$3,Lançamentos!$E$4:$E$1048576,Base!$BO$2)","v":0},{"$f":"SUMIFS(Lançamentos!$G$4:$G$1048576,Lançamentos!$F$4:$F$1048576,Base!$A13,Lançamentos!$D$4:$D$1048576,Base!BY$3,Lançamentos!$E$4:$E$1048576,Base!$BO$2)","v":0},{"$f":"SUMIFS(Lançamentos!$G$4:$G$1048576,Lançamentos!$F$4:$F$1048576,Base!$A13,Lançamentos!$D$4:$D$1048576,Base!BZ$3,Lançamentos!$E$4:$E$1048576,Base!$BO$2)","v":0},0,{"$f":"SUMIFS(Lançamentos!$G$4:$G$1048576,Lançamentos!$F$4:$F$1048576,Base!$A13,Lançamentos!$D$4:$D$1048576,Base!CB$3,Lançamentos!$E$4:$E$1048576,Base!$CB$2)","v":0},{"$f":"SUMIFS(Lançamentos!$G$4:$G$1048576,Lançamentos!$F$4:$F$1048576,Base!$A13,Lançamentos!$D$4:$D$1048576,Base!CC$3,Lançamentos!$E$4:$E$1048576,Base!$CB$2)","v":0},{"$f":"SUMIFS(Lançamentos!$G$4:$G$1048576,Lançamentos!$F$4:$F$1048576,Base!$A13,Lançamentos!$D$4:$D$1048576,Base!CD$3,Lançamentos!$E$4:$E$1048576,Base!$CB$2)","v":0},{"$f":"SUMIFS(Lançamentos!$G$4:$G$1048576,Lançamentos!$F$4:$F$1048576,Base!$A13,Lançamentos!$D$4:$D$1048576,Base!CE$3,Lançamentos!$E$4:$E$1048576,Base!$CB$2)","v":0},{"$f":"SUMIFS(Lançamentos!$G$4:$G$1048576,Lançamentos!$F$4:$F$1048576,Base!$A13,Lançamentos!$D$4:$D$1048576,Base!CF$3,Lançamentos!$E$4:$E$1048576,Base!$CB$2)","v":0},{"$f":"SUMIFS(Lançamentos!$G$4:$G$1048576,Lançamentos!$F$4:$F$1048576,Base!$A13,Lançamentos!$D$4:$D$1048576,Base!CG$3,Lançamentos!$E$4:$E$1048576,Base!$CB$2)","v":0},{"$f":"SUMIFS(Lançamentos!$G$4:$G$1048576,Lançamentos!$F$4:$F$1048576,Base!$A13,Lançamentos!$D$4:$D$1048576,Base!CH$3,Lançamentos!$E$4:$E$1048576,Base!$CB$2)","v":0},{"$f":"SUMIFS(Lançamentos!$G$4:$G$1048576,Lançamentos!$F$4:$F$1048576,Base!$A13,Lançamentos!$D$4:$D$1048576,Base!CI$3,Lançamentos!$E$4:$E$1048576,Base!$CB$2)","v":0},{"$f":"SUMIFS(Lançamentos!$G$4:$G$1048576,Lançamentos!$F$4:$F$1048576,Base!$A13,Lançamentos!$D$4:$D$1048576,Base!CJ$3,Lançamentos!$E$4:$E$1048576,Base!$CB$2)","v":0},{"$f":"SUMIFS(Lançamentos!$G$4:$G$1048576,Lançamentos!$F$4:$F$1048576,Base!$A13,Lançamentos!$D$4:$D$1048576,Base!CK$3,Lançamentos!$E$4:$E$1048576,Base!$CB$2)","v":0},{"$f":"SUMIFS(Lançamentos!$G$4:$G$1048576,Lançamentos!$F$4:$F$1048576,Base!$A13,Lançamentos!$D$4:$D$1048576,Base!CL$3,Lançamentos!$E$4:$E$1048576,Base!$CB$2)","v":0},{"$f":"SUMIFS(Lançamentos!$G$4:$G$1048576,Lançamentos!$F$4:$F$1048576,Base!$A13,Lançamentos!$D$4:$D$1048576,Base!CM$3,Lançamentos!$E$4:$E$1048576,Base!$CB$2)","v":0},0,{"$f":"SUMIFS(Lançamentos!$G$4:$G$1048576,Lançamentos!$F$4:$F$1048576,Base!$A13,Lançamentos!$D$4:$D$1048576,Base!CO$3,Lançamentos!$E$4:$E$1048576,Base!$CO$2)","v":0},{"$f":"SUMIFS(Lançamentos!$G$4:$G$1048576,Lançamentos!$F$4:$F$1048576,Base!$A13,Lançamentos!$D$4:$D$1048576,Base!CP$3,Lançamentos!$E$4:$E$1048576,Base!$CO$2)","v":0},{"$f":"SUMIFS(Lançamentos!$G$4:$G$1048576,Lançamentos!$F$4:$F$1048576,Base!$A13,Lançamentos!$D$4:$D$1048576,Base!CQ$3,Lançamentos!$E$4:$E$1048576,Base!$CO$2)","v":0},{"$f":"SUMIFS(Lançamentos!$G$4:$G$1048576,Lançamentos!$F$4:$F$1048576,Base!$A13,Lançamentos!$D$4:$D$1048576,Base!CR$3,Lançamentos!$E$4:$E$1048576,Base!$CO$2)","v":0},{"$f":"SUMIFS(Lançamentos!$G$4:$G$1048576,Lançamentos!$F$4:$F$1048576,Base!$A13,Lançamentos!$D$4:$D$1048576,Base!CS$3,Lançamentos!$E$4:$E$1048576,Base!$CO$2)","v":0},{"$f":"SUMIFS(Lançamentos!$G$4:$G$1048576,Lançamentos!$F$4:$F$1048576,Base!$A13,Lançamentos!$D$4:$D$1048576,Base!CT$3,Lançamentos!$E$4:$E$1048576,Base!$CO$2)","v":0},{"$f":"SUMIFS(Lançamentos!$G$4:$G$1048576,Lançamentos!$F$4:$F$1048576,Base!$A13,Lançamentos!$D$4:$D$1048576,Base!CU$3,Lançamentos!$E$4:$E$1048576,Base!$CO$2)","v":0},{"$f":"SUMIFS(Lançamentos!$G$4:$G$1048576,Lançamentos!$F$4:$F$1048576,Base!$A13,Lançamentos!$D$4:$D$1048576,Base!CV$3,Lançamentos!$E$4:$E$1048576,Base!$CO$2)","v":0},{"$f":"SUMIFS(Lançamentos!$G$4:$G$1048576,Lançamentos!$F$4:$F$1048576,Base!$A13,Lançamentos!$D$4:$D$1048576,Base!CW$3,Lançamentos!$E$4:$E$1048576,Base!$CO$2)","v":0},{"$f":"SUMIFS(Lançamentos!$G$4:$G$1048576,Lançamentos!$F$4:$F$1048576,Base!$A13,Lançamentos!$D$4:$D$1048576,Base!CX$3,Lançamentos!$E$4:$E$1048576,Base!$CO$2)","v":0},{"$f":"SUMIFS(Lançamentos!$G$4:$G$1048576,Lançamentos!$F$4:$F$1048576,Base!$A13,Lançamentos!$D$4:$D$1048576,Base!CY$3,Lançamentos!$E$4:$E$1048576,Base!$CO$2)","v":0},{"$f":"SUMIFS(Lançamentos!$G$4:$G$1048576,Lançamentos!$F$4:$F$1048576,Base!$A13,Lançamentos!$D$4:$D$1048576,Base!CZ$3,Lançamentos!$E$4:$E$1048576,Base!$CO$2)","v":0},0,{"$f":"SUMIFS(Lançamentos!$G$4:$G$1048576,Lançamentos!$F$4:$F$1048576,Base!$A13,Lançamentos!$D$4:$D$1048576,Base!DB$3,Lançamentos!$E$4:$E$1048576,Base!$DB$2)","v":0},{"$f":"SUMIFS(Lançamentos!$G$4:$G$1048576,Lançamentos!$F$4:$F$1048576,Base!$A13,Lançamentos!$D$4:$D$1048576,Base!DC$3,Lançamentos!$E$4:$E$1048576,Base!$DB$2)","v":0},{"$f":"SUMIFS(Lançamentos!$G$4:$G$1048576,Lançamentos!$F$4:$F$1048576,Base!$A13,Lançamentos!$D$4:$D$1048576,Base!DD$3,Lançamentos!$E$4:$E$1048576,Base!$DB$2)","v":0},{"$f":"SUMIFS(Lançamentos!$G$4:$G$1048576,Lançamentos!$F$4:$F$1048576,Base!$A13,Lançamentos!$D$4:$D$1048576,Base!DE$3,Lançamentos!$E$4:$E$1048576,Base!$DB$2)","v":0},{"$f":"SUMIFS(Lançamentos!$G$4:$G$1048576,Lançamentos!$F$4:$F$1048576,Base!$A13,Lançamentos!$D$4:$D$1048576,Base!DF$3,Lançamentos!$E$4:$E$1048576,Base!$DB$2)","v":0},{"$f":"SUMIFS(Lançamentos!$G$4:$G$1048576,Lançamentos!$F$4:$F$1048576,Base!$A13,Lançamentos!$D$4:$D$1048576,Base!DG$3,Lançamentos!$E$4:$E$1048576,Base!$DB$2)","v":0},{"$f":"SUMIFS(Lançamentos!$G$4:$G$1048576,Lançamentos!$F$4:$F$1048576,Base!$A13,Lançamentos!$D$4:$D$1048576,Base!DH$3,Lançamentos!$E$4:$E$1048576,Base!$DB$2)","v":0},{"$f":"SUMIFS(Lançamentos!$G$4:$G$1048576,Lançamentos!$F$4:$F$1048576,Base!$A13,Lançamentos!$D$4:$D$1048576,Base!DI$3,Lançamentos!$E$4:$E$1048576,Base!$DB$2)","v":0},{"$f":"SUMIFS(Lançamentos!$G$4:$G$1048576,Lançamentos!$F$4:$F$1048576,Base!$A13,Lançamentos!$D$4:$D$1048576,Base!DJ$3,Lançamentos!$E$4:$E$1048576,Base!$DB$2)","v":0},{"$f":"SUMIFS(Lançamentos!$G$4:$G$1048576,Lançamentos!$F$4:$F$1048576,Base!$A13,Lançamentos!$D$4:$D$1048576,Base!DK$3,Lançamentos!$E$4:$E$1048576,Base!$DB$2)","v":0},{"$f":"SUMIFS(Lançamentos!$G$4:$G$1048576,Lançamentos!$F$4:$F$1048576,Base!$A13,Lançamentos!$D$4:$D$1048576,Base!DL$3,Lançamentos!$E$4:$E$1048576,Base!$DB$2)","v":0},{"$f":"SUMIFS(Lançamentos!$G$4:$G$1048576,Lançamentos!$F$4:$F$1048576,Base!$A13,Lançamentos!$D$4:$D$1048576,Base!DM$3,Lançamentos!$E$4:$E$1048576,Base!$DB$2)","v":0},0,{"$f":"SUMIFS(Lançamentos!$G$4:$G$1048576,Lançamentos!$F$4:$F$1048576,Base!$A13,Lançamentos!$D$4:$D$1048576,Base!DO$3,Lançamentos!$E$4:$E$1048576,Base!$DO$2)","v":0},{"$f":"SUMIFS(Lançamentos!$G$4:$G$1048576,Lançamentos!$F$4:$F$1048576,Base!$A13,Lançamentos!$D$4:$D$1048576,Base!DP$3,Lançamentos!$E$4:$E$1048576,Base!$DO$2)","v":0},{"$f":"SUMIFS(Lançamentos!$G$4:$G$1048576,Lançamentos!$F$4:$F$1048576,Base!$A13,Lançamentos!$D$4:$D$1048576,Base!DQ$3,Lançamentos!$E$4:$E$1048576,Base!$DO$2)","v":0},{"$f":"SUMIFS(Lançamentos!$G$4:$G$1048576,Lançamentos!$F$4:$F$1048576,Base!$A13,Lançamentos!$D$4:$D$1048576,Base!DR$3,Lançamentos!$E$4:$E$1048576,Base!$DO$2)","v":0},{"$f":"SUMIFS(Lançamentos!$G$4:$G$1048576,Lançamentos!$F$4:$F$1048576,Base!$A13,Lançamentos!$D$4:$D$1048576,Base!DS$3,Lançamentos!$E$4:$E$1048576,Base!$DO$2)","v":0},{"$f":"SUMIFS(Lançamentos!$G$4:$G$1048576,Lançamentos!$F$4:$F$1048576,Base!$A13,Lançamentos!$D$4:$D$1048576,Base!DT$3,Lançamentos!$E$4:$E$1048576,Base!$DO$2)","v":0},{"$f":"SUMIFS(Lançamentos!$G$4:$G$1048576,Lançamentos!$F$4:$F$1048576,Base!$A13,Lançamentos!$D$4:$D$1048576,Base!DU$3,Lançamentos!$E$4:$E$1048576,Base!$DO$2)","v":0},{"$f":"SUMIFS(Lançamentos!$G$4:$G$1048576,Lançamentos!$F$4:$F$1048576,Base!$A13,Lançamentos!$D$4:$D$1048576,Base!DV$3,Lançamentos!$E$4:$E$1048576,Base!$DO$2)","v":0},{"$f":"SUMIFS(Lançamentos!$G$4:$G$1048576,Lançamentos!$F$4:$F$1048576,Base!$A13,Lançamentos!$D$4:$D$1048576,Base!DW$3,Lançamentos!$E$4:$E$1048576,Base!$DO$2)","v":0},{"$f":"SUMIFS(Lançamentos!$G$4:$G$1048576,Lançamentos!$F$4:$F$1048576,Base!$A13,Lançamentos!$D$4:$D$1048576,Base!DX$3,Lançamentos!$E$4:$E$1048576,Base!$DO$2)","v":0},{"$f":"SUMIFS(Lançamentos!$G$4:$G$1048576,Lançamentos!$F$4:$F$1048576,Base!$A13,Lançamentos!$D$4:$D$1048576,Base!DY$3,Lançamentos!$E$4:$E$1048576,Base!$DO$2)","v":0},{"$f":"SUMIFS(Lançamentos!$G$4:$G$1048576,Lançamentos!$F$4:$F$1048576,Base!$A13,Lançamentos!$D$4:$D$1048576,Base!DZ$3,Lançamentos!$E$4:$E$1048576,Base!$DO$2)","v":0},0,{"$f":"SUMIFS(Lançamentos!$G$4:$G$1048576,Lançamentos!$F$4:$F$1048576,Base!$A13,Lançamentos!$D$4:$D$1048576,Base!EB$3,Lançamentos!$E$4:$E$1048576,Base!$EB$2)","v":0},{"$f":"SUMIFS(Lançamentos!$G$4:$G$1048576,Lançamentos!$F$4:$F$1048576,Base!$A13,Lançamentos!$D$4:$D$1048576,Base!EC$3,Lançamentos!$E$4:$E$1048576,Base!$EB$2)","v":0},{"$f":"SUMIFS(Lançamentos!$G$4:$G$1048576,Lançamentos!$F$4:$F$1048576,Base!$A13,Lançamentos!$D$4:$D$1048576,Base!ED$3,Lançamentos!$E$4:$E$1048576,Base!$EB$2)","v":0},{"$f":"SUMIFS(Lançamentos!$G$4:$G$1048576,Lançamentos!$F$4:$F$1048576,Base!$A13,Lançamentos!$D$4:$D$1048576,Base!EE$3,Lançamentos!$E$4:$E$1048576,Base!$EB$2)","v":0},{"$f":"SUMIFS(Lançamentos!$G$4:$G$1048576,Lançamentos!$F$4:$F$1048576,Base!$A13,Lançamentos!$D$4:$D$1048576,Base!EF$3,Lançamentos!$E$4:$E$1048576,Base!$EB$2)","v":0},{"$f":"SUMIFS(Lançamentos!$G$4:$G$1048576,Lançamentos!$F$4:$F$1048576,Base!$A13,Lançamentos!$D$4:$D$1048576,Base!EG$3,Lançamentos!$E$4:$E$1048576,Base!$EB$2)","v":0},{"$f":"SUMIFS(Lançamentos!$G$4:$G$1048576,Lançamentos!$F$4:$F$1048576,Base!$A13,Lançamentos!$D$4:$D$1048576,Base!EH$3,Lançamentos!$E$4:$E$1048576,Base!$EB$2)","v":0},{"$f":"SUMIFS(Lançamentos!$G$4:$G$1048576,Lançamentos!$F$4:$F$1048576,Base!$A13,Lançamentos!$D$4:$D$1048576,Base!EI$3,Lançamentos!$E$4:$E$1048576,Base!$EB$2)","v":0},{"$f":"SUMIFS(Lançamentos!$G$4:$G$1048576,Lançamentos!$F$4:$F$1048576,Base!$A13,Lançamentos!$D$4:$D$1048576,Base!EJ$3,Lançamentos!$E$4:$E$1048576,Base!$EB$2)","v":0},{"$f":"SUMIFS(Lançamentos!$G$4:$G$1048576,Lançamentos!$F$4:$F$1048576,Base!$A13,Lançamentos!$D$4:$D$1048576,Base!EK$3,Lançamentos!$E$4:$E$1048576,Base!$EB$2)","v":0},{"$f":"SUMIFS(Lançamentos!$G$4:$G$1048576,Lançamentos!$F$4:$F$1048576,Base!$A13,Lançamentos!$D$4:$D$1048576,Base!EL$3,Lançamentos!$E$4:$E$1048576,Base!$EB$2)","v":0},{"$f":"SUMIFS(Lançamentos!$G$4:$G$1048576,Lançamentos!$F$4:$F$1048576,Base!$A13,Lançamentos!$D$4:$D$1048576,Base!EM$3,Lançamentos!$E$4:$E$1048576,Base!$EB$2)","v":0},0,{"$f":"SUMIFS(Lançamentos!$G$4:$G$1048576,Lançamentos!$F$4:$F$1048576,Base!$A13,Lançamentos!$D$4:$D$1048576,Base!EO$3,Lançamentos!$E$4:$E$1048576,Base!$EO$2)","v":0},{"$f":"SUMIFS(Lançamentos!$G$4:$G$1048576,Lançamentos!$F$4:$F$1048576,Base!$A13,Lançamentos!$D$4:$D$1048576,Base!EP$3,Lançamentos!$E$4:$E$1048576,Base!$EO$2)","v":0},{"$f":"SUMIFS(Lançamentos!$G$4:$G$1048576,Lançamentos!$F$4:$F$1048576,Base!$A13,Lançamentos!$D$4:$D$1048576,Base!EQ$3,Lançamentos!$E$4:$E$1048576,Base!$EO$2)","v":0},{"$f":"SUMIFS(Lançamentos!$G$4:$G$1048576,Lançamentos!$F$4:$F$1048576,Base!$A13,Lançamentos!$D$4:$D$1048576,Base!ER$3,Lançamentos!$E$4:$E$1048576,Base!$EO$2)","v":0},{"$f":"SUMIFS(Lançamentos!$G$4:$G$1048576,Lançamentos!$F$4:$F$1048576,Base!$A13,Lançamentos!$D$4:$D$1048576,Base!ES$3,Lançamentos!$E$4:$E$1048576,Base!$EO$2)","v":0},{"$f":"SUMIFS(Lançamentos!$G$4:$G$1048576,Lançamentos!$F$4:$F$1048576,Base!$A13,Lançamentos!$D$4:$D$1048576,Base!ET$3,Lançamentos!$E$4:$E$1048576,Base!$EO$2)","v":0},{"$f":"SUMIFS(Lançamentos!$G$4:$G$1048576,Lançamentos!$F$4:$F$1048576,Base!$A13,Lançamentos!$D$4:$D$1048576,Base!EU$3,Lançamentos!$E$4:$E$1048576,Base!$EO$2)","v":0},{"$f":"SUMIFS(Lançamentos!$G$4:$G$1048576,Lançamentos!$F$4:$F$1048576,Base!$A13,Lançamentos!$D$4:$D$1048576,Base!EV$3,Lançamentos!$E$4:$E$1048576,Base!$EO$2)","v":0},{"$f":"SUMIFS(Lançamentos!$G$4:$G$1048576,Lançamentos!$F$4:$F$1048576,Base!$A13,Lançamentos!$D$4:$D$1048576,Base!EW$3,Lançamentos!$E$4:$E$1048576,Base!$EO$2)","v":0},{"$f":"SUMIFS(Lançamentos!$G$4:$G$1048576,Lançamentos!$F$4:$F$1048576,Base!$A13,Lançamentos!$D$4:$D$1048576,Base!EX$3,Lançamentos!$E$4:$E$1048576,Base!$EO$2)","v":0},{"$f":"SUMIFS(Lançamentos!$G$4:$G$1048576,Lançamentos!$F$4:$F$1048576,Base!$A13,Lançamentos!$D$4:$D$1048576,Base!EY$3,Lançamentos!$E$4:$E$1048576,Base!$EO$2)","v":0},{"$f":"SUMIFS(Lançamentos!$G$4:$G$1048576,Lançamentos!$F$4:$F$1048576,Base!$A13,Lançamentos!$D$4:$D$1048576,Base!EZ$3,Lançamentos!$E$4:$E$1048576,Base!$EO$2)","v":0},0,{"$f":"SUMIFS(Lançamentos!$G$4:$G$1048576,Lançamentos!$F$4:$F$1048576,Base!$A13,Lançamentos!$D$4:$D$1048576,Base!FB$3,Lançamentos!$E$4:$E$1048576,Base!$FB$2)","v":0},{"$f":"SUMIFS(Lançamentos!$G$4:$G$1048576,Lançamentos!$F$4:$F$1048576,Base!$A13,Lançamentos!$D$4:$D$1048576,Base!FC$3,Lançamentos!$E$4:$E$1048576,Base!$FB$2)","v":0},{"$f":"SUMIFS(Lançamentos!$G$4:$G$1048576,Lançamentos!$F$4:$F$1048576,Base!$A13,Lançamentos!$D$4:$D$1048576,Base!FD$3,Lançamentos!$E$4:$E$1048576,Base!$FB$2)","v":0},{"$f":"SUMIFS(Lançamentos!$G$4:$G$1048576,Lançamentos!$F$4:$F$1048576,Base!$A13,Lançamentos!$D$4:$D$1048576,Base!FE$3,Lançamentos!$E$4:$E$1048576,Base!$FB$2)","v":0},{"$f":"SUMIFS(Lançamentos!$G$4:$G$1048576,Lançamentos!$F$4:$F$1048576,Base!$A13,Lançamentos!$D$4:$D$1048576,Base!FF$3,Lançamentos!$E$4:$E$1048576,Base!$FB$2)","v":0},{"$f":"SUMIFS(Lançamentos!$G$4:$G$1048576,Lançamentos!$F$4:$F$1048576,Base!$A13,Lançamentos!$D$4:$D$1048576,Base!FG$3,Lançamentos!$E$4:$E$1048576,Base!$FB$2)","v":0},{"$f":"SUMIFS(Lançamentos!$G$4:$G$1048576,Lançamentos!$F$4:$F$1048576,Base!$A13,Lançamentos!$D$4:$D$1048576,Base!FH$3,Lançamentos!$E$4:$E$1048576,Base!$FB$2)","v":0},{"$f":"SUMIFS(Lançamentos!$G$4:$G$1048576,Lançamentos!$F$4:$F$1048576,Base!$A13,Lançamentos!$D$4:$D$1048576,Base!FI$3,Lançamentos!$E$4:$E$1048576,Base!$FB$2)","v":0},{"$f":"SUMIFS(Lançamentos!$G$4:$G$1048576,Lançamentos!$F$4:$F$1048576,Base!$A13,Lançamentos!$D$4:$D$1048576,Base!FJ$3,Lançamentos!$E$4:$E$1048576,Base!$FB$2)","v":0},{"$f":"SUMIFS(Lançamentos!$G$4:$G$1048576,Lançamentos!$F$4:$F$1048576,Base!$A13,Lançamentos!$D$4:$D$1048576,Base!FK$3,Lançamentos!$E$4:$E$1048576,Base!$FB$2)","v":0},{"$f":"SUMIFS(Lançamentos!$G$4:$G$1048576,Lançamentos!$F$4:$F$1048576,Base!$A13,Lançamentos!$D$4:$D$1048576,Base!FL$3,Lançamentos!$E$4:$E$1048576,Base!$FB$2)","v":0},{"$f":"SUMIFS(Lançamentos!$G$4:$G$1048576,Lançamentos!$F$4:$F$1048576,Base!$A13,Lançamentos!$D$4:$D$1048576,Base!FM$3,Lançamentos!$E$4:$E$1048576,Base!$FB$2)","v":0},0,{"$f":"SUMIFS(Lançamentos!$G$4:$G$1048576,Lançamentos!$F$4:$F$1048576,Base!$A13,Lançamentos!$D$4:$D$1048576,Base!FO$3,Lançamentos!$E$4:$E$1048576,Base!$FO$2)","v":0},{"$f":"SUMIFS(Lançamentos!$G$4:$G$1048576,Lançamentos!$F$4:$F$1048576,Base!$A13,Lançamentos!$D$4:$D$1048576,Base!FP$3,Lançamentos!$E$4:$E$1048576,Base!$FO$2)","v":0},{"$f":"SUMIFS(Lançamentos!$G$4:$G$1048576,Lançamentos!$F$4:$F$1048576,Base!$A13,Lançamentos!$D$4:$D$1048576,Base!FQ$3,Lançamentos!$E$4:$E$1048576,Base!$FO$2)","v":0},{"$f":"SUMIFS(Lançamentos!$G$4:$G$1048576,Lançamentos!$F$4:$F$1048576,Base!$A13,Lançamentos!$D$4:$D$1048576,Base!FR$3,Lançamentos!$E$4:$E$1048576,Base!$FO$2)","v":0},{"$f":"SUMIFS(Lançamentos!$G$4:$G$1048576,Lançamentos!$F$4:$F$1048576,Base!$A13,Lançamentos!$D$4:$D$1048576,Base!FS$3,Lançamentos!$E$4:$E$1048576,Base!$FO$2)","v":0},{"$f":"SUMIFS(Lançamentos!$G$4:$G$1048576,Lançamentos!$F$4:$F$1048576,Base!$A13,Lançamentos!$D$4:$D$1048576,Base!FT$3,Lançamentos!$E$4:$E$1048576,Base!$FO$2)","v":0},{"$f":"SUMIFS(Lançamentos!$G$4:$G$1048576,Lançamentos!$F$4:$F$1048576,Base!$A13,Lançamentos!$D$4:$D$1048576,Base!FU$3,Lançamentos!$E$4:$E$1048576,Base!$FO$2)","v":0},{"$f":"SUMIFS(Lançamentos!$G$4:$G$1048576,Lançamentos!$F$4:$F$1048576,Base!$A13,Lançamentos!$D$4:$D$1048576,Base!FV$3,Lançamentos!$E$4:$E$1048576,Base!$FO$2)","v":0},{"$f":"SUMIFS(Lançamentos!$G$4:$G$1048576,Lançamentos!$F$4:$F$1048576,Base!$A13,Lançamentos!$D$4:$D$1048576,Base!FW$3,Lançamentos!$E$4:$E$1048576,Base!$FO$2)","v":0},{"$f":"SUMIFS(Lançamentos!$G$4:$G$1048576,Lançamentos!$F$4:$F$1048576,Base!$A13,Lançamentos!$D$4:$D$1048576,Base!FX$3,Lançamentos!$E$4:$E$1048576,Base!$FO$2)","v":0},{"$f":"SUMIFS(Lançamentos!$G$4:$G$1048576,Lançamentos!$F$4:$F$1048576,Base!$A13,Lançamentos!$D$4:$D$1048576,Base!FY$3,Lançamentos!$E$4:$E$1048576,Base!$FO$2)","v":0},{"$f":"SUMIFS(Lançamentos!$G$4:$G$1048576,Lançamentos!$F$4:$F$1048576,Base!$A13,Lançamentos!$D$4:$D$1048576,Base!FZ$3,Lançamentos!$E$4:$E$1048576,Base!$FO$2)","v":0},0,{"$f":"SUMIFS(Lançamentos!$G$4:$G$1048576,Lançamentos!$F$4:$F$1048576,Base!$A13,Lançamentos!$D$4:$D$1048576,Base!GB$3,Lançamentos!$E$4:$E$1048576,Base!$GB$2)","v":0},{"$f":"SUMIFS(Lançamentos!$G$4:$G$1048576,Lançamentos!$F$4:$F$1048576,Base!$A13,Lançamentos!$D$4:$D$1048576,Base!GC$3,Lançamentos!$E$4:$E$1048576,Base!$GB$2)","v":0},{"$f":"SUMIFS(Lançamentos!$G$4:$G$1048576,Lançamentos!$F$4:$F$1048576,Base!$A13,Lançamentos!$D$4:$D$1048576,Base!GD$3,Lançamentos!$E$4:$E$1048576,Base!$GB$2)","v":0},{"$f":"SUMIFS(Lançamentos!$G$4:$G$1048576,Lançamentos!$F$4:$F$1048576,Base!$A13,Lançamentos!$D$4:$D$1048576,Base!GE$3,Lançamentos!$E$4:$E$1048576,Base!$GB$2)","v":0},{"$f":"SUMIFS(Lançamentos!$G$4:$G$1048576,Lançamentos!$F$4:$F$1048576,Base!$A13,Lançamentos!$D$4:$D$1048576,Base!GF$3,Lançamentos!$E$4:$E$1048576,Base!$GB$2)","v":0},{"$f":"SUMIFS(Lançamentos!$G$4:$G$1048576,Lançamentos!$F$4:$F$1048576,Base!$A13,Lançamentos!$D$4:$D$1048576,Base!GG$3,Lançamentos!$E$4:$E$1048576,Base!$GB$2)","v":0},{"$f":"SUMIFS(Lançamentos!$G$4:$G$1048576,Lançamentos!$F$4:$F$1048576,Base!$A13,Lançamentos!$D$4:$D$1048576,Base!GH$3,Lançamentos!$E$4:$E$1048576,Base!$GB$2)","v":0},{"$f":"SUMIFS(Lançamentos!$G$4:$G$1048576,Lançamentos!$F$4:$F$1048576,Base!$A13,Lançamentos!$D$4:$D$1048576,Base!GI$3,Lançamentos!$E$4:$E$1048576,Base!$GB$2)","v":0},{"$f":"SUMIFS(Lançamentos!$G$4:$G$1048576,Lançamentos!$F$4:$F$1048576,Base!$A13,Lançamentos!$D$4:$D$1048576,Base!GJ$3,Lançamentos!$E$4:$E$1048576,Base!$GB$2)","v":0},{"$f":"SUMIFS(Lançamentos!$G$4:$G$1048576,Lançamentos!$F$4:$F$1048576,Base!$A13,Lançamentos!$D$4:$D$1048576,Base!GK$3,Lançamentos!$E$4:$E$1048576,Base!$GB$2)","v":0},{"$f":"SUMIFS(Lançamentos!$G$4:$G$1048576,Lançamentos!$F$4:$F$1048576,Base!$A13,Lançamentos!$D$4:$D$1048576,Base!GL$3,Lançamentos!$E$4:$E$1048576,Base!$GB$2)","v":0},{"$f":"SUMIFS(Lançamentos!$G$4:$G$1048576,Lançamentos!$F$4:$F$1048576,Base!$A13,Lançamentos!$D$4:$D$1048576,Base!GM$3,Lançamentos!$E$4:$E$1048576,Base!$GB$2)","v":0},0,null,2026]
[{"$f":"IF(Lançamentos!A11=\"\",\"\",Lançamentos!A11)","v":"Transferências Bancárias"},{"$f":"SUMIFS(Lançamentos!$G$4:$G$1048576,Lançamentos!$F$4:$F$1048576,Base!$A14,Lançamentos!$D$4:$D$1048576,Base!B$3,Lançamentos!$E$4:$E$1048576,Base!$B$2)","v":0},{"$f":"SUMIFS(Lançamentos!$G$4:$G$1048576,Lançamentos!$F$4:$F$1048576,Base!$A14,Lançamentos!$D$4:$D$1048576,Base!C$3,Lançamentos!$E$4:$E$1048576,Base!$B$2)","v":0},{"$f":"SUMIFS(Lançamentos!$G$4:$G$1048576,Lançamentos!$F$4:$F$1048576,Base!$A14,Lançamentos!$D$4:$D$1048576,Base!D$3,Lançamentos!$E$4:$E$1048576,Base!$B$2)","v":0},{"$f":"SUMIFS(Lançamentos!$G$4:$G$1048576,Lançamentos!$F$4:$F$1048576,Base!$A14,Lançamentos!$D$4:$D$1048576,Base!E$3,Lançamentos!$E$4:$E$1048576,Base!$B$2)","v":0},{"$f":"SUMIFS(Lançamentos!$G$4:$G$1048576,Lançamentos!$F$4:$F$1048576,Base!$A14,Lançamentos!$D$4:$D$1048576,Base!F$3,Lançamentos!$E$4:$E$1048576,Base!$B$2)","v":0},{"$f":"SUMIFS(Lançamentos!$G$4:$G$1048576,Lançamentos!$F$4:$F$1048576,Base!$A14,Lançamentos!$D$4:$D$1048576,Base!G$3,Lançamentos!$E$4:$E$1048576,Base!$B$2)","v":0},{"$f":"SUMIFS(Lançamentos!$G$4:$G$1048576,Lançamentos!$F$4:$F$1048576,Base!$A14,Lançamentos!$D$4:$D$1048576,Base!H$3,Lançamentos!$E$4:$E$1048576,Base!$B$2)","v":0},{"$f":"SUMIFS(Lançamentos!$G$4:$G$1048576,Lançamentos!$F$4:$F$1048576,Base!$A14,Lançamentos!$D$4:$D$1048576,Base!I$3,Lançamentos!$E$4:$E$1048576,Base!$B$2)","v":0},{"$f":"SUMIFS(Lançamentos!$G$4:$G$1048576,Lançamentos!$F$4:$F$1048576,Base!$A14,Lançamentos!$D$4:$D$1048576,Base!J$3,Lançamentos!$E$4:$E$1048576,Base!$B$2)","v":0},{"$f":"SUMIFS(Lançamentos!$G$4:$G$1048576,Lançamentos!$F$4:$F$1048576,Base!$A14,Lançamentos!$D$4:$D$1048576,Base!K$3,Lançamentos!$E$4:$E$1048576,Base!$B$2)","v":0},{"$f":"SUMIFS(Lançamentos!$G$4:$G$1048576,Lançamentos!$F$4:$F$1048576,Base!$A14,Lançamentos!$D$4:$D$1048576,Base!L$3,Lançamentos!$E$4:$E$1048576,Base!$B$2)","v":0},{"$f":"SUMIFS(Lançamentos!$G$4:$G$1048576,Lançamentos!$F$4:$F$1048576,Base!$A14,Lançamentos!$D$4:$D$1048576,Base!M$3,Lançamentos!$E$4:$E$1048576,Base!$B$2)","v":0},0,{"$f":"SUMIFS(Lançamentos!$G$4:$G$1048576,Lançamentos!$F$4:$F$1048576,Base!$A14,Lançamentos!$D$4:$D$1048576,Base!O$3,Lançamentos!$E$4:$E$1048576,Base!$O$2)","v":0},{"$f":"SUMIFS(Lançamentos!$G$4:$G$1048576,Lançamentos!$F$4:$F$1048576,Base!$A14,Lançamentos!$D$4:$D$1048576,Base!P$3,Lançamentos!$E$4:$E$1048576,Base!$O$2)","v":0},{"$f":"SUMIFS(Lançamentos!$G$4:$G$1048576,Lançamentos!$F$4:$F$1048576,Base!$A14,Lançamentos!$D$4:$D$1048576,Base!Q$3,Lançamentos!$E$4:$E$1048576,Base!$O$2)","v":0},{"$f":"SUMIFS(Lançamentos!$G$4:$G$1048576,Lançamentos!$F$4:$F$1048576,Base!$A14,Lançamentos!$D$4:$D$1048576,Base!R$3,Lançamentos!$E$4:$E$1048576,Base!$O$2)","v":0},{"$f":"SUMIFS(Lançamentos!$G$4:$G$1048576,Lançamentos!$F$4:$F$1048576,Base!$A14,Lançamentos!$D$4:$D$1048576,Base!S$3,Lançamentos!$E$4:$E$1048576,Base!$O$2)","v":0},{"$f":"SUMIFS(Lançamentos!$G$4:$G$1048576,Lançamentos!$F$4:$F$1048576,Base!$A14,Lançamentos!$D$4:$D$1048576,Base!T$3,Lançamentos!$E$4:$E$1048576,Base!$O$2)","v":0},{"$f":"SUMIFS(Lançamentos!$G$4:$G$1048576,Lançamentos!$F$4:$F$1048576,Base!$A14,Lançamentos!$D$4:$D$1048576,Base!U$3,Lançamentos!$E$4:$E$1048576,Base!$O$2)","v":0},{"$f":"SUMIFS(Lançamentos!$G$4:$G$1048576,Lançamentos!$F$4:$F$1048576,Base!$A14,Lançamentos!$D$4:$D$1048576,Base!V$3,Lançamentos!$E$4:$E$1048576,Base!$O$2)","v":0},{"$f":"SUMIFS(Lançamentos!$G$4:$G$1048576,Lançamentos!$F$4:$F$1048576,Base!$A14,Lançamentos!$D$4:$D$1048576,Base!W$3,Lançamentos!$E$4:$E$1048576,Base!$O$2)","v":0},{"$f":"SUMIFS(Lançamentos!$G$4:$G$1048576,Lançamentos!$F$4:$F$1048576,Base!$A14,Lançamentos!$D$4:$D$1048576,Base!X$3,Lançamentos!$E$4:$E$1048576,Base!$O$2)","v":0},{"$f":"SUMIFS(Lançamentos!$G$4:$G$1048576,Lançamentos!$F$4:$F$1048576,Base!$A14,Lançamentos!$D$4:$D$1048576,Base!Y$3,Lançamentos!$E$4:$E$1048576,Base!$O$2)","v":0},{"$f":"SUMIFS(Lançamentos!$G$4:$G$1048576,Lançamentos!$F$4:$F$1048576,Base!$A14,Lançamentos!$D$4:$D$1048576,Base!Z$3,Lançamentos!$E$4:$E$1048576,Base!$O$2)","v":0},0,{"$f":"SUMIFS(Lançamentos!$G$4:$G$1048576,Lançamentos!$F$4:$F$1048576,Base!$A14,Lançamentos!$D$4:$D$1048576,Base!AB$3,Lançamentos!$E$4:$E$1048576,Base!$AB$2)","v":0},{"$f":"SUMIFS(Lançamentos!$G$4:$G$1048576,Lançamentos!$F$4:$F$1048576,Base!$A14,Lançamentos!$D$4:$D$1048576,Base!AC$3,Lançamentos!$E$4:$E$1048576,Base!$AB$2)","v":0},{"$f":"SUMIFS(Lançamentos!$G$4:$G$1048576,Lançamentos!$F$4:$F$1048576,Base!$A14,Lançamentos!$D$4:$D$1048576,Base!AD$3,Lançamentos!$E$4:$E$1048576,Base!$AB$2)","v":0},{"$f":"SUMIFS(Lançamentos!$G$4:$G$1048576,Lançamentos!$F$4:$F$1048576,Base!$A14,Lançamentos!$D$4:$D$1048576,Base!AE$3,Lançamentos!$E$4:$E$1048576,Base!$AB$2)","v":0},{"$f":"SUMIFS(Lançamentos!$G$4:$G$1048576,Lançamentos!$F$4:$F$1048576,Base!$A14,Lançamentos!$D$4:$D$1048576,Base!AF$3,Lançamentos!$E$4:$E$1048576,Base!$AB$2)","v":0},{"$f":"SUMIFS(Lançamentos!$G$4:$G$1048576,Lançamentos!$F$4:$F$1048576,Base!$A14,Lançamentos!$D$4:$D$1048576,Base!AG$3,Lançamentos!$E$4:$E$1048576,Base!$AB$2)","v":0},{"$f":"SUMIFS(Lançamentos!$G$4:$G$1048576,Lançamentos!$F$4:$F$1048576,Base!$A14,Lançamentos!$D$4:$D$1048576,Base!AH$3,Lançamentos!$E$4:$E$1048576,Base!$AB$2)","v":0},{"$f":"SUMIFS(Lançamentos!$G$4:$G$1048576,Lançamentos!$F$4:$F$1048576,Base!$A14,Lançamentos!$D$4:$D$1048576,Base!AI$3,Lançamentos!$E$4:$E$1048576,Base!$AB$2)","v":0},{"$f":"SUMIFS(Lançamentos!$G$4:$G$1048576,Lançamentos!$F$4:$F$1048576,Base!$A14,Lançamentos!$D$4:$D$1048576,Base!AJ$3,Lançamentos!$E$4:$E$1048576,Base!$AB$2)","v":0},{"$f":"SUMIFS(Lançamentos!$G$4:$G$1048576,Lançamentos!$F$4:$F$1048576,Base!$A14,Lançamentos!$D$4:$D$1048576,Base!AK$3,Lançamentos!$E$4:$E$1048576,Base!$AB$2)","v":0},{"$f":"SUMIFS(Lançamentos!$G$4:$G$1048576,Lançamentos!$F$4:$F$1048576,Base!$A14,Lançamentos!$D$4:$D$1048576,Base!AL$3,Lançamentos!$E$4:$E$1048576,Base!$AB$2)","v":0},{"$f":"SUMIFS(Lançamentos!$G$4:$G$1048576,Lançamentos!$F$4:$F$1048576,Base!$A14,Lançamentos!$D$4:$D$1048576,Base!AM$3,Lançamentos!$E$4:$E$1048576,Base!$AB$2)","v":0},0,{"$f":"SUMIFS(Lançamentos!$G$4:$G$1048576,Lançamentos!$F$4:$F$1048576,Base!$A14,Lançamentos!$D$4:$D$1048576,Base!AO$3,Lançamentos!$E$4:$E$1048576,Base!$AO$2)","v":0},{"$f":"SUMIFS(Lançamentos!$G$4:$G$1048576,Lançamentos!$F$4:$F$1048576,Base!$A14,Lançamentos!$D$4:$D$1048576,Base!AP$3,Lançamentos!$E$4:$E$1048576,Base!$AO$2)","v":0},{"$f":"SUMIFS(Lançamentos!$G$4:$G$1048576,Lançamentos!$F$4:$F$1048576,Base!$A14,Lançamentos!$D$4:$D$1048576,Base!AQ$3,Lançamentos!$E$4:$E$1048576,Base!$AO$2)","v":0},{"$f":"SUMIFS(Lançamentos!$G$4:$G$1048576,Lançamentos!$F$4:$F$1048576,Base!$A14,Lançamentos!$D$4:$D$1048576,Base!AR$3,Lançamentos!$E$4:$E$1048576,Base!$AO$2)","v":0},{"$f":"SUMIFS(Lançamentos!$G$4:$G$1048576,Lançamentos!$F$4:$F$1048576,Base!$A14,Lançamentos!$D$4:$D$1048576,Base!AS$3,Lançamentos!$E$4:$E$1048576,Base!$AO$2)","v":0},{"$f":"SUMIFS(Lançamentos!$G$4:$G$1048576,Lançamentos!$F$4:$F$1048576,Base!$A14,Lançamentos!$D$4:$D$1048576,Base!AT$3,Lançamentos!$E$4:$E$1048576,Base!$AO$2)","v":0},{"$f":"SUMIFS(Lançamentos!$G$4:$G$1048576,Lançamentos!$F$4:$F$1048576,Base!$A14,Lançamentos!$D$4:$D$1048576,Base!AU$3,Lançamentos!$E$4:$E$1048576,Base!$AO$2)","v":0},{"$f":"SUMIFS(Lançamentos!$G$4:$G$1048576,Lançamentos!$F$4:$F$1048576,Base!$A14,Lançamentos!$D$4:$D$1048576,Base!AV$3,Lançamentos!$E$4:$E$1048576,Base!$AO$2)","v":0},{"$f":"SUMIFS(Lançamentos!$G$4:$G$1048576,Lançamentos!$F$4:$F$1048576,Base!$A14,Lançamentos!$D$4:$D$1048576,Base!AW$3,Lançamentos!$E$4:$E$1048576,Base!$AO$2)","v":0},{"$f":"SUMIFS(Lançamentos!$G$4:$G$1048576,Lançamentos!$F$4:$F$1048576,Base!$A14,Lançamentos!$D$4:$D$1048576,Base!AX$3,Lançamentos!$E$4:$E$1048576,Base!$AO$2)","v":0},{"$f":"SUMIFS(Lançamentos!$G$4:$G$1048576,Lançamentos!$F$4:$F$1048576,Base!$A14,Lançamentos!$D$4:$D$1048576,Base!AY$3,Lançamentos!$E$4:$E$1048576,Base!$AO$2)","v":0},{"$f":"SUMIFS(Lançamentos!$G$4:$G$1048576,Lançamentos!$F$4:$F$1048576,Base!$A14,Lançamentos!$D$4:$D$1048576,Base!AZ$3,Lançamentos!$E$4:$E$1048576,Base!$AO$2)","v":0},0,{"$f":"SUMIFS(Lançamentos!$G$4:$G$1048576,Lançamentos!$F$4:$F$1048576,Base!$A14,Lançamentos!$D$4:$D$1048576,Base!BB$3,Lançamentos!$E$4:$E$1048576,Base!$BB$2)","v":0},{"$f":"SUMIFS(Lançamentos!$G$4:$G$1048576,Lançamentos!$F$4:$F$1048576,Base!$A14,Lançamentos!$D$4:$D$1048576,Base!BC$3,Lançamentos!$E$4:$E$1048576,Base!$BB$2)","v":0},{"$f":"SUMIFS(Lançamentos!$G$4:$G$1048576,Lançamentos!$F$4:$F$1048576,Base!$A14,Lançamentos!$D$4:$D$1048576,Base!BD$3,Lançamentos!$E$4:$E$1048576,Base!$BB$2)","v":0},{"$f":"SUMIFS(Lançamentos!$G$4:$G$1048576,Lançamentos!$F$4:$F$1048576,Base!$A14,Lançamentos!$D$4:$D$1048576,Base!BE$3,Lançamentos!$E$4:$E$1048576,Base!$BB$2)","v":0},{"$f":"SUMIFS(Lançamentos!$G$4:$G$1048576,Lançamentos!$F$4:$F$1048576,Base!$A14,Lançamentos!$D$4:$D$1048576,Base!BF$3,Lançamentos!$E$4:$E$1048576,Base!$BB$2)","v":0},{"$f":"SUMIFS(Lançamentos!$G$4:$G$1048576,Lançamentos!$F$4:$F$1048576,Base!$A14,Lançamentos!$D$4:$D$1048576,Base!BG$3,Lançamentos!$E$4:$E$1048576,Base!$BB$2)","v":0},{"$f":"SUMIFS(Lançamentos!$G$4:$G$1048576,Lançamentos!$F$4:$F$1048576,Base!$A14,Lançamentos!$D$4:$D$1048576,Base!BH$3,Lançamentos!$E$4:$E$1048576,Base!$BB$2)","v":0},{"$f":"SUMIFS(Lançamentos!$G$4:$G$1048576,Lançamentos!$F$4:$F$1048576,Base!$A14,Lançamentos!$D$4:$D$1048576,Base!BI$3,Lançamentos!$E$4:$E$1048576,Base!$BB$2)","v":0},{"$f":"SUMIFS(Lançamentos!$G$4:$G$1048576,Lançamentos!$F$4:$F$1048576,Base!$A14,Lançamentos!$D$4:$D$1048576,Base!BJ$3,Lançamentos!$E$4:$E$1048576,Base!$BB$2)","v":0},{"$f":"SUMIFS(Lançamentos!$G$4:$G$1048576,Lançamentos!$F$4:$F$1048576,Base!$A14,Lançamentos!$D$4:$D$1048576,Base!BK$3,Lançamentos!$E$4:$E$1048576,Base!$BB$2)","v":0},{"$f":"SUMIFS(Lançamentos!$G$4:$G$1048576,Lançamentos!$F$4:$F$1048576,Base!$A14,Lançamentos!$D$4:$D$1048576,Base!BL$3,Lançamentos!$E$4:$E$1048576,Base!$BB$2)","v":0},{"$f":"SUMIFS(Lançamentos!$G$4:$G$1048576,Lançamentos!$F$4:$F$1048576,Base!$A14,Lançamentos!$D$4:$D$1048576,Base!BM$3,Lançamentos!$E$4:$E$1048576,Base!$BB$2)","v":0},0,{"$f":"SUMIFS(Lançamentos!$G$4:$G$1048576,Lançamentos!$F$4:$F$1048576,Base!$A14,Lançamentos!$D$4:$D$1048576,Base!BO$3,Lançamentos!$E$4:$E$1048576,Base!$BO$2)","v":0},{"$f":"SUMIFS(Lançamentos!$G$4:$G$1048576,Lançamentos!$F$4:$F$1048576,Base!$A14,Lançamentos!$D$4:$D$1048576,Base!BP$3,Lançamentos!$E$4:$E$1048576,Base!$BO$2)","v":0},{"$f":"SUMIFS(Lançamentos!$G$4:$G$1048576,Lançamentos!$F$4:$F$1048576,Base!$A14,Lançamentos!$D$4:$D$1048576,Base!BQ$3,Lançamentos!$E$4:$E$1048576,Base!$BO$2)","v":0},{"$f":"SUMIFS(Lançamentos!$G$4:$G$1048576,Lançamentos!$F$4:$F$1048576,Base!$A14,Lançamentos!$D$4:$D$1048576,Base!BR$3,Lançamentos!$E$4:$E$1048576,Base!$BO$2)","v":0},{"$f":"SUMIFS(Lançamentos!$G$4:$G$1048576,Lançamentos!$F$4:$F$1048576,Base!$A14,Lançamentos!$D$4:$D$1048576,Base!BS$3,Lançamentos!$E$4:$E$1048576,Base!$BO$2)","v":0},{"$f":"SUMIFS(Lançamentos!$G$4:$G$1048576,Lançamentos!$F$4:$F$1048576,Base!$A14,Lançamentos!$D$4:$D$1048576,Base!BT$3,Lançamentos!$E$4:$E$1048576,Base!$BO$2)","v":0},{"$f":"SUMIFS(Lançamentos!$G$4:$G$1048576,Lançamentos!$F$4:$F$1048576,Base!$A14,Lançamentos!$D$4:$D$1048576,Base!BU$3,Lançamentos!$E$4:$E$1048576,Base!$BO$2)","v":0},{"$f":"SUMIFS(Lançamentos!$G$4:$G$1048576,Lançamentos!$F$4:$F$1048576,Base!$A14,Lançamentos!$D$4:$D$1048576,Base!BV$3,Lançamentos!$E$4:$E$1048576,Base!$BO$2)","v":0},{"$f":"SUMIFS(Lançamentos!$G$4:$G$1048576,Lançamentos!$F$4:$F$1048576,Base!$A14,Lançamentos!$D$4:$D$1048576,Base!BW$3,Lançamentos!$E$4:$E$1048576,Base!$BO$2)","v":0},{"$f":"SUMIFS(Lançamentos!$G$4:$G$1048576,Lançamentos!$F$4:$F$1048576,Base!$A14,Lançamentos!$D$4:$D$1048576,Base!BX$3,Lançamentos!$E$4:$E$1048576,Base!$BO$2)","v":0},{"$f":"SUMIFS(Lançamentos!$G$4:$G$1048576,Lançamentos!$F$4:$F$1048576,Base!$A14,Lançamentos!$D$4:$D$1048576,Base!BY$3,Lançamentos!$E$4:$E$1048576,Base!$BO$2)","v":0},{"$f":"SUMIFS(Lançamentos!$G$4:$G$1048576,Lançamentos!$F$4:$F$1048576,Base!$A14,Lançamentos!$D$4:$D$1048576,Base!BZ$3,Lançamentos!$E$4:$E$1048576,Base!$BO$2)","v":0},0,{"$f":"SUMIFS(Lançamentos!$G$4:$G$1048576,Lançamentos!$F$4:$F$1048576,Base!$A14,Lançamentos!$D$4:$D$1048576,Base!CB$3,Lançamentos!$E$4:$E$1048576,Base!$CB$2)","v":0},{"$f":"SUMIFS(Lançamentos!$G$4:$G$1048576,Lançamentos!$F$4:$F$1048576,Base!$A14,Lançamentos!$D$4:$D$1048576,Base!CC$3,Lançamentos!$E$4:$E$1048576,Base!$CB$2)","v":0},{"$f":"SUMIFS(Lançamentos!$G$4:$G$1048576,Lançamentos!$F$4:$F$1048576,Base!$A14,Lançamentos!$D$4:$D$1048576,Base!CD$3,Lançamentos!$E$4:$E$1048576,Base!$CB$2)","v":0},{"$f":"SUMIFS(Lançamentos!$G$4:$G$1048576,Lançamentos!$F$4:$F$1048576,Base!$A14,Lançamentos!$D$4:$D$1048576,Base!CE$3,Lançamentos!$E$4:$E$1048576,Base!$CB$2)","v":0},{"$f":"SUMIFS(Lançamentos!$G$4:$G$1048576,Lançamentos!$F$4:$F$1048576,Base!$A14,Lançamentos!$D$4:$D$1048576,Base!CF$3,Lançamentos!$E$4:$E$1048576,Base!$CB$2)","v":0},{"$f":"SUMIFS(Lançamentos!$G$4:$G$1048576,Lançamentos!$F$4:$F$1048576,Base!$A14,Lançamentos!$D$4:$D$1048576,Base!CG$3,Lançamentos!$E$4:$E$1048576,Base!$CB$2)","v":0},{"$f":"SUMIFS(Lançamentos!$G$4:$G$1048576,Lançamentos!$F$4:$F$1048576,Base!$A14,Lançamentos!$D$4:$D$1048576,Base!CH$3,Lançamentos!$E$4:$E$1048576,Base!$CB$2)","v":0},{"$f":"SUMIFS(Lançamentos!$G$4:$G$1048576,Lançamentos!$F$4:$F$1048576,Base!$A14,Lançamentos!$D$4:$D$1048576,Base!CI$3,Lançamentos!$E$4:$E$1048576,Base!$CB$2)","v":0},{"$f":"SUMIFS(Lançamentos!$G$4:$G$1048576,Lançamentos!$F$4:$F$1048576,Base!$A14,Lançamentos!$D$4:$D$1048576,Base!CJ$3,Lançamentos!$E$4:$E$1048576,Base!$CB$2)","v":0},{"$f":"SUMIFS(Lançamentos!$G$4:$G$1048576,Lançamentos!$F$4:$F$1048576,Base!$A14,Lançamentos!$D$4:$D$1048576,Base!CK$3,Lançamentos!$E$4:$E$1048576,Base!$CB$2)","v":0},{"$f":"SUMIFS(Lançamentos!$G$4:$G$1048576,Lançamentos!$F$4:$F$1048576,Base!$A14,Lançamentos!$D$4:$D$1048576,Base!CL$3,Lançamentos!$E$4:$E$1048576,Base!$CB$2)","v":0},{"$f":"SUMIFS(Lançamentos!$G$4:$G$1048576,Lançamentos!$F$4:$F$1048576,Base!$A14,Lançamentos!$D$4:$D$1048576,Base!CM$3,Lançamentos!$E$4:$E$1048576,Base!$CB$2)","v":0},0,{"$f":"SUMIFS(Lançamentos!$G$4:$G$1048576,Lançamentos!$F$4:$F$1048576,Base!$A14,Lançamentos!$D$4:$D$1048576,Base!CO$3,Lançamentos!$E$4:$E$1048576,Base!$CO$2)","v":0},{"$f":"SUMIFS(Lançamentos!$G$4:$G$1048576,Lançamentos!$F$4:$F$1048576,Base!$A14,Lançamentos!$D$4:$D$1048576,Base!CP$3,Lançamentos!$E$4:$E$1048576,Base!$CO$2)","v":0},{"$f":"SUMIFS(Lançamentos!$G$4:$G$1048576,Lançamentos!$F$4:$F$1048576,Base!$A14,Lançamentos!$D$4:$D$1048576,Base!CQ$3,Lançamentos!$E$4:$E$1048576,Base!$CO$2)","v":0},{"$f":"SUMIFS(Lançamentos!$G$4:$G$1048576,Lançamentos!$F$4:$F$1048576,Base!$A14,Lançamentos!$D$4:$D$1048576,Base!CR$3,Lançamentos!$E$4:$E$1048576,Base!$CO$2)","v":0},{"$f":"SUMIFS(Lançamentos!$G$4:$G$1048576,Lançamentos!$F$4:$F$1048576,Base!$A14,Lançamentos!$D$4:$D$1048576,Base!CS$3,Lançamentos!$E$4:$E$1048576,Base!$CO$2)","v":0},{"$f":"SUMIFS(Lançamentos!$G$4:$G$1048576,Lançamentos!$F$4:$F$1048576,Base!$A14,Lançamentos!$D$4:$D$1048576,Base!CT$3,Lançamentos!$E$4:$E$1048576,Base!$CO$2)","v":0},{"$f":"SUMIFS(Lançamentos!$G$4:$G$1048576,Lançamentos!$F$4:$F$1048576,Base!$A14,Lançamentos!$D$4:$D$1048576,Base!CU$3,Lançamentos!$E$4:$E$1048576,Base!$CO$2)","v":0},{"$f":"SUMIFS(Lançamentos!$G$4:$G$1048576,Lançamentos!$F$4:$F$1048576,Base!$A14,Lançamentos!$D$4:$D$1048576,Base!CV$3,Lançamentos!$E$4:$E$1048576,Base!$CO$2)","v":0},{"$f":"SUMIFS(Lançamentos!$G$4:$G$1048576,Lançamentos!$F$4:$F$1048576,Base!$A14,Lançamentos!$D$4:$D$1048576,Base!CW$3,Lançamentos!$E$4:$E$1048576,Base!$CO$2)","v":0},{"$f":"SUMIFS(Lançamentos!$G$4:$G$1048576,Lançamentos!$F$4:$F$1048576,Base!$A14,Lançamentos!$D$4:$D$1048576,Base!CX$3,Lançamentos!$E$4:$E$1048576,Base!$CO$2)","v":0},{"$f":"SUMIFS(Lançamentos!$G$4:$G$1048576,Lançamentos!$F$4:$F$1048576,Base!$A14,Lançamentos!$D$4:$D$1048576,Base!CY$3,Lançamentos!$E$4:$E$1048576,Base!$CO$2)","v":0},{"$f":"SUMIFS(Lançamentos!$G$4:$G$1048576,Lançamentos!$F$4:$F$1048576,Base!$A14,Lançamentos!$D$4:$D$1048576,Base!CZ$3,Lançamentos!$E$4:$E$1048576,Base!$CO$2)","v":0},0,{"$f":"SUMIFS(Lançamentos!$G$4:$G$1048576,Lançamentos!$F$4:$F$1048576,Base!$A14,Lançamentos!$D$4:$D$1048576,Base!DB$3,Lançamentos!$E$4:$E$1048576,Base!$DB$2)","v":0},{"$f":"SUMIFS(Lançamentos!$G$4:$G$1048576,Lançamentos!$F$4:$F$1048576,Base!$A14,Lançamentos!$D$4:$D$1048576,Base!DC$3,Lançamentos!$E$4:$E$1048576,Base!$DB$2)","v":0},{"$f":"SUMIFS(Lançamentos!$G$4:$G$1048576,Lançamentos!$F$4:$F$1048576,Base!$A14,Lançamentos!$D$4:$D$1048576,Base!DD$3,Lançamentos!$E$4:$E$1048576,Base!$DB$2)","v":0},{"$f":"SUMIFS(Lançamentos!$G$4:$G$1048576,Lançamentos!$F$4:$F$1048576,Base!$A14,Lançamentos!$D$4:$D$1048576,Base!DE$3,Lançamentos!$E$4:$E$1048576,Base!$DB$2)","v":0},{"$f":"SUMIFS(Lançamentos!$G$4:$G$1048576,Lançamentos!$F$4:$F$1048576,Base!$A14,Lançamentos!$D$4:$D$1048576,Base!DF$3,Lançamentos!$E$4:$E$1048576,Base!$DB$2)","v":0},{"$f":"SUMIFS(Lançamentos!$G$4:$G$1048576,Lançamentos!$F$4:$F$1048576,Base!$A14,Lançamentos!$D$4:$D$1048576,Base!DG$3,Lançamentos!$E$4:$E$1048576,Base!$DB$2)","v":0},{"$f":"SUMIFS(Lançamentos!$G$4:$G$1048576,Lançamentos!$F$4:$F$1048576,Base!$A14,Lançamentos!$D$4:$D$1048576,Base!DH$3,Lançamentos!$E$4:$E$1048576,Base!$DB$2)","v":0},{"$f":"SUMIFS(Lançamentos!$G$4:$G$1048576,Lançamentos!$F$4:$F$1048576,Base!$A14,Lançamentos!$D$4:$D$1048576,Base!DI$3,Lançamentos!$E$4:$E$1048576,Base!$DB$2)","v":0},{"$f":"SUMIFS(Lançamentos!$G$4:$G$1048576,Lançamentos!$F$4:$F$1048576,Base!$A14,Lançamentos!$D$4:$D$1048576,Base!DJ$3,Lançamentos!$E$4:$E$1048576,Base!$DB$2)","v":0},{"$f":"SUMIFS(Lançamentos!$G$4:$G$1048576,Lançamentos!$F$4:$F$1048576,Base!$A14,Lançamentos!$D$4:$D$1048576,Base!DK$3,Lançamentos!$E$4:$E$1048576,Base!$DB$2)","v":0},{"$f":"SUMIFS(Lançamentos!$G$4:$G$1048576,Lançamentos!$F$4:$F$1048576,Base!$A14,Lançamentos!$D$4:$D$1048576,Base!DL$3,Lançamentos!$E$4:$E$1048576,Base!$DB$2)","v":0},{"$f":"SUMIFS(Lançamentos!$G$4:$G$1048576,Lançamentos!$F$4:$F$1048576,Base!$A14,Lançamentos!$D$4:$D$1048576,Base!DM$3,Lançamentos!$E$4:$E$1048576,Base!$DB$2)","v":0},0,{"$f":"SUMIFS(Lançamentos!$G$4:$G$1048576,Lançamentos!$F$4:$F$1048576,Base!$A14,Lançamentos!$D$4:$D$1048576,Base!DO$3,Lançamentos!$E$4:$E$1048576,Base!$DO$2)","v":0},{"$f":"SUMIFS(Lançamentos!$G$4:$G$1048576,Lançamentos!$F$4:$F$1048576,Base!$A14,Lançamentos!$D$4:$D$1048576,Base!DP$3,Lançamentos!$E$4:$E$1048576,Base!$DO$2)","v":0},{"$f":"SUMIFS(Lançamentos!$G$4:$G$1048576,Lançamentos!$F$4:$F$1048576,Base!$A14,Lançamentos!$D$4:$D$1048576,Base!DQ$3,Lançamentos!$E$4:$E$1048576,Base!$DO$2)","v":0},{"$f":"SUMIFS(Lançamentos!$G$4:$G$1048576,Lançamentos!$F$4:$F$1048576,Base!$A14,Lançamentos!$D$4:$D$1048576,Base!DR$3,Lançamentos!$E$4:$E$1048576,Base!$DO$2)","v":0},{"$f":"SUMIFS(Lançamentos!$G$4:$G$1048576,Lançamentos!$F$4:$F$1048576,Base!$A14,Lançamentos!$D$4:$D$1048576,Base!DS$3,Lançamentos!$E$4:$E$1048576,Base!$DO$2)","v":0},{"$f":"SUMIFS(Lançamentos!$G$4:$G$1048576,Lançamentos!$F$4:$F$1048576,Base!$A14,Lançamentos!$D$4:$D$1048576,Base!DT$3,Lançamentos!$E$4:$E$1048576,Base!$DO$2)","v":0},{"$f":"SUMIFS(Lançamentos!$G$4:$G$1048576,Lançamentos!$F$4:$F$1048576,Base!$A14,Lançamentos!$D$4:$D$1048576,Base!DU$3,Lançamentos!$E$4:$E$1048576,Base!$DO$2)","v":0},{"$f":"SUMIFS(Lançamentos!$G$4:$G$1048576,Lançamentos!$F$4:$F$1048576,Base!$A14,Lançamentos!$D$4:$D$1048576,Base!DV$3,Lançamentos!$E$4:$E$1048576,Base!$DO$2)","v":0},{"$f":"SUMIFS(Lançamentos!$G$4:$G$1048576,Lançamentos!$F$4:$F$1048576,Base!$A14,Lançamentos!$D$4:$D$1048576,Base!DW$3,Lançamentos!$E$4:$E$1048576,Base!$DO$2)","v":0},{"$f":"SUMIFS(Lançamentos!$G$4:$G$1048576,Lançamentos!$F$4:$F$1048576,Base!$A14,Lançamentos!$D$4:$D$1048576,Base!DX$3,Lançamentos!$E$4:$E$1048576,Base!$DO$2)","v":0},{"$f":"SUMIFS(Lançamentos!$G$4:$G$1048576,Lançamentos!$F$4:$F$1048576,Base!$A14,Lançamentos!$D$4:$D$1048576,Base!DY$3,Lançamentos!$E$4:$E$1048576,Base!$DO$2)","v":0},{"$f":"SUMIFS(Lançamentos!$G$4:$G$1048576,Lançamentos!$F$4:$F$1048576,Base!$A14,Lançamentos!$D$4:$D$1048576,Base!DZ$3,Lançamentos!$E$4:$E$1048576,Base!$DO$2)","v":0},0,{"$f":"SUMIFS(Lançamentos!$G$4:$G$1048576,Lançamentos!$F$4:$F$1048576,Base!$A14,Lançamentos!$D$4:$D$1048576,Base!EB$3,Lançamentos!$E$4:$E$1048576,Base!$EB$2)","v":0},{"$f":"SUMIFS(Lançamentos!$G$4:$G$1048576,Lançamentos!$F$4:$F$1048576,Base!$A14,Lançamentos!$D$4:$D$1048576,Base!EC$3,Lançamentos!$E$4:$E$1048576,Base!$EB$2)","v":0},{"$f":"SUMIFS(Lançamentos!$G$4:$G$1048576,Lançamentos!$F$4:$F$1048576,Base!$A14,Lançamentos!$D$4:$D$1048576,Base!ED$3,Lançamentos!$E$4:$E$1048576,Base!$EB$2)","v":0},{"$f":"SUMIFS(Lançamentos!$G$4:$G$1048576,Lançamentos!$F$4:$F$1048576,Base!$A14,Lançamentos!$D$4:$D$1048576,Base!EE$3,Lançamentos!$E$4:$E$1048576,Base!$EB$2)","v":0},{"$f":"SUMIFS(Lançamentos!$G$4:$G$1048576,Lançamentos!$F$4:$F$1048576,Base!$A14,Lançamentos!$D$4:$D$1048576,Base!EF$3,Lançamentos!$E$4:$E$1048576,Base!$EB$2)","v":0},{"$f":"SUMIFS(Lançamentos!$G$4:$G$1048576,Lançamentos!$F$4:$F$1048576,Base!$A14,Lançamentos!$D$4:$D$1048576,Base!EG$3,Lançamentos!$E$4:$E$1048576,Base!$EB$2)","v":0},{"$f":"SUMIFS(Lançamentos!$G$4:$G$1048576,Lançamentos!$F$4:$F$1048576,Base!$A14,Lançamentos!$D$4:$D$1048576,Base!EH$3,Lançamentos!$E$4:$E$1048576,Base!$EB$2)","v":0},{"$f":"SUMIFS(Lançamentos!$G$4:$G$1048576,Lançamentos!$F$4:$F$1048576,Base!$A14,Lançamentos!$D$4:$D$1048576,Base!EI$3,Lançamentos!$E$4:$E$1048576,Base!$EB$2)","v":0},{"$f":"SUMIFS(Lançamentos!$G$4:$G$1048576,Lançamentos!$F$4:$F$1048576,Base!$A14,Lançamentos!$D$4:$D$1048576,Base!EJ$3,Lançamentos!$E$4:$E$1048576,Base!$EB$2)","v":0},{"$f":"SUMIFS(Lançamentos!$G$4:$G$1048576,Lançamentos!$F$4:$F$1048576,Base!$A14,Lançamentos!$D$4:$D$1048576,Base!EK$3,Lançamentos!$E$4:$E$1048576,Base!$EB$2)","v":0},{"$f":"SUMIFS(Lançamentos!$G$4:$G$1048576,Lançamentos!$F$4:$F$1048576,Base!$A14,Lançamentos!$D$4:$D$1048576,Base!EL$3,Lançamentos!$E$4:$E$1048576,Base!$EB$2)","v":0},{"$f":"SUMIFS(Lançamentos!$G$4:$G$1048576,Lançamentos!$F$4:$F$1048576,Base!$A14,Lançamentos!$D$4:$D$1048576,Base!EM$3,Lançamentos!$E$4:$E$1048576,Base!$EB$2)","v":0},0,{"$f":"SUMIFS(Lançamentos!$G$4:$G$1048576,Lançamentos!$F$4:$F$1048576,Base!$A14,Lançamentos!$D$4:$D$1048576,Base!EO$3,Lançamentos!$E$4:$E$1048576,Base!$EO$2)","v":0},{"$f":"SUMIFS(Lançamentos!$G$4:$G$1048576,Lançamentos!$F$4:$F$1048576,Base!$A14,Lançamentos!$D$4:$D$1048576,Base!EP$3,Lançamentos!$E$4:$E$1048576,Base!$EO$2)","v":0},{"$f":"SUMIFS(Lançamentos!$G$4:$G$1048576,Lançamentos!$F$4:$F$1048576,Base!$A14,Lançamentos!$D$4:$D$1048576,Base!EQ$3,Lançamentos!$E$4:$E$1048576,Base!$EO$2)","v":0},{"$f":"SUMIFS(Lançamentos!$G$4:$G$1048576,Lançamentos!$F$4:$F$1048576,Base!$A14,Lançamentos!$D$4:$D$1048576,Base!ER$3,Lançamentos!$E$4:$E$1048576,Base!$EO$2)","v":0},{"$f":"SUMIFS(Lançamentos!$G$4:$G$1048576,Lançamentos!$F$4:$F$1048576,Base!$A14,Lançamentos!$D$4:$D$1048576,Base!ES$3,Lançamentos!$E$4:$E$1048576,Base!$EO$2)","v":0},{"$f":"SUMIFS(Lançamentos!$G$4:$G$1048576,Lançamentos!$F$4:$F$1048576,Base!$A14,Lançamentos!$D$4:$D$1048576,Base!ET$3,Lançamentos!$E$4:$E$1048576,Base!$EO$2)","v":0},{"$f":"SUMIFS(Lançamentos!$G$4:$G$1048576,Lançamentos!$F$4:$F$1048576,Base!$A14,Lançamentos!$D$4:$D$1048576,Base!EU$3,Lançamentos!$E$4:$E$1048576,Base!$EO$2)","v":0},{"$f":"SUMIFS(Lançamentos!$G$4:$G$1048576,Lançamentos!$F$4:$F$1048576,Base!$A14,Lançamentos!$D$4:$D$1048576,Base!EV$3,Lançamentos!$E$4:$E$1048576,Base!$EO$2)","v":0},{"$f":"SUMIFS(Lançamentos!$G$4:$G$1048576,Lançamentos!$F$4:$F$1048576,Base!$A14,Lançamentos!$D$4:$D$1048576,Base!EW$3,Lançamentos!$E$4:$E$1048576,Base!$EO$2)","v":0},{"$f":"SUMIFS(Lançamentos!$G$4:$G$1048576,Lançamentos!$F$4:$F$1048576,Base!$A14,Lançamentos!$D$4:$D$1048576,Base!EX$3,Lançamentos!$E$4:$E$1048576,Base!$EO$2)","v":0},{"$f":"SUMIFS(Lançamentos!$G$4:$G$1048576,Lançamentos!$F$4:$F$1048576,Base!$A14,Lançamentos!$D$4:$D$1048576,Base!EY$3,Lançamentos!$E$4:$E$1048576,Base!$EO$2)","v":0},{"$f":"SUMIFS(Lançamentos!$G$4:$G$1048576,Lançamentos!$F$4:$F$1048576,Base!$A14,Lançamentos!$D$4:$D$1048576,Base!EZ$3,Lançamentos!$E$4:$E$1048576,Base!$EO$2)","v":0},0,{"$f":"SUMIFS(Lançamentos!$G$4:$G$1048576,Lançamentos!$F$4:$F$1048576,Base!$A14,Lançamentos!$D$4:$D$1048576,Base!FB$3,Lançamentos!$E$4:$E$1048576,Base!$FB$2)","v":0},{"$f":"SUMIFS(Lançamentos!$G$4:$G$1048576,Lançamentos!$F$4:$F$1048576,Base!$A14,Lançamentos!$D$4:$D$1048576,Base!FC$3,Lançamentos!$E$4:$E$1048576,Base!$FB$2)","v":0},{"$f":"SUMIFS(Lançamentos!$G$4:$G$1048576,Lançamentos!$F$4:$F$1048576,Base!$A14,Lançamentos!$D$4:$D$1048576,Base!FD$3,Lançamentos!$E$4:$E$1048576,Base!$FB$2)","v":0},{"$f":"SUMIFS(Lançamentos!$G$4:$G$1048576,Lançamentos!$F$4:$F$1048576,Base!$A14,Lançamentos!$D$4:$D$1048576,Base!FE$3,Lançamentos!$E$4:$E$1048576,Base!$FB$2)","v":0},{"$f":"SUMIFS(Lançamentos!$G$4:$G$1048576,Lançamentos!$F$4:$F$1048576,Base!$A14,Lançamentos!$D$4:$D$1048576,Base!FF$3,Lançamentos!$E$4:$E$1048576,Base!$FB$2)","v":0},{"$f":"SUMIFS(Lançamentos!$G$4:$G$1048576,Lançamentos!$F$4:$F$1048576,Base!$A14,Lançamentos!$D$4:$D$1048576,Base!FG$3,Lançamentos!$E$4:$E$1048576,Base!$FB$2)","v":0},{"$f":"SUMIFS(Lançamentos!$G$4:$G$1048576,Lançamentos!$F$4:$F$1048576,Base!$A14,Lançamentos!$D$4:$D$1048576,Base!FH$3,Lançamentos!$E$4:$E$1048576,Base!$FB$2)","v":0},{"$f":"SUMIFS(Lançamentos!$G$4:$G$1048576,Lançamentos!$F$4:$F$1048576,Base!$A14,Lançamentos!$D$4:$D$1048576,Base!FI$3,Lançamentos!$E$4:$E$1048576,Base!$FB$2)","v":0},{"$f":"SUMIFS(Lançamentos!$G$4:$G$1048576,Lançamentos!$F$4:$F$1048576,Base!$A14,Lançamentos!$D$4:$D$1048576,Base!FJ$3,Lançamentos!$E$4:$E$1048576,Base!$FB$2)","v":0},{"$f":"SUMIFS(Lançamentos!$G$4:$G$1048576,Lançamentos!$F$4:$F$1048576,Base!$A14,Lançamentos!$D$4:$D$1048576,Base!FK$3,Lançamentos!$E$4:$E$1048576,Base!$FB$2)","v":0},{"$f":"SUMIFS(Lançamentos!$G$4:$G$1048576,Lançamentos!$F$4:$F$1048576,Base!$A14,Lançamentos!$D$4:$D$1048576,Base!FL$3,Lançamentos!$E$4:$E$1048576,Base!$FB$2)","v":0},{"$f":"SUMIFS(Lançamentos!$G$4:$G$1048576,Lançamentos!$F$4:$F$1048576,Base!$A14,Lançamentos!$D$4:$D$1048576,Base!FM$3,Lançamentos!$E$4:$E$1048576,Base!$FB$2)","v":0},0,{"$f":"SUMIFS(Lançamentos!$G$4:$G$1048576,Lançamentos!$F$4:$F$1048576,Base!$A14,Lançamentos!$D$4:$D$1048576,Base!FO$3,Lançamentos!$E$4:$E$1048576,Base!$FO$2)","v":0},{"$f":"SUMIFS(Lançamentos!$G$4:$G$1048576,Lançamentos!$F$4:$F$1048576,Base!$A14,Lançamentos!$D$4:$D$1048576,Base!FP$3,Lançamentos!$E$4:$E$1048576,Base!$FO$2)","v":0},{"$f":"SUMIFS(Lançamentos!$G$4:$G$1048576,Lançamentos!$F$4:$F$1048576,Base!$A14,Lançamentos!$D$4:$D$1048576,Base!FQ$3,Lançamentos!$E$4:$E$1048576,Base!$FO$2)","v":0},{"$f":"SUMIFS(Lançamentos!$G$4:$G$1048576,Lançamentos!$F$4:$F$1048576,Base!$A14,Lançamentos!$D$4:$D$1048576,Base!FR$3,Lançamentos!$E$4:$E$1048576,Base!$FO$2)","v":0},{"$f":"SUMIFS(Lançamentos!$G$4:$G$1048576,Lançamentos!$F$4:$F$1048576,Base!$A14,Lançamentos!$D$4:$D$1048576,Base!FS$3,Lançamentos!$E$4:$E$1048576,Base!$FO$2)","v":0},{"$f":"SUMIFS(Lançamentos!$G$4:$G$1048576,Lançamentos!$F$4:$F$1048576,Base!$A14,Lançamentos!$D$4:$D$1048576,Base!FT$3,Lançamentos!$E$4:$E$1048576,Base!$FO$2)","v":0},{"$f":"SUMIFS(Lançamentos!$G$4:$G$1048576,Lançamentos!$F$4:$F$1048576,Base!$A14,Lançamentos!$D$4:$D$1048576,Base!FU$3,Lançamentos!$E$4:$E$1048576,Base!$FO$2)","v":0},{"$f":"SUMIFS(Lançamentos!$G$4:$G$1048576,Lançamentos!$F$4:$F$1048576,Base!$A14,Lançamentos!$D$4:$D$1048576,Base!FV$3,Lançamentos!$E$4:$E$1048576,Base!$FO$2)","v":0},{"$f":"SUMIFS(Lançamentos!$G$4:$G$1048576,Lançamentos!$F$4:$F$1048576,Base!$A14,Lançamentos!$D$4:$D$1048576,Base!FW$3,Lançamentos!$E$4:$E$1048576,Base!$FO$2)","v":0},{"$f":"SUMIFS(Lançamentos!$G$4:$G$1048576,Lançamentos!$F$4:$F$1048576,Base!$A14,Lançamentos!$D$4:$D$1048576,Base!FX$3,Lançamentos!$E$4:$E$1048576,Base!$FO$2)","v":0},{"$f":"SUMIFS(Lançamentos!$G$4:$G$1048576,Lançamentos!$F$4:$F$1048576,Base!$A14,Lançamentos!$D$4:$D$1048576,Base!FY$3,Lançamentos!$E$4:$E$1048576,Base!$FO$2)","v":0},{"$f":"SUMIFS(Lançamentos!$G$4:$G$1048576,Lançamentos!$F$4:$F$1048576,Base!$A14,Lançamentos!$D$4:$D$1048576,Base!FZ$3,Lançamentos!$E$4:$E$1048576,Base!$FO$2)","v":0},0,{"$f":"SUMIFS(Lançamentos!$G$4:$G$1048576,Lançamentos!$F$4:$F$1048576,Base!$A14,Lançamentos!$D$4:$D$1048576,Base!GB$3,Lançamentos!$E$4:$E$1048576,Base!$GB$2)","v":0},{"$f":"SUMIFS(Lançamentos!$G$4:$G$1048576,Lançamentos!$F$4:$F$1048576,Base!$A14,Lançamentos!$D$4:$D$1048576,Base!GC$3,Lançamentos!$E$4:$E$1048576,Base!$GB$2)","v":0},{"$f":"SUMIFS(Lançamentos!$G$4:$G$1048576,Lançamentos!$F$4:$F$1048576,Base!$A14,Lançamentos!$D$4:$D$1048576,Base!GD$3,Lançamentos!$E$4:$E$1048576,Base!$GB$2)","v":0},{"$f":"SUMIFS(Lançamentos!$G$4:$G$1048576,Lançamentos!$F$4:$F$1048576,Base!$A14,Lançamentos!$D$4:$D$1048576,Base!GE$3,Lançamentos!$E$4:$E$1048576,Base!$GB$2)","v":0},{"$f":"SUMIFS(Lançamentos!$G$4:$G$1048576,Lançamentos!$F$4:$F$1048576,Base!$A14,Lançamentos!$D$4:$D$1048576,Base!GF$3,Lançamentos!$E$4:$E$1048576,Base!$GB$2)","v":0},{"$f":"SUMIFS(Lançamentos!$G$4:$G$1048576,Lançamentos!$F$4:$F$1048576,Base!$A14,Lançamentos!$D$4:$D$1048576,Base!GG$3,Lançamentos!$E$4:$E$1048576,Base!$GB$2)","v":0},{"$f":"SUMIFS(Lançamentos!$G$4:$G$1048576,Lançamentos!$F$4:$F$1048576,Base!$A14,Lançamentos!$D$4:$D$1048576,Base!GH$3,Lançamentos!$E$4:$E$1048576,Base!$GB$2)","v":0},{"$f":"SUMIFS(Lançamentos!$G$4:$G$1048576,Lançamentos!$F$4:$F$1048576,Base!$A14,Lançamentos!$D$4:$D$1048576,Base!GI$3,Lançamentos!$E$4:$E$1048576,Base!$GB$2)","v":0},{"$f":"SUMIFS(Lançamentos!$G$4:$G$1048576,Lançamentos!$F$4:$F$1048576,Base!$A14,Lançamentos!$D$4:$D$1048576,Base!GJ$3,Lançamentos!$E$4:$E$1048576,Base!$GB$2)","v":0},{"$f":"SUMIFS(Lançamentos!$G$4:$G$1048576,Lançamentos!$F$4:$F$1048576,Base!$A14,Lançamentos!$D$4:$D$1048576,Base!GK$3,Lançamentos!$E$4:$E$1048576,Base!$GB$2)","v":0},{"$f":"SUMIFS(Lançamentos!$G$4:$G$1048576,Lançamentos!$F$4:$F$1048576,Base!$A14,Lançamentos!$D$4:$D$1048576,Base!GL$3,Lançamentos!$E$4:$E$1048576,Base!$GB$2)","v":0},{"$f":"SUMIFS(Lançamentos!$G$4:$G$1048576,Lançamentos!$F$4:$F$1048576,Base!$A14,Lançamentos!$D$4:$D$1048576,Base!GM$3,Lançamentos!$E$4:$E$1048576,Base!$GB$2)","v":0},0,null,2027]
[{"$f":"IF(Lançamentos!A12=\"\",\"\",Lançamentos!A12)","v":"Fornecedores"},{"$f":"SUMIFS(Lançamentos!$G$4:$G$1048576,Lançamentos!$F$4:$F$1048576,Base!$A15,Lançamentos!$D$4:$D$1048576,Base!B$3,Lançamentos!$E$4:$E$1048576,Base!$B$2)","v":0},{"$f":"SUMIFS(Lançamentos!$G$4:$G$1048576,Lançamentos!$F$4:$F$1048576,Base!$A15,Lançamentos!$D$4:$D$1048576,Base!C$3,Lançamentos!$E$4:$E$1048576,Base!$B$2)","v":0},{"$f":"SUMIFS(Lançamentos!$G$4:$G$1048576,Lançamentos!$F$4:$F$1048576,Base!$A15,Lançamentos!$D$4:$D$1048576,Base!D$3,Lançamentos!$E$4:$E$1048576,Base!$B$2)","v":0},{"$f":"SUMIFS(Lançamentos!$G$4:$G$1048576,Lançamentos!$F$4:$F$1048576,Base!$A15,Lançamentos!$D$4:$D$1048576,Base!E$3,Lançamentos!$E$4:$E$1048576,Base!$B$2)","v":0},{"$f":"SUMIFS(Lançamentos!$G$4:$G$1048576,Lançamentos!$F$4:$F$1048576,Base!$A15,Lançamentos!$D$4:$D$1048576,Base!F$3,Lançamentos!$E$4:$E$1048576,Base!$B$2)","v":0},{"$f":"SUMIFS(Lançamentos!$G$4:$G$1048576,Lançamentos!$F$4:$F$1048576,Base!$A15,Lançamentos!$D$4:$D$1048576,Base!G$3,Lançamentos!$E$4:$E$1048576,Base!$B$2)","v":0},{"$f":"SUMIFS(Lançamentos!$G$4:$G$1048576,Lançamentos!$F$4:$F$1048576,Base!$A15,Lançamentos!$D$4:$D$1048576,Base!H$3,Lançamentos!$E$4:$E$1048576,Base!$B$2)","v":0},{"$f":"SUMIFS(Lançamentos!$G$4:$G$1048576,Lançamentos!$F$4:$F$1048576,Base!$A15,Lançamentos!$D$4:$D$1048576,Base!I$3,Lançamentos!$E$4:$E$1048576,Base!$B$2)","v":0},{"$f":"SUMIFS(Lançamentos!$G$4:$G$1048576,Lançamentos!$F$4:$F$1048576,Base!$A15,Lançamentos!$D$4:$D$1048576,Base!J$3,Lançamentos!$E$4:$E$1048576,Base!$B$2)","v":0},{"$f":"SUMIFS(Lançamentos!$G$4:$G$1048576,Lançamentos!$F$4:$F$1048576,Base!$A15,Lançamentos!$D$4:$D$1048576,Base!K$3,Lançamentos!$E$4:$E$1048576,Base!$B$2)","v":0},{"$f":"SUMIFS(Lançamentos!$G$4:$G$1048576,Lançamentos!$F$4:$F$1048576,Base!$A15,Lançamentos!$D$4:$D$1048576,Base!L$3,Lançamentos!$E$4:$E$1048576,Base!$B$2)","v":0},{"$f":"SUMIFS(Lançamentos!$G$4:$G$1048576,Lançamentos!$F$4:$F$1048576,Base!$A15,Lançamentos!$D$4:$D$1048576,Base!M$3,Lançamentos!$E$4:$E$1048576,Base!$B$2)","v":0},0,{"$f":"SUMIFS(Lançamentos!$G$4:$G$1048576,Lançamentos!$F$4:$F$1048576,Base!$A15,Lançamentos!$D$4:$D$1048576,Base!O$3,Lançamentos!$E$4:$E$1048576,Base!$O$2)","v":0},{"$f":"SUMIFS(Lançamentos!$G$4:$G$1048576,Lançamentos!$F$4:$F$1048576,Base!$A15,Lançamentos!$D$4:$D$1048576,Base!P$3,Lançamentos!$E$4:$E$1048576,Base!$O$2)","v":0},{"$f":"SUMIFS(Lançamentos!$G$4:$G$1048576,Lançamentos!$F$4:$F$1048576,Base!$A15,Lançamentos!$D$4:$D$1048576,Base!Q$3,Lançamentos!$E$4:$E$1048576,Base!$O$2)","v":0},{"$f":"SUMIFS(Lançamentos!$G$4:$G$1048576,Lançamentos!$F$4:$F$1048576,Base!$A15,Lançamentos!$D$4:$D$1048576,Base!R$3,Lançamentos!$E$4:$E$1048576,Base!$O$2)","v":0},{"$f":"SUMIFS(Lançamentos!$G$4:$G$1048576,Lançamentos!$F$4:$F$1048576,Base!$A15,Lançamentos!$D$4:$D$1048576,Base!S$3,Lançamentos!$E$4:$E$1048576,Base!$O$2)","v":0},{"$f":"SUMIFS(Lançamentos!$G$4:$G$1048576,Lançamentos!$F$4:$F$1048576,Base!$A15,Lançamentos!$D$4:$D$1048576,Base!T$3,Lançamentos!$E$4:$E$1048576,Base!$O$2)","v":0},{"$f":"SUMIFS(Lançamentos!$G$4:$G$1048576,Lançamentos!$F$4:$F$1048576,Base!$A15,Lançamentos!$D$4:$D$1048576,Base!U$3,Lançamentos!$E$4:$E$1048576,Base!$O$2)","v":0},{"$f":"SUMIFS(Lançamentos!$G$4:$G$1048576,Lançamentos!$F$4:$F$1048576,Base!$A15,Lançamentos!$D$4:$D$1048576,Base!V$3,Lançamentos!$E$4:$E$1048576,Base!$O$2)","v":0},{"$f":"SUMIFS(Lançamentos!$G$4:$G$1048576,Lançamentos!$F$4:$F$1048576,Base!$A15,Lançamentos!$D$4:$D$1048576,Base!W$3,Lançamentos!$E$4:$E$1048576,Base!$O$2)","v":0},{"$f":"SUMIFS(Lançamentos!$G$4:$G$1048576,Lançamentos!$F$4:$F$1048576,Base!$A15,Lançamentos!$D$4:$D$1048576,Base!X$3,Lançamentos!$E$4:$E$1048576,Base!$O$2)","v":0},{"$f":"SUMIFS(Lançamentos!$G$4:$G$1048576,Lançamentos!$F$4:$F$1048576,Base!$A15,Lançamentos!$D$4:$D$1048576,Base!Y$3,Lançamentos!$E$4:$E$1048576,Base!$O$2)","v":0},{"$f":"SUMIFS(Lançamentos!$G$4:$G$1048576,Lançamentos!$F$4:$F$1048576,Base!$A15,Lançamentos!$D$4:$D$1048576,Base!Z$3,Lançamentos!$E$4:$E$1048576,Base!$O$2)","v":0},0,{"$f":"SUMIFS(Lançamentos!$G$4:$G$1048576,Lançamentos!$F$4:$F$1048576,Base!$A15,Lançamentos!$D$4:$D$1048576,Base!AB$3,Lançamentos!$E$4:$E$1048576,Base!$AB$2)","v":0},{"$f":"SUMIFS(Lançamentos!$G$4:$G$1048576,Lançamentos!$F$4:$F$1048576,Base!$A15,Lançamentos!$D$4:$D$1048576,Base!AC$3,Lançamentos!$E$4:$E$1048576,Base!$AB$2)","v":0},{"$f":"SUMIFS(Lançamentos!$G$4:$G$1048576,Lançamentos!$F$4:$F$1048576,Base!$A15,Lançamentos!$D$4:$D$1048576,Base!AD$3,Lançamentos!$E$4:$E$1048576,Base!$AB$2)","v":0},{"$f":"SUMIFS(Lançamentos!$G$4:$G$1048576,Lançamentos!$F$4:$F$1048576,Base!$A15,Lançamentos!$D$4:$D$1048576,Base!AE$3,Lançamentos!$E$4:$E$1048576,Base!$AB$2)","v":0},{"$f":"SUMIFS(Lançamentos!$G$4:$G$1048576,Lançamentos!$F$4:$F$1048576,Base!$A15,Lançamentos!$D$4:$D$1048576,Base!AF$3,Lançamentos!$E$4:$E$1048576,Base!$AB$2)","v":0},{"$f":"SUMIFS(Lançamentos!$G$4:$G$1048576,Lançamentos!$F$4:$F$1048576,Base!$A15,Lançamentos!$D$4:$D$1048576,Base!AG$3,Lançamentos!$E$4:$E$1048576,Base!$AB$2)","v":0},{"$f":"SUMIFS(Lançamentos!$G$4:$G$1048576,Lançamentos!$F$4:$F$1048576,Base!$A15,Lançamentos!$D$4:$D$1048576,Base!AH$3,Lançamentos!$E$4:$E$1048576,Base!$AB$2)","v":0},{"$f":"SUMIFS(Lançamentos!$G$4:$G$1048576,Lançamentos!$F$4:$F$1048576,Base!$A15,Lançamentos!$D$4:$D$1048576,Base!AI$3,Lançamentos!$E$4:$E$1048576,Base!$AB$2)","v":0},{"$f":"SUMIFS(Lançamentos!$G$4:$G$1048576,Lançamentos!$F$4:$F$1048576,Base!$A15,Lançamentos!$D$4:$D$1048576,Base!AJ$3,Lançamentos!$E$4:$E$1048576,Base!$AB$2)","v":0},{"$f":"SUMIFS(Lançamentos!$G$4:$G$1048576,Lançamentos!$F$4:$F$1048576,Base!$A15,Lançamentos!$D$4:$D$1048576,Base!AK$3,Lançamentos!$E$4:$E$1048576,Base!$AB$2)","v":0},{"$f":"SUMIFS(Lançamentos!$G$4:$G$1048576,Lançamentos!$F$4:$F$1048576,Base!$A15,Lançamentos!$D$4:$D$1048576,Base!AL$3,Lançamentos!$E$4:$E$1048576,Base!$AB$2)","v":0},{"$f":"SUMIFS(Lançamentos!$G$4:$G$1048576,Lançamentos!$F$4:$F$1048576,Base!$A15,Lançamentos!$D$4:$D$1048576,Base!AM$3,Lançamentos!$E$4:$E$1048576,Base!$AB$2)","v":0},0,{"$f":"SUMIFS(Lançamentos!$G$4:$G$1048576,Lançamentos!$F$4:$F$1048576,Base!$A15,Lançamentos!$D$4:$D$1048576,Base!AO$3,Lançamentos!$E$4:$E$1048576,Base!$AO$2)","v":0},{"$f":"SUMIFS(Lançamentos!$G$4:$G$1048576,Lançamentos!$F$4:$F$1048576,Base!$A15,Lançamentos!$D$4:$D$1048576,Base!AP$3,Lançamentos!$E$4:$E$1048576,Base!$AO$2)","v":0},{"$f":"SUMIFS(Lançamentos!$G$4:$G$1048576,Lançamentos!$F$4:$F$1048576,Base!$A15,Lançamentos!$D$4:$D$1048576,Base!AQ$3,Lançamentos!$E$4:$E$1048576,Base!$AO$2)","v":0},{"$f":"SUMIFS(Lançamentos!$G$4:$G$1048576,Lançamentos!$F$4:$F$1048576,Base!$A15,Lançamentos!$D$4:$D$1048576,Base!AR$3,Lançamentos!$E$4:$E$1048576,Base!$AO$2)","v":0},{"$f":"SUMIFS(Lançamentos!$G$4:$G$1048576,Lançamentos!$F$4:$F$1048576,Base!$A15,Lançamentos!$D$4:$D$1048576,Base!AS$3,Lançamentos!$E$4:$E$1048576,Base!$AO$2)","v":0},{"$f":"SUMIFS(Lançamentos!$G$4:$G$1048576,Lançamentos!$F$4:$F$1048576,Base!$A15,Lançamentos!$D$4:$D$1048576,Base!AT$3,Lançamentos!$E$4:$E$1048576,Base!$AO$2)","v":0},{"$f":"SUMIFS(Lançamentos!$G$4:$G$1048576,Lançamentos!$F$4:$F$1048576,Base!$A15,Lançamentos!$D$4:$D$1048576,Base!AU$3,Lançamentos!$E$4:$E$1048576,Base!$AO$2)","v":0},{"$f":"SUMIFS(Lançamentos!$G$4:$G$1048576,Lançamentos!$F$4:$F$1048576,Base!$A15,Lançamentos!$D$4:$D$1048576,Base!AV$3,Lançamentos!$E$4:$E$1048576,Base!$AO$2)","v":0},{"$f":"SUMIFS(Lançamentos!$G$4:$G$1048576,Lançamentos!$F$4:$F$1048576,Base!$A15,Lançamentos!$D$4:$D$1048576,Base!AW$3,Lançamentos!$E$4:$E$1048576,Base!$AO$2)","v":0},{"$f":"SUMIFS(Lançamentos!$G$4:$G$1048576,Lançamentos!$F$4:$F$1048576,Base!$A15,Lançamentos!$D$4:$D$1048576,Base!AX$3,Lançamentos!$E$4:$E$1048576,Base!$AO$2)","v":0},{"$f":"SUMIFS(Lançamentos!$G$4:$G$1048576,Lançamentos!$F$4:$F$1048576,Base!$A15,Lançamentos!$D$4:$D$1048576,Base!AY$3,Lançamentos!$E$4:$E$1048576,Base!$AO$2)","v":0},{"$f":"SUMIFS(Lançamentos!$G$4:$G$1048576,Lançamentos!$F$4:$F$1048576,Base!$A15,Lançamentos!$D$4:$D$1048576,Base!AZ$3,Lançamentos!$E$4:$E$1048576,Base!$AO$2)","v":0},0,{"$f":"SUMIFS(Lançamentos!$G$4:$G$1048576,Lançamentos!$F$4:$F$1048576,Base!$A15,Lançamentos!$D$4:$D$1048576,Base!BB$3,Lançamentos!$E$4:$E$1048576,Base!$BB$2)","v":0},{"$f":"SUMIFS(Lançamentos!$G$4:$G$1048576,Lançamentos!$F$4:$F$1048576,Base!$A15,Lançamentos!$D$4:$D$1048576,Base!BC$3,Lançamentos!$E$4:$E$1048576,Base!$BB$2)","v":0},{"$f":"SUMIFS(Lançamentos!$G$4:$G$1048576,Lançamentos!$F$4:$F$1048576,Base!$A15,Lançamentos!$D$4:$D$1048576,Base!BD$3,Lançamentos!$E$4:$E$1048576,Base!$BB$2)","v":0},{"$f":"SUMIFS(Lançamentos!$G$4:$G$1048576,Lançamentos!$F$4:$F$1048576,Base!$A15,Lançamentos!$D$4:$D$1048576,Base!BE$3,Lançamentos!$E$4:$E$1048576,Base!$BB$2)","v":0},{"$f":"SUMIFS(Lançamentos!$G$4:$G$1048576,Lançamentos!$F$4:$F$1048576,Base!$A15,Lançamentos!$D$4:$D$1048576,Base!BF$3,Lançamentos!$E$4:$E$1048576,Base!$BB$2)","v":0},{"$f":"SUMIFS(Lançamentos!$G$4:$G$1048576,Lançamentos!$F$4:$F$1048576,Base!$A15,Lançamentos!$D$4:$D$1048576,Base!BG$3,Lançamentos!$E$4:$E$1048576,Base!$BB$2)","v":0},{"$f":"SUMIFS(Lançamentos!$G$4:$G$1048576,Lançamentos!$F$4:$F$1048576,Base!$A15,Lançamentos!$D$4:$D$1048576,Base!BH$3,Lançamentos!$E$4:$E$1048576,Base!$BB$2)","v":0},{"$f":"SUMIFS(Lançamentos!$G$4:$G$1048576,Lançamentos!$F$4:$F$1048576,Base!$A15,Lançamentos!$D$4:$D$1048576,Base!BI$3,Lançamentos!$E$4:$E$1048576,Base!$BB$2)","v":0},{"$f":"SUMIFS(Lançamentos!$G$4:$G$1048576,Lançamentos!$F$4:$F$1048576,Base!$A15,Lançamentos!$D$4:$D$1048576,Base!BJ$3,Lançamentos!$E$4:$E$1048576,Base!$BB$2)","v":0},{"$f":"SUMIFS(Lançamentos!$G$4:$G$1048576,Lançamentos!$F$4:$F$1048576,Base!$A15,Lançamentos!$D$4:$D$1048576,Base!BK$3,Lançamentos!$E$4:$E$1048576,Base!$BB$2)","v":0},{"$f":"SUMIFS(Lançamentos!$G$4:$G$1048576,Lançamentos!$F$4:$F$1048576,Base!$A15,Lançamentos!$D$4:$D$1048576,Base!BL$3,Lançamentos!$E$4:$E$1048576,Base!$BB$2)","v":0},{"$f":"SUMIFS(Lançamentos!$G$4:$G$1048576,Lançamentos!$F$4:$F$1048576,Base!$A15,Lançamentos!$D$4:$D$1048576,Base!BM$3,Lançamentos!$E$4:$E$1048576,Base!$BB$2)","v":0},0,{"$f":"SUMIFS(Lançamentos!$G$4:$G$1048576,Lançamentos!$F$4:$F$1048576,Base!$A15,Lançamentos!$D$4:$D$1048576,Base!BO$3,Lançamentos!$E$4:$E$1048576,Base!$BO$2)","v":0},{"$f":"SUMIFS(Lançamentos!$G$4:$G$1048576,Lançamentos!$F$4:$F$1048576,Base!$A15,Lançamentos!$D$4:$D$1048576,Base!BP$3,Lançamentos!$E$4:$E$1048576,Base!$BO$2)","v":0},{"$f":"SUMIFS(Lançamentos!$G$4:$G$1048576,Lançamentos!$F$4:$F$1048576,Base!$A15,Lançamentos!$D$4:$D$1048576,Base!BQ$3,Lançamentos!$E$4:$E$1048576,Base!$BO$2)","v":0},{"$f":"SUMIFS(Lançamentos!$G$4:$G$1048576,Lançamentos!$F$4:$F$1048576,Base!$A15,Lançamentos!$D$4:$D$1048576,Base!BR$3,Lançamentos!$E$4:$E$1048576,Base!$BO$2)","v":0},{"$f":"SUMIFS(Lançamentos!$G$4:$G$1048576,Lançamentos!$F$4:$F$1048576,Base!$A15,Lançamentos!$D$4:$D$1048576,Base!BS$3,Lançamentos!$E$4:$E$1048576,Base!$BO$2)","v":0},{"$f":"SUMIFS(Lançamentos!$G$4:$G$1048576,Lançamentos!$F$4:$F$1048576,Base!$A15,Lançamentos!$D$4:$D$1048576,Base!BT$3,Lançamentos!$E$4:$E$1048576,Base!$BO$2)","v":0},{"$f":"SUMIFS(Lançamentos!$G$4:$G$1048576,Lançamentos!$F$4:$F$1048576,Base!$A15,Lançamentos!$D$4:$D$1048576,Base!BU$3,Lançamentos!$E$4:$E$1048576,Base!$BO$2)","v":0},{"$f":"SUMIFS(Lançamentos!$G$4:$G$1048576,Lançamentos!$F$4:$F$1048576,Base!$A15,Lançamentos!$D$4:$D$1048576,Base!BV$3,Lançamentos!$E$4:$E$1048576,Base!$BO$2)","v":0},{"$f":"SUMIFS(Lançamentos!$G$4:$G$1048576,Lançamentos!$F$4:$F$1048576,Base!$A15,Lançamentos!$D$4:$D$1048576,Base!BW$3,Lançamentos!$E$4:$E$1048576,Base!$BO$2)","v":0},{"$f":"SUMIFS(Lançamentos!$G$4:$G$1048576,Lançamentos!$F$4:$F$1048576,Base!$A15,Lançamentos!$D$4:$D$1048576,Base!BX$3,Lançamentos!$E$4:$E$1048576,Base!$BO$2)","v":0},{"$f":"SUMIFS(Lançamentos!$G$4:$G$1048576,Lançamentos!$F$4:$F$1048576,Base!$A15,Lançamentos!$D$4:$D$1048576,Base!BY$3,Lançamentos!$E$4:$E$1048576,Base!$BO$2)","v":0},{"$f":"SUMIFS(Lançamentos!$G$4:$G$1048576,Lançamentos!$F$4:$F$1048576,Base!$A15,Lançamentos!$D$4:$D$1048576,Base!BZ$3,Lançamentos!$E$4:$E$1048576,Base!$BO$2)","v":0},0,{"$f":"SUMIFS(Lançamentos!$G$4:$G$1048576,Lançamentos!$F$4:$F$1048576,Base!$A15,Lançamentos!$D$4:$D$1048576,Base!CB$3,Lançamentos!$E$4:$E$1048576,Base!$CB$2)","v":0},{"$f":"SUMIFS(Lançamentos!$G$4:$G$1048576,Lançamentos!$F$4:$F$1048576,Base!$A15,Lançamentos!$D$4:$D$1048576,Base!CC$3,Lançamentos!$E$4:$E$1048576,Base!$CB$2)","v":0},{"$f":"SUMIFS(Lançamentos!$G$4:$G$1048576,Lançamentos!$F$4:$F$1048576,Base!$A15,Lançamentos!$D$4:$D$1048576,Base!CD$3,Lançamentos!$E$4:$E$1048576,Base!$CB$2)","v":0},{"$f":"SUMIFS(Lançamentos!$G$4:$G$1048576,Lançamentos!$F$4:$F$1048576,Base!$A15,Lançamentos!$D$4:$D$1048576,Base!CE$3,Lançamentos!$E$4:$E$1048576,Base!$CB$2)","v":0},{"$f":"SUMIFS(Lançamentos!$G$4:$G$1048576,Lançamentos!$F$4:$F$1048576,Base!$A15,Lançamentos!$D$4:$D$1048576,Base!CF$3,Lançamentos!$E$4:$E$1048576,Base!$CB$2)","v":0},{"$f":"SUMIFS(Lançamentos!$G$4:$G$1048576,Lançamentos!$F$4:$F$1048576,Base!$A15,Lançamentos!$D$4:$D$1048576,Base!CG$3,Lançamentos!$E$4:$E$1048576,Base!$CB$2)","v":0},{"$f":"SUMIFS(Lançamentos!$G$4:$G$1048576,Lançamentos!$F$4:$F$1048576,Base!$A15,Lançamentos!$D$4:$D$1048576,Base!CH$3,Lançamentos!$E$4:$E$1048576,Base!$CB$2)","v":0},{"$f":"SUMIFS(Lançamentos!$G$4:$G$1048576,Lançamentos!$F$4:$F$1048576,Base!$A15,Lançamentos!$D$4:$D$1048576,Base!CI$3,Lançamentos!$E$4:$E$1048576,Base!$CB$2)","v":0},{"$f":"SUMIFS(Lançamentos!$G$4:$G$1048576,Lançamentos!$F$4:$F$1048576,Base!$A15,Lançamentos!$D$4:$D$1048576,Base!CJ$3,Lançamentos!$E$4:$E$1048576,Base!$CB$2)","v":0},{"$f":"SUMIFS(Lançamentos!$G$4:$G$1048576,Lançamentos!$F$4:$F$1048576,Base!$A15,Lançamentos!$D$4:$D$1048576,Base!CK$3,Lançamentos!$E$4:$E$1048576,Base!$CB$2)","v":0},{"$f":"SUMIFS(Lançamentos!$G$4:$G$1048576,Lançamentos!$F$4:$F$1048576,Base!$A15,Lançamentos!$D$4:$D$1048576,Base!CL$3,Lançamentos!$E$4:$E$1048576,Base!$CB$2)","v":0},{"$f":"SUMIFS(Lançamentos!$G$4:$G$1048576,Lançamentos!$F$4:$F$1048576,Base!$A15,Lançamentos!$D$4:$D$1048576,Base!CM$3,Lançamentos!$E$4:$E$1048576,Base!$CB$2)","v":0},0,{"$f":"SUMIFS(Lançamentos!$G$4:$G$1048576,Lançamentos!$F$4:$F$1048576,Base!$A15,Lançamentos!$D$4:$D$1048576,Base!CO$3,Lançamentos!$E$4:$E$1048576,Base!$CO$2)","v":0},{"$f":"SUMIFS(Lançamentos!$G$4:$G$1048576,Lançamentos!$F$4:$F$1048576,Base!$A15,Lançamentos!$D$4:$D$1048576,Base!CP$3,Lançamentos!$E$4:$E$1048576,Base!$CO$2)","v":0},{"$f":"SUMIFS(Lançamentos!$G$4:$G$1048576,Lançamentos!$F$4:$F$1048576,Base!$A15,Lançamentos!$D$4:$D$1048576,Base!CQ$3,Lançamentos!$E$4:$E$1048576,Base!$CO$2)","v":0},{"$f":"SUMIFS(Lançamentos!$G$4:$G$1048576,Lançamentos!$F$4:$F$1048576,Base!$A15,Lançamentos!$D$4:$D$1048576,Base!CR$3,Lançamentos!$E$4:$E$1048576,Base!$CO$2)","v":0},{"$f":"SUMIFS(Lançamentos!$G$4:$G$1048576,Lançamentos!$F$4:$F$1048576,Base!$A15,Lançamentos!$D$4:$D$1048576,Base!CS$3,Lançamentos!$E$4:$E$1048576,Base!$CO$2)","v":0},{"$f":"SUMIFS(Lançamentos!$G$4:$G$1048576,Lançamentos!$F$4:$F$1048576,Base!$A15,Lançamentos!$D$4:$D$1048576,Base!CT$3,Lançamentos!$E$4:$E$1048576,Base!$CO$2)","v":0},{"$f":"SUMIFS(Lançamentos!$G$4:$G$1048576,Lançamentos!$F$4:$F$1048576,Base!$A15,Lançamentos!$D$4:$D$1048576,Base!CU$3,Lançamentos!$E$4:$E$1048576,Base!$CO$2)","v":0},{"$f":"SUMIFS(Lançamentos!$G$4:$G$1048576,Lançamentos!$F$4:$F$1048576,Base!$A15,Lançamentos!$D$4:$D$1048576,Base!CV$3,Lançamentos!$E$4:$E$1048576,Base!$CO$2)","v":0},{"$f":"SUMIFS(Lançamentos!$G$4:$G$1048576,Lançamentos!$F$4:$F$1048576,Base!$A15,Lançamentos!$D$4:$D$1048576,Base!CW$3,Lançamentos!$E$4:$E$1048576,Base!$CO$2)","v":0},{"$f":"SUMIFS(Lançamentos!$G$4:$G$1048576,Lançamentos!$F$4:$F$1048576,Base!$A15,Lançamentos!$D$4:$D$1048576,Base!CX$3,Lançamentos!$E$4:$E$1048576,Base!$CO$2)","v":0},{"$f":"SUMIFS(Lançamentos!$G$4:$G$1048576,Lançamentos!$F$4:$F$1048576,Base!$A15,Lançamentos!$D$4:$D$1048576,Base!CY$3,Lançamentos!$E$4:$E$1048576,Base!$CO$2)","v":0},{"$f":"SUMIFS(Lançamentos!$G$4:$G$1048576,Lançamentos!$F$4:$F$1048576,Base!$A15,Lançamentos!$D$4:$D$1048576,Base!CZ$3,Lançamentos!$E$4:$E$1048576,Base!$CO$2)","v":0},0,{"$f":"SUMIFS(Lançamentos!$G$4:$G$1048576,Lançamentos!$F$4:$F$1048576,Base!$A15,Lançamentos!$D$4:$D$1048576,Base!DB$3,Lançamentos!$E$4:$E$1048576,Base!$DB$2)","v":0},{"$f":"SUMIFS(Lançamentos!$G$4:$G$1048576,Lançamentos!$F$4:$F$1048576,Base!$A15,Lançamentos!$D$4:$D$1048576,Base!DC$3,Lançamentos!$E$4:$E$1048576,Base!$DB$2)","v":0},{"$f":"SUMIFS(Lançamentos!$G$4:$G$1048576,Lançamentos!$F$4:$F$1048576,Base!$A15,Lançamentos!$D$4:$D$1048576,Base!DD$3,Lançamentos!$E$4:$E$1048576,Base!$DB$2)","v":0},{"$f":"SUMIFS(Lançamentos!$G$4:$G$1048576,Lançamentos!$F$4:$F$1048576,Base!$A15,Lançamentos!$D$4:$D$1048576,Base!DE$3,Lançamentos!$E$4:$E$1048576,Base!$DB$2)","v":0},{"$f":"SUMIFS(Lançamentos!$G$4:$G$1048576,Lançamentos!$F$4:$F$1048576,Base!$A15,Lançamentos!$D$4:$D$1048576,Base!DF$3,Lançamentos!$E$4:$E$1048576,Base!$DB$2)","v":0},{"$f":"SUMIFS(Lançamentos!$G$4:$G$1048576,Lançamentos!$F$4:$F$1048576,Base!$A15,Lançamentos!$D$4:$D$1048576,Base!DG$3,Lançamentos!$E$4:$E$1048576,Base!$DB$2)","v":0},{"$f":"SUMIFS(Lançamentos!$G$4:$G$1048576,Lançamentos!$F$4:$F$1048576,Base!$A15,Lançamentos!$D$4:$D$1048576,Base!DH$3,Lançamentos!$E$4:$E$1048576,Base!$DB$2)","v":0},{"$f":"SUMIFS(Lançamentos!$G$4:$G$1048576,Lançamentos!$F$4:$F$1048576,Base!$A15,Lançamentos!$D$4:$D$1048576,Base!DI$3,Lançamentos!$E$4:$E$1048576,Base!$DB$2)","v":0},{"$f":"SUMIFS(Lançamentos!$G$4:$G$1048576,Lançamentos!$F$4:$F$1048576,Base!$A15,Lançamentos!$D$4:$D$1048576,Base!DJ$3,Lançamentos!$E$4:$E$1048576,Base!$DB$2)","v":0},{"$f":"SUMIFS(Lançamentos!$G$4:$G$1048576,Lançamentos!$F$4:$F$1048576,Base!$A15,Lançamentos!$D$4:$D$1048576,Base!DK$3,Lançamentos!$E$4:$E$1048576,Base!$DB$2)","v":0},{"$f":"SUMIFS(Lançamentos!$G$4:$G$1048576,Lançamentos!$F$4:$F$1048576,Base!$A15,Lançamentos!$D$4:$D$1048576,Base!DL$3,Lançamentos!$E$4:$E$1048576,Base!$DB$2)","v":0},{"$f":"SUMIFS(Lançamentos!$G$4:$G$1048576,Lançamentos!$F$4:$F$1048576,Base!$A15,Lançamentos!$D$4:$D$1048576,Base!DM$3,Lançamentos!$E$4:$E$1048576,Base!$DB$2)","v":0},0,{"$f":"SUMIFS(Lançamentos!$G$4:$G$1048576,Lançamentos!$F$4:$F$1048576,Base!$A15,Lançamentos!$D$4:$D$1048576,Base!DO$3,Lançamentos!$E$4:$E$1048576,Base!$DO$2)","v":0},{"$f":"SUMIFS(Lançamentos!$G$4:$G$1048576,Lançamentos!$F$4:$F$1048576,Base!$A15,Lançamentos!$D$4:$D$1048576,Base!DP$3,Lançamentos!$E$4:$E$1048576,Base!$DO$2)","v":0},{"$f":"SUMIFS(Lançamentos!$G$4:$G$1048576,Lançamentos!$F$4:$F$1048576,Base!$A15,Lançamentos!$D$4:$D$1048576,Base!DQ$3,Lançamentos!$E$4:$E$1048576,Base!$DO$2)","v":0},{"$f":"SUMIFS(Lançamentos!$G$4:$G$1048576,Lançamentos!$F$4:$F$1048576,Base!$A15,Lançamentos!$D$4:$D$1048576,Base!DR$3,Lançamentos!$E$4:$E$1048576,Base!$DO$2)","v":0},{"$f":"SUMIFS(Lançamentos!$G$4:$G$1048576,Lançamentos!$F$4:$F$1048576,Base!$A15,Lançamentos!$D$4:$D$1048576,Base!DS$3,Lançamentos!$E$4:$E$1048576,Base!$DO$2)","v":0},{"$f":"SUMIFS(Lançamentos!$G$4:$G$1048576,Lançamentos!$F$4:$F$1048576,Base!$A15,Lançamentos!$D$4:$D$1048576,Base!DT$3,Lançamentos!$E$4:$E$1048576,Base!$DO$2)","v":0},{"$f":"SUMIFS(Lançamentos!$G$4:$G$1048576,Lançamentos!$F$4:$F$1048576,Base!$A15,Lançamentos!$D$4:$D$1048576,Base!DU$3,Lançamentos!$E$4:$E$1048576,Base!$DO$2)","v":0},{"$f":"SUMIFS(Lançamentos!$G$4:$G$1048576,Lançamentos!$F$4:$F$1048576,Base!$A15,Lançamentos!$D$4:$D$1048576,Base!DV$3,Lançamentos!$E$4:$E$1048576,Base!$DO$2)","v":0},{"$f":"SUMIFS(Lançamentos!$G$4:$G$1048576,Lançamentos!$F$4:$F$1048576,Base!$A15,Lançamentos!$D$4:$D$1048576,Base!DW$3,Lançamentos!$E$4:$E$1048576,Base!$DO$2)","v":0},{"$f":"SUMIFS(Lançamentos!$G$4:$G$1048576,Lançamentos!$F$4:$F$1048576,Base!$A15,Lançamentos!$D$4:$D$1048576,Base!DX$3,Lançamentos!$E$4:$E$1048576,Base!$DO$2)","v":0},{"$f":"SUMIFS(Lançamentos!$G$4:$G$1048576,Lançamentos!$F$4:$F$1048576,Base!$A15,Lançamentos!$D$4:$D$1048576,Base!DY$3,Lançamentos!$E$4:$E$1048576,Base!$DO$2)","v":0},{"$f":"SUMIFS(Lançamentos!$G$4:$G$1048576,Lançamentos!$F$4:$F$1048576,Base!$A15,Lançamentos!$D$4:$D$1048576,Base!DZ$3,Lançamentos!$E$4:$E$1048576,Base!$DO$2)","v":0},0,{"$f":"SUMIFS(Lançamentos!$G$4:$G$1048576,Lançamentos!$F$4:$F$1048576,Base!$A15,Lançamentos!$D$4:$D$1048576,Base!EB$3,Lançamentos!$E$4:$E$1048576,Base!$EB$2)","v":0},{"$f":"SUMIFS(Lançamentos!$G$4:$G$1048576,Lançamentos!$F$4:$F$1048576,Base!$A15,Lançamentos!$D$4:$D$1048576,Base!EC$3,Lançamentos!$E$4:$E$1048576,Base!$EB$2)","v":0},{"$f":"SUMIFS(Lançamentos!$G$4:$G$1048576,Lançamentos!$F$4:$F$1048576,Base!$A15,Lançamentos!$D$4:$D$1048576,Base!ED$3,Lançamentos!$E$4:$E$1048576,Base!$EB$2)","v":0},{"$f":"SUMIFS(Lançamentos!$G$4:$G$1048576,Lançamentos!$F$4:$F$1048576,Base!$A15,Lançamentos!$D$4:$D$1048576,Base!EE$3,Lançamentos!$E$4:$E$1048576,Base!$EB$2)","v":0},{"$f":"SUMIFS(Lançamentos!$G$4:$G$1048576,Lançamentos!$F$4:$F$1048576,Base!$A15,Lançamentos!$D$4:$D$1048576,Base!EF$3,Lançamentos!$E$4:$E$1048576,Base!$EB$2)","v":0},{"$f":"SUMIFS(Lançamentos!$G$4:$G$1048576,Lançamentos!$F$4:$F$1048576,Base!$A15,Lançamentos!$D$4:$D$1048576,Base!EG$3,Lançamentos!$E$4:$E$1048576,Base!$EB$2)","v":0},{"$f":"SUMIFS(Lançamentos!$G$4:$G$1048576,Lançamentos!$F$4:$F$1048576,Base!$A15,Lançamentos!$D$4:$D$1048576,Base!EH$3,Lançamentos!$E$4:$E$1048576,Base!$EB$2)","v":0},{"$f":"SUMIFS(Lançamentos!$G$4:$G$1048576,Lançamentos!$F$4:$F$1048576,Base!$A15,Lançamentos!$D$4:$D$1048576,Base!EI$3,Lançamentos!$E$4:$E$1048576,Base!$EB$2)","v":0},{"$f":"SUMIFS(Lançamentos!$G$4:$G$1048576,Lançamentos!$F$4:$F$1048576,Base!$A15,Lançamentos!$D$4:$D$1048576,Base!EJ$3,Lançamentos!$E$4:$E$1048576,Base!$EB$2)","v":0},{"$f":"SUMIFS(Lançamentos!$G$4:$G$1048576,Lançamentos!$F$4:$F$1048576,Base!$A15,Lançamentos!$D$4:$D$1048576,Base!EK$3,Lançamentos!$E$4:$E$1048576,Base!$EB$2)","v":0},{"$f":"SUMIFS(Lançamentos!$G$4:$G$1048576,Lançamentos!$F$4:$F$1048576,Base!$A15,Lançamentos!$D$4:$D$1048576,Base!EL$3,Lançamentos!$E$4:$E$1048576,Base!$EB$2)","v":0},{"$f":"SUMIFS(Lançamentos!$G$4:$G$1048576,Lançamentos!$F$4:$F$1048576,Base!$A15,Lançamentos!$D$4:$D$1048576,Base!EM$3,Lançamentos!$E$4:$E$1048576,Base!$EB$2)","v":0},0,{"$f":"SUMIFS(Lançamentos!$G$4:$G$1048576,Lançamentos!$F$4:$F$1048576,Base!$A15,Lançamentos!$D$4:$D$1048576,Base!EO$3,Lançamentos!$E$4:$E$1048576,Base!$EO$2)","v":0},{"$f":"SUMIFS(Lançamentos!$G$4:$G$1048576,Lançamentos!$F$4:$F$1048576,Base!$A15,Lançamentos!$D$4:$D$1048576,Base!EP$3,Lançamentos!$E$4:$E$1048576,Base!$EO$2)","v":0},{"$f":"SUMIFS(Lançamentos!$G$4:$G$1048576,Lançamentos!$F$4:$F$1048576,Base!$A15,Lançamentos!$D$4:$D$1048576,Base!EQ$3,Lançamentos!$E$4:$E$1048576,Base!$EO$2)","v":0},{"$f":"SUMIFS(Lançamentos!$G$4:$G$1048576,Lançamentos!$F$4:$F$1048576,Base!$A15,Lançamentos!$D$4:$D$1048576,Base!ER$3,Lançamentos!$E$4:$E$1048576,Base!$EO$2)","v":0},{"$f":"SUMIFS(Lançamentos!$G$4:$G$1048576,Lançamentos!$F$4:$F$1048576,Base!$A15,Lançamentos!$D$4:$D$1048576,Base!ES$3,Lançamentos!$E$4:$E$1048576,Base!$EO$2)","v":0},{"$f":"SUMIFS(Lançamentos!$G$4:$G$1048576,Lançamentos!$F$4:$F$1048576,Base!$A15,Lançamentos!$D$4:$D$1048576,Base!ET$3,Lançamentos!$E$4:$E$1048576,Base!$EO$2)","v":0},{"$f":"SUMIFS(Lançamentos!$G$4:$G$1048576,Lançamentos!$F$4:$F$1048576,Base!$A15,Lançamentos!$D$4:$D$1048576,Base!EU$3,Lançamentos!$E$4:$E$1048576,Base!$EO$2)","v":0},{"$f":"SUMIFS(Lançamentos!$G$4:$G$1048576,Lançamentos!$F$4:$F$1048576,Base!$A15,Lançamentos!$D$4:$D$1048576,Base!EV$3,Lançamentos!$E$4:$E$1048576,Base!$EO$2)","v":0},{"$f":"SUMIFS(Lançamentos!$G$4:$G$1048576,Lançamentos!$F$4:$F$1048576,Base!$A15,Lançamentos!$D$4:$D$1048576,Base!EW$3,Lançamentos!$E$4:$E$1048576,Base!$EO$2)","v":0},{"$f":"SUMIFS(Lançamentos!$G$4:$G$1048576,Lançamentos!$F$4:$F$1048576,Base!$A15,Lançamentos!$D$4:$D$1048576,Base!EX$3,Lançamentos!$E$4:$E$1048576,Base!$EO$2)","v":0},{"$f":"SUMIFS(Lançamentos!$G$4:$G$1048576,Lançamentos!$F$4:$F$1048576,Base!$A15,Lançamentos!$D$4:$D$1048576,Base!EY$3,Lançamentos!$E$4:$E$1048576,Base!$EO$2)","v":0},{"$f":"SUMIFS(Lançamentos!$G$4:$G$1048576,Lançamentos!$F$4:$F$1048576,Base!$A15,Lançamentos!$D$4:$D$1048576,Base!EZ$3,Lançamentos!$E$4:$E$1048576,Base!$EO$2)","v":0},0,{"$f":"SUMIFS(Lançamentos!$G$4:$G$1048576,Lançamentos!$F$4:$F$1048576,Base!$A15,Lançamentos!$D$4:$D$1048576,Base!FB$3,Lançamentos!$E$4:$E$1048576,Base!$FB$2)","v":0},{"$f":"SUMIFS(Lançamentos!$G$4:$G$1048576,Lançamentos!$F$4:$F$1048576,Base!$A15,Lançamentos!$D$4:$D$1048576,Base!FC$3,Lançamentos!$E$4:$E$1048576,Base!$FB$2)","v":0},{"$f":"SUMIFS(Lançamentos!$G$4:$G$1048576,Lançamentos!$F$4:$F$1048576,Base!$A15,Lançamentos!$D$4:$D$1048576,Base!FD$3,Lançamentos!$E$4:$E$1048576,Base!$FB$2)","v":0},{"$f":"SUMIFS(Lançamentos!$G$4:$G$1048576,Lançamentos!$F$4:$F$1048576,Base!$A15,Lançamentos!$D$4:$D$1048576,Base!FE$3,Lançamentos!$E$4:$E$1048576,Base!$FB$2)","v":0},{"$f":"SUMIFS(Lançamentos!$G$4:$G$1048576,Lançamentos!$F$4:$F$1048576,Base!$A15,Lançamentos!$D$4:$D$1048576,Base!FF$3,Lançamentos!$E$4:$E$1048576,Base!$FB$2)","v":0},{"$f":"SUMIFS(Lançamentos!$G$4:$G$1048576,Lançamentos!$F$4:$F$1048576,Base!$A15,Lançamentos!$D$4:$D$1048576,Base!FG$3,Lançamentos!$E$4:$E$1048576,Base!$FB$2)","v":0},{"$f":"SUMIFS(Lançamentos!$G$4:$G$1048576,Lançamentos!$F$4:$F$1048576,Base!$A15,Lançamentos!$D$4:$D$1048576,Base!FH$3,Lançamentos!$E$4:$E$1048576,Base!$FB$2)","v":0},{"$f":"SUMIFS(Lançamentos!$G$4:$G$1048576,Lançamentos!$F$4:$F$1048576,Base!$A15,Lançamentos!$D$4:$D$1048576,Base!FI$3,Lançamentos!$E$4:$E$1048576,Base!$FB$2)","v":0},{"$f":"SUMIFS(Lançamentos!$G$4:$G$1048576,Lançamentos!$F$4:$F$1048576,Base!$A15,Lançamentos!$D$4:$D$1048576,Base!FJ$3,Lançamentos!$E$4:$E$1048576,Base!$FB$2)","v":0},{"$f":"SUMIFS(Lançamentos!$G$4:$G$1048576,Lançamentos!$F$4:$F$1048576,Base!$A15,Lançamentos!$D$4:$D$1048576,Base!FK$3,Lançamentos!$E$4:$E$1048576,Base!$FB$2)","v":0},{"$f":"SUMIFS(Lançamentos!$G$4:$G$1048576,Lançamentos!$F$4:$F$1048576,Base!$A15,Lançamentos!$D$4:$D$1048576,Base!FL$3,Lançamentos!$E$4:$E$1048576,Base!$FB$2)","v":0},{"$f":"SUMIFS(Lançamentos!$G$4:$G$1048576,Lançamentos!$F$4:$F$1048576,Base!$A15,Lançamentos!$D$4:$D$1048576,Base!FM$3,Lançamentos!$E$4:$E$1048576,Base!$FB$2)","v":0},0,{"$f":"SUMIFS(Lançamentos!$G$4:$G$1048576,Lançamentos!$F$4:$F$1048576,Base!$A15,Lançamentos!$D$4:$D$1048576,Base!FO$3,Lançamentos!$E$4:$E$1048576,Base!$FO$2)","v":0},{"$f":"SUMIFS(Lançamentos!$G$4:$G$1048576,Lançamentos!$F$4:$F$1048576,Base!$A15,Lançamentos!$D$4:$D$1048576,Base!FP$3,Lançamentos!$E$4:$E$1048576,Base!$FO$2)","v":0},{"$f":"SUMIFS(Lançamentos!$G$4:$G$1048576,Lançamentos!$F$4:$F$1048576,Base!$A15,Lançamentos!$D$4:$D$1048576,Base!FQ$3,Lançamentos!$E$4:$E$1048576,Base!$FO$2)","v":0},{"$f":"SUMIFS(Lançamentos!$G$4:$G$1048576,Lançamentos!$F$4:$F$1048576,Base!$A15,Lançamentos!$D$4:$D$1048576,Base!FR$3,Lançamentos!$E$4:$E$1048576,Base!$FO$2)","v":0},{"$f":"SUMIFS(Lançamentos!$G$4:$G$1048576,Lançamentos!$F$4:$F$1048576,Base!$A15,Lançamentos!$D$4:$D$1048576,Base!FS$3,Lançamentos!$E$4:$E$1048576,Base!$FO$2)","v":0},{"$f":"SUMIFS(Lançamentos!$G$4:$G$1048576,Lançamentos!$F$4:$F$1048576,Base!$A15,Lançamentos!$D$4:$D$1048576,Base!FT$3,Lançamentos!$E$4:$E$1048576,Base!$FO$2)","v":0},{"$f":"SUMIFS(Lançamentos!$G$4:$G$1048576,Lançamentos!$F$4:$F$1048576,Base!$A15,Lançamentos!$D$4:$D$1048576,Base!FU$3,Lançamentos!$E$4:$E$1048576,Base!$FO$2)","v":0},{"$f":"SUMIFS(Lançamentos!$G$4:$G$1048576,Lançamentos!$F$4:$F$1048576,Base!$A15,Lançamentos!$D$4:$D$1048576,Base!FV$3,Lançamentos!$E$4:$E$1048576,Base!$FO$2)","v":0},{"$f":"SUMIFS(Lançamentos!$G$4:$G$1048576,Lançamentos!$F$4:$F$1048576,Base!$A15,Lançamentos!$D$4:$D$1048576,Base!FW$3,Lançamentos!$E$4:$E$1048576,Base!$FO$2)","v":0},{"$f":"SUMIFS(Lançamentos!$G$4:$G$1048576,Lançamentos!$F$4:$F$1048576,Base!$A15,Lançamentos!$D$4:$D$1048576,Base!FX$3,Lançamentos!$E$4:$E$1048576,Base!$FO$2)","v":0},{"$f":"SUMIFS(Lançamentos!$G$4:$G$1048576,Lançamentos!$F$4:$F$1048576,Base!$A15,Lançamentos!$D$4:$D$1048576,Base!FY$3,Lançamentos!$E$4:$E$1048576,Base!$FO$2)","v":0},{"$f":"SUMIFS(Lançamentos!$G$4:$G$1048576,Lançamentos!$F$4:$F$1048576,Base!$A15,Lançamentos!$D$4:$D$1048576,Base!FZ$3,Lançamentos!$E$4:$E$1048576,Base!$FO$2)","v":0},0,{"$f":"SUMIFS(Lançamentos!$G$4:$G$1048576,Lançamentos!$F$4:$F$1048576,Base!$A15,Lançamentos!$D$4:$D$1048576,Base!GB$3,Lançamentos!$E$4:$E$1048576,Base!$GB$2)","v":0},{"$f":"SUMIFS(Lançamentos!$G$4:$G$1048576,Lançamentos!$F$4:$F$1048576,Base!$A15,Lançamentos!$D$4:$D$1048576,Base!GC$3,Lançamentos!$E$4:$E$1048576,Base!$GB$2)","v":0},{"$f":"SUMIFS(Lançamentos!$G$4:$G$1048576,Lançamentos!$F$4:$F$1048576,Base!$A15,Lançamentos!$D$4:$D$1048576,Base!GD$3,Lançamentos!$E$4:$E$1048576,Base!$GB$2)","v":0},{"$f":"SUMIFS(Lançamentos!$G$4:$G$1048576,Lançamentos!$F$4:$F$1048576,Base!$A15,Lançamentos!$D$4:$D$1048576,Base!GE$3,Lançamentos!$E$4:$E$1048576,Base!$GB$2)","v":0},{"$f":"SUMIFS(Lançamentos!$G$4:$G$1048576,Lançamentos!$F$4:$F$1048576,Base!$A15,Lançamentos!$D$4:$D$1048576,Base!GF$3,Lançamentos!$E$4:$E$1048576,Base!$GB$2)","v":0},{"$f":"SUMIFS(Lançamentos!$G$4:$G$1048576,Lançamentos!$F$4:$F$1048576,Base!$A15,Lançamentos!$D$4:$D$1048576,Base!GG$3,Lançamentos!$E$4:$E$1048576,Base!$GB$2)","v":0},{"$f":"SUMIFS(Lançamentos!$G$4:$G$1048576,Lançamentos!$F$4:$F$1048576,Base!$A15,Lançamentos!$D$4:$D$1048576,Base!GH$3,Lançamentos!$E$4:$E$1048576,Base!$GB$2)","v":0},{"$f":"SUMIFS(Lançamentos!$G$4:$G$1048576,Lançamentos!$F$4:$F$1048576,Base!$A15,Lançamentos!$D$4:$D$1048576,Base!GI$3,Lançamentos!$E$4:$E$1048576,Base!$GB$2)","v":0},{"$f":"SUMIFS(Lançamentos!$G$4:$G$1048576,Lançamentos!$F$4:$F$1048576,Base!$A15,Lançamentos!$D$4:$D$1048576,Base!GJ$3,Lançamentos!$E$4:$E$1048576,Base!$GB$2)","v":0},{"$f":"SUMIFS(Lançamentos!$G$4:$G$1048576,Lançamentos!$F$4:$F$1048576,Base!$A15,Lançamentos!$D$4:$D$1048576,Base!GK$3,Lançamentos!$E$4:$E$1048576,Base!$GB$2)","v":0},{"$f":"SUMIFS(Lançamentos!$G$4:$G$1048576,Lançamentos!$F$4:$F$1048576,Base!$A15,Lançamentos!$D$4:$D$1048576,Base!GL$3,Lançamentos!$E$4:$E$1048576,Base!$GB$2)","v":0},{"$f":"SUMIFS(Lançamentos!$G$4:$G$1048576,Lançamentos!$F$4:$F$1048576,Base!$A15,Lançamentos!$D$4:$D$1048576,Base!GM$3,Lançamentos!$E$4:$E$1048576,Base!$GB$2)","v":0},0,null,2028]
[{"$f":"IF(Lançamentos!A13=\"\",\"\",Lançamentos!A13)","v":"Despesas Financeiras"},{"$f":"SUMIFS(Lançamentos!$G$4:$G$1048576,Lançamentos!$F$4:$F$1048576,Base!$A16,Lançamentos!$D$4:$D$1048576,Base!B$3,Lançamentos!$E$4:$E$1048576,Base!$B$2)","v":0},{"$f":"SUMIFS(Lançamentos!$G$4:$G$1048576,Lançamentos!$F$4:$F$1048576,Base!$A16,Lançamentos!$D$4:$D$1048576,Base!C$3,Lançamentos!$E$4:$E$1048576,Base!$B$2)","v":0},{"$f":"SUMIFS(Lançamentos!$G$4:$G$1048576,Lançamentos!$F$4:$F$1048576,Base!$A16,Lançamentos!$D$4:$D$1048576,Base!D$3,Lançamentos!$E$4:$E$1048576,Base!$B$2)","v":0},{"$f":"SUMIFS(Lançamentos!$G$4:$G$1048576,Lançamentos!$F$4:$F$1048576,Base!$A16,Lançamentos!$D$4:$D$1048576,Base!E$3,Lançamentos!$E$4:$E$1048576,Base!$B$2)","v":0},{"$f":"SUMIFS(Lançamentos!$G$4:$G$1048576,Lançamentos!$F$4:$F$1048576,Base!$A16,Lançamentos!$D$4:$D$1048576,Base!F$3,Lançamentos!$E$4:$E$1048576,Base!$B$2)","v":0},{"$f":"SUMIFS(Lançamentos!$G$4:$G$1048576,Lançamentos!$F$4:$F$1048576,Base!$A16,Lançamentos!$D$4:$D$1048576,Base!G$3,Lançamentos!$E$4:$E$1048576,Base!$B$2)","v":0},{"$f":"SUMIFS(Lançamentos!$G$4:$G$1048576,Lançamentos!$F$4:$F$1048576,Base!$A16,Lançamentos!$D$4:$D$1048576,Base!H$3,Lançamentos!$E$4:$E$1048576,Base!$B$2)","v":0},{"$f":"SUMIFS(Lançamentos!$G$4:$G$1048576,Lançamentos!$F$4:$F$1048576,Base!$A16,Lançamentos!$D$4:$D$1048576,Base!I$3,Lançamentos!$E$4:$E$1048576,Base!$B$2)","v":0},{"$f":"SUMIFS(Lançamentos!$G$4:$G$1048576,Lançamentos!$F$4:$F$1048576,Base!$A16,Lançamentos!$D$4:$D$1048576,Base!J$3,Lançamentos!$E$4:$E$1048576,Base!$B$2)","v":0},{"$f":"SUMIFS(Lançamentos!$G$4:$G$1048576,Lançamentos!$F$4:$F$1048576,Base!$A16,Lançamentos!$D$4:$D$1048576,Base!K$3,Lançamentos!$E$4:$E$1048576,Base!$B$2)","v":0},{"$f":"SUMIFS(Lançamentos!$G$4:$G$1048576,Lançamentos!$F$4:$F$1048576,Base!$A16,Lançamentos!$D$4:$D$1048576,Base!L$3,Lançamentos!$E$4:$E$1048576,Base!$B$2)","v":0},{"$f":"SUMIFS(Lançamentos!$G$4:$G$1048576,Lançamentos!$F$4:$F$1048576,Base!$A16,Lançamentos!$D$4:$D$1048576,Base!M$3,Lançamentos!$E$4:$E$1048576,Base!$B$2)","v":0},0,{"$f":"SUMIFS(Lançamentos!$G$4:$G$1048576,Lançamentos!$F$4:$F$1048576,Base!$A16,Lançamentos!$D$4:$D$1048576,Base!O$3,Lançamentos!$E$4:$E$1048576,Base!$O$2)","v":0},{"$f":"SUMIFS(Lançamentos!$G$4:$G$1048576,Lançamentos!$F$4:$F$1048576,Base!$A16,Lançamentos!$D$4:$D$1048576,Base!P$3,Lançamentos!$E$4:$E$1048576,Base!$O$2)","v":0},{"$f":"SUMIFS(Lançamentos!$G$4:$G$1048576,Lançamentos!$F$4:$F$1048576,Base!$A16,Lançamentos!$D$4:$D$1048576,Base!Q$3,Lançamentos!$E$4:$E$1048576,Base!$O$2)","v":0},{"$f":"SUMIFS(Lançamentos!$G$4:$G$1048576,Lançamentos!$F$4:$F$1048576,Base!$A16,Lançamentos!$D$4:$D$1048576,Base!R$3,Lançamentos!$E$4:$E$1048576,Base!$O$2)","v":0},{"$f":"SUMIFS(Lançamentos!$G$4:$G$1048576,Lançamentos!$F$4:$F$1048576,Base!$A16,Lançamentos!$D$4:$D$1048576,Base!S$3,Lançamentos!$E$4:$E$1048576,Base!$O$2)","v":0},{"$f":"SUMIFS(Lançamentos!$G$4:$G$1048576,Lançamentos!$F$4:$F$1048576,Base!$A16,Lançamentos!$D$4:$D$1048576,Base!T$3,Lançamentos!$E$4:$E$1048576,Base!$O$2)","v":0},{"$f":"SUMIFS(Lançamentos!$G$4:$G$1048576,Lançamentos!$F$4:$F$1048576,Base!$A16,Lançamentos!$D$4:$D$1048576,Base!U$3,Lançamentos!$E$4:$E$1048576,Base!$O$2)","v":0},{"$f":"SUMIFS(Lançamentos!$G$4:$G$1048576,Lançamentos!$F$4:$F$1048576,Base!$A16,Lançamentos!$D$4:$D$1048576,Base!V$3,Lançamentos!$E$4:$E$1048576,Base!$O$2)","v":0},{"$f":"SUMIFS(Lançamentos!$G$4:$G$1048576,Lançamentos!$F$4:$F$1048576,Base!$A16,Lançamentos!$D$4:$D$1048576,Base!W$3,Lançamentos!$E$4:$E$1048576,Base!$O$2)","v":0},{"$f":"SUMIFS(Lançamentos!$G$4:$G$1048576,Lançamentos!$F$4:$F$1048576,Base!$A16,Lançamentos!$D$4:$D$1048576,Base!X$3,Lançamentos!$E$4:$E$1048576,Base!$O$2)","v":0},{"$f":"SUMIFS(Lançamentos!$G$4:$G$1048576,Lançamentos!$F$4:$F$1048576,Base!$A16,Lançamentos!$D$4:$D$1048576,Base!Y$3,Lançamentos!$E$4:$E$1048576,Base!$O$2)","v":0},{"$f":"SUMIFS(Lançamentos!$G$4:$G$1048576,Lançamentos!$F$4:$F$1048576,Base!$A16,Lançamentos!$D$4:$D$1048576,Base!Z$3,Lançamentos!$E$4:$E$1048576,Base!$O$2)","v":0},0,{"$f":"SUMIFS(Lançamentos!$G$4:$G$1048576,Lançamentos!$F$4:$F$1048576,Base!$A16,Lançamentos!$D$4:$D$1048576,Base!AB$3,Lançamentos!$E$4:$E$1048576,Base!$AB$2)","v":0},{"$f":"SUMIFS(Lançamentos!$G$4:$G$1048576,Lançamentos!$F$4:$F$1048576,Base!$A16,Lançamentos!$D$4:$D$1048576,Base!AC$3,Lançamentos!$E$4:$E$1048576,Base!$AB$2)","v":0},{"$f":"SUMIFS(Lançamentos!$G$4:$G$1048576,Lançamentos!$F$4:$F$1048576,Base!$A16,Lançamentos!$D$4:$D$1048576,Base!AD$3,Lançamentos!$E$4:$E$1048576,Base!$AB$2)","v":0},{"$f":"SUMIFS(Lançamentos!$G$4:$G$1048576,Lançamentos!$F$4:$F$1048576,Base!$A16,Lançamentos!$D$4:$D$1048576,Base!AE$3,Lançamentos!$E$4:$E$1048576,Base!$AB$2)","v":0},{"$f":"SUMIFS(Lançamentos!$G$4:$G$1048576,Lançamentos!$F$4:$F$1048576,Base!$A16,Lançamentos!$D$4:$D$1048576,Base!AF$3,Lançamentos!$E$4:$E$1048576,Base!$AB$2)","v":0},{"$f":"SUMIFS(Lançamentos!$G$4:$G$1048576,Lançamentos!$F$4:$F$1048576,Base!$A16,Lançamentos!$D$4:$D$1048576,Base!AG$3,Lançamentos!$E$4:$E$1048576,Base!$AB$2)","v":0},{"$f":"SUMIFS(Lançamentos!$G$4:$G$1048576,Lançamentos!$F$4:$F$1048576,Base!$A16,Lançamentos!$D$4:$D$1048576,Base!AH$3,Lançamentos!$E$4:$E$1048576,Base!$AB$2)","v":0},{"$f":"SUMIFS(Lançamentos!$G$4:$G$1048576,Lançamentos!$F$4:$F$1048576,Base!$A16,Lançamentos!$D$4:$D$1048576,Base!AI$3,Lançamentos!$E$4:$E$1048576,Base!$AB$2)","v":0},{"$f":"SUMIFS(Lançamentos!$G$4:$G$1048576,Lançamentos!$F$4:$F$1048576,Base!$A16,Lançamentos!$D$4:$D$1048576,Base!AJ$3,Lançamentos!$E$4:$E$1048576,Base!$AB$2)","v":0},{"$f":"SUMIFS(Lançamentos!$G$4:$G$1048576,Lançamentos!$F$4:$F$1048576,Base!$A16,Lançamentos!$D$4:$D$1048576,Base!AK$3,Lançamentos!$E$4:$E$1048576,Base!$AB$2)","v":0},{"$f":"SUMIFS(Lançamentos!$G$4:$G$1048576,Lançamentos!$F$4:$F$1048576,Base!$A16,Lançamentos!$D$4:$D$1048576,Base!AL$3,Lançamentos!$E$4:$E$1048576,Base!$AB$2)","v":0},{"$f":"SUMIFS(Lançamentos!$G$4:$G$1048576,Lançamentos!$F$4:$F$1048576,Base!$A16,Lançamentos!$D$4:$D$1048576,Base!AM$3,Lançamentos!$E$4:$E$1048576,Base!$AB$2)","v":0},0,{"$f":"SUMIFS(Lançamentos!$G$4:$G$1048576,Lançamentos!$F$4:$F$1048576,Base!$A16,Lançamentos!$D$4:$D$1048576,Base!AO$3,Lançamentos!$E$4:$E$1048576,Base!$AO$2)","v":0},{"$f":"SUMIFS(Lançamentos!$G$4:$G$1048576,Lançamentos!$F$4:$F$1048576,Base!$A16,Lançamentos!$D$4:$D$1048576,Base!AP$3,Lançamentos!$E$4:$E$1048576,Base!$AO$2)","v":0},{"$f":"SUMIFS(Lançamentos!$G$4:$G$1048576,Lançamentos!$F$4:$F$1048576,Base!$A16,Lançamentos!$D$4:$D$1048576,Base!AQ$3,Lançamentos!$E$4:$E$1048576,Base!$AO$2)","v":0},{"$f":"SUMIFS(Lançamentos!$G$4:$G$1048576,Lançamentos!$F$4:$F$1048576,Base!$A16,Lançamentos!$D$4:$D$1048576,Base!AR$3,Lançamentos!$E$4:$E$1048576,Base!$AO$2)","v":0},{"$f":"SUMIFS(Lançamentos!$G$4:$G$1048576,Lançamentos!$F$4:$F$1048576,Base!$A16,Lançamentos!$D$4:$D$1048576,Base!AS$3,Lançamentos!$E$4:$E$1048576,Base!$AO$2)","v":0},{"$f":"SUMIFS(Lançamentos!$G$4:$G$1048576,Lançamentos!$F$4:$F$1048576,Base!$A16,Lançamentos!$D$4:$D$1048576,Base!AT$3,Lançamentos!$E$4:$E$1048576,Base!$AO$2)","v":0},{"$f":"SUMIFS(Lançamentos!$G$4:$G$1048576,Lançamentos!$F$4:$F$1048576,Base!$A16,Lançamentos!$D$4:$D$1048576,Base!AU$3,Lançamentos!$E$4:$E$1048576,Base!$AO$2)","v":0},{"$f":"SUMIFS(Lançamentos!$G$4:$G$1048576,Lançamentos!$F$4:$F$1048576,Base!$A16,Lançamentos!$D$4:$D$1048576,Base!AV$3,Lançamentos!$E$4:$E$1048576,Base!$AO$2)","v":0},{"$f":"SUMIFS(Lançamentos!$G$4:$G$1048576,Lançamentos!$F$4:$F$1048576,Base!$A16,Lançamentos!$D$4:$D$1048576,Base!AW$3,Lançamentos!$E$4:$E$1048576,Base!$AO$2)","v":0},{"$f":"SUMIFS(Lançamentos!$G$4:$G$1048576,Lançamentos!$F$4:$F$1048576,Base!$A16,Lançamentos!$D$4:$D$1048576,Base!AX$3,Lançamentos!$E$4:$E$1048576,Base!$AO$2)","v":0},{"$f":"SUMIFS(Lançamentos!$G$4:$G$1048576,Lançamentos!$F$4:$F$1048576,Base!$A16,Lançamentos!$D$4:$D$1048576,Base!AY$3,Lançamentos!$E$4:$E$1048576,Base!$AO$2)","v":0},{"$f":"SUMIFS(Lançamentos!$G$4:$G$1048576,Lançamentos!$F$4:$F$1048576,Base!$A16,Lançamentos!$D$4:$D$1048576,Base!AZ$3,Lançamentos!$E$4:$E$1048576,Base!$AO$2)","v":0},0,{"$f":"SUMIFS(Lançamentos!$G$4:$G$1048576,Lançamentos!$F$4:$F$1048576,Base!$A16,Lançamentos!$D$4:$D$1048576,Base!BB$3,Lançamentos!$E$4:$E$1048576,Base!$BB$2)","v":0},{"$f":"SUMIFS(Lançamentos!$G$4:$G$1048576,Lançamentos!$F$4:$F$1048576,Base!$A16,Lançamentos!$D$4:$D$1048576,Base!BC$3,Lançamentos!$E$4:$E$1048576,Base!$BB$2)","v":0},{"$f":"SUMIFS(Lançamentos!$G$4:$G$1048576,Lançamentos!$F$4:$F$1048576,Base!$A16,Lançamentos!$D$4:$D$1048576,Base!BD$3,Lançamentos!$E$4:$E$1048576,Base!$BB$2)","v":0},{"$f":"SUMIFS(Lançamentos!$G$4:$G$1048576,Lançamentos!$F$4:$F$1048576,Base!$A16,Lançamentos!$D$4:$D$1048576,Base!BE$3,Lançamentos!$E$4:$E$1048576,Base!$BB$2)","v":0},{"$f":"SUMIFS(Lançamentos!$G$4:$G$1048576,Lançamentos!$F$4:$F$1048576,Base!$A16,Lançamentos!$D$4:$D$1048576,Base!BF$3,Lançamentos!$E$4:$E$1048576,Base!$BB$2)","v":0},{"$f":"SUMIFS(Lançamentos!$G$4:$G$1048576,Lançamentos!$F$4:$F$1048576,Base!$A16,Lançamentos!$D$4:$D$1048576,Base!BG$3,Lançamentos!$E$4:$E$1048576,Base!$BB$2)","v":0},{"$f":"SUMIFS(Lançamentos!$G$4:$G$1048576,Lançamentos!$F$4:$F$1048576,Base!$A16,Lançamentos!$D$4:$D$1048576,Base!BH$3,Lançamentos!$E$4:$E$1048576,Base!$BB$2)","v":0},{"$f":"SUMIFS(Lançamentos!$G$4:$G$1048576,Lançamentos!$F$4:$F$1048576,Base!$A16,Lançamentos!$D$4:$D$1048576,Base!BI$3,Lançamentos!$E$4:$E$1048576,Base!$BB$2)","v":0},{"$f":"SUMIFS(Lançamentos!$G$4:$G$1048576,Lançamentos!$F$4:$F$1048576,Base!$A16,Lançamentos!$D$4:$D$1048576,Base!BJ$3,Lançamentos!$E$4:$E$1048576,Base!$BB$2)","v":0},{"$f":"SUMIFS(Lançamentos!$G$4:$G$1048576,Lançamentos!$F$4:$F$1048576,Base!$A16,Lançamentos!$D$4:$D$1048576,Base!BK$3,Lançamentos!$E$4:$E$1048576,Base!$BB$2)","v":0},{"$f":"SUMIFS(Lançamentos!$G$4:$G$1048576,Lançamentos!$F$4:$F$1048576,Base!$A16,Lançamentos!$D$4:$D$1048576,Base!BL$3,Lançamentos!$E$4:$E$1048576,Base!$BB$2)","v":0},{"$f":"SUMIFS(Lançamentos!$G$4:$G$1048576,Lançamentos!$F$4:$F$1048576,Base!$A16,Lançamentos!$D$4:$D$1048576,Base!BM$3,Lançamentos!$E$4:$E$1048576,Base!$BB$2)","v":0},0,{"$f":"SUMIFS(Lançamentos!$G$4:$G$1048576,Lançamentos!$F$4:$F$1048576,Base!$A16,Lançamentos!$D$4:$D$1048576,Base!BO$3,Lançamentos!$E$4:$E$1048576,Base!$BO$2)","v":0},{"$f":"SUMIFS(Lançamentos!$G$4:$G$1048576,Lançamentos!$F$4:$F$1048576,Base!$A16,Lançamentos!$D$4:$D$1048576,Base!BP$3,Lançamentos!$E$4:$E$1048576,Base!$BO$2)","v":0},{"$f":"SUMIFS(Lançamentos!$G$4:$G$1048576,Lançamentos!$F$4:$F$1048576,Base!$A16,Lançamentos!$D$4:$D$1048576,Base!BQ$3,Lançamentos!$E$4:$E$1048576,Base!$BO$2)","v":0},{"$f":"SUMIFS(Lançamentos!$G$4:$G$1048576,Lançamentos!$F$4:$F$1048576,Base!$A16,Lançamentos!$D$4:$D$1048576,Base!BR$3,Lançamentos!$E$4:$E$1048576,Base!$BO$2)","v":0},{"$f":"SUMIFS(Lançamentos!$G$4:$G$1048576,Lançamentos!$F$4:$F$1048576,Base!$A16,Lançamentos!$D$4:$D$1048576,Base!BS$3,Lançamentos!$E$4:$E$1048576,Base!$BO$2)","v":0},{"$f":"SUMIFS(Lançamentos!$G$4:$G$1048576,Lançamentos!$F$4:$F$1048576,Base!$A16,Lançamentos!$D$4:$D$1048576,Base!BT$3,Lançamentos!$E$4:$E$1048576,Base!$BO$2)","v":0},{"$f":"SUMIFS(Lançamentos!$G$4:$G$1048576,Lançamentos!$F$4:$F$1048576,Base!$A16,Lançamentos!$D$4:$D$1048576,Base!BU$3,Lançamentos!$E$4:$E$1048576,Base!$BO$2)","v":0},{"$f":"SUMIFS(Lançamentos!$G$4:$G$1048576,Lançamentos!$F$4:$F$1048576,Base!$A16,Lançamentos!$D$4:$D$1048576,Base!BV$3,Lançamentos!$E$4:$E$1048576,Base!$BO$2)","v":0},{"$f":"SUMIFS(Lançamentos!$G$4:$G$1048576,Lançamentos!$F$4:$F$1048576,Base!$A16,Lançamentos!$D$4:$D$1048576,Base!BW$3,Lançamentos!$E$4:$E$1048576,Base!$BO$2)","v":0},{"$f":"SUMIFS(Lançamentos!$G$4:$G$1048576,Lançamentos!$F$4:$F$1048576,Base!$A16,Lançamentos!$D$4:$D$1048576,Base!BX$3,Lançamentos!$E$4:$E$1048576,Base!$BO$2)","v":0},{"$f":"SUMIFS(Lançamentos!$G$4:$G$1048576,Lançamentos!$F$4:$F$1048576,Base!$A16,Lançamentos!$D$4:$D$1048576,Base!BY$3,Lançamentos!$E$4:$E$1048576,Base!$BO$2)","v":0},{"$f":"SUMIFS(Lançamentos!$G$4:$G$1048576,Lançamentos!$F$4:$F$1048576,Base!$A16,Lançamentos!$D$4:$D$1048576,Base!BZ$3,Lançamentos!$E$4:$E$1048576,Base!$BO$2)","v":0},0,{"$f":"SUMIFS(Lançamentos!$G$4:$G$1048576,Lançamentos!$F$4:$F$1048576,Base!$A16,Lançamentos!$D$4:$D$1048576,Base!CB$3,Lançamentos!$E$4:$E$1048576,Base!$CB$2)","v":0},{"$f":"SUMIFS(Lançamentos!$G$4:$G$1048576,Lançamentos!$F$4:$F$1048576,Base!$A16,Lançamentos!$D$4:$D$1048576,Base!CC$3,Lançamentos!$E$4:$E$1048576,Base!$CB$2)","v":0},{"$f":"SUMIFS(Lançamentos!$G$4:$G$1048576,Lançamentos!$F$4:$F$1048576,Base!$A16,Lançamentos!$D$4:$D$1048576,Base!CD$3,Lançamentos!$E$4:$E$1048576,Base!$CB$2)","v":0},{"$f":"SUMIFS(Lançamentos!$G$4:$G$1048576,Lançamentos!$F$4:$F$1048576,Base!$A16,Lançamentos!$D$4:$D$1048576,Base!CE$3,Lançamentos!$E$4:$E$1048576,Base!$CB$2)","v":0},{"$f":"SUMIFS(Lançamentos!$G$4:$G$1048576,Lançamentos!$F$4:$F$1048576,Base!$A16,Lançamentos!$D$4:$D$1048576,Base!CF$3,Lançamentos!$E$4:$E$1048576,Base!$CB$2)","v":0},{"$f":"SUMIFS(Lançamentos!$G$4:$G$1048576,Lançamentos!$F$4:$F$1048576,Base!$A16,Lançamentos!$D$4:$D$1048576,Base!CG$3,Lançamentos!$E$4:$E$1048576,Base!$CB$2)","v":0},{"$f":"SUMIFS(Lançamentos!$G$4:$G$1048576,Lançamentos!$F$4:$F$1048576,Base!$A16,Lançamentos!$D$4:$D$1048576,Base!CH$3,Lançamentos!$E$4:$E$1048576,Base!$CB$2)","v":0},{"$f":"SUMIFS(Lançamentos!$G$4:$G$1048576,Lançamentos!$F$4:$F$1048576,Base!$A16,Lançamentos!$D$4:$D$1048576,Base!CI$3,Lançamentos!$E$4:$E$1048576,Base!$CB$2)","v":0},{"$f":"SUMIFS(Lançamentos!$G$4:$G$1048576,Lançamentos!$F$4:$F$1048576,Base!$A16,Lançamentos!$D$4:$D$1048576,Base!CJ$3,Lançamentos!$E$4:$E$1048576,Base!$CB$2)","v":0},{"$f":"SUMIFS(Lançamentos!$G$4:$G$1048576,Lançamentos!$F$4:$F$1048576,Base!$A16,Lançamentos!$D$4:$D$1048576,Base!CK$3,Lançamentos!$E$4:$E$1048576,Base!$CB$2)","v":0},{"$f":"SUMIFS(Lançamentos!$G$4:$G$1048576,Lançamentos!$F$4:$F$1048576,Base!$A16,Lançamentos!$D$4:$D$1048576,Base!CL$3,Lançamentos!$E$4:$E$1048576,Base!$CB$2)","v":0},{"$f":"SUMIFS(Lançamentos!$G$4:$G$1048576,Lançamentos!$F$4:$F$1048576,Base!$A16,Lançamentos!$D$4:$D$1048576,Base!CM$3,Lançamentos!$E$4:$E$1048576,Base!$CB$2)","v":0},0,{"$f":"SUMIFS(Lançamentos!$G$4:$G$1048576,Lançamentos!$F$4:$F$1048576,Base!$A16,Lançamentos!$D$4:$D$1048576,Base!CO$3,Lançamentos!$E$4:$E$1048576,Base!$CO$2)","v":0},{"$f":"SUMIFS(Lançamentos!$G$4:$G$1048576,Lançamentos!$F$4:$F$1048576,Base!$A16,Lançamentos!$D$4:$D$1048576,Base!CP$3,Lançamentos!$E$4:$E$1048576,Base!$CO$2)","v":0},{"$f":"SUMIFS(Lançamentos!$G$4:$G$1048576,Lançamentos!$F$4:$F$1048576,Base!$A16,Lançamentos!$D$4:$D$1048576,Base!CQ$3,Lançamentos!$E$4:$E$1048576,Base!$CO$2)","v":0},{"$f":"SUMIFS(Lançamentos!$G$4:$G$1048576,Lançamentos!$F$4:$F$1048576,Base!$A16,Lançamentos!$D$4:$D$1048576,Base!CR$3,Lançamentos!$E$4:$E$1048576,Base!$CO$2)","v":0},{"$f":"SUMIFS(Lançamentos!$G$4:$G$1048576,Lançamentos!$F$4:$F$1048576,Base!$A16,Lançamentos!$D$4:$D$1048576,Base!CS$3,Lançamentos!$E$4:$E$1048576,Base!$CO$2)","v":0},{"$f":"SUMIFS(Lançamentos!$G$4:$G$1048576,Lançamentos!$F$4:$F$1048576,Base!$A16,Lançamentos!$D$4:$D$1048576,Base!CT$3,Lançamentos!$E$4:$E$1048576,Base!$CO$2)","v":0},{"$f":"SUMIFS(Lançamentos!$G$4:$G$1048576,Lançamentos!$F$4:$F$1048576,Base!$A16,Lançamentos!$D$4:$D$1048576,Base!CU$3,Lançamentos!$E$4:$E$1048576,Base!$CO$2)","v":0},{"$f":"SUMIFS(Lançamentos!$G$4:$G$1048576,Lançamentos!$F$4:$F$1048576,Base!$A16,Lançamentos!$D$4:$D$1048576,Base!CV$3,Lançamentos!$E$4:$E$1048576,Base!$CO$2)","v":0},{"$f":"SUMIFS(Lançamentos!$G$4:$G$1048576,Lançamentos!$F$4:$F$1048576,Base!$A16,Lançamentos!$D$4:$D$1048576,Base!CW$3,Lançamentos!$E$4:$E$1048576,Base!$CO$2)","v":0},{"$f":"SUMIFS(Lançamentos!$G$4:$G$1048576,Lançamentos!$F$4:$F$1048576,Base!$A16,Lançamentos!$D$4:$D$1048576,Base!CX$3,Lançamentos!$E$4:$E$1048576,Base!$CO$2)","v":0},{"$f":"SUMIFS(Lançamentos!$G$4:$G$1048576,Lançamentos!$F$4:$F$1048576,Base!$A16,Lançamentos!$D$4:$D$1048576,Base!CY$3,Lançamentos!$E$4:$E$1048576,Base!$CO$2)","v":0},{"$f":"SUMIFS(Lançamentos!$G$4:$G$1048576,Lançamentos!$F$4:$F$1048576,Base!$A16,Lançamentos!$D$4:$D$1048576,Base!CZ$3,Lançamentos!$E$4:$E$1048576,Base!$CO$2)","v":0},0,{"$f":"SUMIFS(Lançamentos!$G$4:$G$1048576,Lançamentos!$F$4:$F$1048576,Base!$A16,Lançamentos!$D$4:$D$1048576,Base!DB$3,Lançamentos!$E$4:$E$1048576,Base!$DB$2)","v":0},{"$f":"SUMIFS(Lançamentos!$G$4:$G$1048576,Lançamentos!$F$4:$F$1048576,Base!$A16,Lançamentos!$D$4:$D$1048576,Base!DC$3,Lançamentos!$E$4:$E$1048576,Base!$DB$2)","v":0},{"$f":"SUMIFS(Lançamentos!$G$4:$G$1048576,Lançamentos!$F$4:$F$1048576,Base!$A16,Lançamentos!$D$4:$D$1048576,Base!DD$3,Lançamentos!$E$4:$E$1048576,Base!$DB$2)","v":0},{"$f":"SUMIFS(Lançamentos!$G$4:$G$1048576,Lançamentos!$F$4:$F$1048576,Base!$A16,Lançamentos!$D$4:$D$1048576,Base!DE$3,Lançamentos!$E$4:$E$1048576,Base!$DB$2)","v":0},{"$f":"SUMIFS(Lançamentos!$G$4:$G$1048576,Lançamentos!$F$4:$F$1048576,Base!$A16,Lançamentos!$D$4:$D$1048576,Base!DF$3,Lançamentos!$E$4:$E$1048576,Base!$DB$2)","v":0},{"$f":"SUMIFS(Lançamentos!$G$4:$G$1048576,Lançamentos!$F$4:$F$1048576,Base!$A16,Lançamentos!$D$4:$D$1048576,Base!DG$3,Lançamentos!$E$4:$E$1048576,Base!$DB$2)","v":0},{"$f":"SUMIFS(Lançamentos!$G$4:$G$1048576,Lançamentos!$F$4:$F$1048576,Base!$A16,Lançamentos!$D$4:$D$1048576,Base!DH$3,Lançamentos!$E$4:$E$1048576,Base!$DB$2)","v":0},{"$f":"SUMIFS(Lançamentos!$G$4:$G$1048576,Lançamentos!$F$4:$F$1048576,Base!$A16,Lançamentos!$D$4:$D$1048576,Base!DI$3,Lançamentos!$E$4:$E$1048576,Base!$DB$2)","v":0},{"$f":"SUMIFS(Lançamentos!$G$4:$G$1048576,Lançamentos!$F$4:$F$1048576,Base!$A16,Lançamentos!$D$4:$D$1048576,Base!DJ$3,Lançamentos!$E$4:$E$1048576,Base!$DB$2)","v":0},{"$f":"SUMIFS(Lançamentos!$G$4:$G$1048576,Lançamentos!$F$4:$F$1048576,Base!$A16,Lançamentos!$D$4:$D$1048576,Base!DK$3,Lançamentos!$E$4:$E$1048576,Base!$DB$2)","v":0},{"$f":"SUMIFS(Lançamentos!$G$4:$G$1048576,Lançamentos!$F$4:$F$1048576,Base!$A16,Lançamentos!$D$4:$D$1048576,Base!DL$3,Lançamentos!$E$4:$E$1048576,Base!$DB$2)","v":0},{"$f":"SUMIFS(Lançamentos!$G$4:$G$1048576,Lançamentos!$F$4:$F$1048576,Base!$A16,Lançamentos!$D$4:$D$1048576,Base!DM$3,Lançamentos!$E$4:$E$1048576,Base!$DB$2)","v":0},0,{"$f":"SUMIFS(Lançamentos!$G$4:$G$1048576,Lançamentos!$F$4:$F$1048576,Base!$A16,Lançamentos!$D$4:$D$1048576,Base!DO$3,Lançamentos!$E$4:$E$1048576,Base!$DO$2)","v":0},{"$f":"SUMIFS(Lançamentos!$G$4:$G$1048576,Lançamentos!$F$4:$F$1048576,Base!$A16,Lançamentos!$D$4:$D$1048576,Base!DP$3,Lançamentos!$E$4:$E$1048576,Base!$DO$2)","v":0},{"$f":"SUMIFS(Lançamentos!$G$4:$G$1048576,Lançamentos!$F$4:$F$1048576,Base!$A16,Lançamentos!$D$4:$D$1048576,Base!DQ$3,Lançamentos!$E$4:$E$1048576,Base!$DO$2)","v":0},{"$f":"SUMIFS(Lançamentos!$G$4:$G$1048576,Lançamentos!$F$4:$F$1048576,Base!$A16,Lançamentos!$D$4:$D$1048576,Base!DR$3,Lançamentos!$E$4:$E$1048576,Base!$DO$2)","v":0},{"$f":"SUMIFS(Lançamentos!$G$4:$G$1048576,Lançamentos!$F$4:$F$1048576,Base!$A16,Lançamentos!$D$4:$D$1048576,Base!DS$3,Lançamentos!$E$4:$E$1048576,Base!$DO$2)","v":0},{"$f":"SUMIFS(Lançamentos!$G$4:$G$1048576,Lançamentos!$F$4:$F$1048576,Base!$A16,Lançamentos!$D$4:$D$1048576,Base!DT$3,Lançamentos!$E$4:$E$1048576,Base!$DO$2)","v":0},{"$f":"SUMIFS(Lançamentos!$G$4:$G$1048576,Lançamentos!$F$4:$F$1048576,Base!$A16,Lançamentos!$D$4:$D$1048576,Base!DU$3,Lançamentos!$E$4:$E$1048576,Base!$DO$2)","v":0},{"$f":"SUMIFS(Lançamentos!$G$4:$G$1048576,Lançamentos!$F$4:$F$1048576,Base!$A16,Lançamentos!$D$4:$D$1048576,Base!DV$3,Lançamentos!$E$4:$E$1048576,Base!$DO$2)","v":0},{"$f":"SUMIFS(Lançamentos!$G$4:$G$1048576,Lançamentos!$F$4:$F$1048576,Base!$A16,Lançamentos!$D$4:$D$1048576,Base!DW$3,Lançamentos!$E$4:$E$1048576,Base!$DO$2)","v":0},{"$f":"SUMIFS(Lançamentos!$G$4:$G$1048576,Lançamentos!$F$4:$F$1048576,Base!$A16,Lançamentos!$D$4:$D$1048576,Base!DX$3,Lançamentos!$E$4:$E$1048576,Base!$DO$2)","v":0},{"$f":"SUMIFS(Lançamentos!$G$4:$G$1048576,Lançamentos!$F$4:$F$1048576,Base!$A16,Lançamentos!$D$4:$D$1048576,Base!DY$3,Lançamentos!$E$4:$E$1048576,Base!$DO$2)","v":0},{"$f":"SUMIFS(Lançamentos!$G$4:$G$1048576,Lançamentos!$F$4:$F$1048576,Base!$A16,Lançamentos!$D$4:$D$1048576,Base!DZ$3,Lançamentos!$E$4:$E$1048576,Base!$DO$2)","v":0},0,{"$f":"SUMIFS(Lançamentos!$G$4:$G$1048576,Lançamentos!$F$4:$F$1048576,Base!$A16,Lançamentos!$D$4:$D$1048576,Base!EB$3,Lançamentos!$E$4:$E$1048576,Base!$EB$2)","v":0},{"$f":"SUMIFS(Lançamentos!$G$4:$G$1048576,Lançamentos!$F$4:$F$1048576,Base!$A16,Lançamentos!$D$4:$D$1048576,Base!EC$3,Lançamentos!$E$4:$E$1048576,Base!$EB$2)","v":0},{"$f":"SUMIFS(Lançamentos!$G$4:$G$1048576,Lançamentos!$F$4:$F$1048576,Base!$A16,Lançamentos!$D$4:$D$1048576,Base!ED$3,Lançamentos!$E$4:$E$1048576,Base!$EB$2)","v":0},{"$f":"SUMIFS(Lançamentos!$G$4:$G$1048576,Lançamentos!$F$4:$F$1048576,Base!$A16,Lançamentos!$D$4:$D$1048576,Base!EE$3,Lançamentos!$E$4:$E$1048576,Base!$EB$2)","v":0},{"$f":"SUMIFS(Lançamentos!$G$4:$G$1048576,Lançamentos!$F$4:$F$1048576,Base!$A16,Lançamentos!$D$4:$D$1048576,Base!EF$3,Lançamentos!$E$4:$E$1048576,Base!$EB$2)","v":0},{"$f":"SUMIFS(Lançamentos!$G$4:$G$1048576,Lançamentos!$F$4:$F$1048576,Base!$A16,Lançamentos!$D$4:$D$1048576,Base!EG$3,Lançamentos!$E$4:$E$1048576,Base!$EB$2)","v":0},{"$f":"SUMIFS(Lançamentos!$G$4:$G$1048576,Lançamentos!$F$4:$F$1048576,Base!$A16,Lançamentos!$D$4:$D$1048576,Base!EH$3,Lançamentos!$E$4:$E$1048576,Base!$EB$2)","v":0},{"$f":"SUMIFS(Lançamentos!$G$4:$G$1048576,Lançamentos!$F$4:$F$1048576,Base!$A16,Lançamentos!$D$4:$D$1048576,Base!EI$3,Lançamentos!$E$4:$E$1048576,Base!$EB$2)","v":0},{"$f":"SUMIFS(Lançamentos!$G$4:$G$1048576,Lançamentos!$F$4:$F$1048576,Base!$A16,Lançamentos!$D$4:$D$1048576,Base!EJ$3,Lançamentos!$E$4:$E$1048576,Base!$EB$2)","v":0},{"$f":"SUMIFS(Lançamentos!$G$4:$G$1048576,Lançamentos!$F$4:$F$1048576,Base!$A16,Lançamentos!$D$4:$D$1048576,Base!EK$3,Lançamentos!$E$4:$E$1048576,Base!$EB$2)","v":0},{"$f":"SUMIFS(Lançamentos!$G$4:$G$1048576,Lançamentos!$F$4:$F$1048576,Base!$A16,Lançamentos!$D$4:$D$1048576,Base!EL$3,Lançamentos!$E$4:$E$1048576,Base!$EB$2)","v":0},{"$f":"SUMIFS(Lançamentos!$G$4:$G$1048576,Lançamentos!$F$4:$F$1048576,Base!$A16,Lançamentos!$D$4:$D$1048576,Base!EM$3,Lançamentos!$E$4:$E$1048576,Base!$EB$2)","v":0},0,{"$f":"SUMIFS(Lançamentos!$G$4:$G$1048576,Lançamentos!$F$4:$F$1048576,Base!$A16,Lançamentos!$D$4:$D$1048576,Base!EO$3,Lançamentos!$E$4:$E$1048576,Base!$EO$2)","v":0},{"$f":"SUMIFS(Lançamentos!$G$4:$G$1048576,Lançamentos!$F$4:$F$1048576,Base!$A16,Lançamentos!$D$4:$D$1048576,Base!EP$3,Lançamentos!$E$4:$E$1048576,Base!$EO$2)","v":0},{"$f":"SUMIFS(Lançamentos!$G$4:$G$1048576,Lançamentos!$F$4:$F$1048576,Base!$A16,Lançamentos!$D$4:$D$1048576,Base!EQ$3,Lançamentos!$E$4:$E$1048576,Base!$EO$2)","v":0},{"$f":"SUMIFS(Lançamentos!$G$4:$G$1048576,Lançamentos!$F$4:$F$1048576,Base!$A16,Lançamentos!$D$4:$D$1048576,Base!ER$3,Lançamentos!$E$4:$E$1048576,Base!$EO$2)","v":0},{"$f":"SUMIFS(Lançamentos!$G$4:$G$1048576,Lançamentos!$F$4:$F$1048576,Base!$A16,Lançamentos!$D$4:$D$1048576,Base!ES$3,Lançamentos!$E$4:$E$1048576,Base!$EO$2)","v":0},{"$f":"SUMIFS(Lançamentos!$G$4:$G$1048576,Lançamentos!$F$4:$F$1048576,Base!$A16,Lançamentos!$D$4:$D$1048576,Base!ET$3,Lançamentos!$E$4:$E$1048576,Base!$EO$2)","v":0},{"$f":"SUMIFS(Lançamentos!$G$4:$G$1048576,Lançamentos!$F$4:$F$1048576,Base!$A16,Lançamentos!$D$4:$D$1048576,Base!EU$3,Lançamentos!$E$4:$E$1048576,Base!$EO$2)","v":0},{"$f":"SUMIFS(Lançamentos!$G$4:$G$1048576,Lançamentos!$F$4:$F$1048576,Base!$A16,Lançamentos!$D$4:$D$1048576,Base!EV$3,Lançamentos!$E$4:$E$1048576,Base!$EO$2)","v":0},{"$f":"SUMIFS(Lançamentos!$G$4:$G$1048576,Lançamentos!$F$4:$F$1048576,Base!$A16,Lançamentos!$D$4:$D$1048576,Base!EW$3,Lançamentos!$E$4:$E$1048576,Base!$EO$2)","v":0},{"$f":"SUMIFS(Lançamentos!$G$4:$G$1048576,Lançamentos!$F$4:$F$1048576,Base!$A16,Lançamentos!$D$4:$D$1048576,Base!EX$3,Lançamentos!$E$4:$E$1048576,Base!$EO$2)","v":0},{"$f":"SUMIFS(Lançamentos!$G$4:$G$1048576,Lançamentos!$F$4:$F$1048576,Base!$A16,Lançamentos!$D$4:$D$1048576,Base!EY$3,Lançamentos!$E$4:$E$1048576,Base!$EO$2)","v":0},{"$f":"SUMIFS(Lançamentos!$G$4:$G$1048576,Lançamentos!$F$4:$F$1048576,Base!$A16,Lançamentos!$D$4:$D$1048576,Base!EZ$3,Lançamentos!$E$4:$E$1048576,Base!$EO$2)","v":0},0,{"$f":"SUMIFS(Lançamentos!$G$4:$G$1048576,Lançamentos!$F$4:$F$1048576,Base!$A16,Lançamentos!$D$4:$D$1048576,Base!FB$3,Lançamentos!$E$4:$E$1048576,Base!$FB$2)","v":0},{"$f":"SUMIFS(Lançamentos!$G$4:$G$1048576,Lançamentos!$F$4:$F$1048576,Base!$A16,Lançamentos!$D$4:$D$1048576,Base!FC$3,Lançamentos!$E$4:$E$1048576,Base!$FB$2)","v":0},{"$f":"SUMIFS(Lançamentos!$G$4:$G$1048576,Lançamentos!$F$4:$F$1048576,Base!$A16,Lançamentos!$D$4:$D$1048576,Base!FD$3,Lançamentos!$E$4:$E$1048576,Base!$FB$2)","v":0},{"$f":"SUMIFS(Lançamentos!$G$4:$G$1048576,Lançamentos!$F$4:$F$1048576,Base!$A16,Lançamentos!$D$4:$D$1048576,Base!FE$3,Lançamentos!$E$4:$E$1048576,Base!$FB$2)","v":0},{"$f":"SUMIFS(Lançamentos!$G$4:$G$1048576,Lançamentos!$F$4:$F$1048576,Base!$A16,Lançamentos!$D$4:$D$1048576,Base!FF$3,Lançamentos!$E$4:$E$1048576,Base!$FB$2)","v":0},{"$f":"SUMIFS(Lançamentos!$G$4:$G$1048576,Lançamentos!$F$4:$F$1048576,Base!$A16,Lançamentos!$D$4:$D$1048576,Base!FG$3,Lançamentos!$E$4:$E$1048576,Base!$FB$2)","v":0},{"$f":"SUMIFS(Lançamentos!$G$4:$G$1048576,Lançamentos!$F$4:$F$1048576,Base!$A16,Lançamentos!$D$4:$D$1048576,Base!FH$3,Lançamentos!$E$4:$E$1048576,Base!$FB$2)","v":0},{"$f":"SUMIFS(Lançamentos!$G$4:$G$1048576,Lançamentos!$F$4:$F$1048576,Base!$A16,Lançamentos!$D$4:$D$1048576,Base!FI$3,Lançamentos!$E$4:$E$1048576,Base!$FB$2)","v":0},{"$f":"SUMIFS(Lançamentos!$G$4:$G$1048576,Lançamentos!$F$4:$F$1048576,Base!$A16,Lançamentos!$D$4:$D$1048576,Base!FJ$3,Lançamentos!$E$4:$E$1048576,Base!$FB$2)","v":0},{"$f":"SUMIFS(Lançamentos!$G$4:$G$1048576,Lançamentos!$F$4:$F$1048576,Base!$A16,Lançamentos!$D$4:$D$1048576,Base!FK$3,Lançamentos!$E$4:$E$1048576,Base!$FB$2)","v":0},{"$f":"SUMIFS(Lançamentos!$G$4:$G$1048576,Lançamentos!$F$4:$F$1048576,Base!$A16,Lançamentos!$D$4:$D$1048576,Base!FL$3,Lançamentos!$E$4:$E$1048576,Base!$FB$2)","v":0},{"$f":"SUMIFS(Lançamentos!$G$4:$G$1048576,Lançamentos!$F$4:$F$1048576,Base!$A16,Lançamentos!$D$4:$D$1048576,Base!FM$3,Lançamentos!$E$4:$E$1048576,Base!$FB$2)","v":0},0,{"$f":"SUMIFS(Lançamentos!$G$4:$G$1048576,Lançamentos!$F$4:$F$1048576,Base!$A16,Lançamentos!$D$4:$D$1048576,Base!FO$3,Lançamentos!$E$4:$E$1048576,Base!$FO$2)","v":0},{"$f":"SUMIFS(Lançamentos!$G$4:$G$1048576,Lançamentos!$F$4:$F$1048576,Base!$A16,Lançamentos!$D$4:$D$1048576,Base!FP$3,Lançamentos!$E$4:$E$1048576,Base!$FO$2)","v":0},{"$f":"SUMIFS(Lançamentos!$G$4:$G$1048576,Lançamentos!$F$4:$F$1048576,Base!$A16,Lançamentos!$D$4:$D$1048576,Base!FQ$3,Lançamentos!$E$4:$E$1048576,Base!$FO$2)","v":0},{"$f":"SUMIFS(Lançamentos!$G$4:$G$1048576,Lançamentos!$F$4:$F$1048576,Base!$A16,Lançamentos!$D$4:$D$1048576,Base!FR$3,Lançamentos!$E$4:$E$1048576,Base!$FO$2)","v":0},{"$f":"SUMIFS(Lançamentos!$G$4:$G$1048576,Lançamentos!$F$4:$F$1048576,Base!$A16,Lançamentos!$D$4:$D$1048576,Base!FS$3,Lançamentos!$E$4:$E$1048576,Base!$FO$2)","v":0},{"$f":"SUMIFS(Lançamentos!$G$4:$G$1048576,Lançamentos!$F$4:$F$1048576,Base!$A16,Lançamentos!$D$4:$D$1048576,Base!FT$3,Lançamentos!$E$4:$E$1048576,Base!$FO$2)","v":0},{"$f":"SUMIFS(Lançamentos!$G$4:$G$1048576,Lançamentos!$F$4:$F$1048576,Base!$A16,Lançamentos!$D$4:$D$1048576,Base!FU$3,Lançamentos!$E$4:$E$1048576,Base!$FO$2)","v":0},{"$f":"SUMIFS(Lançamentos!$G$4:$G$1048576,Lançamentos!$F$4:$F$1048576,Base!$A16,Lançamentos!$D$4:$D$1048576,Base!FV$3,Lançamentos!$E$4:$E$1048576,Base!$FO$2)","v":0},{"$f":"SUMIFS(Lançamentos!$G$4:$G$1048576,Lançamentos!$F$4:$F$1048576,Base!$A16,Lançamentos!$D$4:$D$1048576,Base!FW$3,Lançamentos!$E$4:$E$1048576,Base!$FO$2)","v":0},{"$f":"SUMIFS(Lançamentos!$G$4:$G$1048576,Lançamentos!$F$4:$F$1048576,Base!$A16,Lançamentos!$D$4:$D$1048576,Base!FX$3,Lançamentos!$E$4:$E$1048576,Base!$FO$2)","v":0},{"$f":"SUMIFS(Lançamentos!$G$4:$G$1048576,Lançamentos!$F$4:$F$1048576,Base!$A16,Lançamentos!$D$4:$D$1048576,Base!FY$3,Lançamentos!$E$4:$E$1048576,Base!$FO$2)","v":0},{"$f":"SUMIFS(Lançamentos!$G$4:$G$1048576,Lançamentos!$F$4:$F$1048576,Base!$A16,Lançamentos!$D$4:$D$1048576,Base!FZ$3,Lançamentos!$E$4:$E$1048576,Base!$FO$2)","v":0},0,{"$f":"SUMIFS(Lançamentos!$G$4:$G$1048576,Lançamentos!$F$4:$F$1048576,Base!$A16,Lançamentos!$D$4:$D$1048576,Base!GB$3,Lançamentos!$E$4:$E$1048576,Base!$GB$2)","v":0},{"$f":"SUMIFS(Lançamentos!$G$4:$G$1048576,Lançamentos!$F$4:$F$1048576,Base!$A16,Lançamentos!$D$4:$D$1048576,Base!GC$3,Lançamentos!$E$4:$E$1048576,Base!$GB$2)","v":0},{"$f":"SUMIFS(Lançamentos!$G$4:$G$1048576,Lançamentos!$F$4:$F$1048576,Base!$A16,Lançamentos!$D$4:$D$1048576,Base!GD$3,Lançamentos!$E$4:$E$1048576,Base!$GB$2)","v":0},{"$f":"SUMIFS(Lançamentos!$G$4:$G$1048576,Lançamentos!$F$4:$F$1048576,Base!$A16,Lançamentos!$D$4:$D$1048576,Base!GE$3,Lançamentos!$E$4:$E$1048576,Base!$GB$2)","v":0},{"$f":"SUMIFS(Lançamentos!$G$4:$G$1048576,Lançamentos!$F$4:$F$1048576,Base!$A16,Lançamentos!$D$4:$D$1048576,Base!GF$3,Lançamentos!$E$4:$E$1048576,Base!$GB$2)","v":0},{"$f":"SUMIFS(Lançamentos!$G$4:$G$1048576,Lançamentos!$F$4:$F$1048576,Base!$A16,Lançamentos!$D$4:$D$1048576,Base!GG$3,Lançamentos!$E$4:$E$1048576,Base!$GB$2)","v":0},{"$f":"SUMIFS(Lançamentos!$G$4:$G$1048576,Lançamentos!$F$4:$F$1048576,Base!$A16,Lançamentos!$D$4:$D$1048576,Base!GH$3,Lançamentos!$E$4:$E$1048576,Base!$GB$2)","v":0},{"$f":"SUMIFS(Lançamentos!$G$4:$G$1048576,Lançamentos!$F$4:$F$1048576,Base!$A16,Lançamentos!$D$4:$D$1048576,Base!GI$3,Lançamentos!$E$4:$E$1048576,Base!$GB$2)","v":0},{"$f":"SUMIFS(Lançamentos!$G$4:$G$1048576,Lançamentos!$F$4:$F$1048576,Base!$A16,Lançamentos!$D$4:$D$1048576,Base!GJ$3,Lançamentos!$E$4:$E$1048576,Base!$GB$2)","v":0},{"$f":"SUMIFS(Lançamentos!$G$4:$G$1048576,Lançamentos!$F$4:$F$1048576,Base!$A16,Lançamentos!$D$4:$D$1048576,Base!GK$3,Lançamentos!$E$4:$E$1048576,Base!$GB$2)","v":0},{"$f":"SUMIFS(Lançamentos!$G$4:$G$1048576,Lançamentos!$F$4:$F$1048576,Base!$A16,Lançamentos!$D$4:$D$1048576,Base!GL$3,Lançamentos!$E$4:$E$1048576,Base!$GB$2)","v":0},{"$f":"SUMIFS(Lançamentos!$G$4:$G$1048576,Lançamentos!$F$4:$F$1048576,Base!$A16,Lançamentos!$D$4:$D$1048576,Base!GM$3,Lançamentos!$E$4:$E$1048576,Base!$GB$2)","v":0},0,null,2029]
[{"$f":"IF(Lançamentos!A14=\"\",\"\",Lançamentos!A14)","v":"Impostos"},{"$f":"SUMIFS(Lançamentos!$G$4:$G$1048576,Lançamentos!$F$4:$F$1048576,Base!$A17,Lançamentos!$D$4:$D$1048576,Base!B$3,Lançamentos!$E$4:$E$1048576,Base!$B$2)","v":0},{"$f":"SUMIFS(Lançamentos!$G$4:$G$1048576,Lançamentos!$F$4:$F$1048576,Base!$A17,Lançamentos!$D$4:$D$1048576,Base!C$3,Lançamentos!$E$4:$E$1048576,Base!$B$2)","v":0},{"$f":"SUMIFS(Lançamentos!$G$4:$G$1048576,Lançamentos!$F$4:$F$1048576,Base!$A17,Lançamentos!$D$4:$D$1048576,Base!D$3,Lançamentos!$E$4:$E$1048576,Base!$B$2)","v":0},{"$f":"SUMIFS(Lançamentos!$G$4:$G$1048576,Lançamentos!$F$4:$F$1048576,Base!$A17,Lançamentos!$D$4:$D$1048576,Base!E$3,Lançamentos!$E$4:$E$1048576,Base!$B$2)","v":0},{"$f":"SUMIFS(Lançamentos!$G$4:$G$1048576,Lançamentos!$F$4:$F$1048576,Base!$A17,Lançamentos!$D$4:$D$1048576,Base!F$3,Lançamentos!$E$4:$E$1048576,Base!$B$2)","v":0},{"$f":"SUMIFS(Lançamentos!$G$4:$G$1048576,Lançamentos!$F$4:$F$1048576,Base!$A17,Lançamentos!$D$4:$D$1048576,Base!G$3,Lançamentos!$E$4:$E$1048576,Base!$B$2)","v":0},{"$f":"SUMIFS(Lançamentos!$G$4:$G$1048576,Lançamentos!$F$4:$F$1048576,Base!$A17,Lançamentos!$D$4:$D$1048576,Base!H$3,Lançamentos!$E$4:$E$1048576,Base!$B$2)","v":0},{"$f":"SUMIFS(Lançamentos!$G$4:$G$1048576,Lançamentos!$F$4:$F$1048576,Base!$A17,Lançamentos!$D$4:$D$1048576,Base!I$3,Lançamentos!$E$4:$E$1048576,Base!$B$2)","v":0},{"$f":"SUMIFS(Lançamentos!$G$4:$G$1048576,Lançamentos!$F$4:$F$1048576,Base!$A17,Lançamentos!$D$4:$D$1048576,Base!J$3,Lançamentos!$E$4:$E$1048576,Base!$B$2)","v":0},{"$f":"SUMIFS(Lançamentos!$G$4:$G$1048576,Lançamentos!$F$4:$F$1048576,Base!$A17,Lançamentos!$D$4:$D$1048576,Base!K$3,Lançamentos!$E$4:$E$1048576,Base!$B$2)","v":0},{"$f":"SUMIFS(Lançamentos!$G$4:$G$1048576,Lançamentos!$F$4:$F$1048576,Base!$A17,Lançamentos!$D$4:$D$1048576,Base!L$3,Lançamentos!$E$4:$E$1048576,Base!$B$2)","v":0},{"$f":"SUMIFS(Lançamentos!$G$4:$G$1048576,Lançamentos!$F$4:$F$1048576,Base!$A17,Lançamentos!$D$4:$D$1048576,Base!M$3,Lançamentos!$E$4:$E$1048576,Base!$B$2)","v":0},0,{"$f":"SUMIFS(Lançamentos!$G$4:$G$1048576,Lançamentos!$F$4:$F$1048576,Base!$A17,Lançamentos!$D$4:$D$1048576,Base!O$3,Lançamentos!$E$4:$E$1048576,Base!$O$2)","v":0},{"$f":"SUMIFS(Lançamentos!$G$4:$G$1048576,Lançamentos!$F$4:$F$1048576,Base!$A17,Lançamentos!$D$4:$D$1048576,Base!P$3,Lançamentos!$E$4:$E$1048576,Base!$O$2)","v":0},{"$f":"SUMIFS(Lançamentos!$G$4:$G$1048576,Lançamentos!$F$4:$F$1048576,Base!$A17,Lançamentos!$D$4:$D$1048576,Base!Q$3,Lançamentos!$E$4:$E$1048576,Base!$O$2)","v":0},{"$f":"SUMIFS(Lançamentos!$G$4:$G$1048576,Lançamentos!$F$4:$F$1048576,Base!$A17,Lançamentos!$D$4:$D$1048576,Base!R$3,Lançamentos!$E$4:$E$1048576,Base!$O$2)","v":0},{"$f":"SUMIFS(Lançamentos!$G$4:$G$1048576,Lançamentos!$F$4:$F$1048576,Base!$A17,Lançamentos!$D$4:$D$1048576,Base!S$3,Lançamentos!$E$4:$E$1048576,Base!$O$2)","v":0},{"$f":"SUMIFS(Lançamentos!$G$4:$G$1048576,Lançamentos!$F$4:$F$1048576,Base!$A17,Lançamentos!$D$4:$D$1048576,Base!T$3,Lançamentos!$E$4:$E$1048576,Base!$O$2)","v":0},{"$f":"SUMIFS(Lançamentos!$G$4:$G$1048576,Lançamentos!$F$4:$F$1048576,Base!$A17,Lançamentos!$D$4:$D$1048576,Base!U$3,Lançamentos!$E$4:$E$1048576,Base!$O$2)","v":0},{"$f":"SUMIFS(Lançamentos!$G$4:$G$1048576,Lançamentos!$F$4:$F$1048576,Base!$A17,Lançamentos!$D$4:$D$1048576,Base!V$3,Lançamentos!$E$4:$E$1048576,Base!$O$2)","v":0},{"$f":"SUMIFS(Lançamentos!$G$4:$G$1048576,Lançamentos!$F$4:$F$1048576,Base!$A17,Lançamentos!$D$4:$D$1048576,Base!W$3,Lançamentos!$E$4:$E$1048576,Base!$O$2)","v":0},{"$f":"SUMIFS(Lançamentos!$G$4:$G$1048576,Lançamentos!$F$4:$F$1048576,Base!$A17,Lançamentos!$D$4:$D$1048576,Base!X$3,Lançamentos!$E$4:$E$1048576,Base!$O$2)","v":0},{"$f":"SUMIFS(Lançamentos!$G$4:$G$1048576,Lançamentos!$F$4:$F$1048576,Base!$A17,Lançamentos!$D$4:$D$1048576,Base!Y$3,Lançamentos!$E$4:$E$1048576,Base!$O$2)","v":0},{"$f":"SUMIFS(Lançamentos!$G$4:$G$1048576,Lançamentos!$F$4:$F$1048576,Base!$A17,Lançamentos!$D$4:$D$1048576,Base!Z$3,Lançamentos!$E$4:$E$1048576,Base!$O$2)","v":0},0,{"$f":"SUMIFS(Lançamentos!$G$4:$G$1048576,Lançamentos!$F$4:$F$1048576,Base!$A17,Lançamentos!$D$4:$D$1048576,Base!AB$3,Lançamentos!$E$4:$E$1048576,Base!$AB$2)","v":0},{"$f":"SUMIFS(Lançamentos!$G$4:$G$1048576,Lançamentos!$F$4:$F$1048576,Base!$A17,Lançamentos!$D$4:$D$1048576,Base!AC$3,Lançamentos!$E$4:$E$1048576,Base!$AB$2)","v":0},{"$f":"SUMIFS(Lançamentos!$G$4:$G$1048576,Lançamentos!$F$4:$F$1048576,Base!$A17,Lançamentos!$D$4:$D$1048576,Base!AD$3,Lançamentos!$E$4:$E$1048576,Base!$AB$2)","v":0},{"$f":"SUMIFS(Lançamentos!$G$4:$G$1048576,Lançamentos!$F$4:$F$1048576,Base!$A17,Lançamentos!$D$4:$D$1048576,Base!AE$3,Lançamentos!$E$4:$E$1048576,Base!$AB$2)","v":0},{"$f":"SUMIFS(Lançamentos!$G$4:$G$1048576,Lançamentos!$F$4:$F$1048576,Base!$A17,Lançamentos!$D$4:$D$1048576,Base!AF$3,Lançamentos!$E$4:$E$1048576,Base!$AB$2)","v":0},{"$f":"SUMIFS(Lançamentos!$G$4:$G$1048576,Lançamentos!$F$4:$F$1048576,Base!$A17,Lançamentos!$D$4:$D$1048576,Base!AG$3,Lançamentos!$E$4:$E$1048576,Base!$AB$2)","v":0},{"$f":"SUMIFS(Lançamentos!$G$4:$G$1048576,Lançamentos!$F$4:$F$1048576,Base!$A17,Lançamentos!$D$4:$D$1048576,Base!AH$3,Lançamentos!$E$4:$E$1048576,Base!$AB$2)","v":0},{"$f":"SUMIFS(Lançamentos!$G$4:$G$1048576,Lançamentos!$F$4:$F$1048576,Base!$A17,Lançamentos!$D$4:$D$1048576,Base!AI$3,Lançamentos!$E$4:$E$1048576,Base!$AB$2)","v":0},{"$f":"SUMIFS(Lançamentos!$G$4:$G$1048576,Lançamentos!$F$4:$F$1048576,Base!$A17,Lançamentos!$D$4:$D$1048576,Base!AJ$3,Lançamentos!$E$4:$E$1048576,Base!$AB$2)","v":0},{"$f":"SUMIFS(Lançamentos!$G$4:$G$1048576,Lançamentos!$F$4:$F$1048576,Base!$A17,Lançamentos!$D$4:$D$1048576,Base!AK$3,Lançamentos!$E$4:$E$1048576,Base!$AB$2)","v":0},{"$f":"SUMIFS(Lançamentos!$G$4:$G$1048576,Lançamentos!$F$4:$F$1048576,Base!$A17,Lançamentos!$D$4:$D$1048576,Base!AL$3,Lançamentos!$E$4:$E$1048576,Base!$AB$2)","v":0},{"$f":"SUMIFS(Lançamentos!$G$4:$G$1048576,Lançamentos!$F$4:$F$1048576,Base!$A17,Lançamentos!$D$4:$D$1048576,Base!AM$3,Lançamentos!$E$4:$E$1048576,Base!$AB$2)","v":0},0,{"$f":"SUMIFS(Lançamentos!$G$4:$G$1048576,Lançamentos!$F$4:$F$1048576,Base!$A17,Lançamentos!$D$4:$D$1048576,Base!AO$3,Lançamentos!$E$4:$E$1048576,Base!$AO$2)","v":0},{"$f":"SUMIFS(Lançamentos!$G$4:$G$1048576,Lançamentos!$F$4:$F$1048576,Base!$A17,Lançamentos!$D$4:$D$1048576,Base!AP$3,Lançamentos!$E$4:$E$1048576,Base!$AO$2)","v":0},{"$f":"SUMIFS(Lançamentos!$G$4:$G$1048576,Lançamentos!$F$4:$F$1048576,Base!$A17,Lançamentos!$D$4:$D$1048576,Base!AQ$3,Lançamentos!$E$4:$E$1048576,Base!$AO$2)","v":0},{"$f":"SUMIFS(Lançamentos!$G$4:$G$1048576,Lançamentos!$F$4:$F$1048576,Base!$A17,Lançamentos!$D$4:$D$1048576,Base!AR$3,Lançamentos!$E$4:$E$1048576,Base!$AO$2)","v":0},{"$f":"SUMIFS(Lançamentos!$G$4:$G$1048576,Lançamentos!$F$4:$F$1048576,Base!$A17,Lançamentos!$D$4:$D$1048576,Base!AS$3,Lançamentos!$E$4:$E$1048576,Base!$AO$2)","v":0},{"$f":"SUMIFS(Lançamentos!$G$4:$G$1048576,Lançamentos!$F$4:$F$1048576,Base!$A17,Lançamentos!$D$4:$D$1048576,Base!AT$3,Lançamentos!$E$4:$E$1048576,Base!$AO$2)","v":0},{"$f":"SUMIFS(Lançamentos!$G$4:$G$1048576,Lançamentos!$F$4:$F$1048576,Base!$A17,Lançamentos!$D$4:$D$1048576,Base!AU$3,Lançamentos!$E$4:$E$1048576,Base!$AO$2)","v":0},{"$f":"SUMIFS(Lançamentos!$G$4:$G$1048576,Lançamentos!$F$4:$F$1048576,Base!$A17,Lançamentos!$D$4:$D$1048576,Base!AV$3,Lançamentos!$E$4:$E$1048576,Base!$AO$2)","v":0},{"$f":"SUMIFS(Lançamentos!$G$4:$G$1048576,Lançamentos!$F$4:$F$1048576,Base!$A17,Lançamentos!$D$4:$D$1048576,Base!AW$3,Lançamentos!$E$4:$E$1048576,Base!$AO$2)","v":0},{"$f":"SUMIFS(Lançamentos!$G$4:$G$1048576,Lançamentos!$F$4:$F$1048576,Base!$A17,Lançamentos!$D$4:$D$1048576,Base!AX$3,Lançamentos!$E$4:$E$1048576,Base!$AO$2)","v":0},{"$f":"SUMIFS(Lançamentos!$G$4:$G$1048576,Lançamentos!$F$4:$F$1048576,Base!$A17,Lançamentos!$D$4:$D$1048576,Base!AY$3,Lançamentos!$E$4:$E$1048576,Base!$AO$2)","v":0},{"$f":"SUMIFS(Lançamentos!$G$4:$G$1048576,Lançamentos!$F$4:$F$1048576,Base!$A17,Lançamentos!$D$4:$D$1048576,Base!AZ$3,Lançamentos!$E$4:$E$1048576,Base!$AO$2)","v":0},0,{"$f":"SUMIFS(Lançamentos!$G$4:$G$1048576,Lançamentos!$F$4:$F$1048576,Base!$A17,Lançamentos!$D$4:$D$1048576,Base!BB$3,Lançamentos!$E$4:$E$1048576,Base!$BB$2)","v":0},{"$f":"SUMIFS(Lançamentos!$G$4:$G$1048576,Lançamentos!$F$4:$F$1048576,Base!$A17,Lançamentos!$D$4:$D$1048576,Base!BC$3,Lançamentos!$E$4:$E$1048576,Base!$BB$2)","v":0},{"$f":"SUMIFS(Lançamentos!$G$4:$G$1048576,Lançamentos!$F$4:$F$1048576,Base!$A17,Lançamentos!$D$4:$D$1048576,Base!BD$3,Lançamentos!$E$4:$E$1048576,Base!$BB$2)","v":0},{"$f":"SUMIFS(Lançamentos!$G$4:$G$1048576,Lançamentos!$F$4:$F$1048576,Base!$A17,Lançamentos!$D$4:$D$1048576,Base!BE$3,Lançamentos!$E$4:$E$1048576,Base!$BB$2)","v":0},{"$f":"SUMIFS(Lançamentos!$G$4:$G$1048576,Lançamentos!$F$4:$F$1048576,Base!$A17,Lançamentos!$D$4:$D$1048576,Base!BF$3,Lançamentos!$E$4:$E$1048576,Base!$BB$2)","v":0},{"$f":"SUMIFS(Lançamentos!$G$4:$G$1048576,Lançamentos!$F$4:$F$1048576,Base!$A17,Lançamentos!$D$4:$D$1048576,Base!BG$3,Lançamentos!$E$4:$E$1048576,Base!$BB$2)","v":0},{"$f":"SUMIFS(Lançamentos!$G$4:$G$1048576,Lançamentos!$F$4:$F$1048576,Base!$A17,Lançamentos!$D$4:$D$1048576,Base!BH$3,Lançamentos!$E$4:$E$1048576,Base!$BB$2)","v":0},{"$f":"SUMIFS(Lançamentos!$G$4:$G$1048576,Lançamentos!$F$4:$F$1048576,Base!$A17,Lançamentos!$D$4:$D$1048576,Base!BI$3,Lançamentos!$E$4:$E$1048576,Base!$BB$2)","v":0},{"$f":"SUMIFS(Lançamentos!$G$4:$G$1048576,Lançamentos!$F$4:$F$1048576,Base!$A17,Lançamentos!$D$4:$D$1048576,Base!BJ$3,Lançamentos!$E$4:$E$1048576,Base!$BB$2)","v":0},{"$f":"SUMIFS(Lançamentos!$G$4:$G$1048576,Lançamentos!$F$4:$F$1048576,Base!$A17,Lançamentos!$D$4:$D$1048576,Base!BK$3,Lançamentos!$E$4:$E$1048576,Base!$BB$2)","v":0},{"$f":"SUMIFS(Lançamentos!$G$4:$G$1048576,Lançamentos!$F$4:$F$1048576,Base!$A17,Lançamentos!$D$4:$D$1048576,Base!BL$3,Lançamentos!$E$4:$E$1048576,Base!$BB$2)","v":0},{"$f":"SUMIFS(Lançamentos!$G$4:$G$1048576,Lançamentos!$F$4:$F$1048576,Base!$A17,Lançamentos!$D$4:$D$1048576,Base!BM$3,Lançamentos!$E$4:$E$1048576,Base!$BB$2)","v":0},0,{"$f":"SUMIFS(Lançamentos!$G$4:$G$1048576,Lançamentos!$F$4:$F$1048576,Base!$A17,Lançamentos!$D$4:$D$1048576,Base!BO$3,Lançamentos!$E$4:$E$1048576,Base!$BO$2)","v":0},{"$f":"SUMIFS(Lançamentos!$G$4:$G$1048576,Lançamentos!$F$4:$F$1048576,Base!$A17,Lançamentos!$D$4:$D$1048576,Base!BP$3,Lançamentos!$E$4:$E$1048576,Base!$BO$2)","v":0},{"$f":"SUMIFS(Lançamentos!$G$4:$G$1048576,Lançamentos!$F$4:$F$1048576,Base!$A17,Lançamentos!$D$4:$D$1048576,Base!BQ$3,Lançamentos!$E$4:$E$1048576,Base!$BO$2)","v":0},{"$f":"SUMIFS(Lançamentos!$G$4:$G$1048576,Lançamentos!$F$4:$F$1048576,Base!$A17,Lançamentos!$D$4:$D$1048576,Base!BR$3,Lançamentos!$E$4:$E$1048576,Base!$BO$2)","v":0},{"$f":"SUMIFS(Lançamentos!$G$4:$G$1048576,Lançamentos!$F$4:$F$1048576,Base!$A17,Lançamentos!$D$4:$D$1048576,Base!BS$3,Lançamentos!$E$4:$E$1048576,Base!$BO$2)","v":0},{"$f":"SUMIFS(Lançamentos!$G$4:$G$1048576,Lançamentos!$F$4:$F$1048576,Base!$A17,Lançamentos!$D$4:$D$1048576,Base!BT$3,Lançamentos!$E$4:$E$1048576,Base!$BO$2)","v":0},{"$f":"SUMIFS(Lançamentos!$G$4:$G$1048576,Lançamentos!$F$4:$F$1048576,Base!$A17,Lançamentos!$D$4:$D$1048576,Base!BU$3,Lançamentos!$E$4:$E$1048576,Base!$BO$2)","v":0},{"$f":"SUMIFS(Lançamentos!$G$4:$G$1048576,Lançamentos!$F$4:$F$1048576,Base!$A17,Lançamentos!$D$4:$D$1048576,Base!BV$3,Lançamentos!$E$4:$E$1048576,Base!$BO$2)","v":0},{"$f":"SUMIFS(Lançamentos!$G$4:$G$1048576,Lançamentos!$F$4:$F$1048576,Base!$A17,Lançamentos!$D$4:$D$1048576,Base!BW$3,Lançamentos!$E$4:$E$1048576,Base!$BO$2)","v":0},{"$f":"SUMIFS(Lançamentos!$G$4:$G$1048576,Lançamentos!$F$4:$F$1048576,Base!$A17,Lançamentos!$D$4:$D$1048576,Base!BX$3,Lançamentos!$E$4:$E$1048576,Base!$BO$2)","v":0},{"$f":"SUMIFS(Lançamentos!$G$4:$G$1048576,Lançamentos!$F$4:$F$1048576,Base!$A17,Lançamentos!$D$4:$D$1048576,Base!BY$3,Lançamentos!$E$4:$E$1048576,Base!$BO$2)","v":0},{"$f":"SUMIFS(Lançamentos!$G$4:$G$1048576,Lançamentos!$F$4:$F$1048576,Base!$A17,Lançamentos!$D$4:$D$1048576,Base!BZ$3,Lançamentos!$E$4:$E$1048576,Base!$BO$2)","v":0},0,{"$f":"SUMIFS(Lançamentos!$G$4:$G$1048576,Lançamentos!$F$4:$F$1048576,Base!$A17,Lançamentos!$D$4:$D$1048576,Base!CB$3,Lançamentos!$E$4:$E$1048576,Base!$CB$2)","v":0},{"$f":"SUMIFS(Lançamentos!$G$4:$G$1048576,Lançamentos!$F$4:$F$1048576,Base!$A17,Lançamentos!$D$4:$D$1048576,Base!CC$3,Lançamentos!$E$4:$E$1048576,Base!$CB$2)","v":0},{"$f":"SUMIFS(Lançamentos!$G$4:$G$1048576,Lançamentos!$F$4:$F$1048576,Base!$A17,Lançamentos!$D$4:$D$1048576,Base!CD$3,Lançamentos!$E$4:$E$1048576,Base!$CB$2)","v":0},{"$f":"SUMIFS(Lançamentos!$G$4:$G$1048576,Lançamentos!$F$4:$F$1048576,Base!$A17,Lançamentos!$D$4:$D$1048576,Base!CE$3,Lançamentos!$E$4:$E$1048576,Base!$CB$2)","v":0},{"$f":"SUMIFS(Lançamentos!$G$4:$G$1048576,Lançamentos!$F$4:$F$1048576,Base!$A17,Lançamentos!$D$4:$D$1048576,Base!CF$3,Lançamentos!$E$4:$E$1048576,Base!$CB$2)","v":0},{"$f":"SUMIFS(Lançamentos!$G$4:$G$1048576,Lançamentos!$F$4:$F$1048576,Base!$A17,Lançamentos!$D$4:$D$1048576,Base!CG$3,Lançamentos!$E$4:$E$1048576,Base!$CB$2)","v":0},{"$f":"SUMIFS(Lançamentos!$G$4:$G$1048576,Lançamentos!$F$4:$F$1048576,Base!$A17,Lançamentos!$D$4:$D$1048576,Base!CH$3,Lançamentos!$E$4:$E$1048576,Base!$CB$2)","v":0},{"$f":"SUMIFS(Lançamentos!$G$4:$G$1048576,Lançamentos!$F$4:$F$1048576,Base!$A17,Lançamentos!$D$4:$D$1048576,Base!CI$3,Lançamentos!$E$4:$E$1048576,Base!$CB$2)","v":0},{"$f":"SUMIFS(Lançamentos!$G$4:$G$1048576,Lançamentos!$F$4:$F$1048576,Base!$A17,Lançamentos!$D$4:$D$1048576,Base!CJ$3,Lançamentos!$E$4:$E$1048576,Base!$CB$2)","v":0},{"$f":"SUMIFS(Lançamentos!$G$4:$G$1048576,Lançamentos!$F$4:$F$1048576,Base!$A17,Lançamentos!$D$4:$D$1048576,Base!CK$3,Lançamentos!$E$4:$E$1048576,Base!$CB$2)","v":0},{"$f":"SUMIFS(Lançamentos!$G$4:$G$1048576,Lançamentos!$F$4:$F$1048576,Base!$A17,Lançamentos!$D$4:$D$1048576,Base!CL$3,Lançamentos!$E$4:$E$1048576,Base!$CB$2)","v":0},{"$f":"SUMIFS(Lançamentos!$G$4:$G$1048576,Lançamentos!$F$4:$F$1048576,Base!$A17,Lançamentos!$D$4:$D$1048576,Base!CM$3,Lançamentos!$E$4:$E$1048576,Base!$CB$2)","v":0},0,{"$f":"SUMIFS(Lançamentos!$G$4:$G$1048576,Lançamentos!$F$4:$F$1048576,Base!$A17,Lançamentos!$D$4:$D$1048576,Base!CO$3,Lançamentos!$E$4:$E$1048576,Base!$CO$2)","v":0},{"$f":"SUMIFS(Lançamentos!$G$4:$G$1048576,Lançamentos!$F$4:$F$1048576,Base!$A17,Lançamentos!$D$4:$D$1048576,Base!CP$3,Lançamentos!$E$4:$E$1048576,Base!$CO$2)","v":0},{"$f":"SUMIFS(Lançamentos!$G$4:$G$1048576,Lançamentos!$F$4:$F$1048576,Base!$A17,Lançamentos!$D$4:$D$1048576,Base!CQ$3,Lançamentos!$E$4:$E$1048576,Base!$CO$2)","v":0},{"$f":"SUMIFS(Lançamentos!$G$4:$G$1048576,Lançamentos!$F$4:$F$1048576,Base!$A17,Lançamentos!$D$4:$D$1048576,Base!CR$3,Lançamentos!$E$4:$E$1048576,Base!$CO$2)","v":0},{"$f":"SUMIFS(Lançamentos!$G$4:$G$1048576,Lançamentos!$F$4:$F$1048576,Base!$A17,Lançamentos!$D$4:$D$1048576,Base!CS$3,Lançamentos!$E$4:$E$1048576,Base!$CO$2)","v":0},{"$f":"SUMIFS(Lançamentos!$G$4:$G$1048576,Lançamentos!$F$4:$F$1048576,Base!$A17,Lançamentos!$D$4:$D$1048576,Base!CT$3,Lançamentos!$E$4:$E$1048576,Base!$CO$2)","v":0},{"$f":"SUMIFS(Lançamentos!$G$4:$G$1048576,Lançamentos!$F$4:$F$1048576,Base!$A17,Lançamentos!$D$4:$D$1048576,Base!CU$3,Lançamentos!$E$4:$E$1048576,Base!$CO$2)","v":0},{"$f":"SUMIFS(Lançamentos!$G$4:$G$1048576,Lançamentos!$F$4:$F$1048576,Base!$A17,Lançamentos!$D$4:$D$1048576,Base!CV$3,Lançamentos!$E$4:$E$1048576,Base!$CO$2)","v":0},{"$f":"SUMIFS(Lançamentos!$G$4:$G$1048576,Lançamentos!$F$4:$F$1048576,Base!$A17,Lançamentos!$D$4:$D$1048576,Base!CW$3,Lançamentos!$E$4:$E$1048576,Base!$CO$2)","v":0},{"$f":"SUMIFS(Lançamentos!$G$4:$G$1048576,Lançamentos!$F$4:$F$1048576,Base!$A17,Lançamentos!$D$4:$D$1048576,Base!CX$3,Lançamentos!$E$4:$E$1048576,Base!$CO$2)","v":0},{"$f":"SUMIFS(Lançamentos!$G$4:$G$1048576,Lançamentos!$F$4:$F$1048576,Base!$A17,Lançamentos!$D$4:$D$1048576,Base!CY$3,Lançamentos!$E$4:$E$1048576,Base!$CO$2)","v":0},{"$f":"SUMIFS(Lançamentos!$G$4:$G$1048576,Lançamentos!$F$4:$F$1048576,Base!$A17,Lançamentos!$D$4:$D$1048576,Base!CZ$3,Lançamentos!$E$4:$E$1048576,Base!$CO$2)","v":0},0,{"$f":"SUMIFS(Lançamentos!$G$4:$G$1048576,Lançamentos!$F$4:$F$1048576,Base!$A17,Lançamentos!$D$4:$D$1048576,Base!DB$3,Lançamentos!$E$4:$E$1048576,Base!$DB$2)","v":0},{"$f":"SUMIFS(Lançamentos!$G$4:$G$1048576,Lançamentos!$F$4:$F$1048576,Base!$A17,Lançamentos!$D$4:$D$1048576,Base!DC$3,Lançamentos!$E$4:$E$1048576,Base!$DB$2)","v":0},{"$f":"SUMIFS(Lançamentos!$G$4:$G$1048576,Lançamentos!$F$4:$F$1048576,Base!$A17,Lançamentos!$D$4:$D$1048576,Base!DD$3,Lançamentos!$E$4:$E$1048576,Base!$DB$2)","v":0},{"$f":"SUMIFS(Lançamentos!$G$4:$G$1048576,Lançamentos!$F$4:$F$1048576,Base!$A17,Lançamentos!$D$4:$D$1048576,Base!DE$3,Lançamentos!$E$4:$E$1048576,Base!$DB$2)","v":0},{"$f":"SUMIFS(Lançamentos!$G$4:$G$1048576,Lançamentos!$F$4:$F$1048576,Base!$A17,Lançamentos!$D$4:$D$1048576,Base!DF$3,Lançamentos!$E$4:$E$1048576,Base!$DB$2)","v":0},{"$f":"SUMIFS(Lançamentos!$G$4:$G$1048576,Lançamentos!$F$4:$F$1048576,Base!$A17,Lançamentos!$D$4:$D$1048576,Base!DG$3,Lançamentos!$E$4:$E$1048576,Base!$DB$2)","v":0},{"$f":"SUMIFS(Lançamentos!$G$4:$G$1048576,Lançamentos!$F$4:$F$1048576,Base!$A17,Lançamentos!$D$4:$D$1048576,Base!DH$3,Lançamentos!$E$4:$E$1048576,Base!$DB$2)","v":0},{"$f":"SUMIFS(Lançamentos!$G$4:$G$1048576,Lançamentos!$F$4:$F$1048576,Base!$A17,Lançamentos!$D$4:$D$1048576,Base!DI$3,Lançamentos!$E$4:$E$1048576,Base!$DB$2)","v":0},{"$f":"SUMIFS(Lançamentos!$G$4:$G$1048576,Lançamentos!$F$4:$F$1048576,Base!$A17,Lançamentos!$D$4:$D$1048576,Base!DJ$3,Lançamentos!$E$4:$E$1048576,Base!$DB$2)","v":0},{"$f":"SUMIFS(Lançamentos!$G$4:$G$1048576,Lançamentos!$F$4:$F$1048576,Base!$A17,Lançamentos!$D$4:$D$1048576,Base!DK$3,Lançamentos!$E$4:$E$1048576,Base!$DB$2)","v":0},{"$f":"SUMIFS(Lançamentos!$G$4:$G$1048576,Lançamentos!$F$4:$F$1048576,Base!$A17,Lançamentos!$D$4:$D$1048576,Base!DL$3,Lançamentos!$E$4:$E$1048576,Base!$DB$2)","v":0},{"$f":"SUMIFS(Lançamentos!$G$4:$G$1048576,Lançamentos!$F$4:$F$1048576,Base!$A17,Lançamentos!$D$4:$D$1048576,Base!DM$3,Lançamentos!$E$4:$E$1048576,Base!$DB$2)","v":0},0,{"$f":"SUMIFS(Lançamentos!$G$4:$G$1048576,Lançamentos!$F$4:$F$1048576,Base!$A17,Lançamentos!$D$4:$D$1048576,Base!DO$3,Lançamentos!$E$4:$E$1048576,Base!$DO$2)","v":0},{"$f":"SUMIFS(Lançamentos!$G$4:$G$1048576,Lançamentos!$F$4:$F$1048576,Base!$A17,Lançamentos!$D$4:$D$1048576,Base!DP$3,Lançamentos!$E$4:$E$1048576,Base!$DO$2)","v":0},{"$f":"SUMIFS(Lançamentos!$G$4:$G$1048576,Lançamentos!$F$4:$F$1048576,Base!$A17,Lançamentos!$D$4:$D$1048576,Base!DQ$3,Lançamentos!$E$4:$E$1048576,Base!$DO$2)","v":0},{"$f":"SUMIFS(Lançamentos!$G$4:$G$1048576,Lançamentos!$F$4:$F$1048576,Base!$A17,Lançamentos!$D$4:$D$1048576,Base!DR$3,Lançamentos!$E$4:$E$1048576,Base!$DO$2)","v":0},{"$f":"SUMIFS(Lançamentos!$G$4:$G$1048576,Lançamentos!$F$4:$F$1048576,Base!$A17,Lançamentos!$D$4:$D$1048576,Base!DS$3,Lançamentos!$E$4:$E$1048576,Base!$DO$2)","v":0},{"$f":"SUMIFS(Lançamentos!$G$4:$G$1048576,Lançamentos!$F$4:$F$1048576,Base!$A17,Lançamentos!$D$4:$D$1048576,Base!DT$3,Lançamentos!$E$4:$E$1048576,Base!$DO$2)","v":0},{"$f":"SUMIFS(Lançamentos!$G$4:$G$1048576,Lançamentos!$F$4:$F$1048576,Base!$A17,Lançamentos!$D$4:$D$1048576,Base!DU$3,Lançamentos!$E$4:$E$1048576,Base!$DO$2)","v":0},{"$f":"SUMIFS(Lançamentos!$G$4:$G$1048576,Lançamentos!$F$4:$F$1048576,Base!$A17,Lançamentos!$D$4:$D$1048576,Base!DV$3,Lançamentos!$E$4:$E$1048576,Base!$DO$2)","v":0},{"$f":"SUMIFS(Lançamentos!$G$4:$G$1048576,Lançamentos!$F$4:$F$1048576,Base!$A17,Lançamentos!$D$4:$D$1048576,Base!DW$3,Lançamentos!$E$4:$E$1048576,Base!$DO$2)","v":0},{"$f":"SUMIFS(Lançamentos!$G$4:$G$1048576,Lançamentos!$F$4:$F$1048576,Base!$A17,Lançamentos!$D$4:$D$1048576,Base!DX$3,Lançamentos!$E$4:$E$1048576,Base!$DO$2)","v":0},{"$f":"SUMIFS(Lançamentos!$G$4:$G$1048576,Lançamentos!$F$4:$F$1048576,Base!$A17,Lançamentos!$D$4:$D$1048576,Base!DY$3,Lançamentos!$E$4:$E$1048576,Base!$DO$2)","v":0},{"$f":"SUMIFS(Lançamentos!$G$4:$G$1048576,Lançamentos!$F$4:$F$1048576,Base!$A17,Lançamentos!$D$4:$D$1048576,Base!DZ$3,Lançamentos!$E$4:$E$1048576,Base!$DO$2)","v":0},0,{"$f":"SUMIFS(Lançamentos!$G$4:$G$1048576,Lançamentos!$F$4:$F$1048576,Base!$A17,Lançamentos!$D$4:$D$1048576,Base!EB$3,Lançamentos!$E$4:$E$1048576,Base!$EB$2)","v":0},{"$f":"SUMIFS(Lançamentos!$G$4:$G$1048576,Lançamentos!$F$4:$F$1048576,Base!$A17,Lançamentos!$D$4:$D$1048576,Base!EC$3,Lançamentos!$E$4:$E$1048576,Base!$EB$2)","v":0},{"$f":"SUMIFS(Lançamentos!$G$4:$G$1048576,Lançamentos!$F$4:$F$1048576,Base!$A17,Lançamentos!$D$4:$D$1048576,Base!ED$3,Lançamentos!$E$4:$E$1048576,Base!$EB$2)","v":0},{"$f":"SUMIFS(Lançamentos!$G$4:$G$1048576,Lançamentos!$F$4:$F$1048576,Base!$A17,Lançamentos!$D$4:$D$1048576,Base!EE$3,Lançamentos!$E$4:$E$1048576,Base!$EB$2)","v":0},{"$f":"SUMIFS(Lançamentos!$G$4:$G$1048576,Lançamentos!$F$4:$F$1048576,Base!$A17,Lançamentos!$D$4:$D$1048576,Base!EF$3,Lançamentos!$E$4:$E$1048576,Base!$EB$2)","v":0},{"$f":"SUMIFS(Lançamentos!$G$4:$G$1048576,Lançamentos!$F$4:$F$1048576,Base!$A17,Lançamentos!$D$4:$D$1048576,Base!EG$3,Lançamentos!$E$4:$E$1048576,Base!$EB$2)","v":0},{"$f":"SUMIFS(Lançamentos!$G$4:$G$1048576,Lançamentos!$F$4:$F$1048576,Base!$A17,Lançamentos!$D$4:$D$1048576,Base!EH$3,Lançamentos!$E$4:$E$1048576,Base!$EB$2)","v":0},{"$f":"SUMIFS(Lançamentos!$G$4:$G$1048576,Lançamentos!$F$4:$F$1048576,Base!$A17,Lançamentos!$D$4:$D$1048576,Base!EI$3,Lançamentos!$E$4:$E$1048576,Base!$EB$2)","v":0},{"$f":"SUMIFS(Lançamentos!$G$4:$G$1048576,Lançamentos!$F$4:$F$1048576,Base!$A17,Lançamentos!$D$4:$D$1048576,Base!EJ$3,Lançamentos!$E$4:$E$1048576,Base!$EB$2)","v":0},{"$f":"SUMIFS(Lançamentos!$G$4:$G$1048576,Lançamentos!$F$4:$F$1048576,Base!$A17,Lançamentos!$D$4:$D$1048576,Base!EK$3,Lançamentos!$E$4:$E$1048576,Base!$EB$2)","v":0},{"$f":"SUMIFS(Lançamentos!$G$4:$G$1048576,Lançamentos!$F$4:$F$1048576,Base!$A17,Lançamentos!$D$4:$D$1048576,Base!EL$3,Lançamentos!$E$4:$E$1048576,Base!$EB$2)","v":0},{"$f":"SUMIFS(Lançamentos!$G$4:$G$1048576,Lançamentos!$F$4:$F$1048576,Base!$A17,Lançamentos!$D$4:$D$1048576,Base!EM$3,Lançamentos!$E$4:$E$1048576,Base!$EB$2)","v":0},0,{"$f":"SUMIFS(Lançamentos!$G$4:$G$1048576,Lançamentos!$F$4:$F$1048576,Base!$A17,Lançamentos!$D$4:$D$1048576,Base!EO$3,Lançamentos!$E$4:$E$1048576,Base!$EO$2)","v":0},{"$f":"SUMIFS(Lançamentos!$G$4:$G$1048576,Lançamentos!$F$4:$F$1048576,Base!$A17,Lançamentos!$D$4:$D$1048576,Base!EP$3,Lançamentos!$E$4:$E$1048576,Base!$EO$2)","v":0},{"$f":"SUMIFS(Lançamentos!$G$4:$G$1048576,Lançamentos!$F$4:$F$1048576,Base!$A17,Lançamentos!$D$4:$D$1048576,Base!EQ$3,Lançamentos!$E$4:$E$1048576,Base!$EO$2)","v":0},{"$f":"SUMIFS(Lançamentos!$G$4:$G$1048576,Lançamentos!$F$4:$F$1048576,Base!$A17,Lançamentos!$D$4:$D$1048576,Base!ER$3,Lançamentos!$E$4:$E$1048576,Base!$EO$2)","v":0},{"$f":"SUMIFS(Lançamentos!$G$4:$G$1048576,Lançamentos!$F$4:$F$1048576,Base!$A17,Lançamentos!$D$4:$D$1048576,Base!ES$3,Lançamentos!$E$4:$E$1048576,Base!$EO$2)","v":0},{"$f":"SUMIFS(Lançamentos!$G$4:$G$1048576,Lançamentos!$F$4:$F$1048576,Base!$A17,Lançamentos!$D$4:$D$1048576,Base!ET$3,Lançamentos!$E$4:$E$1048576,Base!$EO$2)","v":0},{"$f":"SUMIFS(Lançamentos!$G$4:$G$1048576,Lançamentos!$F$4:$F$1048576,Base!$A17,Lançamentos!$D$4:$D$1048576,Base!EU$3,Lançamentos!$E$4:$E$1048576,Base!$EO$2)","v":0},{"$f":"SUMIFS(Lançamentos!$G$4:$G$1048576,Lançamentos!$F$4:$F$1048576,Base!$A17,Lançamentos!$D$4:$D$1048576,Base!EV$3,Lançamentos!$E$4:$E$1048576,Base!$EO$2)","v":0},{"$f":"SUMIFS(Lançamentos!$G$4:$G$1048576,Lançamentos!$F$4:$F$1048576,Base!$A17,Lançamentos!$D$4:$D$1048576,Base!EW$3,Lançamentos!$E$4:$E$1048576,Base!$EO$2)","v":0},{"$f":"SUMIFS(Lançamentos!$G$4:$G$1048576,Lançamentos!$F$4:$F$1048576,Base!$A17,Lançamentos!$D$4:$D$1048576,Base!EX$3,Lançamentos!$E$4:$E$1048576,Base!$EO$2)","v":0},{"$f":"SUMIFS(Lançamentos!$G$4:$G$1048576,Lançamentos!$F$4:$F$1048576,Base!$A17,Lançamentos!$D$4:$D$1048576,Base!EY$3,Lançamentos!$E$4:$E$1048576,Base!$EO$2)","v":0},{"$f":"SUMIFS(Lançamentos!$G$4:$G$1048576,Lançamentos!$F$4:$F$1048576,Base!$A17,Lançamentos!$D$4:$D$1048576,Base!EZ$3,Lançamentos!$E$4:$E$1048576,Base!$EO$2)","v":0},0,{"$f":"SUMIFS(Lançamentos!$G$4:$G$1048576,Lançamentos!$F$4:$F$1048576,Base!$A17,Lançamentos!$D$4:$D$1048576,Base!FB$3,Lançamentos!$E$4:$E$1048576,Base!$FB$2)","v":0},{"$f":"SUMIFS(Lançamentos!$G$4:$G$1048576,Lançamentos!$F$4:$F$1048576,Base!$A17,Lançamentos!$D$4:$D$1048576,Base!FC$3,Lançamentos!$E$4:$E$1048576,Base!$FB$2)","v":0},{"$f":"SUMIFS(Lançamentos!$G$4:$G$1048576,Lançamentos!$F$4:$F$1048576,Base!$A17,Lançamentos!$D$4:$D$1048576,Base!FD$3,Lançamentos!$E$4:$E$1048576,Base!$FB$2)","v":0},{"$f":"SUMIFS(Lançamentos!$G$4:$G$1048576,Lançamentos!$F$4:$F$1048576,Base!$A17,Lançamentos!$D$4:$D$1048576,Base!FE$3,Lançamentos!$E$4:$E$1048576,Base!$FB$2)","v":0},{"$f":"SUMIFS(Lançamentos!$G$4:$G$1048576,Lançamentos!$F$4:$F$1048576,Base!$A17,Lançamentos!$D$4:$D$1048576,Base!FF$3,Lançamentos!$E$4:$E$1048576,Base!$FB$2)","v":0},{"$f":"SUMIFS(Lançamentos!$G$4:$G$1048576,Lançamentos!$F$4:$F$1048576,Base!$A17,Lançamentos!$D$4:$D$1048576,Base!FG$3,Lançamentos!$E$4:$E$1048576,Base!$FB$2)","v":0},{"$f":"SUMIFS(Lançamentos!$G$4:$G$1048576,Lançamentos!$F$4:$F$1048576,Base!$A17,Lançamentos!$D$4:$D$1048576,Base!FH$3,Lançamentos!$E$4:$E$1048576,Base!$FB$2)","v":0},{"$f":"SUMIFS(Lançamentos!$G$4:$G$1048576,Lançamentos!$F$4:$F$1048576,Base!$A17,Lançamentos!$D$4:$D$1048576,Base!FI$3,Lançamentos!$E$4:$E$1048576,Base!$FB$2)","v":0},{"$f":"SUMIFS(Lançamentos!$G$4:$G$1048576,Lançamentos!$F$4:$F$1048576,Base!$A17,Lançamentos!$D$4:$D$1048576,Base!FJ$3,Lançamentos!$E$4:$E$1048576,Base!$FB$2)","v":0},{"$f":"SUMIFS(Lançamentos!$G$4:$G$1048576,Lançamentos!$F$4:$F$1048576,Base!$A17,Lançamentos!$D$4:$D$1048576,Base!FK$3,Lançamentos!$E$4:$E$1048576,Base!$FB$2)","v":0},{"$f":"SUMIFS(Lançamentos!$G$4:$G$1048576,Lançamentos!$F$4:$F$1048576,Base!$A17,Lançamentos!$D$4:$D$1048576,Base!FL$3,Lançamentos!$E$4:$E$1048576,Base!$FB$2)","v":0},{"$f":"SUMIFS(Lançamentos!$G$4:$G$1048576,Lançamentos!$F$4:$F$1048576,Base!$A17,Lançamentos!$D$4:$D$1048576,Base!FM$3,Lançamentos!$E$4:$E$1048576,Base!$FB$2)","v":0},0,{"$f":"SUMIFS(Lançamentos!$G$4:$G$1048576,Lançamentos!$F$4:$F$1048576,Base!$A17,Lançamentos!$D$4:$D$1048576,Base!FO$3,Lançamentos!$E$4:$E$1048576,Base!$FO$2)","v":0},{"$f":"SUMIFS(Lançamentos!$G$4:$G$1048576,Lançamentos!$F$4:$F$1048576,Base!$A17,Lançamentos!$D$4:$D$1048576,Base!FP$3,Lançamentos!$E$4:$E$1048576,Base!$FO$2)","v":0},{"$f":"SUMIFS(Lançamentos!$G$4:$G$1048576,Lançamentos!$F$4:$F$1048576,Base!$A17,Lançamentos!$D$4:$D$1048576,Base!FQ$3,Lançamentos!$E$4:$E$1048576,Base!$FO$2)","v":0},{"$f":"SUMIFS(Lançamentos!$G$4:$G$1048576,Lançamentos!$F$4:$F$1048576,Base!$A17,Lançamentos!$D$4:$D$1048576,Base!FR$3,Lançamentos!$E$4:$E$1048576,Base!$FO$2)","v":0},{"$f":"SUMIFS(Lançamentos!$G$4:$G$1048576,Lançamentos!$F$4:$F$1048576,Base!$A17,Lançamentos!$D$4:$D$1048576,Base!FS$3,Lançamentos!$E$4:$E$1048576,Base!$FO$2)","v":0},{"$f":"SUMIFS(Lançamentos!$G$4:$G$1048576,Lançamentos!$F$4:$F$1048576,Base!$A17,Lançamentos!$D$4:$D$1048576,Base!FT$3,Lançamentos!$E$4:$E$1048576,Base!$FO$2)","v":0},{"$f":"SUMIFS(Lançamentos!$G$4:$G$1048576,Lançamentos!$F$4:$F$1048576,Base!$A17,Lançamentos!$D$4:$D$1048576,Base!FU$3,Lançamentos!$E$4:$E$1048576,Base!$FO$2)","v":0},{"$f":"SUMIFS(Lançamentos!$G$4:$G$1048576,Lançamentos!$F$4:$F$1048576,Base!$A17,Lançamentos!$D$4:$D$1048576,Base!FV$3,Lançamentos!$E$4:$E$1048576,Base!$FO$2)","v":0},{"$f":"SUMIFS(Lançamentos!$G$4:$G$1048576,Lançamentos!$F$4:$F$1048576,Base!$A17,Lançamentos!$D$4:$D$1048576,Base!FW$3,Lançamentos!$E$4:$E$1048576,Base!$FO$2)","v":0},{"$f":"SUMIFS(Lançamentos!$G$4:$G$1048576,Lançamentos!$F$4:$F$1048576,Base!$A17,Lançamentos!$D$4:$D$1048576,Base!FX$3,Lançamentos!$E$4:$E$1048576,Base!$FO$2)","v":0},{"$f":"SUMIFS(Lançamentos!$G$4:$G$1048576,Lançamentos!$F$4:$F$1048576,Base!$A17,Lançamentos!$D$4:$D$1048576,Base!FY$3,Lançamentos!$E$4:$E$1048576,Base!$FO$2)","v":0},{"$f":"SUMIFS(Lançamentos!$G$4:$G$1048576,Lançamentos!$F$4:$F$1048576,Base!$A17,Lançamentos!$D$4:$D$1048576,Base!FZ$3,Lançamentos!$E$4:$E$1048576,Base!$FO$2)","v":0},0,{"$f":"SUMIFS(Lançamentos!$G$4:$G$1048576,Lançamentos!$F$4:$F$1048576,Base!$A17,Lançamentos!$D$4:$D$1048576,Base!GB$3,Lançamentos!$E$4:$E$1048576,Base!$GB$2)","v":0},{"$f":"SUMIFS(Lançamentos!$G$4:$G$1048576,Lançamentos!$F$4:$F$1048576,Base!$A17,Lançamentos!$D$4:$D$1048576,Base!GC$3,Lançamentos!$E$4:$E$1048576,Base!$GB$2)","v":0},{"$f":"SUMIFS(Lançamentos!$G$4:$G$1048576,Lançamentos!$F$4:$F$1048576,Base!$A17,Lançamentos!$D$4:$D$1048576,Base!GD$3,Lançamentos!$E$4:$E$1048576,Base!$GB$2)","v":0},{"$f":"SUMIFS(Lançamentos!$G$4:$G$1048576,Lançamentos!$F$4:$F$1048576,Base!$A17,Lançamentos!$D$4:$D$1048576,Base!GE$3,Lançamentos!$E$4:$E$1048576,Base!$GB$2)","v":0},{"$f":"SUMIFS(Lançamentos!$G$4:$G$1048576,Lançamentos!$F$4:$F$1048576,Base!$A17,Lançamentos!$D$4:$D$1048576,Base!GF$3,Lançamentos!$E$4:$E$1048576,Base!$GB$2)","v":0},{"$f":"SUMIFS(Lançamentos!$G$4:$G$1048576,Lançamentos!$F$4:$F$1048576,Base!$A17,Lançamentos!$D$4:$D$1048576,Base!GG$3,Lançamentos!$E$4:$E$1048576,Base!$GB$2)","v":0},{"$f":"SUMIFS(Lançamentos!$G$4:$G$1048576,Lançamentos!$F$4:$F$1048576,Base!$A17,Lançamentos!$D$4:$D$1048576,Base!GH$3,Lançamentos!$E$4:$E$1048576,Base!$GB$2)","v":0},{"$f":"SUMIFS(Lançamentos!$G$4:$G$1048576,Lançamentos!$F$4:$F$1048576,Base!$A17,Lançamentos!$D$4:$D$1048576,Base!GI$3,Lançamentos!$E$4:$E$1048576,Base!$GB$2)","v":0},{"$f":"SUMIFS(Lançamentos!$G$4:$G$1048576,Lançamentos!$F$4:$F$1048576,Base!$A17,Lançamentos!$D$4:$D$1048576,Base!GJ$3,Lançamentos!$E$4:$E$1048576,Base!$GB$2)","v":0},{"$f":"SUMIFS(Lançamentos!$G$4:$G$1048576,Lançamentos!$F$4:$F$1048576,Base!$A17,Lançamentos!$D$4:$D$1048576,Base!GK$3,Lançamentos!$E$4:$E$1048576,Base!$GB$2)","v":0},{"$f":"SUMIFS(Lançamentos!$G$4:$G$1048576,Lançamentos!$F$4:$F$1048576,Base!$A17,Lançamentos!$D$4:$D$1048576,Base!GL$3,Lançamentos!$E$4:$E$1048576,Base!$GB$2)","v":0},{"$f":"SUMIFS(Lançamentos!$G$4:$G$1048576,Lançamentos!$F$4:$F$1048576,Base!$A17,Lançamentos!$D$4:$D$1048576,Base!GM$3,Lançamentos!$E$4:$E$1048576,Base!$GB$2)","v":0},0,null,2030]
[{"$f":"IF(Lançamentos!A15=\"\",\"\",Lançamentos!A15)","v":"Despesas com Pessoal"},{"$f":"SUMIFS(Lançamentos!$G$4:$G$1048576,Lançamentos!$F$4:$F$1048576,Base!$A18,Lançamentos!$D$4:$D$1048576,Base!B$3,Lançamentos!$E$4:$E$1048576,Base!$B$2)","v":0},{"$f":"SUMIFS(Lançamentos!$G$4:$G$1048576,Lançamentos!$F$4:$F$1048576,Base!$A18,Lançamentos!$D$4:$D$1048576,Base!C$3,Lançamentos!$E$4:$E$1048576,Base!$B$2)","v":0},{"$f":"SUMIFS(Lançamentos!$G$4:$G$1048576,Lançamentos!$F$4:$F$1048576,Base!$A18,Lançamentos!$D$4:$D$1048576,Base!D$3,Lançamentos!$E$4:$E$1048576,Base!$B$2)","v":0},{"$f":"SUMIFS(Lançamentos!$G$4:$G$1048576,Lançamentos!$F$4:$F$1048576,Base!$A18,Lançamentos!$D$4:$D$1048576,Base!E$3,Lançamentos!$E$4:$E$1048576,Base!$B$2)","v":0},{"$f":"SUMIFS(Lançamentos!$G$4:$G$1048576,Lançamentos!$F$4:$F$1048576,Base!$A18,Lançamentos!$D$4:$D$1048576,Base!F$3,Lançamentos!$E$4:$E$1048576,Base!$B$2)","v":0},{"$f":"SUMIFS(Lançamentos!$G$4:$G$1048576,Lançamentos!$F$4:$F$1048576,Base!$A18,Lançamentos!$D$4:$D$1048576,Base!G$3,Lançamentos!$E$4:$E$1048576,Base!$B$2)","v":0},{"$f":"SUMIFS(Lançamentos!$G$4:$G$1048576,Lançamentos!$F$4:$F$1048576,Base!$A18,Lançamentos!$D$4:$D$1048576,Base!H$3,Lançamentos!$E$4:$E$1048576,Base!$B$2)","v":0},{"$f":"SUMIFS(Lançamentos!$G$4:$G$1048576,Lançamentos!$F$4:$F$1048576,Base!$A18,Lançamentos!$D$4:$D$1048576,Base!I$3,Lançamentos!$E$4:$E$1048576,Base!$B$2)","v":0},{"$f":"SUMIFS(Lançamentos!$G$4:$G$1048576,Lançamentos!$F$4:$F$1048576,Base!$A18,Lançamentos!$D$4:$D$1048576,Base!J$3,Lançamentos!$E$4:$E$1048576,Base!$B$2)","v":0},{"$f":"SUMIFS(Lançamentos!$G$4:$G$1048576,Lançamentos!$F$4:$F$1048576,Base!$A18,Lançamentos!$D$4:$D$1048576,Base!K$3,Lançamentos!$E$4:$E$1048576,Base!$B$2)","v":0},{"$f":"SUMIFS(Lançamentos!$G$4:$G$1048576,Lançamentos!$F$4:$F$1048576,Base!$A18,Lançamentos!$D$4:$D$1048576,Base!L$3,Lançamentos!$E$4:$E$1048576,Base!$B$2)","v":0},{"$f":"SUMIFS(Lançamentos!$G$4:$G$1048576,Lançamentos!$F$4:$F$1048576,Base!$A18,Lançamentos!$D$4:$D$1048576,Base!M$3,Lançamentos!$E$4:$E$1048576,Base!$B$2)","v":0},0,{"$f":"SUMIFS(Lançamentos!$G$4:$G$1048576,Lançamentos!$F$4:$F$1048576,Base!$A18,Lançamentos!$D$4:$D$1048576,Base!O$3,Lançamentos!$E$4:$E$1048576,Base!$O$2)","v":0},{"$f":"SUMIFS(Lançamentos!$G$4:$G$1048576,Lançamentos!$F$4:$F$1048576,Base!$A18,Lançamentos!$D$4:$D$1048576,Base!P$3,Lançamentos!$E$4:$E$1048576,Base!$O$2)","v":0},{"$f":"SUMIFS(Lançamentos!$G$4:$G$1048576,Lançamentos!$F$4:$F$1048576,Base!$A18,Lançamentos!$D$4:$D$1048576,Base!Q$3,Lançamentos!$E$4:$E$1048576,Base!$O$2)","v":0},{"$f":"SUMIFS(Lançamentos!$G$4:$G$1048576,Lançamentos!$F$4:$F$1048576,Base!$A18,Lançamentos!$D$4:$D$1048576,Base!R$3,Lançamentos!$E$4:$E$1048576,Base!$O$2)","v":0},{"$f":"SUMIFS(Lançamentos!$G$4:$G$1048576,Lançamentos!$F$4:$F$1048576,Base!$A18,Lançamentos!$D$4:$D$1048576,Base!S$3,Lançamentos!$E$4:$E$1048576,Base!$O$2)","v":0},{"$f":"SUMIFS(Lançamentos!$G$4:$G$1048576,Lançamentos!$F$4:$F$1048576,Base!$A18,Lançamentos!$D$4:$D$1048576,Base!T$3,Lançamentos!$E$4:$E$1048576,Base!$O$2)","v":0},{"$f":"SUMIFS(Lançamentos!$G$4:$G$1048576,Lançamentos!$F$4:$F$1048576,Base!$A18,Lançamentos!$D$4:$D$1048576,Base!U$3,Lançamentos!$E$4:$E$1048576,Base!$O$2)","v":0},{"$f":"SUMIFS(Lançamentos!$G$4:$G$1048576,Lançamentos!$F$4:$F$1048576,Base!$A18,Lançamentos!$D$4:$D$1048576,Base!V$3,Lançamentos!$E$4:$E$1048576,Base!$O$2)","v":0},{"$f":"SUMIFS(Lançamentos!$G$4:$G$1048576,Lançamentos!$F$4:$F$1048576,Base!$A18,Lançamentos!$D$4:$D$1048576,Base!W$3,Lançamentos!$E$4:$E$1048576,Base!$O$2)","v":0},{"$f":"SUMIFS(Lançamentos!$G$4:$G$1048576,Lançamentos!$F$4:$F$1048576,Base!$A18,Lançamentos!$D$4:$D$1048576,Base!X$3,Lançamentos!$E$4:$E$1048576,Base!$O$2)","v":0},{"$f":"SUMIFS(Lançamentos!$G$4:$G$1048576,Lançamentos!$F$4:$F$1048576,Base!$A18,Lançamentos!$D$4:$D$1048576,Base!Y$3,Lançamentos!$E$4:$E$1048576,Base!$O$2)","v":0},{"$f":"SUMIFS(Lançamentos!$G$4:$G$1048576,Lançamentos!$F$4:$F$1048576,Base!$A18,Lançamentos!$D$4:$D$1048576,Base!Z$3,Lançamentos!$E$4:$E$1048576,Base!$O$2)","v":0},0,{"$f":"SUMIFS(Lançamentos!$G$4:$G$1048576,Lançamentos!$F$4:$F$1048576,Base!$A18,Lançamentos!$D$4:$D$1048576,Base!AB$3,Lançamentos!$E$4:$E$1048576,Base!$AB$2)","v":0},{"$f":"SUMIFS(Lançamentos!$G$4:$G$1048576,Lançamentos!$F$4:$F$1048576,Base!$A18,Lançamentos!$D$4:$D$1048576,Base!AC$3,Lançamentos!$E$4:$E$1048576,Base!$AB$2)","v":0},{"$f":"SUMIFS(Lançamentos!$G$4:$G$1048576,Lançamentos!$F$4:$F$1048576,Base!$A18,Lançamentos!$D$4:$D$1048576,Base!AD$3,Lançamentos!$E$4:$E$1048576,Base!$AB$2)","v":0},{"$f":"SUMIFS(Lançamentos!$G$4:$G$1048576,Lançamentos!$F$4:$F$1048576,Base!$A18,Lançamentos!$D$4:$D$1048576,Base!AE$3,Lançamentos!$E$4:$E$1048576,Base!$AB$2)","v":0},{"$f":"SUMIFS(Lançamentos!$G$4:$G$1048576,Lançamentos!$F$4:$F$1048576,Base!$A18,Lançamentos!$D$4:$D$1048576,Base!AF$3,Lançamentos!$E$4:$E$1048576,Base!$AB$2)","v":0},{"$f":"SUMIFS(Lançamentos!$G$4:$G$1048576,Lançamentos!$F$4:$F$1048576,Base!$A18,Lançamentos!$D$4:$D$1048576,Base!AG$3,Lançamentos!$E$4:$E$1048576,Base!$AB$2)","v":0},{"$f":"SUMIFS(Lançamentos!$G$4:$G$1048576,Lançamentos!$F$4:$F$1048576,Base!$A18,Lançamentos!$D$4:$D$1048576,Base!AH$3,Lançamentos!$E$4:$E$1048576,Base!$AB$2)","v":0},{"$f":"SUMIFS(Lançamentos!$G$4:$G$1048576,Lançamentos!$F$4:$F$1048576,Base!$A18,Lançamentos!$D$4:$D$1048576,Base!AI$3,Lançamentos!$E$4:$E$1048576,Base!$AB$2)","v":0},{"$f":"SUMIFS(Lançamentos!$G$4:$G$1048576,Lançamentos!$F$4:$F$1048576,Base!$A18,Lançamentos!$D$4:$D$1048576,Base!AJ$3,Lançamentos!$E$4:$E$1048576,Base!$AB$2)","v":0},{"$f":"SUMIFS(Lançamentos!$G$4:$G$1048576,Lançamentos!$F$4:$F$1048576,Base!$A18,Lançamentos!$D$4:$D$1048576,Base!AK$3,Lançamentos!$E$4:$E$1048576,Base!$AB$2)","v":0},{"$f":"SUMIFS(Lançamentos!$G$4:$G$1048576,Lançamentos!$F$4:$F$1048576,Base!$A18,Lançamentos!$D$4:$D$1048576,Base!AL$3,Lançamentos!$E$4:$E$1048576,Base!$AB$2)","v":0},{"$f":"SUMIFS(Lançamentos!$G$4:$G$1048576,Lançamentos!$F$4:$F$1048576,Base!$A18,Lançamentos!$D$4:$D$1048576,Base!AM$3,Lançamentos!$E$4:$E$1048576,Base!$AB$2)","v":0},0,{"$f":"SUMIFS(Lançamentos!$G$4:$G$1048576,Lançamentos!$F$4:$F$1048576,Base!$A18,Lançamentos!$D$4:$D$1048576,Base!AO$3,Lançamentos!$E$4:$E$1048576,Base!$AO$2)","v":0},{"$f":"SUMIFS(Lançamentos!$G$4:$G$1048576,Lançamentos!$F$4:$F$1048576,Base!$A18,Lançamentos!$D$4:$D$1048576,Base!AP$3,Lançamentos!$E$4:$E$1048576,Base!$AO$2)","v":0},{"$f":"SUMIFS(Lançamentos!$G$4:$G$1048576,Lançamentos!$F$4:$F$1048576,Base!$A18,Lançamentos!$D$4:$D$1048576,Base!AQ$3,Lançamentos!$E$4:$E$1048576,Base!$AO$2)","v":0},{"$f":"SUMIFS(Lançamentos!$G$4:$G$1048576,Lançamentos!$F$4:$F$1048576,Base!$A18,Lançamentos!$D$4:$D$1048576,Base!AR$3,Lançamentos!$E$4:$E$1048576,Base!$AO$2)","v":0},{"$f":"SUMIFS(Lançamentos!$G$4:$G$1048576,Lançamentos!$F$4:$F$1048576,Base!$A18,Lançamentos!$D$4:$D$1048576,Base!AS$3,Lançamentos!$E$4:$E$1048576,Base!$AO$2)","v":0},{"$f":"SUMIFS(Lançamentos!$G$4:$G$1048576,Lançamentos!$F$4:$F$1048576,Base!$A18,Lançamentos!$D$4:$D$1048576,Base!AT$3,Lançamentos!$E$4:$E$1048576,Base!$AO$2)","v":0},{"$f":"SUMIFS(Lançamentos!$G$4:$G$1048576,Lançamentos!$F$4:$F$1048576,Base!$A18,Lançamentos!$D$4:$D$1048576,Base!AU$3,Lançamentos!$E$4:$E$1048576,Base!$AO$2)","v":0},{"$f":"SUMIFS(Lançamentos!$G$4:$G$1048576,Lançamentos!$F$4:$F$1048576,Base!$A18,Lançamentos!$D$4:$D$1048576,Base!AV$3,Lançamentos!$E$4:$E$1048576,Base!$AO$2)","v":0},{"$f":"SUMIFS(Lançamentos!$G$4:$G$1048576,Lançamentos!$F$4:$F$1048576,Base!$A18,Lançamentos!$D$4:$D$1048576,Base!AW$3,Lançamentos!$E$4:$E$1048576,Base!$AO$2)","v":0},{"$f":"SUMIFS(Lançamentos!$G$4:$G$1048576,Lançamentos!$F$4:$F$1048576,Base!$A18,Lançamentos!$D$4:$D$1048576,Base!AX$3,Lançamentos!$E$4:$E$1048576,Base!$AO$2)","v":0},{"$f":"SUMIFS(Lançamentos!$G$4:$G$1048576,Lançamentos!$F$4:$F$1048576,Base!$A18,Lançamentos!$D$4:$D$1048576,Base!AY$3,Lançamentos!$E$4:$E$1048576,Base!$AO$2)","v":0},{"$f":"SUMIFS(Lançamentos!$G$4:$G$1048576,Lançamentos!$F$4:$F$1048576,Base!$A18,Lançamentos!$D$4:$D$1048576,Base!AZ$3,Lançamentos!$E$4:$E$1048576,Base!$AO$2)","v":0},0,{"$f":"SUMIFS(Lançamentos!$G$4:$G$1048576,Lançamentos!$F$4:$F$1048576,Base!$A18,Lançamentos!$D$4:$D$1048576,Base!BB$3,Lançamentos!$E$4:$E$1048576,Base!$BB$2)","v":0},{"$f":"SUMIFS(Lançamentos!$G$4:$G$1048576,Lançamentos!$F$4:$F$1048576,Base!$A18,Lançamentos!$D$4:$D$1048576,Base!BC$3,Lançamentos!$E$4:$E$1048576,Base!$BB$2)","v":0},{"$f":"SUMIFS(Lançamentos!$G$4:$G$1048576,Lançamentos!$F$4:$F$1048576,Base!$A18,Lançamentos!$D$4:$D$1048576,Base!BD$3,Lançamentos!$E$4:$E$1048576,Base!$BB$2)","v":0},{"$f":"SUMIFS(Lançamentos!$G$4:$G$1048576,Lançamentos!$F$4:$F$1048576,Base!$A18,Lançamentos!$D$4:$D$1048576,Base!BE$3,Lançamentos!$E$4:$E$1048576,Base!$BB$2)","v":0},{"$f":"SUMIFS(Lançamentos!$G$4:$G$1048576,Lançamentos!$F$4:$F$1048576,Base!$A18,Lançamentos!$D$4:$D$1048576,Base!BF$3,Lançamentos!$E$4:$E$1048576,Base!$BB$2)","v":0},{"$f":"SUMIFS(Lançamentos!$G$4:$G$1048576,Lançamentos!$F$4:$F$1048576,Base!$A18,Lançamentos!$D$4:$D$1048576,Base!BG$3,Lançamentos!$E$4:$E$1048576,Base!$BB$2)","v":0},{"$f":"SUMIFS(Lançamentos!$G$4:$G$1048576,Lançamentos!$F$4:$F$1048576,Base!$A18,Lançamentos!$D$4:$D$1048576,Base!BH$3,Lançamentos!$E$4:$E$1048576,Base!$BB$2)","v":0},{"$f":"SUMIFS(Lançamentos!$G$4:$G$1048576,Lançamentos!$F$4:$F$1048576,Base!$A18,Lançamentos!$D$4:$D$1048576,Base!BI$3,Lançamentos!$E$4:$E$1048576,Base!$BB$2)","v":0},{"$f":"SUMIFS(Lançamentos!$G$4:$G$1048576,Lançamentos!$F$4:$F$1048576,Base!$A18,Lançamentos!$D$4:$D$1048576,Base!BJ$3,Lançamentos!$E$4:$E$1048576,Base!$BB$2)","v":0},{"$f":"SUMIFS(Lançamentos!$G$4:$G$1048576,Lançamentos!$F$4:$F$1048576,Base!$A18,Lançamentos!$D$4:$D$1048576,Base!BK$3,Lançamentos!$E$4:$E$1048576,Base!$BB$2)","v":0},{"$f":"SUMIFS(Lançamentos!$G$4:$G$1048576,Lançamentos!$F$4:$F$1048576,Base!$A18,Lançamentos!$D$4:$D$1048576,Base!BL$3,Lançamentos!$E$4:$E$1048576,Base!$BB$2)","v":0},{"$f":"SUMIFS(Lançamentos!$G$4:$G$1048576,Lançamentos!$F$4:$F$1048576,Base!$A18,Lançamentos!$D$4:$D$1048576,Base!BM$3,Lançamentos!$E$4:$E$1048576,Base!$BB$2)","v":0},0,{"$f":"SUMIFS(Lançamentos!$G$4:$G$1048576,Lançamentos!$F$4:$F$1048576,Base!$A18,Lançamentos!$D$4:$D$1048576,Base!BO$3,Lançamentos!$E$4:$E$1048576,Base!$BO$2)","v":0},{"$f":"SUMIFS(Lançamentos!$G$4:$G$1048576,Lançamentos!$F$4:$F$1048576,Base!$A18,Lançamentos!$D$4:$D$1048576,Base!BP$3,Lançamentos!$E$4:$E$1048576,Base!$BO$2)","v":0},{"$f":"SUMIFS(Lançamentos!$G$4:$G$1048576,Lançamentos!$F$4:$F$1048576,Base!$A18,Lançamentos!$D$4:$D$1048576,Base!BQ$3,Lançamentos!$E$4:$E$1048576,Base!$BO$2)","v":0},{"$f":"SUMIFS(Lançamentos!$G$4:$G$1048576,Lançamentos!$F$4:$F$1048576,Base!$A18,Lançamentos!$D$4:$D$1048576,Base!BR$3,Lançamentos!$E$4:$E$1048576,Base!$BO$2)","v":0},{"$f":"SUMIFS(Lançamentos!$G$4:$G$1048576,Lançamentos!$F$4:$F$1048576,Base!$A18,Lançamentos!$D$4:$D$1048576,Base!BS$3,Lançamentos!$E$4:$E$1048576,Base!$BO$2)","v":0},{"$f":"SUMIFS(Lançamentos!$G$4:$G$1048576,Lançamentos!$F$4:$F$1048576,Base!$A18,Lançamentos!$D$4:$D$1048576,Base!BT$3,Lançamentos!$E$4:$E$1048576,Base!$BO$2)","v":0},{"$f":"SUMIFS(Lançamentos!$G$4:$G$1048576,Lançamentos!$F$4:$F$1048576,Base!$A18,Lançamentos!$D$4:$D$1048576,Base!BU$3,Lançamentos!$E$4:$E$1048576,Base!$BO$2)","v":0},{"$f":"SUMIFS(Lançamentos!$G$4:$G$1048576,Lançamentos!$F$4:$F$1048576,Base!$A18,Lançamentos!$D$4:$D$1048576,Base!BV$3,Lançamentos!$E$4:$E$1048576,Base!$BO$2)","v":0},{"$f":"SUMIFS(Lançamentos!$G$4:$G$1048576,Lançamentos!$F$4:$F$1048576,Base!$A18,Lançamentos!$D$4:$D$1048576,Base!BW$3,Lançamentos!$E$4:$E$1048576,Base!$BO$2)","v":0},{"$f":"SUMIFS(Lançamentos!$G$4:$G$1048576,Lançamentos!$F$4:$F$1048576,Base!$A18,Lançamentos!$D$4:$D$1048576,Base!BX$3,Lançamentos!$E$4:$E$1048576,Base!$BO$2)","v":0},{"$f":"SUMIFS(Lançamentos!$G$4:$G$1048576,Lançamentos!$F$4:$F$1048576,Base!$A18,Lançamentos!$D$4:$D$1048576,Base!BY$3,Lançamentos!$E$4:$E$1048576,Base!$BO$2)","v":0},{"$f":"SUMIFS(Lançamentos!$G$4:$G$1048576,Lançamentos!$F$4:$F$1048576,Base!$A18,Lançamentos!$D$4:$D$1048576,Base!BZ$3,Lançamentos!$E$4:$E$1048576,Base!$BO$2)","v":0},0,{"$f":"SUMIFS(Lançamentos!$G$4:$G$1048576,Lançamentos!$F$4:$F$1048576,Base!$A18,Lançamentos!$D$4:$D$1048576,Base!CB$3,Lançamentos!$E$4:$E$1048576,Base!$CB$2)","v":0},{"$f":"SUMIFS(Lançamentos!$G$4:$G$1048576,Lançamentos!$F$4:$F$1048576,Base!$A18,Lançamentos!$D$4:$D$1048576,Base!CC$3,Lançamentos!$E$4:$E$1048576,Base!$CB$2)","v":0},{"$f":"SUMIFS(Lançamentos!$G$4:$G$1048576,Lançamentos!$F$4:$F$1048576,Base!$A18,Lançamentos!$D$4:$D$1048576,Base!CD$3,Lançamentos!$E$4:$E$1048576,Base!$CB$2)","v":0},{"$f":"SUMIFS(Lançamentos!$G$4:$G$1048576,Lançamentos!$F$4:$F$1048576,Base!$A18,Lançamentos!$D$4:$D$1048576,Base!CE$3,Lançamentos!$E$4:$E$1048576,Base!$CB$2)","v":0},{"$f":"SUMIFS(Lançamentos!$G$4:$G$1048576,Lançamentos!$F$4:$F$1048576,Base!$A18,Lançamentos!$D$4:$D$1048576,Base!CF$3,Lançamentos!$E$4:$E$1048576,Base!$CB$2)","v":0},{"$f":"SUMIFS(Lançamentos!$G$4:$G$1048576,Lançamentos!$F$4:$F$1048576,Base!$A18,Lançamentos!$D$4:$D$1048576,Base!CG$3,Lançamentos!$E$4:$E$1048576,Base!$CB$2)","v":0},{"$f":"SUMIFS(Lançamentos!$G$4:$G$1048576,Lançamentos!$F$4:$F$1048576,Base!$A18,Lançamentos!$D$4:$D$1048576,Base!CH$3,Lançamentos!$E$4:$E$1048576,Base!$CB$2)","v":0},{"$f":"SUMIFS(Lançamentos!$G$4:$G$1048576,Lançamentos!$F$4:$F$1048576,Base!$A18,Lançamentos!$D$4:$D$1048576,Base!CI$3,Lançamentos!$E$4:$E$1048576,Base!$CB$2)","v":0},{"$f":"SUMIFS(Lançamentos!$G$4:$G$1048576,Lançamentos!$F$4:$F$1048576,Base!$A18,Lançamentos!$D$4:$D$1048576,Base!CJ$3,Lançamentos!$E$4:$E$1048576,Base!$CB$2)","v":0},{"$f":"SUMIFS(Lançamentos!$G$4:$G$1048576,Lançamentos!$F$4:$F$1048576,Base!$A18,Lançamentos!$D$4:$D$1048576,Base!CK$3,Lançamentos!$E$4:$E$1048576,Base!$CB$2)","v":0},{"$f":"SUMIFS(Lançamentos!$G$4:$G$1048576,Lançamentos!$F$4:$F$1048576,Base!$A18,Lançamentos!$D$4:$D$1048576,Base!CL$3,Lançamentos!$E$4:$E$1048576,Base!$CB$2)","v":0},{"$f":"SUMIFS(Lançamentos!$G$4:$G$1048576,Lançamentos!$F$4:$F$1048576,Base!$A18,Lançamentos!$D$4:$D$1048576,Base!CM$3,Lançamentos!$E$4:$E$1048576,Base!$CB$2)","v":0},0,{"$f":"SUMIFS(Lançamentos!$G$4:$G$1048576,Lançamentos!$F$4:$F$1048576,Base!$A18,Lançamentos!$D$4:$D$1048576,Base!CO$3,Lançamentos!$E$4:$E$1048576,Base!$CO$2)","v":0},{"$f":"SUMIFS(Lançamentos!$G$4:$G$1048576,Lançamentos!$F$4:$F$1048576,Base!$A18,Lançamentos!$D$4:$D$1048576,Base!CP$3,Lançamentos!$E$4:$E$1048576,Base!$CO$2)","v":0},{"$f":"SUMIFS(Lançamentos!$G$4:$G$1048576,Lançamentos!$F$4:$F$1048576,Base!$A18,Lançamentos!$D$4:$D$1048576,Base!CQ$3,Lançamentos!$E$4:$E$1048576,Base!$CO$2)","v":0},{"$f":"SUMIFS(Lançamentos!$G$4:$G$1048576,Lançamentos!$F$4:$F$1048576,Base!$A18,Lançamentos!$D$4:$D$1048576,Base!CR$3,Lançamentos!$E$4:$E$1048576,Base!$CO$2)","v":0},{"$f":"SUMIFS(Lançamentos!$G$4:$G$1048576,Lançamentos!$F$4:$F$1048576,Base!$A18,Lançamentos!$D$4:$D$1048576,Base!CS$3,Lançamentos!$E$4:$E$1048576,Base!$CO$2)","v":0},{"$f":"SUMIFS(Lançamentos!$G$4:$G$1048576,Lançamentos!$F$4:$F$1048576,Base!$A18,Lançamentos!$D$4:$D$1048576,Base!CT$3,Lançamentos!$E$4:$E$1048576,Base!$CO$2)","v":0},{"$f":"SUMIFS(Lançamentos!$G$4:$G$1048576,Lançamentos!$F$4:$F$1048576,Base!$A18,Lançamentos!$D$4:$D$1048576,Base!CU$3,Lançamentos!$E$4:$E$1048576,Base!$CO$2)","v":0},{"$f":"SUMIFS(Lançamentos!$G$4:$G$1048576,Lançamentos!$F$4:$F$1048576,Base!$A18,Lançamentos!$D$4:$D$1048576,Base!CV$3,Lançamentos!$E$4:$E$1048576,Base!$CO$2)","v":0},{"$f":"SUMIFS(Lançamentos!$G$4:$G$1048576,Lançamentos!$F$4:$F$1048576,Base!$A18,Lançamentos!$D$4:$D$1048576,Base!CW$3,Lançamentos!$E$4:$E$1048576,Base!$CO$2)","v":0},{"$f":"SUMIFS(Lançamentos!$G$4:$G$1048576,Lançamentos!$F$4:$F$1048576,Base!$A18,Lançamentos!$D$4:$D$1048576,Base!CX$3,Lançamentos!$E$4:$E$1048576,Base!$CO$2)","v":0},{"$f":"SUMIFS(Lançamentos!$G$4:$G$1048576,Lançamentos!$F$4:$F$1048576,Base!$A18,Lançamentos!$D$4:$D$1048576,Base!CY$3,Lançamentos!$E$4:$E$1048576,Base!$CO$2)","v":0},{"$f":"SUMIFS(Lançamentos!$G$4:$G$1048576,Lançamentos!$F$4:$F$1048576,Base!$A18,Lançamentos!$D$4:$D$1048576,Base!CZ$3,Lançamentos!$E$4:$E$1048576,Base!$CO$2)","v":0},0,{"$f":"SUMIFS(Lançamentos!$G$4:$G$1048576,Lançamentos!$F$4:$F$1048576,Base!$A18,Lançamentos!$D$4:$D$1048576,Base!DB$3,Lançamentos!$E$4:$E$1048576,Base!$DB$2)","v":0},{"$f":"SUMIFS(Lançamentos!$G$4:$G$1048576,Lançamentos!$F$4:$F$1048576,Base!$A18,Lançamentos!$D$4:$D$1048576,Base!DC$3,Lançamentos!$E$4:$E$1048576,Base!$DB$2)","v":0},{"$f":"SUMIFS(Lançamentos!$G$4:$G$1048576,Lançamentos!$F$4:$F$1048576,Base!$A18,Lançamentos!$D$4:$D$1048576,Base!DD$3,Lançamentos!$E$4:$E$1048576,Base!$DB$2)","v":0},{"$f":"SUMIFS(Lançamentos!$G$4:$G$1048576,Lançamentos!$F$4:$F$1048576,Base!$A18,Lançamentos!$D$4:$D$1048576,Base!DE$3,Lançamentos!$E$4:$E$1048576,Base!$DB$2)","v":0},{"$f":"SUMIFS(Lançamentos!$G$4:$G$1048576,Lançamentos!$F$4:$F$1048576,Base!$A18,Lançamentos!$D$4:$D$1048576,Base!DF$3,Lançamentos!$E$4:$E$1048576,Base!$DB$2)","v":0},{"$f":"SUMIFS(Lançamentos!$G$4:$G$1048576,Lançamentos!$F$4:$F$1048576,Base!$A18,Lançamentos!$D$4:$D$1048576,Base!DG$3,Lançamentos!$E$4:$E$1048576,Base!$DB$2)","v":0},{"$f":"SUMIFS(Lançamentos!$G$4:$G$1048576,Lançamentos!$F$4:$F$1048576,Base!$A18,Lançamentos!$D$4:$D$1048576,Base!DH$3,Lançamentos!$E$4:$E$1048576,Base!$DB$2)","v":0},{"$f":"SUMIFS(Lançamentos!$G$4:$G$1048576,Lançamentos!$F$4:$F$1048576,Base!$A18,Lançamentos!$D$4:$D$1048576,Base!DI$3,Lançamentos!$E$4:$E$1048576,Base!$DB$2)","v":0},{"$f":"SUMIFS(Lançamentos!$G$4:$G$1048576,Lançamentos!$F$4:$F$1048576,Base!$A18,Lançamentos!$D$4:$D$1048576,Base!DJ$3,Lançamentos!$E$4:$E$1048576,Base!$DB$2)","v":0},{"$f":"SUMIFS(Lançamentos!$G$4:$G$1048576,Lançamentos!$F$4:$F$1048576,Base!$A18,Lançamentos!$D$4:$D$1048576,Base!DK$3,Lançamentos!$E$4:$E$1048576,Base!$DB$2)","v":0},{"$f":"SUMIFS(Lançamentos!$G$4:$G$1048576,Lançamentos!$F$4:$F$1048576,Base!$A18,Lançamentos!$D$4:$D$1048576,Base!DL$3,Lançamentos!$E$4:$E$1048576,Base!$DB$2)","v":0},{"$f":"SUMIFS(Lançamentos!$G$4:$G$1048576,Lançamentos!$F$4:$F$1048576,Base!$A18,Lançamentos!$D$4:$D$1048576,Base!DM$3,Lançamentos!$E$4:$E$1048576,Base!$DB$2)","v":0},0,{"$f":"SUMIFS(Lançamentos!$G$4:$G$1048576,Lançamentos!$F$4:$F$1048576,Base!$A18,Lançamentos!$D$4:$D$1048576,Base!DO$3,Lançamentos!$E$4:$E$1048576,Base!$DO$2)","v":0},{"$f":"SUMIFS(Lançamentos!$G$4:$G$1048576,Lançamentos!$F$4:$F$1048576,Base!$A18,Lançamentos!$D$4:$D$1048576,Base!DP$3,Lançamentos!$E$4:$E$1048576,Base!$DO$2)","v":0},{"$f":"SUMIFS(Lançamentos!$G$4:$G$1048576,Lançamentos!$F$4:$F$1048576,Base!$A18,Lançamentos!$D$4:$D$1048576,Base!DQ$3,Lançamentos!$E$4:$E$1048576,Base!$DO$2)","v":0},{"$f":"SUMIFS(Lançamentos!$G$4:$G$1048576,Lançamentos!$F$4:$F$1048576,Base!$A18,Lançamentos!$D$4:$D$1048576,Base!DR$3,Lançamentos!$E$4:$E$1048576,Base!$DO$2)","v":0},{"$f":"SUMIFS(Lançamentos!$G$4:$G$1048576,Lançamentos!$F$4:$F$1048576,Base!$A18,Lançamentos!$D$4:$D$1048576,Base!DS$3,Lançamentos!$E$4:$E$1048576,Base!$DO$2)","v":0},{"$f":"SUMIFS(Lançamentos!$G$4:$G$1048576,Lançamentos!$F$4:$F$1048576,Base!$A18,Lançamentos!$D$4:$D$1048576,Base!DT$3,Lançamentos!$E$4:$E$1048576,Base!$DO$2)","v":0},{"$f":"SUMIFS(Lançamentos!$G$4:$G$1048576,Lançamentos!$F$4:$F$1048576,Base!$A18,Lançamentos!$D$4:$D$1048576,Base!DU$3,Lançamentos!$E$4:$E$1048576,Base!$DO$2)","v":0},{"$f":"SUMIFS(Lançamentos!$G$4:$G$1048576,Lançamentos!$F$4:$F$1048576,Base!$A18,Lançamentos!$D$4:$D$1048576,Base!DV$3,Lançamentos!$E$4:$E$1048576,Base!$DO$2)","v":0},{"$f":"SUMIFS(Lançamentos!$G$4:$G$1048576,Lançamentos!$F$4:$F$1048576,Base!$A18,Lançamentos!$D$4:$D$1048576,Base!DW$3,Lançamentos!$E$4:$E$1048576,Base!$DO$2)","v":0},{"$f":"SUMIFS(Lançamentos!$G$4:$G$1048576,Lançamentos!$F$4:$F$1048576,Base!$A18,Lançamentos!$D$4:$D$1048576,Base!DX$3,Lançamentos!$E$4:$E$1048576,Base!$DO$2)","v":0},{"$f":"SUMIFS(Lançamentos!$G$4:$G$1048576,Lançamentos!$F$4:$F$1048576,Base!$A18,Lançamentos!$D$4:$D$1048576,Base!DY$3,Lançamentos!$E$4:$E$1048576,Base!$DO$2)","v":0},{"$f":"SUMIFS(Lançamentos!$G$4:$G$1048576,Lançamentos!$F$4:$F$1048576,Base!$A18,Lançamentos!$D$4:$D$1048576,Base!DZ$3,Lançamentos!$E$4:$E$1048576,Base!$DO$2)","v":0},0,{"$f":"SUMIFS(Lançamentos!$G$4:$G$1048576,Lançamentos!$F$4:$F$1048576,Base!$A18,Lançamentos!$D$4:$D$1048576,Base!EB$3,Lançamentos!$E$4:$E$1048576,Base!$EB$2)","v":0},{"$f":"SUMIFS(Lançamentos!$G$4:$G$1048576,Lançamentos!$F$4:$F$1048576,Base!$A18,Lançamentos!$D$4:$D$1048576,Base!EC$3,Lançamentos!$E$4:$E$1048576,Base!$EB$2)","v":0},{"$f":"SUMIFS(Lançamentos!$G$4:$G$1048576,Lançamentos!$F$4:$F$1048576,Base!$A18,Lançamentos!$D$4:$D$1048576,Base!ED$3,Lançamentos!$E$4:$E$1048576,Base!$EB$2)","v":0},{"$f":"SUMIFS(Lançamentos!$G$4:$G$1048576,Lançamentos!$F$4:$F$1048576,Base!$A18,Lançamentos!$D$4:$D$1048576,Base!EE$3,Lançamentos!$E$4:$E$1048576,Base!$EB$2)","v":0},{"$f":"SUMIFS(Lançamentos!$G$4:$G$1048576,Lançamentos!$F$4:$F$1048576,Base!$A18,Lançamentos!$D$4:$D$1048576,Base!EF$3,Lançamentos!$E$4:$E$1048576,Base!$EB$2)","v":0},{"$f":"SUMIFS(Lançamentos!$G$4:$G$1048576,Lançamentos!$F$4:$F$1048576,Base!$A18,Lançamentos!$D$4:$D$1048576,Base!EG$3,Lançamentos!$E$4:$E$1048576,Base!$EB$2)","v":0},{"$f":"SUMIFS(Lançamentos!$G$4:$G$1048576,Lançamentos!$F$4:$F$1048576,Base!$A18,Lançamentos!$D$4:$D$1048576,Base!EH$3,Lançamentos!$E$4:$E$1048576,Base!$EB$2)","v":0},{"$f":"SUMIFS(Lançamentos!$G$4:$G$1048576,Lançamentos!$F$4:$F$1048576,Base!$A18,Lançamentos!$D$4:$D$1048576,Base!EI$3,Lançamentos!$E$4:$E$1048576,Base!$EB$2)","v":0},{"$f":"SUMIFS(Lançamentos!$G$4:$G$1048576,Lançamentos!$F$4:$F$1048576,Base!$A18,Lançamentos!$D$4:$D$1048576,Base!EJ$3,Lançamentos!$E$4:$E$1048576,Base!$EB$2)","v":0},{"$f":"SUMIFS(Lançamentos!$G$4:$G$1048576,Lançamentos!$F$4:$F$1048576,Base!$A18,Lançamentos!$D$4:$D$1048576,Base!EK$3,Lançamentos!$E$4:$E$1048576,Base!$EB$2)","v":0},{"$f":"SUMIFS(Lançamentos!$G$4:$G$1048576,Lançamentos!$F$4:$F$1048576,Base!$A18,Lançamentos!$D$4:$D$1048576,Base!EL$3,Lançamentos!$E$4:$E$1048576,Base!$EB$2)","v":0},{"$f":"SUMIFS(Lançamentos!$G$4:$G$1048576,Lançamentos!$F$4:$F$1048576,Base!$A18,Lançamentos!$D$4:$D$1048576,Base!EM$3,Lançamentos!$E$4:$E$1048576,Base!$EB$2)","v":0},0,{"$f":"SUMIFS(Lançamentos!$G$4:$G$1048576,Lançamentos!$F$4:$F$1048576,Base!$A18,Lançamentos!$D$4:$D$1048576,Base!EO$3,Lançamentos!$E$4:$E$1048576,Base!$EO$2)","v":0},{"$f":"SUMIFS(Lançamentos!$G$4:$G$1048576,Lançamentos!$F$4:$F$1048576,Base!$A18,Lançamentos!$D$4:$D$1048576,Base!EP$3,Lançamentos!$E$4:$E$1048576,Base!$EO$2)","v":0},{"$f":"SUMIFS(Lançamentos!$G$4:$G$1048576,Lançamentos!$F$4:$F$1048576,Base!$A18,Lançamentos!$D$4:$D$1048576,Base!EQ$3,Lançamentos!$E$4:$E$1048576,Base!$EO$2)","v":0},{"$f":"SUMIFS(Lançamentos!$G$4:$G$1048576,Lançamentos!$F$4:$F$1048576,Base!$A18,Lançamentos!$D$4:$D$1048576,Base!ER$3,Lançamentos!$E$4:$E$1048576,Base!$EO$2)","v":0},{"$f":"SUMIFS(Lançamentos!$G$4:$G$1048576,Lançamentos!$F$4:$F$1048576,Base!$A18,Lançamentos!$D$4:$D$1048576,Base!ES$3,Lançamentos!$E$4:$E$1048576,Base!$EO$2)","v":0},{"$f":"SUMIFS(Lançamentos!$G$4:$G$1048576,Lançamentos!$F$4:$F$1048576,Base!$A18,Lançamentos!$D$4:$D$1048576,Base!ET$3,Lançamentos!$E$4:$E$1048576,Base!$EO$2)","v":0},{"$f":"SUMIFS(Lançamentos!$G$4:$G$1048576,Lançamentos!$F$4:$F$1048576,Base!$A18,Lançamentos!$D$4:$D$1048576,Base!EU$3,Lançamentos!$E$4:$E$1048576,Base!$EO$2)","v":0},{"$f":"SUMIFS(Lançamentos!$G$4:$G$1048576,Lançamentos!$F$4:$F$1048576,Base!$A18,Lançamentos!$D$4:$D$1048576,Base!EV$3,Lançamentos!$E$4:$E$1048576,Base!$EO$2)","v":0},{"$f":"SUMIFS(Lançamentos!$G$4:$G$1048576,Lançamentos!$F$4:$F$1048576,Base!$A18,Lançamentos!$D$4:$D$1048576,Base!EW$3,Lançamentos!$E$4:$E$1048576,Base!$EO$2)","v":0},{"$f":"SUMIFS(Lançamentos!$G$4:$G$1048576,Lançamentos!$F$4:$F$1048576,Base!$A18,Lançamentos!$D$4:$D$1048576,Base!EX$3,Lançamentos!$E$4:$E$1048576,Base!$EO$2)","v":0},{"$f":"SUMIFS(Lançamentos!$G$4:$G$1048576,Lançamentos!$F$4:$F$1048576,Base!$A18,Lançamentos!$D$4:$D$1048576,Base!EY$3,Lançamentos!$E$4:$E$1048576,Base!$EO$2)","v":0},{"$f":"SUMIFS(Lançamentos!$G$4:$G$1048576,Lançamentos!$F$4:$F$1048576,Base!$A18,Lançamentos!$D$4:$D$1048576,Base!EZ$3,Lançamentos!$E$4:$E$1048576,Base!$EO$2)","v":0},0,{"$f":"SUMIFS(Lançamentos!$G$4:$G$1048576,Lançamentos!$F$4:$F$1048576,Base!$A18,Lançamentos!$D$4:$D$1048576,Base!FB$3,Lançamentos!$E$4:$E$1048576,Base!$FB$2)","v":0},{"$f":"SUMIFS(Lançamentos!$G$4:$G$1048576,Lançamentos!$F$4:$F$1048576,Base!$A18,Lançamentos!$D$4:$D$1048576,Base!FC$3,Lançamentos!$E$4:$E$1048576,Base!$FB$2)","v":0},{"$f":"SUMIFS(Lançamentos!$G$4:$G$1048576,Lançamentos!$F$4:$F$1048576,Base!$A18,Lançamentos!$D$4:$D$1048576,Base!FD$3,Lançamentos!$E$4:$E$1048576,Base!$FB$2)","v":0},{"$f":"SUMIFS(Lançamentos!$G$4:$G$1048576,Lançamentos!$F$4:$F$1048576,Base!$A18,Lançamentos!$D$4:$D$1048576,Base!FE$3,Lançamentos!$E$4:$E$1048576,Base!$FB$2)","v":0},{"$f":"SUMIFS(Lançamentos!$G$4:$G$1048576,Lançamentos!$F$4:$F$1048576,Base!$A18,Lançamentos!$D$4:$D$1048576,Base!FF$3,Lançamentos!$E$4:$E$1048576,Base!$FB$2)","v":0},{"$f":"SUMIFS(Lançamentos!$G$4:$G$1048576,Lançamentos!$F$4:$F$1048576,Base!$A18,Lançamentos!$D$4:$D$1048576,Base!FG$3,Lançamentos!$E$4:$E$1048576,Base!$FB$2)","v":0},{"$f":"SUMIFS(Lançamentos!$G$4:$G$1048576,Lançamentos!$F$4:$F$1048576,Base!$A18,Lançamentos!$D$4:$D$1048576,Base!FH$3,Lançamentos!$E$4:$E$1048576,Base!$FB$2)","v":0},{"$f":"SUMIFS(Lançamentos!$G$4:$G$1048576,Lançamentos!$F$4:$F$1048576,Base!$A18,Lançamentos!$D$4:$D$1048576,Base!FI$3,Lançamentos!$E$4:$E$1048576,Base!$FB$2)","v":0},{"$f":"SUMIFS(Lançamentos!$G$4:$G$1048576,Lançamentos!$F$4:$F$1048576,Base!$A18,Lançamentos!$D$4:$D$1048576,Base!FJ$3,Lançamentos!$E$4:$E$1048576,Base!$FB$2)","v":0},{"$f":"SUMIFS(Lançamentos!$G$4:$G$1048576,Lançamentos!$F$4:$F$1048576,Base!$A18,Lançamentos!$D$4:$D$1048576,Base!FK$3,Lançamentos!$E$4:$E$1048576,Base!$FB$2)","v":0},{"$f":"SUMIFS(Lançamentos!$G$4:$G$1048576,Lançamentos!$F$4:$F$1048576,Base!$A18,Lançamentos!$D$4:$D$1048576,Base!FL$3,Lançamentos!$E$4:$E$1048576,Base!$FB$2)","v":0},{"$f":"SUMIFS(Lançamentos!$G$4:$G$1048576,Lançamentos!$F$4:$F$1048576,Base!$A18,Lançamentos!$D$4:$D$1048576,Base!FM$3,Lançamentos!$E$4:$E$1048576,Base!$FB$2)","v":0},0,{"$f":"SUMIFS(Lançamentos!$G$4:$G$1048576,Lançamentos!$F$4:$F$1048576,Base!$A18,Lançamentos!$D$4:$D$1048576,Base!FO$3,Lançamentos!$E$4:$E$1048576,Base!$FO$2)","v":0},{"$f":"SUMIFS(Lançamentos!$G$4:$G$1048576,Lançamentos!$F$4:$F$1048576,Base!$A18,Lançamentos!$D$4:$D$1048576,Base!FP$3,Lançamentos!$E$4:$E$1048576,Base!$FO$2)","v":0},{"$f":"SUMIFS(Lançamentos!$G$4:$G$1048576,Lançamentos!$F$4:$F$1048576,Base!$A18,Lançamentos!$D$4:$D$1048576,Base!FQ$3,Lançamentos!$E$4:$E$1048576,Base!$FO$2)","v":0},{"$f":"SUMIFS(Lançamentos!$G$4:$G$1048576,Lançamentos!$F$4:$F$1048576,Base!$A18,Lançamentos!$D$4:$D$1048576,Base!FR$3,Lançamentos!$E$4:$E$1048576,Base!$FO$2)","v":0},{"$f":"SUMIFS(Lançamentos!$G$4:$G$1048576,Lançamentos!$F$4:$F$1048576,Base!$A18,Lançamentos!$D$4:$D$1048576,Base!FS$3,Lançamentos!$E$4:$E$1048576,Base!$FO$2)","v":0},{"$f":"SUMIFS(Lançamentos!$G$4:$G$1048576,Lançamentos!$F$4:$F$1048576,Base!$A18,Lançamentos!$D$4:$D$1048576,Base!FT$3,Lançamentos!$E$4:$E$1048576,Base!$FO$2)","v":0},{"$f":"SUMIFS(Lançamentos!$G$4:$G$1048576,Lançamentos!$F$4:$F$1048576,Base!$A18,Lançamentos!$D$4:$D$1048576,Base!FU$3,Lançamentos!$E$4:$E$1048576,Base!$FO$2)","v":0},{"$f":"SUMIFS(Lançamentos!$G$4:$G$1048576,Lançamentos!$F$4:$F$1048576,Base!$A18,Lançamentos!$D$4:$D$1048576,Base!FV$3,Lançamentos!$E$4:$E$1048576,Base!$FO$2)","v":0},{"$f":"SUMIFS(Lançamentos!$G$4:$G$1048576,Lançamentos!$F$4:$F$1048576,Base!$A18,Lançamentos!$D$4:$D$1048576,Base!FW$3,Lançamentos!$E$4:$E$1048576,Base!$FO$2)","v":0},{"$f":"SUMIFS(Lançamentos!$G$4:$G$1048576,Lançamentos!$F$4:$F$1048576,Base!$A18,Lançamentos!$D$4:$D$1048576,Base!FX$3,Lançamentos!$E$4:$E$1048576,Base!$FO$2)","v":0},{"$f":"SUMIFS(Lançamentos!$G$4:$G$1048576,Lançamentos!$F$4:$F$1048576,Base!$A18,Lançamentos!$D$4:$D$1048576,Base!FY$3,Lançamentos!$E$4:$E$1048576,Base!$FO$2)","v":0},{"$f":"SUMIFS(Lançamentos!$G$4:$G$1048576,Lançamentos!$F$4:$F$1048576,Base!$A18,Lançamentos!$D$4:$D$1048576,Base!FZ$3,Lançamentos!$E$4:$E$1048576,Base!$FO$2)","v":0},0,{"$f":"SUMIFS(Lançamentos!$G$4:$G$1048576,Lançamentos!$F$4:$F$1048576,Base!$A18,Lançamentos!$D$4:$D$1048576,Base!GB$3,Lançamentos!$E$4:$E$1048576,Base!$GB$2)","v":0},{"$f":"SUMIFS(Lançamentos!$G$4:$G$1048576,Lançamentos!$F$4:$F$1048576,Base!$A18,Lançamentos!$D$4:$D$1048576,Base!GC$3,Lançamentos!$E$4:$E$1048576,Base!$GB$2)","v":0},{"$f":"SUMIFS(Lançamentos!$G$4:$G$1048576,Lançamentos!$F$4:$F$1048576,Base!$A18,Lançamentos!$D$4:$D$1048576,Base!GD$3,Lançamentos!$E$4:$E$1048576,Base!$GB$2)","v":0},{"$f":"SUMIFS(Lançamentos!$G$4:$G$1048576,Lançamentos!$F$4:$F$1048576,Base!$A18,Lançamentos!$D$4:$D$1048576,Base!GE$3,Lançamentos!$E$4:$E$1048576,Base!$GB$2)","v":0},{"$f":"SUMIFS(Lançamentos!$G$4:$G$1048576,Lançamentos!$F$4:$F$1048576,Base!$A18,Lançamentos!$D$4:$D$1048576,Base!GF$3,Lançamentos!$E$4:$E$1048576,Base!$GB$2)","v":0},{"$f":"SUMIFS(Lançamentos!$G$4:$G$1048576,Lançamentos!$F$4:$F$1048576,Base!$A18,Lançamentos!$D$4:$D$1048576,Base!GG$3,Lançamentos!$E$4:$E$1048576,Base!$GB$2)","v":0},{"$f":"SUMIFS(Lançamentos!$G$4:$G$1048576,Lançamentos!$F$4:$F$1048576,Base!$A18,Lançamentos!$D$4:$D$1048576,Base!GH$3,Lançamentos!$E$4:$E$1048576,Base!$GB$2)","v":0},{"$f":"SUMIFS(Lançamentos!$G$4:$G$1048576,Lançamentos!$F$4:$F$1048576,Base!$A18,Lançamentos!$D$4:$D$1048576,Base!GI$3,Lançamentos!$E$4:$E$1048576,Base!$GB$2)","v":0},{"$f":"SUMIFS(Lançamentos!$G$4:$G$1048576,Lançamentos!$F$4:$F$1048576,Base!$A18,Lançamentos!$D$4:$D$1048576,Base!GJ$3,Lançamentos!$E$4:$E$1048576,Base!$GB$2)","v":0},{"$f":"SUMIFS(Lançamentos!$G$4:$G$1048576,Lançamentos!$F$4:$F$1048576,Base!$A18,Lançamentos!$D$4:$D$1048576,Base!GK$3,Lançamentos!$E$4:$E$1048576,Base!$GB$2)","v":0},{"$f":"SUMIFS(Lançamentos!$G$4:$G$1048576,Lançamentos!$F$4:$F$1048576,Base!$A18,Lançamentos!$D$4:$D$1048576,Base!GL$3,Lançamentos!$E$4:$E$1048576,Base!$GB$2)","v":0},{"$f":"SUMIFS(Lançamentos!$G$4:$G$1048576,Lançamentos!$F$4:$F$1048576,Base!$A18,Lançamentos!$D$4:$D$1048576,Base!GM$3,Lançamentos!$E$4:$E$1048576,Base!$GB$2)","v":0},0,null,2031]
[{"$f":"IF(Lançamentos!A16=\"\",\"\",Lançamentos!A16)","v":"Saque"},{"$f":"SUMIFS(Lançamentos!$G$4:$G$1048576,Lançamentos!$F$4:$F$1048576,Base!$A19,Lançamentos!$D$4:$D$1048576,Base!B$3,Lançamentos!$E$4:$E$1048576,Base!$B$2)","v":0},{"$f":"SUMIFS(Lançamentos!$G$4:$G$1048576,Lançamentos!$F$4:$F$1048576,Base!$A19,Lançamentos!$D$4:$D$1048576,Base!C$3,Lançamentos!$E$4:$E$1048576,Base!$B$2)","v":0},{"$f":"SUMIFS(Lançamentos!$G$4:$G$1048576,Lançamentos!$F$4:$F$1048576,Base!$A19,Lançamentos!$D$4:$D$1048576,Base!D$3,Lançamentos!$E$4:$E$1048576,Base!$B$2)","v":0},{"$f":"SUMIFS(Lançamentos!$G$4:$G$1048576,Lançamentos!$F$4:$F$1048576,Base!$A19,Lançamentos!$D$4:$D$1048576,Base!E$3,Lançamentos!$E$4:$E$1048576,Base!$B$2)","v":0},{"$f":"SUMIFS(Lançamentos!$G$4:$G$1048576,Lançamentos!$F$4:$F$1048576,Base!$A19,Lançamentos!$D$4:$D$1048576,Base!F$3,Lançamentos!$E$4:$E$1048576,Base!$B$2)","v":0},{"$f":"SUMIFS(Lançamentos!$G$4:$G$1048576,Lançamentos!$F$4:$F$1048576,Base!$A19,Lançamentos!$D$4:$D$1048576,Base!G$3,Lançamentos!$E$4:$E$1048576,Base!$B$2)","v":0},{"$f":"SUMIFS(Lançamentos!$G$4:$G$1048576,Lançamentos!$F$4:$F$1048576,Base!$A19,Lançamentos!$D$4:$D$1048576,Base!H$3,Lançamentos!$E$4:$E$1048576,Base!$B$2)","v":0},{"$f":"SUMIFS(Lançamentos!$G$4:$G$1048576,Lançamentos!$F$4:$F$1048576,Base!$A19,Lançamentos!$D$4:$D$1048576,Base!I$3,Lançamentos!$E$4:$E$1048576,Base!$B$2)","v":0},{"$f":"SUMIFS(Lançamentos!$G$4:$G$1048576,Lançamentos!$F$4:$F$1048576,Base!$A19,Lançamentos!$D$4:$D$1048576,Base!J$3,Lançamentos!$E$4:$E$1048576,Base!$B$2)","v":0},{"$f":"SUMIFS(Lançamentos!$G$4:$G$1048576,Lançamentos!$F$4:$F$1048576,Base!$A19,Lançamentos!$D$4:$D$1048576,Base!K$3,Lançamentos!$E$4:$E$1048576,Base!$B$2)","v":0},{"$f":"SUMIFS(Lançamentos!$G$4:$G$1048576,Lançamentos!$F$4:$F$1048576,Base!$A19,Lançamentos!$D$4:$D$1048576,Base!L$3,Lançamentos!$E$4:$E$1048576,Base!$B$2)","v":0},{"$f":"SUMIFS(Lançamentos!$G$4:$G$1048576,Lançamentos!$F$4:$F$1048576,Base!$A19,Lançamentos!$D$4:$D$1048576,Base!M$3,Lançamentos!$E$4:$E$1048576,Base!$B$2)","v":0},0,{"$f":"SUMIFS(Lançamentos!$G$4:$G$1048576,Lançamentos!$F$4:$F$1048576,Base!$A19,Lançamentos!$D$4:$D$1048576,Base!O$3,Lançamentos!$E$4:$E$1048576,Base!$O$2)","v":0},{"$f":"SUMIFS(Lançamentos!$G$4:$G$1048576,Lançamentos!$F$4:$F$1048576,Base!$A19,Lançamentos!$D$4:$D$1048576,Base!P$3,Lançamentos!$E$4:$E$1048576,Base!$O$2)","v":0},{"$f":"SUMIFS(Lançamentos!$G$4:$G$1048576,Lançamentos!$F$4:$F$1048576,Base!$A19,Lançamentos!$D$4:$D$1048576,Base!Q$3,Lançamentos!$E$4:$E$1048576,Base!$O$2)","v":0},{"$f":"SUMIFS(Lançamentos!$G$4:$G$1048576,Lançamentos!$F$4:$F$1048576,Base!$A19,Lançamentos!$D$4:$D$1048576,Base!R$3,Lançamentos!$E$4:$E$1048576,Base!$O$2)","v":0},{"$f":"SUMIFS(Lançamentos!$G$4:$G$1048576,Lançamentos!$F$4:$F$1048576,Base!$A19,Lançamentos!$D$4:$D$1048576,Base!S$3,Lançamentos!$E$4:$E$1048576,Base!$O$2)","v":0},{"$f":"SUMIFS(Lançamentos!$G$4:$G$1048576,Lançamentos!$F$4:$F$1048576,Base!$A19,Lançamentos!$D$4:$D$1048576,Base!T$3,Lançamentos!$E$4:$E$1048576,Base!$O$2)","v":0},{"$f":"SUMIFS(Lançamentos!$G$4:$G$1048576,Lançamentos!$F$4:$F$1048576,Base!$A19,Lançamentos!$D$4:$D$1048576,Base!U$3,Lançamentos!$E$4:$E$1048576,Base!$O$2)","v":0},{"$f":"SUMIFS(Lançamentos!$G$4:$G$1048576,Lançamentos!$F$4:$F$1048576,Base!$A19,Lançamentos!$D$4:$D$1048576,Base!V$3,Lançamentos!$E$4:$E$1048576,Base!$O$2)","v":0},{"$f":"SUMIFS(Lançamentos!$G$4:$G$1048576,Lançamentos!$F$4:$F$1048576,Base!$A19,Lançamentos!$D$4:$D$1048576,Base!W$3,Lançamentos!$E$4:$E$1048576,Base!$O$2)","v":0},{"$f":"SUMIFS(Lançamentos!$G$4:$G$1048576,Lançamentos!$F$4:$F$1048576,Base!$A19,Lançamentos!$D$4:$D$1048576,Base!X$3,Lançamentos!$E$4:$E$1048576,Base!$O$2)","v":0},{"$f":"SUMIFS(Lançamentos!$G$4:$G$1048576,Lançamentos!$F$4:$F$1048576,Base!$A19,Lançamentos!$D$4:$D$1048576,Base!Y$3,Lançamentos!$E$4:$E$1048576,Base!$O$2)","v":0},{"$f":"SUMIFS(Lançamentos!$G$4:$G$1048576,Lançamentos!$F$4:$F$1048576,Base!$A19,Lançamentos!$D$4:$D$1048576,Base!Z$3,Lançamentos!$E$4:$E$1048576,Base!$O$2)","v":0},0,{"$f":"SUMIFS(Lançamentos!$G$4:$G$1048576,Lançamentos!$F$4:$F$1048576,Base!$A19,Lançamentos!$D$4:$D$1048576,Base!AB$3,Lançamentos!$E$4:$E$1048576,Base!$AB$2)","v":0},{"$f":"SUMIFS(Lançamentos!$G$4:$G$1048576,Lançamentos!$F$4:$F$1048576,Base!$A19,Lançamentos!$D$4:$D$1048576,Base!AC$3,Lançamentos!$E$4:$E$1048576,Base!$AB$2)","v":0},{"$f":"SUMIFS(Lançamentos!$G$4:$G$1048576,Lançamentos!$F$4:$F$1048576,Base!$A19,Lançamentos!$D$4:$D$1048576,Base!AD$3,Lançamentos!$E$4:$E$1048576,Base!$AB$2)","v":0},{"$f":"SUMIFS(Lançamentos!$G$4:$G$1048576,Lançamentos!$F$4:$F$1048576,Base!$A19,Lançamentos!$D$4:$D$1048576,Base!AE$3,Lançamentos!$E$4:$E$1048576,Base!$AB$2)","v":0},{"$f":"SUMIFS(Lançamentos!$G$4:$G$1048576,Lançamentos!$F$4:$F$1048576,Base!$A19,Lançamentos!$D$4:$D$1048576,Base!AF$3,Lançamentos!$E$4:$E$1048576,Base!$AB$2)","v":0},{"$f":"SUMIFS(Lançamentos!$G$4:$G$1048576,Lançamentos!$F$4:$F$1048576,Base!$A19,Lançamentos!$D$4:$D$1048576,Base!AG$3,Lançamentos!$E$4:$E$1048576,Base!$AB$2)","v":0},{"$f":"SUMIFS(Lançamentos!$G$4:$G$1048576,Lançamentos!$F$4:$F$1048576,Base!$A19,Lançamentos!$D$4:$D$1048576,Base!AH$3,Lançamentos!$E$4:$E$1048576,Base!$AB$2)","v":0},{"$f":"SUMIFS(Lançamentos!$G$4:$G$1048576,Lançamentos!$F$4:$F$1048576,Base!$A19,Lançamentos!$D$4:$D$1048576,Base!AI$3,Lançamentos!$E$4:$E$1048576,Base!$AB$2)","v":0},{"$f":"SUMIFS(Lançamentos!$G$4:$G$1048576,Lançamentos!$F$4:$F$1048576,Base!$A19,Lançamentos!$D$4:$D$1048576,Base!AJ$3,Lançamentos!$E$4:$E$1048576,Base!$AB$2)","v":0},{"$f":"SUMIFS(Lançamentos!$G$4:$G$1048576,Lançamentos!$F$4:$F$1048576,Base!$A19,Lançamentos!$D$4:$D$1048576,Base!AK$3,Lançamentos!$E$4:$E$1048576,Base!$AB$2)","v":0},{"$f":"SUMIFS(Lançamentos!$G$4:$G$1048576,Lançamentos!$F$4:$F$1048576,Base!$A19,Lançamentos!$D$4:$D$1048576,Base!AL$3,Lançamentos!$E$4:$E$1048576,Base!$AB$2)","v":0},{"$f":"SUMIFS(Lançamentos!$G$4:$G$1048576,Lançamentos!$F$4:$F$1048576,Base!$A19,Lançamentos!$D$4:$D$1048576,Base!AM$3,Lançamentos!$E$4:$E$1048576,Base!$AB$2)","v":0},0,{"$f":"SUMIFS(Lançamentos!$G$4:$G$1048576,Lançamentos!$F$4:$F$1048576,Base!$A19,Lançamentos!$D$4:$D$1048576,Base!AO$3,Lançamentos!$E$4:$E$1048576,Base!$AO$2)","v":0},{"$f":"SUMIFS(Lançamentos!$G$4:$G$1048576,Lançamentos!$F$4:$F$1048576,Base!$A19,Lançamentos!$D$4:$D$1048576,Base!AP$3,Lançamentos!$E$4:$E$1048576,Base!$AO$2)","v":0},{"$f":"SUMIFS(Lançamentos!$G$4:$G$1048576,Lançamentos!$F$4:$F$1048576,Base!$A19,Lançamentos!$D$4:$D$1048576,Base!AQ$3,Lançamentos!$E$4:$E$1048576,Base!$AO$2)","v":0},{"$f":"SUMIFS(Lançamentos!$G$4:$G$1048576,Lançamentos!$F$4:$F$1048576,Base!$A19,Lançamentos!$D$4:$D$1048576,Base!AR$3,Lançamentos!$E$4:$E$1048576,Base!$AO$2)","v":0},{"$f":"SUMIFS(Lançamentos!$G$4:$G$1048576,Lançamentos!$F$4:$F$1048576,Base!$A19,Lançamentos!$D$4:$D$1048576,Base!AS$3,Lançamentos!$E$4:$E$1048576,Base!$AO$2)","v":0},{"$f":"SUMIFS(Lançamentos!$G$4:$G$1048576,Lançamentos!$F$4:$F$1048576,Base!$A19,Lançamentos!$D$4:$D$1048576,Base!AT$3,Lançamentos!$E$4:$E$1048576,Base!$AO$2)","v":0},{"$f":"SUMIFS(Lançamentos!$G$4:$G$1048576,Lançamentos!$F$4:$F$1048576,Base!$A19,Lançamentos!$D$4:$D$1048576,Base!AU$3,Lançamentos!$E$4:$E$1048576,Base!$AO$2)","v":0},{"$f":"SUMIFS(Lançamentos!$G$4:$G$1048576,Lançamentos!$F$4:$F$1048576,Base!$A19,Lançamentos!$D$4:$D$1048576,Base!AV$3,Lançamentos!$E$4:$E$1048576,Base!$AO$2)","v":0},{"$f":"SUMIFS(Lançamentos!$G$4:$G$1048576,Lançamentos!$F$4:$F$1048576,Base!$A19,Lançamentos!$D$4:$D$1048576,Base!AW$3,Lançamentos!$E$4:$E$1048576,Base!$AO$2)","v":0},{"$f":"SUMIFS(Lançamentos!$G$4:$G$1048576,Lançamentos!$F$4:$F$1048576,Base!$A19,Lançamentos!$D$4:$D$1048576,Base!AX$3,Lançamentos!$E$4:$E$1048576,Base!$AO$2)","v":0},{"$f":"SUMIFS(Lançamentos!$G$4:$G$1048576,Lançamentos!$F$4:$F$1048576,Base!$A19,Lançamentos!$D$4:$D$1048576,Base!AY$3,Lançamentos!$E$4:$E$1048576,Base!$AO$2)","v":0},{"$f":"SUMIFS(Lançamentos!$G$4:$G$1048576,Lançamentos!$F$4:$F$1048576,Base!$A19,Lançamentos!$D$4:$D$1048576,Base!AZ$3,Lançamentos!$E$4:$E$1048576,Base!$AO$2)","v":0},0,{"$f":"SUMIFS(Lançamentos!$G$4:$G$1048576,Lançamentos!$F$4:$F$1048576,Base!$A19,Lançamentos!$D$4:$D$1048576,Base!BB$3,Lançamentos!$E$4:$E$1048576,Base!$BB$2)","v":0},{"$f":"SUMIFS(Lançamentos!$G$4:$G$1048576,Lançamentos!$F$4:$F$1048576,Base!$A19,Lançamentos!$D$4:$D$1048576,Base!BC$3,Lançamentos!$E$4:$E$1048576,Base!$BB$2)","v":0},{"$f":"SUMIFS(Lançamentos!$G$4:$G$1048576,Lançamentos!$F$4:$F$1048576,Base!$A19,Lançamentos!$D$4:$D$1048576,Base!BD$3,Lançamentos!$E$4:$E$1048576,Base!$BB$2)","v":0},{"$f":"SUMIFS(Lançamentos!$G$4:$G$1048576,Lançamentos!$F$4:$F$1048576,Base!$A19,Lançamentos!$D$4:$D$1048576,Base!BE$3,Lançamentos!$E$4:$E$1048576,Base!$BB$2)","v":0},{"$f":"SUMIFS(Lançamentos!$G$4:$G$1048576,Lançamentos!$F$4:$F$1048576,Base!$A19,Lançamentos!$D$4:$D$1048576,Base!BF$3,Lançamentos!$E$4:$E$1048576,Base!$BB$2)","v":0},{"$f":"SUMIFS(Lançamentos!$G$4:$G$1048576,Lançamentos!$F$4:$F$1048576,Base!$A19,Lançamentos!$D$4:$D$1048576,Base!BG$3,Lançamentos!$E$4:$E$1048576,Base!$BB$2)","v":0},{"$f":"SUMIFS(Lançamentos!$G$4:$G$1048576,Lançamentos!$F$4:$F$1048576,Base!$A19,Lançamentos!$D$4:$D$1048576,Base!BH$3,Lançamentos!$E$4:$E$1048576,Base!$BB$2)","v":0},{"$f":"SUMIFS(Lançamentos!$G$4:$G$1048576,Lançamentos!$F$4:$F$1048576,Base!$A19,Lançamentos!$D$4:$D$1048576,Base!BI$3,Lançamentos!$E$4:$E$1048576,Base!$BB$2)","v":0},{"$f":"SUMIFS(Lançamentos!$G$4:$G$1048576,Lançamentos!$F$4:$F$1048576,Base!$A19,Lançamentos!$D$4:$D$1048576,Base!BJ$3,Lançamentos!$E$4:$E$1048576,Base!$BB$2)","v":0},{"$f":"SUMIFS(Lançamentos!$G$4:$G$1048576,Lançamentos!$F$4:$F$1048576,Base!$A19,Lançamentos!$D$4:$D$1048576,Base!BK$3,Lançamentos!$E$4:$E$1048576,Base!$BB$2)","v":0},{"$f":"SUMIFS(Lançamentos!$G$4:$G$1048576,Lançamentos!$F$4:$F$1048576,Base!$A19,Lançamentos!$D$4:$D$1048576,Base!BL$3,Lançamentos!$E$4:$E$1048576,Base!$BB$2)","v":0},{"$f":"SUMIFS(Lançamentos!$G$4:$G$1048576,Lançamentos!$F$4:$F$1048576,Base!$A19,Lançamentos!$D$4:$D$1048576,Base!BM$3,Lançamentos!$E$4:$E$1048576,Base!$BB$2)","v":0},0,{"$f":"SUMIFS(Lançamentos!$G$4:$G$1048576,Lançamentos!$F$4:$F$1048576,Base!$A19,Lançamentos!$D$4:$D$1048576,Base!BO$3,Lançamentos!$E$4:$E$1048576,Base!$BO$2)","v":0},{"$f":"SUMIFS(Lançamentos!$G$4:$G$1048576,Lançamentos!$F$4:$F$1048576,Base!$A19,Lançamentos!$D$4:$D$1048576,Base!BP$3,Lançamentos!$E$4:$E$1048576,Base!$BO$2)","v":0},{"$f":"SUMIFS(Lançamentos!$G$4:$G$1048576,Lançamentos!$F$4:$F$1048576,Base!$A19,Lançamentos!$D$4:$D$1048576,Base!BQ$3,Lançamentos!$E$4:$E$1048576,Base!$BO$2)","v":0},{"$f":"SUMIFS(Lançamentos!$G$4:$G$1048576,Lançamentos!$F$4:$F$1048576,Base!$A19,Lançamentos!$D$4:$D$1048576,Base!BR$3,Lançamentos!$E$4:$E$1048576,Base!$BO$2)","v":0},{"$f":"SUMIFS(Lançamentos!$G$4:$G$1048576,Lançamentos!$F$4:$F$1048576,Base!$A19,Lançamentos!$D$4:$D$1048576,Base!BS$3,Lançamentos!$E$4:$E$1048576,Base!$BO$2)","v":0},{"$f":"SUMIFS(Lançamentos!$G$4:$G$1048576,Lançamentos!$F$4:$F$1048576,Base!$A19,Lançamentos!$D$4:$D$1048576,Base!BT$3,Lançamentos!$E$4:$E$1048576,Base!$BO$2)","v":0},{"$f":"SUMIFS(Lançamentos!$G$4:$G$1048576,Lançamentos!$F$4:$F$1048576,Base!$A19,Lançamentos!$D$4:$D$1048576,Base!BU$3,Lançamentos!$E$4:$E$1048576,Base!$BO$2)","v":0},{"$f":"SUMIFS(Lançamentos!$G$4:$G$1048576,Lançamentos!$F$4:$F$1048576,Base!$A19,Lançamentos!$D$4:$D$1048576,Base!BV$3,Lançamentos!$E$4:$E$1048576,Base!$BO$2)","v":0},{"$f":"SUMIFS(Lançamentos!$G$4:$G$1048576,Lançamentos!$F$4:$F$1048576,Base!$A19,Lançamentos!$D$4:$D$1048576,Base!BW$3,Lançamentos!$E$4:$E$1048576,Base!$BO$2)","v":0},{"$f":"SUMIFS(Lançamentos!$G$4:$G$1048576,Lançamentos!$F$4:$F$1048576,Base!$A19,Lançamentos!$D$4:$D$1048576,Base!BX$3,Lançamentos!$E$4:$E$1048576,Base!$BO$2)","v":0},{"$f":"SUMIFS(Lançamentos!$G$4:$G$1048576,Lançamentos!$F$4:$F$1048576,Base!$A19,Lançamentos!$D$4:$D$1048576,Base!BY$3,Lançamentos!$E$4:$E$1048576,Base!$BO$2)","v":0},{"$f":"SUMIFS(Lançamentos!$G$4:$G$1048576,Lançamentos!$F$4:$F$1048576,Base!$A19,Lançamentos!$D$4:$D$1048576,Base!BZ$3,Lançamentos!$E$4:$E$1048576,Base!$BO$2)","v":0},0,{"$f":"SUMIFS(Lançamentos!$G$4:$G$1048576,Lançamentos!$F$4:$F$1048576,Base!$A19,Lançamentos!$D$4:$D$1048576,Base!CB$3,Lançamentos!$E$4:$E$1048576,Base!$CB$2)","v":0},{"$f":"SUMIFS(Lançamentos!$G$4:$G$1048576,Lançamentos!$F$4:$F$1048576,Base!$A19,Lançamentos!$D$4:$D$1048576,Base!CC$3,Lançamentos!$E$4:$E$1048576,Base!$CB$2)","v":0},{"$f":"SUMIFS(Lançamentos!$G$4:$G$1048576,Lançamentos!$F$4:$F$1048576,Base!$A19,Lançamentos!$D$4:$D$1048576,Base!CD$3,Lançamentos!$E$4:$E$1048576,Base!$CB$2)","v":0},{"$f":"SUMIFS(Lançamentos!$G$4:$G$1048576,Lançamentos!$F$4:$F$1048576,Base!$A19,Lançamentos!$D$4:$D$1048576,Base!CE$3,Lançamentos!$E$4:$E$1048576,Base!$CB$2)","v":0},{"$f":"SUMIFS(Lançamentos!$G$4:$G$1048576,Lançamentos!$F$4:$F$1048576,Base!$A19,Lançamentos!$D$4:$D$1048576,Base!CF$3,Lançamentos!$E$4:$E$1048576,Base!$CB$2)","v":0},{"$f":"SUMIFS(Lançamentos!$G$4:$G$1048576,Lançamentos!$F$4:$F$1048576,Base!$A19,Lançamentos!$D$4:$D$1048576,Base!CG$3,Lançamentos!$E$4:$E$1048576,Base!$CB$2)","v":0},{"$f":"SUMIFS(Lançamentos!$G$4:$G$1048576,Lançamentos!$F$4:$F$1048576,Base!$A19,Lançamentos!$D$4:$D$1048576,Base!CH$3,Lançamentos!$E$4:$E$1048576,Base!$CB$2)","v":0},{"$f":"SUMIFS(Lançamentos!$G$4:$G$1048576,Lançamentos!$F$4:$F$1048576,Base!$A19,Lançamentos!$D$4:$D$1048576,Base!CI$3,Lançamentos!$E$4:$E$1048576,Base!$CB$2)","v":0},{"$f":"SUMIFS(Lançamentos!$G$4:$G$1048576,Lançamentos!$F$4:$F$1048576,Base!$A19,Lançamentos!$D$4:$D$1048576,Base!CJ$3,Lançamentos!$E$4:$E$1048576,Base!$CB$2)","v":0},{"$f":"SUMIFS(Lançamentos!$G$4:$G$1048576,Lançamentos!$F$4:$F$1048576,Base!$A19,Lançamentos!$D$4:$D$1048576,Base!CK$3,Lançamentos!$E$4:$E$1048576,Base!$CB$2)","v":0},{"$f":"SUMIFS(Lançamentos!$G$4:$G$1048576,Lançamentos!$F$4:$F$1048576,Base!$A19,Lançamentos!$D$4:$D$1048576,Base!CL$3,Lançamentos!$E$4:$E$1048576,Base!$CB$2)","v":0},{"$f":"SUMIFS(Lançamentos!$G$4:$G$1048576,Lançamentos!$F$4:$F$1048576,Base!$A19,Lançamentos!$D$4:$D$1048576,Base!CM$3,Lançamentos!$E$4:$E$1048576,Base!$CB$2)","v":0},0,{"$f":"SUMIFS(Lançamentos!$G$4:$G$1048576,Lançamentos!$F$4:$F$1048576,Base!$A19,Lançamentos!$D$4:$D$1048576,Base!CO$3,Lançamentos!$E$4:$E$1048576,Base!$CO$2)","v":0},{"$f":"SUMIFS(Lançamentos!$G$4:$G$1048576,Lançamentos!$F$4:$F$1048576,Base!$A19,Lançamentos!$D$4:$D$1048576,Base!CP$3,Lançamentos!$E$4:$E$1048576,Base!$CO$2)","v":0},{"$f":"SUMIFS(Lançamentos!$G$4:$G$1048576,Lançamentos!$F$4:$F$1048576,Base!$A19,Lançamentos!$D$4:$D$1048576,Base!CQ$3,Lançamentos!$E$4:$E$1048576,Base!$CO$2)","v":0},{"$f":"SUMIFS(Lançamentos!$G$4:$G$1048576,Lançamentos!$F$4:$F$1048576,Base!$A19,Lançamentos!$D$4:$D$1048576,Base!CR$3,Lançamentos!$E$4:$E$1048576,Base!$CO$2)","v":0},{"$f":"SUMIFS(Lançamentos!$G$4:$G$1048576,Lançamentos!$F$4:$F$1048576,Base!$A19,Lançamentos!$D$4:$D$1048576,Base!CS$3,Lançamentos!$E$4:$E$1048576,Base!$CO$2)","v":0},{"$f":"SUMIFS(Lançamentos!$G$4:$G$1048576,Lançamentos!$F$4:$F$1048576,Base!$A19,Lançamentos!$D$4:$D$1048576,Base!CT$3,Lançamentos!$E$4:$E$1048576,Base!$CO$2)","v":0},{"$f":"SUMIFS(Lançamentos!$G$4:$G$1048576,Lançamentos!$F$4:$F$1048576,Base!$A19,Lançamentos!$D$4:$D$1048576,Base!CU$3,Lançamentos!$E$4:$E$1048576,Base!$CO$2)","v":0},{"$f":"SUMIFS(Lançamentos!$G$4:$G$1048576,Lançamentos!$F$4:$F$1048576,Base!$A19,Lançamentos!$D$4:$D$1048576,Base!CV$3,Lançamentos!$E$4:$E$1048576,Base!$CO$2)","v":0},{"$f":"SUMIFS(Lançamentos!$G$4:$G$1048576,Lançamentos!$F$4:$F$1048576,Base!$A19,Lançamentos!$D$4:$D$1048576,Base!CW$3,Lançamentos!$E$4:$E$1048576,Base!$CO$2)","v":0},{"$f":"SUMIFS(Lançamentos!$G$4:$G$1048576,Lançamentos!$F$4:$F$1048576,Base!$A19,Lançamentos!$D$4:$D$1048576,Base!CX$3,Lançamentos!$E$4:$E$1048576,Base!$CO$2)","v":0},{"$f":"SUMIFS(Lançamentos!$G$4:$G$1048576,Lançamentos!$F$4:$F$1048576,Base!$A19,Lançamentos!$D$4:$D$1048576,Base!CY$3,Lançamentos!$E$4:$E$1048576,Base!$CO$2)","v":0},{"$f":"SUMIFS(Lançamentos!$G$4:$G$1048576,Lançamentos!$F$4:$F$1048576,Base!$A19,Lançamentos!$D$4:$D$1048576,Base!CZ$3,Lançamentos!$E$4:$E$1048576,Base!$CO$2)","v":0},0,{"$f":"SUMIFS(Lançamentos!$G$4:$G$1048576,Lançamentos!$F$4:$F$1048576,Base!$A19,Lançamentos!$D$4:$D$1048576,Base!DB$3,Lançamentos!$E$4:$E$1048576,Base!$DB$2)","v":0},{"$f":"SUMIFS(Lançamentos!$G$4:$G$1048576,Lançamentos!$F$4:$F$1048576,Base!$A19,Lançamentos!$D$4:$D$1048576,Base!DC$3,Lançamentos!$E$4:$E$1048576,Base!$DB$2)","v":0},{"$f":"SUMIFS(Lançamentos!$G$4:$G$1048576,Lançamentos!$F$4:$F$1048576,Base!$A19,Lançamentos!$D$4:$D$1048576,Base!DD$3,Lançamentos!$E$4:$E$1048576,Base!$DB$2)","v":0},{"$f":"SUMIFS(Lançamentos!$G$4:$G$1048576,Lançamentos!$F$4:$F$1048576,Base!$A19,Lançamentos!$D$4:$D$1048576,Base!DE$3,Lançamentos!$E$4:$E$1048576,Base!$DB$2)","v":0},{"$f":"SUMIFS(Lançamentos!$G$4:$G$1048576,Lançamentos!$F$4:$F$1048576,Base!$A19,Lançamentos!$D$4:$D$1048576,Base!DF$3,Lançamentos!$E$4:$E$1048576,Base!$DB$2)","v":0},{"$f":"SUMIFS(Lançamentos!$G$4:$G$1048576,Lançamentos!$F$4:$F$1048576,Base!$A19,Lançamentos!$D$4:$D$1048576,Base!DG$3,Lançamentos!$E$4:$E$1048576,Base!$DB$2)","v":0},{"$f":"SUMIFS(Lançamentos!$G$4:$G$1048576,Lançamentos!$F$4:$F$1048576,Base!$A19,Lançamentos!$D$4:$D$1048576,Base!DH$3,Lançamentos!$E$4:$E$1048576,Base!$DB$2)","v":0},{"$f":"SUMIFS(Lançamentos!$G$4:$G$1048576,Lançamentos!$F$4:$F$1048576,Base!$A19,Lançamentos!$D$4:$D$1048576,Base!DI$3,Lançamentos!$E$4:$E$1048576,Base!$DB$2)","v":0},{"$f":"SUMIFS(Lançamentos!$G$4:$G$1048576,Lançamentos!$F$4:$F$1048576,Base!$A19,Lançamentos!$D$4:$D$1048576,Base!DJ$3,Lançamentos!$E$4:$E$1048576,Base!$DB$2)","v":0},{"$f":"SUMIFS(Lançamentos!$G$4:$G$1048576,Lançamentos!$F$4:$F$1048576,Base!$A19,Lançamentos!$D$4:$D$1048576,Base!DK$3,Lançamentos!$E$4:$E$1048576,Base!$DB$2)","v":0},{"$f":"SUMIFS(Lançamentos!$G$4:$G$1048576,Lançamentos!$F$4:$F$1048576,Base!$A19,Lançamentos!$D$4:$D$1048576,Base!DL$3,Lançamentos!$E$4:$E$1048576,Base!$DB$2)","v":0},{"$f":"SUMIFS(Lançamentos!$G$4:$G$1048576,Lançamentos!$F$4:$F$1048576,Base!$A19,Lançamentos!$D$4:$D$1048576,Base!DM$3,Lançamentos!$E$4:$E$1048576,Base!$DB$2)","v":0},0,{"$f":"SUMIFS(Lançamentos!$G$4:$G$1048576,Lançamentos!$F$4:$F$1048576,Base!$A19,Lançamentos!$D$4:$D$1048576,Base!DO$3,Lançamentos!$E$4:$E$1048576,Base!$DO$2)","v":0},{"$f":"SUMIFS(Lançamentos!$G$4:$G$1048576,Lançamentos!$F$4:$F$1048576,Base!$A19,Lançamentos!$D$4:$D$1048576,Base!DP$3,Lançamentos!$E$4:$E$1048576,Base!$DO$2)","v":0},{"$f":"SUMIFS(Lançamentos!$G$4:$G$1048576,Lançamentos!$F$4:$F$1048576,Base!$A19,Lançamentos!$D$4:$D$1048576,Base!DQ$3,Lançamentos!$E$4:$E$1048576,Base!$DO$2)","v":0},{"$f":"SUMIFS(Lançamentos!$G$4:$G$1048576,Lançamentos!$F$4:$F$1048576,Base!$A19,Lançamentos!$D$4:$D$1048576,Base!DR$3,Lançamentos!$E$4:$E$1048576,Base!$DO$2)","v":0},{"$f":"SUMIFS(Lançamentos!$G$4:$G$1048576,Lançamentos!$F$4:$F$1048576,Base!$A19,Lançamentos!$D$4:$D$1048576,Base!DS$3,Lançamentos!$E$4:$E$1048576,Base!$DO$2)","v":0},{"$f":"SUMIFS(Lançamentos!$G$4:$G$1048576,Lançamentos!$F$4:$F$1048576,Base!$A19,Lançamentos!$D$4:$D$1048576,Base!DT$3,Lançamentos!$E$4:$E$1048576,Base!$DO$2)","v":0},{"$f":"SUMIFS(Lançamentos!$G$4:$G$1048576,Lançamentos!$F$4:$F$1048576,Base!$A19,Lançamentos!$D$4:$D$1048576,Base!DU$3,Lançamentos!$E$4:$E$1048576,Base!$DO$2)","v":0},{"$f":"SUMIFS(Lançamentos!$G$4:$G$1048576,Lançamentos!$F$4:$F$1048576,Base!$A19,Lançamentos!$D$4:$D$1048576,Base!DV$3,Lançamentos!$E$4:$E$1048576,Base!$DO$2)","v":0},{"$f":"SUMIFS(Lançamentos!$G$4:$G$1048576,Lançamentos!$F$4:$F$1048576,Base!$A19,Lançamentos!$D$4:$D$1048576,Base!DW$3,Lançamentos!$E$4:$E$1048576,Base!$DO$2)","v":0},{"$f":"SUMIFS(Lançamentos!$G$4:$G$1048576,Lançamentos!$F$4:$F$1048576,Base!$A19,Lançamentos!$D$4:$D$1048576,Base!DX$3,Lançamentos!$E$4:$E$1048576,Base!$DO$2)","v":0},{"$f":"SUMIFS(Lançamentos!$G$4:$G$1048576,Lançamentos!$F$4:$F$1048576,Base!$A19,Lançamentos!$D$4:$D$1048576,Base!DY$3,Lançamentos!$E$4:$E$1048576,Base!$DO$2)","v":0},{"$f":"SUMIFS(Lançamentos!$G$4:$G$1048576,Lançamentos!$F$4:$F$1048576,Base!$A19,Lançamentos!$D$4:$D$1048576,Base!DZ$3,Lançamentos!$E$4:$E$1048576,Base!$DO$2)","v":0},0,{"$f":"SUMIFS(Lançamentos!$G$4:$G$1048576,Lançamentos!$F$4:$F$1048576,Base!$A19,Lançamentos!$D$4:$D$1048576,Base!EB$3,Lançamentos!$E$4:$E$1048576,Base!$EB$2)","v":0},{"$f":"SUMIFS(Lançamentos!$G$4:$G$1048576,Lançamentos!$F$4:$F$1048576,Base!$A19,Lançamentos!$D$4:$D$1048576,Base!EC$3,Lançamentos!$E$4:$E$1048576,Base!$EB$2)","v":0},{"$f":"SUMIFS(Lançamentos!$G$4:$G$1048576,Lançamentos!$F$4:$F$1048576,Base!$A19,Lançamentos!$D$4:$D$1048576,Base!ED$3,Lançamentos!$E$4:$E$1048576,Base!$EB$2)","v":0},{"$f":"SUMIFS(Lançamentos!$G$4:$G$1048576,Lançamentos!$F$4:$F$1048576,Base!$A19,Lançamentos!$D$4:$D$1048576,Base!EE$3,Lançamentos!$E$4:$E$1048576,Base!$EB$2)","v":0},{"$f":"SUMIFS(Lançamentos!$G$4:$G$1048576,Lançamentos!$F$4:$F$1048576,Base!$A19,Lançamentos!$D$4:$D$1048576,Base!EF$3,Lançamentos!$E$4:$E$1048576,Base!$EB$2)","v":0},{"$f":"SUMIFS(Lançamentos!$G$4:$G$1048576,Lançamentos!$F$4:$F$1048576,Base!$A19,Lançamentos!$D$4:$D$1048576,Base!EG$3,Lançamentos!$E$4:$E$1048576,Base!$EB$2)","v":0},{"$f":"SUMIFS(Lançamentos!$G$4:$G$1048576,Lançamentos!$F$4:$F$1048576,Base!$A19,Lançamentos!$D$4:$D$1048576,Base!EH$3,Lançamentos!$E$4:$E$1048576,Base!$EB$2)","v":0},{"$f":"SUMIFS(Lançamentos!$G$4:$G$1048576,Lançamentos!$F$4:$F$1048576,Base!$A19,Lançamentos!$D$4:$D$1048576,Base!EI$3,Lançamentos!$E$4:$E$1048576,Base!$EB$2)","v":0},{"$f":"SUMIFS(Lançamentos!$G$4:$G$1048576,Lançamentos!$F$4:$F$1048576,Base!$A19,Lançamentos!$D$4:$D$1048576,Base!EJ$3,Lançamentos!$E$4:$E$1048576,Base!$EB$2)","v":0},{"$f":"SUMIFS(Lançamentos!$G$4:$G$1048576,Lançamentos!$F$4:$F$1048576,Base!$A19,Lançamentos!$D$4:$D$1048576,Base!EK$3,Lançamentos!$E$4:$E$1048576,Base!$EB$2)","v":0},{"$f":"SUMIFS(Lançamentos!$G$4:$G$1048576,Lançamentos!$F$4:$F$1048576,Base!$A19,Lançamentos!$D$4:$D$1048576,Base!EL$3,Lançamentos!$E$4:$E$1048576,Base!$EB$2)","v":0},{"$f":"SUMIFS(Lançamentos!$G$4:$G$1048576,Lançamentos!$F$4:$F$1048576,Base!$A19,Lançamentos!$D$4:$D$1048576,Base!EM$3,Lançamentos!$E$4:$E$1048576,Base!$EB$2)","v":0},0,{"$f":"SUMIFS(Lançamentos!$G$4:$G$1048576,Lançamentos!$F$4:$F$1048576,Base!$A19,Lançamentos!$D$4:$D$1048576,Base!EO$3,Lançamentos!$E$4:$E$1048576,Base!$EO$2)","v":0},{"$f":"SUMIFS(Lançamentos!$G$4:$G$1048576,Lançamentos!$F$4:$F$1048576,Base!$A19,Lançamentos!$D$4:$D$1048576,Base!EP$3,Lançamentos!$E$4:$E$1048576,Base!$EO$2)","v":0},{"$f":"SUMIFS(Lançamentos!$G$4:$G$1048576,Lançamentos!$F$4:$F$1048576,Base!$A19,Lançamentos!$D$4:$D$1048576,Base!EQ$3,Lançamentos!$E$4:$E$1048576,Base!$EO$2)","v":0},{"$f":"SUMIFS(Lançamentos!$G$4:$G$1048576,Lançamentos!$F$4:$F$1048576,Base!$A19,Lançamentos!$D$4:$D$1048576,Base!ER$3,Lançamentos!$E$4:$E$1048576,Base!$EO$2)","v":0},{"$f":"SUMIFS(Lançamentos!$G$4:$G$1048576,Lançamentos!$F$4:$F$1048576,Base!$A19,Lançamentos!$D$4:$D$1048576,Base!ES$3,Lançamentos!$E$4:$E$1048576,Base!$EO$2)","v":0},{"$f":"SUMIFS(Lançamentos!$G$4:$G$1048576,Lançamentos!$F$4:$F$1048576,Base!$A19,Lançamentos!$D$4:$D$1048576,Base!ET$3,Lançamentos!$E$4:$E$1048576,Base!$EO$2)","v":0},{"$f":"SUMIFS(Lançamentos!$G$4:$G$1048576,Lançamentos!$F$4:$F$1048576,Base!$A19,Lançamentos!$D$4:$D$1048576,Base!EU$3,Lançamentos!$E$4:$E$1048576,Base!$EO$2)","v":0},{"$f":"SUMIFS(Lançamentos!$G$4:$G$1048576,Lançamentos!$F$4:$F$1048576,Base!$A19,Lançamentos!$D$4:$D$1048576,Base!EV$3,Lançamentos!$E$4:$E$1048576,Base!$EO$2)","v":0},{"$f":"SUMIFS(Lançamentos!$G$4:$G$1048576,Lançamentos!$F$4:$F$1048576,Base!$A19,Lançamentos!$D$4:$D$1048576,Base!EW$3,Lançamentos!$E$4:$E$1048576,Base!$EO$2)","v":0},{"$f":"SUMIFS(Lançamentos!$G$4:$G$1048576,Lançamentos!$F$4:$F$1048576,Base!$A19,Lançamentos!$D$4:$D$1048576,Base!EX$3,Lançamentos!$E$4:$E$1048576,Base!$EO$2)","v":0},{"$f":"SUMIFS(Lançamentos!$G$4:$G$1048576,Lançamentos!$F$4:$F$1048576,Base!$A19,Lançamentos!$D$4:$D$1048576,Base!EY$3,Lançamentos!$E$4:$E$1048576,Base!$EO$2)","v":0},{"$f":"SUMIFS(Lançamentos!$G$4:$G$1048576,Lançamentos!$F$4:$F$1048576,Base!$A19,Lançamentos!$D$4:$D$1048576,Base!EZ$3,Lançamentos!$E$4:$E$1048576,Base!$EO$2)","v":0},0,{"$f":"SUMIFS(Lançamentos!$G$4:$G$1048576,Lançamentos!$F$4:$F$1048576,Base!$A19,Lançamentos!$D$4:$D$1048576,Base!FB$3,Lançamentos!$E$4:$E$1048576,Base!$FB$2)","v":0},{"$f":"SUMIFS(Lançamentos!$G$4:$G$1048576,Lançamentos!$F$4:$F$1048576,Base!$A19,Lançamentos!$D$4:$D$1048576,Base!FC$3,Lançamentos!$E$4:$E$1048576,Base!$FB$2)","v":0},{"$f":"SUMIFS(Lançamentos!$G$4:$G$1048576,Lançamentos!$F$4:$F$1048576,Base!$A19,Lançamentos!$D$4:$D$1048576,Base!FD$3,Lançamentos!$E$4:$E$1048576,Base!$FB$2)","v":0},{"$f":"SUMIFS(Lançamentos!$G$4:$G$1048576,Lançamentos!$F$4:$F$1048576,Base!$A19,Lançamentos!$D$4:$D$1048576,Base!FE$3,Lançamentos!$E$4:$E$1048576,Base!$FB$2)","v":0},{"$f":"SUMIFS(Lançamentos!$G$4:$G$1048576,Lançamentos!$F$4:$F$1048576,Base!$A19,Lançamentos!$D$4:$D$1048576,Base!FF$3,Lançamentos!$E$4:$E$1048576,Base!$FB$2)","v":0},{"$f":"SUMIFS(Lançamentos!$G$4:$G$1048576,Lançamentos!$F$4:$F$1048576,Base!$A19,Lançamentos!$D$4:$D$1048576,Base!FG$3,Lançamentos!$E$4:$E$1048576,Base!$FB$2)","v":0},{"$f":"SUMIFS(Lançamentos!$G$4:$G$1048576,Lançamentos!$F$4:$F$1048576,Base!$A19,Lançamentos!$D$4:$D$1048576,Base!FH$3,Lançamentos!$E$4:$E$1048576,Base!$FB$2)","v":0},{"$f":"SUMIFS(Lançamentos!$G$4:$G$1048576,Lançamentos!$F$4:$F$1048576,Base!$A19,Lançamentos!$D$4:$D$1048576,Base!FI$3,Lançamentos!$E$4:$E$1048576,Base!$FB$2)","v":0},{"$f":"SUMIFS(Lançamentos!$G$4:$G$1048576,Lançamentos!$F$4:$F$1048576,Base!$A19,Lançamentos!$D$4:$D$1048576,Base!FJ$3,Lançamentos!$E$4:$E$1048576,Base!$FB$2)","v":0},{"$f":"SUMIFS(Lançamentos!$G$4:$G$1048576,Lançamentos!$F$4:$F$1048576,Base!$A19,Lançamentos!$D$4:$D$1048576,Base!FK$3,Lançamentos!$E$4:$E$1048576,Base!$FB$2)","v":0},{"$f":"SUMIFS(Lançamentos!$G$4:$G$1048576,Lançamentos!$F$4:$F$1048576,Base!$A19,Lançamentos!$D$4:$D$1048576,Base!FL$3,Lançamentos!$E$4:$E$1048576,Base!$FB$2)","v":0},{"$f":"SUMIFS(Lançamentos!$G$4:$G$1048576,Lançamentos!$F$4:$F$1048576,Base!$A19,Lançamentos!$D$4:$D$1048576,Base!FM$3,Lançamentos!$E$4:$E$1048576,Base!$FB$2)","v":0},0,{"$f":"SUMIFS(Lançamentos!$G$4:$G$1048576,Lançamentos!$F$4:$F$1048576,Base!$A19,Lançamentos!$D$4:$D$1048576,Base!FO$3,Lançamentos!$E$4:$E$1048576,Base!$FO$2)","v":0},{"$f":"SUMIFS(Lançamentos!$G$4:$G$1048576,Lançamentos!$F$4:$F$1048576,Base!$A19,Lançamentos!$D$4:$D$1048576,Base!FP$3,Lançamentos!$E$4:$E$1048576,Base!$FO$2)","v":0},{"$f":"SUMIFS(Lançamentos!$G$4:$G$1048576,Lançamentos!$F$4:$F$1048576,Base!$A19,Lançamentos!$D$4:$D$1048576,Base!FQ$3,Lançamentos!$E$4:$E$1048576,Base!$FO$2)","v":0},{"$f":"SUMIFS(Lançamentos!$G$4:$G$1048576,Lançamentos!$F$4:$F$1048576,Base!$A19,Lançamentos!$D$4:$D$1048576,Base!FR$3,Lançamentos!$E$4:$E$1048576,Base!$FO$2)","v":0},{"$f":"SUMIFS(Lançamentos!$G$4:$G$1048576,Lançamentos!$F$4:$F$1048576,Base!$A19,Lançamentos!$D$4:$D$1048576,Base!FS$3,Lançamentos!$E$4:$E$1048576,Base!$FO$2)","v":0},{"$f":"SUMIFS(Lançamentos!$G$4:$G$1048576,Lançamentos!$F$4:$F$1048576,Base!$A19,Lançamentos!$D$4:$D$1048576,Base!FT$3,Lançamentos!$E$4:$E$1048576,Base!$FO$2)","v":0},{"$f":"SUMIFS(Lançamentos!$G$4:$G$1048576,Lançamentos!$F$4:$F$1048576,Base!$A19,Lançamentos!$D$4:$D$1048576,Base!FU$3,Lançamentos!$E$4:$E$1048576,Base!$FO$2)","v":0},{"$f":"SUMIFS(Lançamentos!$G$4:$G$1048576,Lançamentos!$F$4:$F$1048576,Base!$A19,Lançamentos!$D$4:$D$1048576,Base!FV$3,Lançamentos!$E$4:$E$1048576,Base!$FO$2)","v":0},{"$f":"SUMIFS(Lançamentos!$G$4:$G$1048576,Lançamentos!$F$4:$F$1048576,Base!$A19,Lançamentos!$D$4:$D$1048576,Base!FW$3,Lançamentos!$E$4:$E$1048576,Base!$FO$2)","v":0},{"$f":"SUMIFS(Lançamentos!$G$4:$G$1048576,Lançamentos!$F$4:$F$1048576,Base!$A19,Lançamentos!$D$4:$D$1048576,Base!FX$3,Lançamentos!$E$4:$E$1048576,Base!$FO$2)","v":0},{"$f":"SUMIFS(Lançamentos!$G$4:$G$1048576,Lançamentos!$F$4:$F$1048576,Base!$A19,Lançamentos!$D$4:$D$1048576,Base!FY$3,Lançamentos!$E$4:$E$1048576,Base!$FO$2)","v":0},{"$f":"SUMIFS(Lançamentos!$G$4:$G$1048576,Lançamentos!$F$4:$F$1048576,Base!$A19,Lançamentos!$D$4:$D$1048576,Base!FZ$3,Lançamentos!$E$4:$E$1048576,Base!$FO$2)","v":0},0,{"$f":"SUMIFS(Lançamentos!$G$4:$G$1048576,Lançamentos!$F$4:$F$1048576,Base!$A19,Lançamentos!$D$4:$D$1048576,Base!GB$3,Lançamentos!$E$4:$E$1048576,Base!$GB$2)","v":0},{"$f":"SUMIFS(Lançamentos!$G$4:$G$1048576,Lançamentos!$F$4:$F$1048576,Base!$A19,Lançamentos!$D$4:$D$1048576,Base!GC$3,Lançamentos!$E$4:$E$1048576,Base!$GB$2)","v":0},{"$f":"SUMIFS(Lançamentos!$G$4:$G$1048576,Lançamentos!$F$4:$F$1048576,Base!$A19,Lançamentos!$D$4:$D$1048576,Base!GD$3,Lançamentos!$E$4:$E$1048576,Base!$GB$2)","v":0},{"$f":"SUMIFS(Lançamentos!$G$4:$G$1048576,Lançamentos!$F$4:$F$1048576,Base!$A19,Lançamentos!$D$4:$D$1048576,Base!GE$3,Lançamentos!$E$4:$E$1048576,Base!$GB$2)","v":0},{"$f":"SUMIFS(Lançamentos!$G$4:$G$1048576,Lançamentos!$F$4:$F$1048576,Base!$A19,Lançamentos!$D$4:$D$1048576,Base!GF$3,Lançamentos!$E$4:$E$1048576,Base!$GB$2)","v":0},{"$f":"SUMIFS(Lançamentos!$G$4:$G$1048576,Lançamentos!$F$4:$F$1048576,Base!$A19,Lançamentos!$D$4:$D$1048576,Base!GG$3,Lançamentos!$E$4:$E$1048576,Base!$GB$2)","v":0},{"$f":"SUMIFS(Lançamentos!$G$4:$G$1048576,Lançamentos!$F$4:$F$1048576,Base!$A19,Lançamentos!$D$4:$D$1048576,Base!GH$3,Lançamentos!$E$4:$E$1048576,Base!$GB$2)","v":0},{"$f":"SUMIFS(Lançamentos!$G$4:$G$1048576,Lançamentos!$F$4:$F$1048576,Base!$A19,Lançamentos!$D$4:$D$1048576,Base!GI$3,Lançamentos!$E$4:$E$1048576,Base!$GB$2)","v":0},{"$f":"SUMIFS(Lançamentos!$G$4:$G$1048576,Lançamentos!$F$4:$F$1048576,Base!$A19,Lançamentos!$D$4:$D$1048576,Base!GJ$3,Lançamentos!$E$4:$E$1048576,Base!$GB$2)","v":0},{"$f":"SUMIFS(Lançamentos!$G$4:$G$1048576,Lançamentos!$F$4:$F$1048576,Base!$A19,Lançamentos!$D$4:$D$1048576,Base!GK$3,Lançamentos!$E$4:$E$1048576,Base!$GB$2)","v":0},{"$f":"SUMIFS(Lançamentos!$G$4:$G$1048576,Lançamentos!$F$4:$F$1048576,Base!$A19,Lançamentos!$D$4:$D$1048576,Base!GL$3,Lançamentos!$E$4:$E$1048576,Base!$GB$2)","v":0},{"$f":"SUMIFS(Lançamentos!$G$4:$G$1048576,Lançamentos!$F$4:$F$1048576,Base!$A19,Lançamentos!$D$4:$D$1048576,Base!GM$3,Lançamentos!$E$4:$E$1048576,Base!$GB$2)","v":0},0]
[{"$f":"IF(Lançamentos!A17=\"\",\"\",Lançamentos!A17)","v":"Despesas Administrativas"},{"$f":"SUMIFS(Lançamentos!$G$4:$G$1048576,Lançamentos!$F$4:$F$1048576,Base!$A20,Lançamentos!$D$4:$D$1048576,Base!B$3,Lançamentos!$E$4:$E$1048576,Base!$B$2)","v":0},{"$f":"SUMIFS(Lançamentos!$G$4:$G$1048576,Lançamentos!$F$4:$F$1048576,Base!$A20,Lançamentos!$D$4:$D$1048576,Base!C$3,Lançamentos!$E$4:$E$1048576,Base!$B$2)","v":0},{"$f":"SUMIFS(Lançamentos!$G$4:$G$1048576,Lançamentos!$F$4:$F$1048576,Base!$A20,Lançamentos!$D$4:$D$1048576,Base!D$3,Lançamentos!$E$4:$E$1048576,Base!$B$2)","v":0},{"$f":"SUMIFS(Lançamentos!$G$4:$G$1048576,Lançamentos!$F$4:$F$1048576,Base!$A20,Lançamentos!$D$4:$D$1048576,Base!E$3,Lançamentos!$E$4:$E$1048576,Base!$B$2)","v":0},{"$f":"SUMIFS(Lançamentos!$G$4:$G$1048576,Lançamentos!$F$4:$F$1048576,Base!$A20,Lançamentos!$D$4:$D$1048576,Base!F$3,Lançamentos!$E$4:$E$1048576,Base!$B$2)","v":0},{"$f":"SUMIFS(Lançamentos!$G$4:$G$1048576,Lançamentos!$F$4:$F$1048576,Base!$A20,Lançamentos!$D$4:$D$1048576,Base!G$3,Lançamentos!$E$4:$E$1048576,Base!$B$2)","v":0},{"$f":"SUMIFS(Lançamentos!$G$4:$G$1048576,Lançamentos!$F$4:$F$1048576,Base!$A20,Lançamentos!$D$4:$D$1048576,Base!H$3,Lançamentos!$E$4:$E$1048576,Base!$B$2)","v":0},{"$f":"SUMIFS(Lançamentos!$G$4:$G$1048576,Lançamentos!$F$4:$F$1048576,Base!$A20,Lançamentos!$D$4:$D$1048576,Base!I$3,Lançamentos!$E$4:$E$1048576,Base!$B$2)","v":0},{"$f":"SUMIFS(Lançamentos!$G$4:$G$1048576,Lançamentos!$F$4:$F$1048576,Base!$A20,Lançamentos!$D$4:$D$1048576,Base!J$3,Lançamentos!$E$4:$E$1048576,Base!$B$2)","v":0},{"$f":"SUMIFS(Lançamentos!$G$4:$G$1048576,Lançamentos!$F$4:$F$1048576,Base!$A20,Lançamentos!$D$4:$D$1048576,Base!K$3,Lançamentos!$E$4:$E$1048576,Base!$B$2)","v":0},{"$f":"SUMIFS(Lançamentos!$G$4:$G$1048576,Lançamentos!$F$4:$F$1048576,Base!$A20,Lançamentos!$D$4:$D$1048576,Base!L$3,Lançamentos!$E$4:$E$1048576,Base!$B$2)","v":0},{"$f":"SUMIFS(Lançamentos!$G$4:$G$1048576,Lançamentos!$F$4:$F$1048576,Base!$A20,Lançamentos!$D$4:$D$1048576,Base!M$3,Lançamentos!$E$4:$E$1048576,Base!$B$2)","v":0},0,{"$f":"SUMIFS(Lançamentos!$G$4:$G$1048576,Lançamentos!$F$4:$F$1048576,Base!$A20,Lançamentos!$D$4:$D$1048576,Base!O$3,Lançamentos!$E$4:$E$1048576,Base!$O$2)","v":0},{"$f":"SUMIFS(Lançamentos!$G$4:$G$1048576,Lançamentos!$F$4:$F$1048576,Base!$A20,Lançamentos!$D$4:$D$1048576,Base!P$3,Lançamentos!$E$4:$E$1048576,Base!$O$2)","v":0},{"$f":"SUMIFS(Lançamentos!$G$4:$G$1048576,Lançamentos!$F$4:$F$1048576,Base!$A20,Lançamentos!$D$4:$D$1048576,Base!Q$3,Lançamentos!$E$4:$E$1048576,Base!$O$2)","v":0},{"$f":"SUMIFS(Lançamentos!$G$4:$G$1048576,Lançamentos!$F$4:$F$1048576,Base!$A20,Lançamentos!$D$4:$D$1048576,Base!R$3,Lançamentos!$E$4:$E$1048576,Base!$O$2)","v":0},{"$f":"SUMIFS(Lançamentos!$G$4:$G$1048576,Lançamentos!$F$4:$F$1048576,Base!$A20,Lançamentos!$D$4:$D$1048576,Base!S$3,Lançamentos!$E$4:$E$1048576,Base!$O$2)","v":0},{"$f":"SUMIFS(Lançamentos!$G$4:$G$1048576,Lançamentos!$F$4:$F$1048576,Base!$A20,Lançamentos!$D$4:$D$1048576,Base!T$3,Lançamentos!$E$4:$E$1048576,Base!$O$2)","v":0},{"$f":"SUMIFS(Lançamentos!$G$4:$G$1048576,Lançamentos!$F$4:$F$1048576,Base!$A20,Lançamentos!$D$4:$D$1048576,Base!U$3,Lançamentos!$E$4:$E$1048576,Base!$O$2)","v":0},{"$f":"SUMIFS(Lançamentos!$G$4:$G$1048576,Lançamentos!$F$4:$F$1048576,Base!$A20,Lançamentos!$D$4:$D$1048576,Base!V$3,Lançamentos!$E$4:$E$1048576,Base!$O$2)","v":0},{"$f":"SUMIFS(Lançamentos!$G$4:$G$1048576,Lançamentos!$F$4:$F$1048576,Base!$A20,Lançamentos!$D$4:$D$1048576,Base!W$3,Lançamentos!$E$4:$E$1048576,Base!$O$2)","v":0},{"$f":"SUMIFS(Lançamentos!$G$4:$G$1048576,Lançamentos!$F$4:$F$1048576,Base!$A20,Lançamentos!$D$4:$D$1048576,Base!X$3,Lançamentos!$E$4:$E$1048576,Base!$O$2)","v":0},{"$f":"SUMIFS(Lançamentos!$G$4:$G$1048576,Lançamentos!$F$4:$F$1048576,Base!$A20,Lançamentos!$D$4:$D$1048576,Base!Y$3,Lançamentos!$E$4:$E$1048576,Base!$O$2)","v":0},{"$f":"SUMIFS(Lançamentos!$G$4:$G$1048576,Lançamentos!$F$4:$F$1048576,Base!$A20,Lançamentos!$D$4:$D$1048576,Base!Z$3,Lançamentos!$E$4:$E$1048576,Base!$O$2)","v":0},0,{"$f":"SUMIFS(Lançamentos!$G$4:$G$1048576,Lançamentos!$F$4:$F$1048576,Base!$A20,Lançamentos!$D$4:$D$1048576,Base!AB$3,Lançamentos!$E$4:$E$1048576,Base!$AB$2)","v":0},{"$f":"SUMIFS(Lançamentos!$G$4:$G$1048576,Lançamentos!$F$4:$F$1048576,Base!$A20,Lançamentos!$D$4:$D$1048576,Base!AC$3,Lançamentos!$E$4:$E$1048576,Base!$AB$2)","v":0},{"$f":"SUMIFS(Lançamentos!$G$4:$G$1048576,Lançamentos!$F$4:$F$1048576,Base!$A20,Lançamentos!$D$4:$D$1048576,Base!AD$3,Lançamentos!$E$4:$E$1048576,Base!$AB$2)","v":0},{"$f":"SUMIFS(Lançamentos!$G$4:$G$1048576,Lançamentos!$F$4:$F$1048576,Base!$A20,Lançamentos!$D$4:$D$1048576,Base!AE$3,Lançamentos!$E$4:$E$1048576,Base!$AB$2)","v":0},{"$f":"SUMIFS(Lançamentos!$G$4:$G$1048576,Lançamentos!$F$4:$F$1048576,Base!$A20,Lançamentos!$D$4:$D$1048576,Base!AF$3,Lançamentos!$E$4:$E$1048576,Base!$AB$2)","v":0},{"$f":"SUMIFS(Lançamentos!$G$4:$G$1048576,Lançamentos!$F$4:$F$1048576,Base!$A20,Lançamentos!$D$4:$D$1048576,Base!AG$3,Lançamentos!$E$4:$E$1048576,Base!$AB$2)","v":0},{"$f":"SUMIFS(Lançamentos!$G$4:$G$1048576,Lançamentos!$F$4:$F$1048576,Base!$A20,Lançamentos!$D$4:$D$1048576,Base!AH$3,Lançamentos!$E$4:$E$1048576,Base!$AB$2)","v":0},{"$f":"SUMIFS(Lançamentos!$G$4:$G$1048576,Lançamentos!$F$4:$F$1048576,Base!$A20,Lançamentos!$D$4:$D$1048576,Base!AI$3,Lançamentos!$E$4:$E$1048576,Base!$AB$2)","v":0},{"$f":"SUMIFS(Lançamentos!$G$4:$G$1048576,Lançamentos!$F$4:$F$1048576,Base!$A20,Lançamentos!$D$4:$D$1048576,Base!AJ$3,Lançamentos!$E$4:$E$1048576,Base!$AB$2)","v":0},{"$f":"SUMIFS(Lançamentos!$G$4:$G$1048576,Lançamentos!$F$4:$F$1048576,Base!$A20,Lançamentos!$D$4:$D$1048576,Base!AK$3,Lançamentos!$E$4:$E$1048576,Base!$AB$2)","v":0},{"$f":"SUMIFS(Lançamentos!$G$4:$G$1048576,Lançamentos!$F$4:$F$1048576,Base!$A20,Lançamentos!$D$4:$D$1048576,Base!AL$3,Lançamentos!$E$4:$E$1048576,Base!$AB$2)","v":0},{"$f":"SUMIFS(Lançamentos!$G$4:$G$1048576,Lançamentos!$F$4:$F$1048576,Base!$A20,Lançamentos!$D$4:$D$1048576,Base!AM$3,Lançamentos!$E$4:$E$1048576,Base!$AB$2)","v":0},0,{"$f":"SUMIFS(Lançamentos!$G$4:$G$1048576,Lançamentos!$F$4:$F$1048576,Base!$A20,Lançamentos!$D$4:$D$1048576,Base!AO$3,Lançamentos!$E$4:$E$1048576,Base!$AO$2)","v":0},{"$f":"SUMIFS(Lançamentos!$G$4:$G$1048576,Lançamentos!$F$4:$F$1048576,Base!$A20,Lançamentos!$D$4:$D$1048576,Base!AP$3,Lançamentos!$E$4:$E$1048576,Base!$AO$2)","v":0},{"$f":"SUMIFS(Lançamentos!$G$4:$G$1048576,Lançamentos!$F$4:$F$1048576,Base!$A20,Lançamentos!$D$4:$D$1048576,Base!AQ$3,Lançamentos!$E$4:$E$1048576,Base!$AO$2)","v":0},{"$f":"SUMIFS(Lançamentos!$G$4:$G$1048576,Lançamentos!$F$4:$F$1048576,Base!$A20,Lançamentos!$D$4:$D$1048576,Base!AR$3,Lançamentos!$E$4:$E$1048576,Base!$AO$2)","v":0},{"$f":"SUMIFS(Lançamentos!$G$4:$G$1048576,Lançamentos!$F$4:$F$1048576,Base!$A20,Lançamentos!$D$4:$D$1048576,Base!AS$3,Lançamentos!$E$4:$E$1048576,Base!$AO$2)","v":0},{"$f":"SUMIFS(Lançamentos!$G$4:$G$1048576,Lançamentos!$F$4:$F$1048576,Base!$A20,Lançamentos!$D$4:$D$1048576,Base!AT$3,Lançamentos!$E$4:$E$1048576,Base!$AO$2)","v":0},{"$f":"SUMIFS(Lançamentos!$G$4:$G$1048576,Lançamentos!$F$4:$F$1048576,Base!$A20,Lançamentos!$D$4:$D$1048576,Base!AU$3,Lançamentos!$E$4:$E$1048576,Base!$AO$2)","v":0},{"$f":"SUMIFS(Lançamentos!$G$4:$G$1048576,Lançamentos!$F$4:$F$1048576,Base!$A20,Lançamentos!$D$4:$D$1048576,Base!AV$3,Lançamentos!$E$4:$E$1048576,Base!$AO$2)","v":0},{"$f":"SUMIFS(Lançamentos!$G$4:$G$1048576,Lançamentos!$F$4:$F$1048576,Base!$A20,Lançamentos!$D$4:$D$1048576,Base!AW$3,Lançamentos!$E$4:$E$1048576,Base!$AO$2)","v":0},{"$f":"SUMIFS(Lançamentos!$G$4:$G$1048576,Lançamentos!$F$4:$F$1048576,Base!$A20,Lançamentos!$D$4:$D$1048576,Base!AX$3,Lançamentos!$E$4:$E$1048576,Base!$AO$2)","v":0},{"$f":"SUMIFS(Lançamentos!$G$4:$G$1048576,Lançamentos!$F$4:$F$1048576,Base!$A20,Lançamentos!$D$4:$D$1048576,Base!AY$3,Lançamentos!$E$4:$E$1048576,Base!$AO$2)","v":0},{"$f":"SUMIFS(Lançamentos!$G$4:$G$1048576,Lançamentos!$F$4:$F$1048576,Base!$A20,Lançamentos!$D$4:$D$1048576,Base!AZ$3,Lançamentos!$E$4:$E$1048576,Base!$AO$2)","v":0},0,{"$f":"SUMIFS(Lançamentos!$G$4:$G$1048576,Lançamentos!$F$4:$F$1048576,Base!$A20,Lançamentos!$D$4:$D$1048576,Base!BB$3,Lançamentos!$E$4:$E$1048576,Base!$BB$2)","v":0},{"$f":"SUMIFS(Lançamentos!$G$4:$G$1048576,Lançamentos!$F$4:$F$1048576,Base!$A20,Lançamentos!$D$4:$D$1048576,Base!BC$3,Lançamentos!$E$4:$E$1048576,Base!$BB$2)","v":0},{"$f":"SUMIFS(Lançamentos!$G$4:$G$1048576,Lançamentos!$F$4:$F$1048576,Base!$A20,Lançamentos!$D$4:$D$1048576,Base!BD$3,Lançamentos!$E$4:$E$1048576,Base!$BB$2)","v":0},{"$f":"SUMIFS(Lançamentos!$G$4:$G$1048576,Lançamentos!$F$4:$F$1048576,Base!$A20,Lançamentos!$D$4:$D$1048576,Base!BE$3,Lançamentos!$E$4:$E$1048576,Base!$BB$2)","v":0},{"$f":"SUMIFS(Lançamentos!$G$4:$G$1048576,Lançamentos!$F$4:$F$1048576,Base!$A20,Lançamentos!$D$4:$D$1048576,Base!BF$3,Lançamentos!$E$4:$E$1048576,Base!$BB$2)","v":0},{"$f":"SUMIFS(Lançamentos!$G$4:$G$1048576,Lançamentos!$F$4:$F$1048576,Base!$A20,Lançamentos!$D$4:$D$1048576,Base!BG$3,Lançamentos!$E$4:$E$1048576,Base!$BB$2)","v":0},{"$f":"SUMIFS(Lançamentos!$G$4:$G$1048576,Lançamentos!$F$4:$F$1048576,Base!$A20,Lançamentos!$D$4:$D$1048576,Base!BH$3,Lançamentos!$E$4:$E$1048576,Base!$BB$2)","v":0},{"$f":"SUMIFS(Lançamentos!$G$4:$G$1048576,Lançamentos!$F$4:$F$1048576,Base!$A20,Lançamentos!$D$4:$D$1048576,Base!BI$3,Lançamentos!$E$4:$E$1048576,Base!$BB$2)","v":0},{"$f":"SUMIFS(Lançamentos!$G$4:$G$1048576,Lançamentos!$F$4:$F$1048576,Base!$A20,Lançamentos!$D$4:$D$1048576,Base!BJ$3,Lançamentos!$E$4:$E$1048576,Base!$BB$2)","v":0},{"$f":"SUMIFS(Lançamentos!$G$4:$G$1048576,Lançamentos!$F$4:$F$1048576,Base!$A20,Lançamentos!$D$4:$D$1048576,Base!BK$3,Lançamentos!$E$4:$E$1048576,Base!$BB$2)","v":0},{"$f":"SUMIFS(Lançamentos!$G$4:$G$1048576,Lançamentos!$F$4:$F$1048576,Base!$A20,Lançamentos!$D$4:$D$1048576,Base!BL$3,Lançamentos!$E$4:$E$1048576,Base!$BB$2)","v":0},{"$f":"SUMIFS(Lançamentos!$G$4:$G$1048576,Lançamentos!$F$4:$F$1048576,Base!$A20,Lançamentos!$D$4:$D$1048576,Base!BM$3,Lançamentos!$E$4:$E$1048576,Base!$BB$2)","v":0},0,{"$f":"SUMIFS(Lançamentos!$G$4:$G$1048576,Lançamentos!$F$4:$F$1048576,Base!$A20,Lançamentos!$D$4:$D$1048576,Base!BO$3,Lançamentos!$E$4:$E$1048576,Base!$BO$2)","v":0},{"$f":"SUMIFS(Lançamentos!$G$4:$G$1048576,Lançamentos!$F$4:$F$1048576,Base!$A20,Lançamentos!$D$4:$D$1048576,Base!BP$3,Lançamentos!$E$4:$E$1048576,Base!$BO$2)","v":0},{"$f":"SUMIFS(Lançamentos!$G$4:$G$1048576,Lançamentos!$F$4:$F$1048576,Base!$A20,Lançamentos!$D$4:$D$1048576,Base!BQ$3,Lançamentos!$E$4:$E$1048576,Base!$BO$2)","v":0},{"$f":"SUMIFS(Lançamentos!$G$4:$G$1048576,Lançamentos!$F$4:$F$1048576,Base!$A20,Lançamentos!$D$4:$D$1048576,Base!BR$3,Lançamentos!$E$4:$E$1048576,Base!$BO$2)","v":0},{"$f":"SUMIFS(Lançamentos!$G$4:$G$1048576,Lançamentos!$F$4:$F$1048576,Base!$A20,Lançamentos!$D$4:$D$1048576,Base!BS$3,Lançamentos!$E$4:$E$1048576,Base!$BO$2)","v":0},{"$f":"SUMIFS(Lançamentos!$G$4:$G$1048576,Lançamentos!$F$4:$F$1048576,Base!$A20,Lançamentos!$D$4:$D$1048576,Base!BT$3,Lançamentos!$E$4:$E$1048576,Base!$BO$2)","v":0},{"$f":"SUMIFS(Lançamentos!$G$4:$G$1048576,Lançamentos!$F$4:$F$1048576,Base!$A20,Lançamentos!$D$4:$D$1048576,Base!BU$3,Lançamentos!$E$4:$E$1048576,Base!$BO$2)","v":0},{"$f":"SUMIFS(Lançamentos!$G$4:$G$1048576,Lançamentos!$F$4:$F$1048576,Base!$A20,Lançamentos!$D$4:$D$1048576,Base!BV$3,Lançamentos!$E$4:$E$1048576,Base!$BO$2)","v":0},{"$f":"SUMIFS(Lançamentos!$G$4:$G$1048576,Lançamentos!$F$4:$F$1048576,Base!$A20,Lançamentos!$D$4:$D$1048576,Base!BW$3,Lançamentos!$E$4:$E$1048576,Base!$BO$2)","v":0},{"$f":"SUMIFS(Lançamentos!$G$4:$G$1048576,Lançamentos!$F$4:$F$1048576,Base!$A20,Lançamentos!$D$4:$D$1048576,Base!BX$3,Lançamentos!$E$4:$E$1048576,Base!$BO$2)","v":0},{"$f":"SUMIFS(Lançamentos!$G$4:$G$1048576,Lançamentos!$F$4:$F$1048576,Base!$A20,Lançamentos!$D$4:$D$1048576,Base!BY$3,Lançamentos!$E$4:$E$1048576,Base!$BO$2)","v":0},{"$f":"SUMIFS(Lançamentos!$G$4:$G$1048576,Lançamentos!$F$4:$F$1048576,Base!$A20,Lançamentos!$D$4:$D$1048576,Base!BZ$3,Lançamentos!$E$4:$E$1048576,Base!$BO$2)","v":0},0,{"$f":"SUMIFS(Lançamentos!$G$4:$G$1048576,Lançamentos!$F$4:$F$1048576,Base!$A20,Lançamentos!$D$4:$D$1048576,Base!CB$3,Lançamentos!$E$4:$E$1048576,Base!$CB$2)","v":0},{"$f":"SUMIFS(Lançamentos!$G$4:$G$1048576,Lançamentos!$F$4:$F$1048576,Base!$A20,Lançamentos!$D$4:$D$1048576,Base!CC$3,Lançamentos!$E$4:$E$1048576,Base!$CB$2)","v":0},{"$f":"SUMIFS(Lançamentos!$G$4:$G$1048576,Lançamentos!$F$4:$F$1048576,Base!$A20,Lançamentos!$D$4:$D$1048576,Base!CD$3,Lançamentos!$E$4:$E$1048576,Base!$CB$2)","v":0},{"$f":"SUMIFS(Lançamentos!$G$4:$G$1048576,Lançamentos!$F$4:$F$1048576,Base!$A20,Lançamentos!$D$4:$D$1048576,Base!CE$3,Lançamentos!$E$4:$E$1048576,Base!$CB$2)","v":0},{"$f":"SUMIFS(Lançamentos!$G$4:$G$1048576,Lançamentos!$F$4:$F$1048576,Base!$A20,Lançamentos!$D$4:$D$1048576,Base!CF$3,Lançamentos!$E$4:$E$1048576,Base!$CB$2)","v":0},{"$f":"SUMIFS(Lançamentos!$G$4:$G$1048576,Lançamentos!$F$4:$F$1048576,Base!$A20,Lançamentos!$D$4:$D$1048576,Base!CG$3,Lançamentos!$E$4:$E$1048576,Base!$CB$2)","v":0},{"$f":"SUMIFS(Lançamentos!$G$4:$G$1048576,Lançamentos!$F$4:$F$1048576,Base!$A20,Lançamentos!$D$4:$D$1048576,Base!CH$3,Lançamentos!$E$4:$E$1048576,Base!$CB$2)","v":0},{"$f":"SUMIFS(Lançamentos!$G$4:$G$1048576,Lançamentos!$F$4:$F$1048576,Base!$A20,Lançamentos!$D$4:$D$1048576,Base!CI$3,Lançamentos!$E$4:$E$1048576,Base!$CB$2)","v":0},{"$f":"SUMIFS(Lançamentos!$G$4:$G$1048576,Lançamentos!$F$4:$F$1048576,Base!$A20,Lançamentos!$D$4:$D$1048576,Base!CJ$3,Lançamentos!$E$4:$E$1048576,Base!$CB$2)","v":0},{"$f":"SUMIFS(Lançamentos!$G$4:$G$1048576,Lançamentos!$F$4:$F$1048576,Base!$A20,Lançamentos!$D$4:$D$1048576,Base!CK$3,Lançamentos!$E$4:$E$1048576,Base!$CB$2)","v":0},{"$f":"SUMIFS(Lançamentos!$G$4:$G$1048576,Lançamentos!$F$4:$F$1048576,Base!$A20,Lançamentos!$D$4:$D$1048576,Base!CL$3,Lançamentos!$E$4:$E$1048576,Base!$CB$2)","v":0},{"$f":"SUMIFS(Lançamentos!$G$4:$G$1048576,Lançamentos!$F$4:$F$1048576,Base!$A20,Lançamentos!$D$4:$D$1048576,Base!CM$3,Lançamentos!$E$4:$E$1048576,Base!$CB$2)","v":0},0,{"$f":"SUMIFS(Lançamentos!$G$4:$G$1048576,Lançamentos!$F$4:$F$1048576,Base!$A20,Lançamentos!$D$4:$D$1048576,Base!CO$3,Lançamentos!$E$4:$E$1048576,Base!$CO$2)","v":0},{"$f":"SUMIFS(Lançamentos!$G$4:$G$1048576,Lançamentos!$F$4:$F$1048576,Base!$A20,Lançamentos!$D$4:$D$1048576,Base!CP$3,Lançamentos!$E$4:$E$1048576,Base!$CO$2)","v":0},{"$f":"SUMIFS(Lançamentos!$G$4:$G$1048576,Lançamentos!$F$4:$F$1048576,Base!$A20,Lançamentos!$D$4:$D$1048576,Base!CQ$3,Lançamentos!$E$4:$E$1048576,Base!$CO$2)","v":0},{"$f":"SUMIFS(Lançamentos!$G$4:$G$1048576,Lançamentos!$F$4:$F$1048576,Base!$A20,Lançamentos!$D$4:$D$1048576,Base!CR$3,Lançamentos!$E$4:$E$1048576,Base!$CO$2)","v":0},{"$f":"SUMIFS(Lançamentos!$G$4:$G$1048576,Lançamentos!$F$4:$F$1048576,Base!$A20,Lançamentos!$D$4:$D$1048576,Base!CS$3,Lançamentos!$E$4:$E$1048576,Base!$CO$2)","v":0},{"$f":"SUMIFS(Lançamentos!$G$4:$G$1048576,Lançamentos!$F$4:$F$1048576,Base!$A20,Lançamentos!$D$4:$D$1048576,Base!CT$3,Lançamentos!$E$4:$E$1048576,Base!$CO$2)","v":0},{"$f":"SUMIFS(Lançamentos!$G$4:$G$1048576,Lançamentos!$F$4:$F$1048576,Base!$A20,Lançamentos!$D$4:$D$1048576,Base!CU$3,Lançamentos!$E$4:$E$1048576,Base!$CO$2)","v":0},{"$f":"SUMIFS(Lançamentos!$G$4:$G$1048576,Lançamentos!$F$4:$F$1048576,Base!$A20,Lançamentos!$D$4:$D$1048576,Base!CV$3,Lançamentos!$E$4:$E$1048576,Base!$CO$2)","v":0},{"$f":"SUMIFS(Lançamentos!$G$4:$G$1048576,Lançamentos!$F$4:$F$1048576,Base!$A20,Lançamentos!$D$4:$D$1048576,Base!CW$3,Lançamentos!$E$4:$E$1048576,Base!$CO$2)","v":0},{"$f":"SUMIFS(Lançamentos!$G$4:$G$1048576,Lançamentos!$F$4:$F$1048576,Base!$A20,Lançamentos!$D$4:$D$1048576,Base!CX$3,Lançamentos!$E$4:$E$1048576,Base!$CO$2)","v":0},{"$f":"SUMIFS(Lançamentos!$G$4:$G$1048576,Lançamentos!$F$4:$F$1048576,Base!$A20,Lançamentos!$D$4:$D$1048576,Base!CY$3,Lançamentos!$E$4:$E$1048576,Base!$CO$2)","v":0},{"$f":"SUMIFS(Lançamentos!$G$4:$G$1048576,Lançamentos!$F$4:$F$1048576,Base!$A20,Lançamentos!$D$4:$D$1048576,Base!CZ$3,Lançamentos!$E$4:$E$1048576,Base!$CO$2)","v":0},0,{"$f":"SUMIFS(Lançamentos!$G$4:$G$1048576,Lançamentos!$F$4:$F$1048576,Base!$A20,Lançamentos!$D$4:$D$1048576,Base!DB$3,Lançamentos!$E$4:$E$1048576,Base!$DB$2)","v":0},{"$f":"SUMIFS(Lançamentos!$G$4:$G$1048576,Lançamentos!$F$4:$F$1048576,Base!$A20,Lançamentos!$D$4:$D$1048576,Base!DC$3,Lançamentos!$E$4:$E$1048576,Base!$DB$2)","v":0},{"$f":"SUMIFS(Lançamentos!$G$4:$G$1048576,Lançamentos!$F$4:$F$1048576,Base!$A20,Lançamentos!$D$4:$D$1048576,Base!DD$3,Lançamentos!$E$4:$E$1048576,Base!$DB$2)","v":0},{"$f":"SUMIFS(Lançamentos!$G$4:$G$1048576,Lançamentos!$F$4:$F$1048576,Base!$A20,Lançamentos!$D$4:$D$1048576,Base!DE$3,Lançamentos!$E$4:$E$1048576,Base!$DB$2)","v":0},{"$f":"SUMIFS(Lançamentos!$G$4:$G$1048576,Lançamentos!$F$4:$F$1048576,Base!$A20,Lançamentos!$D$4:$D$1048576,Base!DF$3,Lançamentos!$E$4:$E$1048576,Base!$DB$2)","v":0},{"$f":"SUMIFS(Lançamentos!$G$4:$G$1048576,Lançamentos!$F$4:$F$1048576,Base!$A20,Lançamentos!$D$4:$D$1048576,Base!DG$3,Lançamentos!$E$4:$E$1048576,Base!$DB$2)","v":0},{"$f":"SUMIFS(Lançamentos!$G$4:$G$1048576,Lançamentos!$F$4:$F$1048576,Base!$A20,Lançamentos!$D$4:$D$1048576,Base!DH$3,Lançamentos!$E$4:$E$1048576,Base!$DB$2)","v":0},{"$f":"SUMIFS(Lançamentos!$G$4:$G$1048576,Lançamentos!$F$4:$F$1048576,Base!$A20,Lançamentos!$D$4:$D$1048576,Base!DI$3,Lançamentos!$E$4:$E$1048576,Base!$DB$2)","v":0},{"$f":"SUMIFS(Lançamentos!$G$4:$G$1048576,Lançamentos!$F$4:$F$1048576,Base!$A20,Lançamentos!$D$4:$D$1048576,Base!DJ$3,Lançamentos!$E$4:$E$1048576,Base!$DB$2)","v":0},{"$f":"SUMIFS(Lançamentos!$G$4:$G$1048576,Lançamentos!$F$4:$F$1048576,Base!$A20,Lançamentos!$D$4:$D$1048576,Base!DK$3,Lançamentos!$E$4:$E$1048576,Base!$DB$2)","v":0},{"$f":"SUMIFS(Lançamentos!$G$4:$G$1048576,Lançamentos!$F$4:$F$1048576,Base!$A20,Lançamentos!$D$4:$D$1048576,Base!DL$3,Lançamentos!$E$4:$E$1048576,Base!$DB$2)","v":0},{"$f":"SUMIFS(Lançamentos!$G$4:$G$1048576,Lançamentos!$F$4:$F$1048576,Base!$A20,Lançamentos!$D$4:$D$1048576,Base!DM$3,Lançamentos!$E$4:$E$1048576,Base!$DB$2)","v":0},0,{"$f":"SUMIFS(Lançamentos!$G$4:$G$1048576,Lançamentos!$F$4:$F$1048576,Base!$A20,Lançamentos!$D$4:$D$1048576,Base!DO$3,Lançamentos!$E$4:$E$1048576,Base!$DO$2)","v":0},{"$f":"SUMIFS(Lançamentos!$G$4:$G$1048576,Lançamentos!$F$4:$F$1048576,Base!$A20,Lançamentos!$D$4:$D$1048576,Base!DP$3,Lançamentos!$E$4:$E$1048576,Base!$DO$2)","v":0},{"$f":"SUMIFS(Lançamentos!$G$4:$G$1048576,Lançamentos!$F$4:$F$1048576,Base!$A20,Lançamentos!$D$4:$D$1048576,Base!DQ$3,Lançamentos!$E$4:$E$1048576,Base!$DO$2)","v":0},{"$f":"SUMIFS(Lançamentos!$G$4:$G$1048576,Lançamentos!$F$4:$F$1048576,Base!$A20,Lançamentos!$D$4:$D$1048576,Base!DR$3,Lançamentos!$E$4:$E$1048576,Base!$DO$2)","v":0},{"$f":"SUMIFS(Lançamentos!$G$4:$G$1048576,Lançamentos!$F$4:$F$1048576,Base!$A20,Lançamentos!$D$4:$D$1048576,Base!DS$3,Lançamentos!$E$4:$E$1048576,Base!$DO$2)","v":0},{"$f":"SUMIFS(Lançamentos!$G$4:$G$1048576,Lançamentos!$F$4:$F$1048576,Base!$A20,Lançamentos!$D$4:$D$1048576,Base!DT$3,Lançamentos!$E$4:$E$1048576,Base!$DO$2)","v":0},{"$f":"SUMIFS(Lançamentos!$G$4:$G$1048576,Lançamentos!$F$4:$F$1048576,Base!$A20,Lançamentos!$D$4:$D$1048576,Base!DU$3,Lançamentos!$E$4:$E$1048576,Base!$DO$2)","v":0},{"$f":"SUMIFS(Lançamentos!$G$4:$G$1048576,Lançamentos!$F$4:$F$1048576,Base!$A20,Lançamentos!$D$4:$D$1048576,Base!DV$3,Lançamentos!$E$4:$E$1048576,Base!$DO$2)","v":0},{"$f":"SUMIFS(Lançamentos!$G$4:$G$1048576,Lançamentos!$F$4:$F$1048576,Base!$A20,Lançamentos!$D$4:$D$1048576,Base!DW$3,Lançamentos!$E$4:$E$1048576,Base!$DO$2)","v":0},{"$f":"SUMIFS(Lançamentos!$G$4:$G$1048576,Lançamentos!$F$4:$F$1048576,Base!$A20,Lançamentos!$D$4:$D$1048576,Base!DX$3,Lançamentos!$E$4:$E$1048576,Base!$DO$2)","v":0},{"$f":"SUMIFS(Lançamentos!$G$4:$G$1048576,Lançamentos!$F$4:$F$1048576,Base!$A20,Lançamentos!$D$4:$D$1048576,Base!DY$3,Lançamentos!$E$4:$E$1048576,Base!$DO$2)","v":0},{"$f":"SUMIFS(Lançamentos!$G$4:$G$1048576,Lançamentos!$F$4:$F$1048576,Base!$A20,Lançamentos!$D$4:$D$1048576,Base!DZ$3,Lançamentos!$E$4:$E$1048576,Base!$DO$2)","v":0},0,{"$f":"SUMIFS(Lançamentos!$G$4:$G$1048576,Lançamentos!$F$4:$F$1048576,Base!$A20,Lançamentos!$D$4:$D$1048576,Base!EB$3,Lançamentos!$E$4:$E$1048576,Base!$EB$2)","v":0},{"$f":"SUMIFS(Lançamentos!$G$4:$G$1048576,Lançamentos!$F$4:$F$1048576,Base!$A20,Lançamentos!$D$4:$D$1048576,Base!EC$3,Lançamentos!$E$4:$E$1048576,Base!$EB$2)","v":0},{"$f":"SUMIFS(Lançamentos!$G$4:$G$1048576,Lançamentos!$F$4:$F$1048576,Base!$A20,Lançamentos!$D$4:$D$1048576,Base!ED$3,Lançamentos!$E$4:$E$1048576,Base!$EB$2)","v":0},{"$f":"SUMIFS(Lançamentos!$G$4:$G$1048576,Lançamentos!$F$4:$F$1048576,Base!$A20,Lançamentos!$D$4:$D$1048576,Base!EE$3,Lançamentos!$E$4:$E$1048576,Base!$EB$2)","v":0},{"$f":"SUMIFS(Lançamentos!$G$4:$G$1048576,Lançamentos!$F$4:$F$1048576,Base!$A20,Lançamentos!$D$4:$D$1048576,Base!EF$3,Lançamentos!$E$4:$E$1048576,Base!$EB$2)","v":0},{"$f":"SUMIFS(Lançamentos!$G$4:$G$1048576,Lançamentos!$F$4:$F$1048576,Base!$A20,Lançamentos!$D$4:$D$1048576,Base!EG$3,Lançamentos!$E$4:$E$1048576,Base!$EB$2)","v":0},{"$f":"SUMIFS(Lançamentos!$G$4:$G$1048576,Lançamentos!$F$4:$F$1048576,Base!$A20,Lançamentos!$D$4:$D$1048576,Base!EH$3,Lançamentos!$E$4:$E$1048576,Base!$EB$2)","v":0},{"$f":"SUMIFS(Lançamentos!$G$4:$G$1048576,Lançamentos!$F$4:$F$1048576,Base!$A20,Lançamentos!$D$4:$D$1048576,Base!EI$3,Lançamentos!$E$4:$E$1048576,Base!$EB$2)","v":0},{"$f":"SUMIFS(Lançamentos!$G$4:$G$1048576,Lançamentos!$F$4:$F$1048576,Base!$A20,Lançamentos!$D$4:$D$1048576,Base!EJ$3,Lançamentos!$E$4:$E$1048576,Base!$EB$2)","v":0},{"$f":"SUMIFS(Lançamentos!$G$4:$G$1048576,Lançamentos!$F$4:$F$1048576,Base!$A20,Lançamentos!$D$4:$D$1048576,Base!EK$3,Lançamentos!$E$4:$E$1048576,Base!$EB$2)","v":0},{"$f":"SUMIFS(Lançamentos!$G$4:$G$1048576,Lançamentos!$F$4:$F$1048576,Base!$A20,Lançamentos!$D$4:$D$1048576,Base!EL$3,Lançamentos!$E$4:$E$1048576,Base!$EB$2)","v":0},{"$f":"SUMIFS(Lançamentos!$G$4:$G$1048576,Lançamentos!$F$4:$F$1048576,Base!$A20,Lançamentos!$D$4:$D$1048576,Base!EM$3,Lançamentos!$E$4:$E$1048576,Base!$EB$2)","v":0},0,{"$f":"SUMIFS(Lançamentos!$G$4:$G$1048576,Lançamentos!$F$4:$F$1048576,Base!$A20,Lançamentos!$D$4:$D$1048576,Base!EO$3,Lançamentos!$E$4:$E$1048576,Base!$EO$2)","v":0},{"$f":"SUMIFS(Lançamentos!$G$4:$G$1048576,Lançamentos!$F$4:$F$1048576,Base!$A20,Lançamentos!$D$4:$D$1048576,Base!EP$3,Lançamentos!$E$4:$E$1048576,Base!$EO$2)","v":0},{"$f":"SUMIFS(Lançamentos!$G$4:$G$1048576,Lançamentos!$F$4:$F$1048576,Base!$A20,Lançamentos!$D$4:$D$1048576,Base!EQ$3,Lançamentos!$E$4:$E$1048576,Base!$EO$2)","v":0},{"$f":"SUMIFS(Lançamentos!$G$4:$G$1048576,Lançamentos!$F$4:$F$1048576,Base!$A20,Lançamentos!$D$4:$D$1048576,Base!ER$3,Lançamentos!$E$4:$E$1048576,Base!$EO$2)","v":0},{"$f":"SUMIFS(Lançamentos!$G$4:$G$1048576,Lançamentos!$F$4:$F$1048576,Base!$A20,Lançamentos!$D$4:$D$1048576,Base!ES$3,Lançamentos!$E$4:$E$1048576,Base!$EO$2)","v":0},{"$f":"SUMIFS(Lançamentos!$G$4:$G$1048576,Lançamentos!$F$4:$F$1048576,Base!$A20,Lançamentos!$D$4:$D$1048576,Base!ET$3,Lançamentos!$E$4:$E$1048576,Base!$EO$2)","v":0},{"$f":"SUMIFS(Lançamentos!$G$4:$G$1048576,Lançamentos!$F$4:$F$1048576,Base!$A20,Lançamentos!$D$4:$D$1048576,Base!EU$3,Lançamentos!$E$4:$E$1048576,Base!$EO$2)","v":0},{"$f":"SUMIFS(Lançamentos!$G$4:$G$1048576,Lançamentos!$F$4:$F$1048576,Base!$A20,Lançamentos!$D$4:$D$1048576,Base!EV$3,Lançamentos!$E$4:$E$1048576,Base!$EO$2)","v":0},{"$f":"SUMIFS(Lançamentos!$G$4:$G$1048576,Lançamentos!$F$4:$F$1048576,Base!$A20,Lançamentos!$D$4:$D$1048576,Base!EW$3,Lançamentos!$E$4:$E$1048576,Base!$EO$2)","v":0},{"$f":"SUMIFS(Lançamentos!$G$4:$G$1048576,Lançamentos!$F$4:$F$1048576,Base!$A20,Lançamentos!$D$4:$D$1048576,Base!EX$3,Lançamentos!$E$4:$E$1048576,Base!$EO$2)","v":0},{"$f":"SUMIFS(Lançamentos!$G$4:$G$1048576,Lançamentos!$F$4:$F$1048576,Base!$A20,Lançamentos!$D$4:$D$1048576,Base!EY$3,Lançamentos!$E$4:$E$1048576,Base!$EO$2)","v":0},{"$f":"SUMIFS(Lançamentos!$G$4:$G$1048576,Lançamentos!$F$4:$F$1048576,Base!$A20,Lançamentos!$D$4:$D$1048576,Base!EZ$3,Lançamentos!$E$4:$E$1048576,Base!$EO$2)","v":0},0,{"$f":"SUMIFS(Lançamentos!$G$4:$G$1048576,Lançamentos!$F$4:$F$1048576,Base!$A20,Lançamentos!$D$4:$D$1048576,Base!FB$3,Lançamentos!$E$4:$E$1048576,Base!$FB$2)","v":0},{"$f":"SUMIFS(Lançamentos!$G$4:$G$1048576,Lançamentos!$F$4:$F$1048576,Base!$A20,Lançamentos!$D$4:$D$1048576,Base!FC$3,Lançamentos!$E$4:$E$1048576,Base!$FB$2)","v":0},{"$f":"SUMIFS(Lançamentos!$G$4:$G$1048576,Lançamentos!$F$4:$F$1048576,Base!$A20,Lançamentos!$D$4:$D$1048576,Base!FD$3,Lançamentos!$E$4:$E$1048576,Base!$FB$2)","v":0},{"$f":"SUMIFS(Lançamentos!$G$4:$G$1048576,Lançamentos!$F$4:$F$1048576,Base!$A20,Lançamentos!$D$4:$D$1048576,Base!FE$3,Lançamentos!$E$4:$E$1048576,Base!$FB$2)","v":0},{"$f":"SUMIFS(Lançamentos!$G$4:$G$1048576,Lançamentos!$F$4:$F$1048576,Base!$A20,Lançamentos!$D$4:$D$1048576,Base!FF$3,Lançamentos!$E$4:$E$1048576,Base!$FB$2)","v":0},{"$f":"SUMIFS(Lançamentos!$G$4:$G$1048576,Lançamentos!$F$4:$F$1048576,Base!$A20,Lançamentos!$D$4:$D$1048576,Base!FG$3,Lançamentos!$E$4:$E$1048576,Base!$FB$2)","v":0},{"$f":"SUMIFS(Lançamentos!$G$4:$G$1048576,Lançamentos!$F$4:$F$1048576,Base!$A20,Lançamentos!$D$4:$D$1048576,Base!FH$3,Lançamentos!$E$4:$E$1048576,Base!$FB$2)","v":0},{"$f":"SUMIFS(Lançamentos!$G$4:$G$1048576,Lançamentos!$F$4:$F$1048576,Base!$A20,Lançamentos!$D$4:$D$1048576,Base!FI$3,Lançamentos!$E$4:$E$1048576,Base!$FB$2)","v":0},{"$f":"SUMIFS(Lançamentos!$G$4:$G$1048576,Lançamentos!$F$4:$F$1048576,Base!$A20,Lançamentos!$D$4:$D$1048576,Base!FJ$3,Lançamentos!$E$4:$E$1048576,Base!$FB$2)","v":0},{"$f":"SUMIFS(Lançamentos!$G$4:$G$1048576,Lançamentos!$F$4:$F$1048576,Base!$A20,Lançamentos!$D$4:$D$1048576,Base!FK$3,Lançamentos!$E$4:$E$1048576,Base!$FB$2)","v":0},{"$f":"SUMIFS(Lançamentos!$G$4:$G$1048576,Lançamentos!$F$4:$F$1048576,Base!$A20,Lançamentos!$D$4:$D$1048576,Base!FL$3,Lançamentos!$E$4:$E$1048576,Base!$FB$2)","v":0},{"$f":"SUMIFS(Lançamentos!$G$4:$G$1048576,Lançamentos!$F$4:$F$1048576,Base!$A20,Lançamentos!$D$4:$D$1048576,Base!FM$3,Lançamentos!$E$4:$E$1048576,Base!$FB$2)","v":0},0,{"$f":"SUMIFS(Lançamentos!$G$4:$G$1048576,Lançamentos!$F$4:$F$1048576,Base!$A20,Lançamentos!$D$4:$D$1048576,Base!FO$3,Lançamentos!$E$4:$E$1048576,Base!$FO$2)","v":0},{"$f":"SUMIFS(Lançamentos!$G$4:$G$1048576,Lançamentos!$F$4:$F$1048576,Base!$A20,Lançamentos!$D$4:$D$1048576,Base!FP$3,Lançamentos!$E$4:$E$1048576,Base!$FO$2)","v":0},{"$f":"SUMIFS(Lançamentos!$G$4:$G$1048576,Lançamentos!$F$4:$F$1048576,Base!$A20,Lançamentos!$D$4:$D$1048576,Base!FQ$3,Lançamentos!$E$4:$E$1048576,Base!$FO$2)","v":0},{"$f":"SUMIFS(Lançamentos!$G$4:$G$1048576,Lançamentos!$F$4:$F$1048576,Base!$A20,Lançamentos!$D$4:$D$1048576,Base!FR$3,Lançamentos!$E$4:$E$1048576,Base!$FO$2)","v":0},{"$f":"SUMIFS(Lançamentos!$G$4:$G$1048576,Lançamentos!$F$4:$F$1048576,Base!$A20,Lançamentos!$D$4:$D$1048576,Base!FS$3,Lançamentos!$E$4:$E$1048576,Base!$FO$2)","v":0},{"$f":"SUMIFS(Lançamentos!$G$4:$G$1048576,Lançamentos!$F$4:$F$1048576,Base!$A20,Lançamentos!$D$4:$D$1048576,Base!FT$3,Lançamentos!$E$4:$E$1048576,Base!$FO$2)","v":0},{"$f":"SUMIFS(Lançamentos!$G$4:$G$1048576,Lançamentos!$F$4:$F$1048576,Base!$A20,Lançamentos!$D$4:$D$1048576,Base!FU$3,Lançamentos!$E$4:$E$1048576,Base!$FO$2)","v":0},{"$f":"SUMIFS(Lançamentos!$G$4:$G$1048576,Lançamentos!$F$4:$F$1048576,Base!$A20,Lançamentos!$D$4:$D$1048576,Base!FV$3,Lançamentos!$E$4:$E$1048576,Base!$FO$2)","v":0},{"$f":"SUMIFS(Lançamentos!$G$4:$G$1048576,Lançamentos!$F$4:$F$1048576,Base!$A20,Lançamentos!$D$4:$D$1048576,Base!FW$3,Lançamentos!$E$4:$E$1048576,Base!$FO$2)","v":0},{"$f":"SUMIFS(Lançamentos!$G$4:$G$1048576,Lançamentos!$F$4:$F$1048576,Base!$A20,Lançamentos!$D$4:$D$1048576,Base!FX$3,Lançamentos!$E$4:$E$1048576,Base!$FO$2)","v":0},{"$f":"SUMIFS(Lançamentos!$G$4:$G$1048576,Lançamentos!$F$4:$F$1048576,Base!$A20,Lançamentos!$D$4:$D$1048576,Base!FY$3,Lançamentos!$E$4:$E$1048576,Base!$FO$2)","v":0},{"$f":"SUMIFS(Lançamentos!$G$4:$G$1048576,Lançamentos!$F$4:$F$1048576,Base!$A20,Lançamentos!$D$4:$D$1048576,Base!FZ$3,Lançamentos!$E$4:$E$1048576,Base!$FO$2)","v":0},0,{"$f":"SUMIFS(Lançamentos!$G$4:$G$1048576,Lançamentos!$F$4:$F$1048576,Base!$A20,Lançamentos!$D$4:$D$1048576,Base!GB$3,Lançamentos!$E$4:$E$1048576,Base!$GB$2)","v":0},{"$f":"SUMIFS(Lançamentos!$G$4:$G$1048576,Lançamentos!$F$4:$F$1048576,Base!$A20,Lançamentos!$D$4:$D$1048576,Base!GC$3,Lançamentos!$E$4:$E$1048576,Base!$GB$2)","v":0},{"$f":"SUMIFS(Lançamentos!$G$4:$G$1048576,Lançamentos!$F$4:$F$1048576,Base!$A20,Lançamentos!$D$4:$D$1048576,Base!GD$3,Lançamentos!$E$4:$E$1048576,Base!$GB$2)","v":0},{"$f":"SUMIFS(Lançamentos!$G$4:$G$1048576,Lançamentos!$F$4:$F$1048576,Base!$A20,Lançamentos!$D$4:$D$1048576,Base!GE$3,Lançamentos!$E$4:$E$1048576,Base!$GB$2)","v":0},{"$f":"SUMIFS(Lançamentos!$G$4:$G$1048576,Lançamentos!$F$4:$F$1048576,Base!$A20,Lançamentos!$D$4:$D$1048576,Base!GF$3,Lançamentos!$E$4:$E$1048576,Base!$GB$2)","v":0},{"$f":"SUMIFS(Lançamentos!$G$4:$G$1048576,Lançamentos!$F$4:$F$1048576,Base!$A20,Lançamentos!$D$4:$D$1048576,Base!GG$3,Lançamentos!$E$4:$E$1048576,Base!$GB$2)","v":0},{"$f":"SUMIFS(Lançamentos!$G$4:$G$1048576,Lançamentos!$F$4:$F$1048576,Base!$A20,Lançamentos!$D$4:$D$1048576,Base!GH$3,Lançamentos!$E$4:$E$1048576,Base!$GB$2)","v":0},{"$f":"SUMIFS(Lançamentos!$G$4:$G$1048576,Lançamentos!$F$4:$F$1048576,Base!$A20,Lançamentos!$D$4:$D$1048576,Base!GI$3,Lançamentos!$E$4:$E$1048576,Base!$GB$2)","v":0},{"$f":"SUMIFS(Lançamentos!$G$4:$G$1048576,Lançamentos!$F$4:$F$1048576,Base!$A20,Lançamentos!$D$4:$D$1048576,Base!GJ$3,Lançamentos!$E$4:$E$1048576,Base!$GB$2)","v":0},{"$f":"SUMIFS(Lançamentos!$G$4:$G$1048576,Lançamentos!$F$4:$F$1048576,Base!$A20,Lançamentos!$D$4:$D$1048576,Base!GK$3,Lançamentos!$E$4:$E$1048576,Base!$GB$2)","v":0},{"$f":"SUMIFS(Lançamentos!$G$4:$G$1048576,Lançamentos!$F$4:$F$1048576,Base!$A20,Lançamentos!$D$4:$D$1048576,Base!GL$3,Lançamentos!$E$4:$E$1048576,Base!$GB$2)","v":0},{"$f":"SUMIFS(Lançamentos!$G$4:$G$1048576,Lançamentos!$F$4:$F$1048576,Base!$A20,Lançamentos!$D$4:$D$1048576,Base!GM$3,Lançamentos!$E$4:$E$1048576,Base!$GB$2)","v":0},0]
[{"$f":"IF(Lançamentos!A18=\"\",\"\",Lançamentos!A18)","v":"Contador"},{"$f":"SUMIFS(Lançamentos!$G$4:$G$1048576,Lançamentos!$F$4:$F$1048576,Base!$A21,Lançamentos!$D$4:$D$1048576,Base!B$3,Lançamentos!$E$4:$E$1048576,Base!$B$2)","v":0},{"$f":"SUMIFS(Lançamentos!$G$4:$G$1048576,Lançamentos!$F$4:$F$1048576,Base!$A21,Lançamentos!$D$4:$D$1048576,Base!C$3,Lançamentos!$E$4:$E$1048576,Base!$B$2)","v":0},{"$f":"SUMIFS(Lançamentos!$G$4:$G$1048576,Lançamentos!$F$4:$F$1048576,Base!$A21,Lançamentos!$D$4:$D$1048576,Base!D$3,Lançamentos!$E$4:$E$1048576,Base!$B$2)","v":0},{"$f":"SUMIFS(Lançamentos!$G$4:$G$1048576,Lançamentos!$F$4:$F$1048576,Base!$A21,Lançamentos!$D$4:$D$1048576,Base!E$3,Lançamentos!$E$4:$E$1048576,Base!$B$2)","v":0},{"$f":"SUMIFS(Lançamentos!$G$4:$G$1048576,Lançamentos!$F$4:$F$1048576,Base!$A21,Lançamentos!$D$4:$D$1048576,Base!F$3,Lançamentos!$E$4:$E$1048576,Base!$B$2)","v":0},{"$f":"SUMIFS(Lançamentos!$G$4:$G$1048576,Lançamentos!$F$4:$F$1048576,Base!$A21,Lançamentos!$D$4:$D$1048576,Base!G$3,Lançamentos!$E$4:$E$1048576,Base!$B$2)","v":0},{"$f":"SUMIFS(Lançamentos!$G$4:$G$1048576,Lançamentos!$F$4:$F$1048576,Base!$A21,Lançamentos!$D$4:$D$1048576,Base!H$3,Lançamentos!$E$4:$E$1048576,Base!$B$2)","v":0},{"$f":"SUMIFS(Lançamentos!$G$4:$G$1048576,Lançamentos!$F$4:$F$1048576,Base!$A21,Lançamentos!$D$4:$D$1048576,Base!I$3,Lançamentos!$E$4:$E$1048576,Base!$B$2)","v":0},{"$f":"SUMIFS(Lançamentos!$G$4:$G$1048576,Lançamentos!$F$4:$F$1048576,Base!$A21,Lançamentos!$D$4:$D$1048576,Base!J$3,Lançamentos!$E$4:$E$1048576,Base!$B$2)","v":0},{"$f":"SUMIFS(Lançamentos!$G$4:$G$1048576,Lançamentos!$F$4:$F$1048576,Base!$A21,Lançamentos!$D$4:$D$1048576,Base!K$3,Lançamentos!$E$4:$E$1048576,Base!$B$2)","v":0},{"$f":"SUMIFS(Lançamentos!$G$4:$G$1048576,Lançamentos!$F$4:$F$1048576,Base!$A21,Lançamentos!$D$4:$D$1048576,Base!L$3,Lançamentos!$E$4:$E$1048576,Base!$B$2)","v":0},{"$f":"SUMIFS(Lançamentos!$G$4:$G$1048576,Lançamentos!$F$4:$F$1048576,Base!$A21,Lançamentos!$D$4:$D$1048576,Base!M$3,Lançamentos!$E$4:$E$1048576,Base!$B$2)","v":0},0,{"$f":"SUMIFS(Lançamentos!$G$4:$G$1048576,Lançamentos!$F$4:$F$1048576,Base!$A21,Lançamentos!$D$4:$D$1048576,Base!O$3,Lançamentos!$E$4:$E$1048576,Base!$O$2)","v":0},{"$f":"SUMIFS(Lançamentos!$G$4:$G$1048576,Lançamentos!$F$4:$F$1048576,Base!$A21,Lançamentos!$D$4:$D$1048576,Base!P$3,Lançamentos!$E$4:$E$1048576,Base!$O$2)","v":0},{"$f":"SUMIFS(Lançamentos!$G$4:$G$1048576,Lançamentos!$F$4:$F$1048576,Base!$A21,Lançamentos!$D$4:$D$1048576,Base!Q$3,Lançamentos!$E$4:$E$1048576,Base!$O$2)","v":0},{"$f":"SUMIFS(Lançamentos!$G$4:$G$1048576,Lançamentos!$F$4:$F$1048576,Base!$A21,Lançamentos!$D$4:$D$1048576,Base!R$3,Lançamentos!$E$4:$E$1048576,Base!$O$2)","v":0},{"$f":"SUMIFS(Lançamentos!$G$4:$G$1048576,Lançamentos!$F$4:$F$1048576,Base!$A21,Lançamentos!$D$4:$D$1048576,Base!S$3,Lançamentos!$E$4:$E$1048576,Base!$O$2)","v":0},{"$f":"SUMIFS(Lançamentos!$G$4:$G$1048576,Lançamentos!$F$4:$F$1048576,Base!$A21,Lançamentos!$D$4:$D$1048576,Base!T$3,Lançamentos!$E$4:$E$1048576,Base!$O$2)","v":0},{"$f":"SUMIFS(Lançamentos!$G$4:$G$1048576,Lançamentos!$F$4:$F$1048576,Base!$A21,Lançamentos!$D$4:$D$1048576,Base!U$3,Lançamentos!$E$4:$E$1048576,Base!$O$2)","v":0},{"$f":"SUMIFS(Lançamentos!$G$4:$G$1048576,Lançamentos!$F$4:$F$1048576,Base!$A21,Lançamentos!$D$4:$D$1048576,Base!V$3,Lançamentos!$E$4:$E$1048576,Base!$O$2)","v":0},{"$f":"SUMIFS(Lançamentos!$G$4:$G$1048576,Lançamentos!$F$4:$F$1048576,Base!$A21,Lançamentos!$D$4:$D$1048576,Base!W$3,Lançamentos!$E$4:$E$1048576,Base!$O$2)","v":0},{"$f":"SUMIFS(Lançamentos!$G$4:$G$1048576,Lançamentos!$F$4:$F$1048576,Base!$A21,Lançamentos!$D$4:$D$1048576,Base!X$3,Lançamentos!$E$4:$E$1048576,Base!$O$2)","v":0},{"$f":"SUMIFS(Lançamentos!$G$4:$G$1048576,Lançamentos!$F$4:$F$1048576,Base!$A21,Lançamentos!$D$4:$D$1048576,Base!Y$3,Lançamentos!$E$4:$E$1048576,Base!$O$2)","v":0},{"$f":"SUMIFS(Lançamentos!$G$4:$G$1048576,Lançamentos!$F$4:$F$1048576,Base!$A21,Lançamentos!$D$4:$D$1048576,Base!Z$3,Lançamentos!$E$4:$E$1048576,Base!$O$2)","v":0},0,{"$f":"SUMIFS(Lançamentos!$G$4:$G$1048576,Lançamentos!$F$4:$F$1048576,Base!$A21,Lançamentos!$D$4:$D$1048576,Base!AB$3,Lançamentos!$E$4:$E$1048576,Base!$AB$2)","v":0},{"$f":"SUMIFS(Lançamentos!$G$4:$G$1048576,Lançamentos!$F$4:$F$1048576,Base!$A21,Lançamentos!$D$4:$D$1048576,Base!AC$3,Lançamentos!$E$4:$E$1048576,Base!$AB$2)","v":0},{"$f":"SUMIFS(Lançamentos!$G$4:$G$1048576,Lançamentos!$F$4:$F$1048576,Base!$A21,Lançamentos!$D$4:$D$1048576,Base!AD$3,Lançamentos!$E$4:$E$1048576,Base!$AB$2)","v":0},{"$f":"SUMIFS(Lançamentos!$G$4:$G$1048576,Lançamentos!$F$4:$F$1048576,Base!$A21,Lançamentos!$D$4:$D$1048576,Base!AE$3,Lançamentos!$E$4:$E$1048576,Base!$AB$2)","v":0},{"$f":"SUMIFS(Lançamentos!$G$4:$G$1048576,Lançamentos!$F$4:$F$1048576,Base!$A21,Lançamentos!$D$4:$D$1048576,Base!AF$3,Lançamentos!$E$4:$E$1048576,Base!$AB$2)","v":0},{"$f":"SUMIFS(Lançamentos!$G$4:$G$1048576,Lançamentos!$F$4:$F$1048576,Base!$A21,Lançamentos!$D$4:$D$1048576,Base!AG$3,Lançamentos!$E$4:$E$1048576,Base!$AB$2)","v":0},{"$f":"SUMIFS(Lançamentos!$G$4:$G$1048576,Lançamentos!$F$4:$F$1048576,Base!$A21,Lançamentos!$D$4:$D$1048576,Base!AH$3,Lançamentos!$E$4:$E$1048576,Base!$AB$2)","v":0},{"$f":"SUMIFS(Lançamentos!$G$4:$G$1048576,Lançamentos!$F$4:$F$1048576,Base!$A21,Lançamentos!$D$4:$D$1048576,Base!AI$3,Lançamentos!$E$4:$E$1048576,Base!$AB$2)","v":0},{"$f":"SUMIFS(Lançamentos!$G$4:$G$1048576,Lançamentos!$F$4:$F$1048576,Base!$A21,Lançamentos!$D$4:$D$1048576,Base!AJ$3,Lançamentos!$E$4:$E$1048576,Base!$AB$2)","v":0},{"$f":"SUMIFS(Lançamentos!$G$4:$G$1048576,Lançamentos!$F$4:$F$1048576,Base!$A21,Lançamentos!$D$4:$D$1048576,Base!AK$3,Lançamentos!$E$4:$E$1048576,Base!$AB$2)","v":0},{"$f":"SUMIFS(Lançamentos!$G$4:$G$1048576,Lançamentos!$F$4:$F$1048576,Base!$A21,Lançamentos!$D$4:$D$1048576,Base!AL$3,Lançamentos!$E$4:$E$1048576,Base!$AB$2)","v":0},{"$f":"SUMIFS(Lançamentos!$G$4:$G$1048576,Lançamentos!$F$4:$F$1048576,Base!$A21,Lançamentos!$D$4:$D$1048576,Base!AM$3,Lançamentos!$E$4:$E$1048576,Base!$AB$2)","v":0},0,{"$f":"SUMIFS(Lançamentos!$G$4:$G$1048576,Lançamentos!$F$4:$F$1048576,Base!$A21,Lançamentos!$D$4:$D$1048576,Base!AO$3,Lançamentos!$E$4:$E$1048576,Base!$AO$2)","v":0},{"$f":"SUMIFS(Lançamentos!$G$4:$G$1048576,Lançamentos!$F$4:$F$1048576,Base!$A21,Lançamentos!$D$4:$D$1048576,Base!AP$3,Lançamentos!$E$4:$E$1048576,Base!$AO$2)","v":0},{"$f":"SUMIFS(Lançamentos!$G$4:$G$1048576,Lançamentos!$F$4:$F$1048576,Base!$A21,Lançamentos!$D$4:$D$1048576,Base!AQ$3,Lançamentos!$E$4:$E$1048576,Base!$AO$2)","v":0},{"$f":"SUMIFS(Lançamentos!$G$4:$G$1048576,Lançamentos!$F$4:$F$1048576,Base!$A21,Lançamentos!$D$4:$D$1048576,Base!AR$3,Lançamentos!$E$4:$E$1048576,Base!$AO$2)","v":0},{"$f":"SUMIFS(Lançamentos!$G$4:$G$1048576,Lançamentos!$F$4:$F$1048576,Base!$A21,Lançamentos!$D$4:$D$1048576,Base!AS$3,Lançamentos!$E$4:$E$1048576,Base!$AO$2)","v":0},{"$f":"SUMIFS(Lançamentos!$G$4:$G$1048576,Lançamentos!$F$4:$F$1048576,Base!$A21,Lançamentos!$D$4:$D$1048576,Base!AT$3,Lançamentos!$E$4:$E$1048576,Base!$AO$2)","v":0},{"$f":"SUMIFS(Lançamentos!$G$4:$G$1048576,Lançamentos!$F$4:$F$1048576,Base!$A21,Lançamentos!$D$4:$D$1048576,Base!AU$3,Lançamentos!$E$4:$E$1048576,Base!$AO$2)","v":0},{"$f":"SUMIFS(Lançamentos!$G$4:$G$1048576,Lançamentos!$F$4:$F$1048576,Base!$A21,Lançamentos!$D$4:$D$1048576,Base!AV$3,Lançamentos!$E$4:$E$1048576,Base!$AO$2)","v":0},{"$f":"SUMIFS(Lançamentos!$G$4:$G$1048576,Lançamentos!$F$4:$F$1048576,Base!$A21,Lançamentos!$D$4:$D$1048576,Base!AW$3,Lançamentos!$E$4:$E$1048576,Base!$AO$2)","v":0},{"$f":"SUMIFS(Lançamentos!$G$4:$G$1048576,Lançamentos!$F$4:$F$1048576,Base!$A21,Lançamentos!$D$4:$D$1048576,Base!AX$3,Lançamentos!$E$4:$E$1048576,Base!$AO$2)","v":0},{"$f":"SUMIFS(Lançamentos!$G$4:$G$1048576,Lançamentos!$F$4:$F$1048576,Base!$A21,Lançamentos!$D$4:$D$1048576,Base!AY$3,Lançamentos!$E$4:$E$1048576,Base!$AO$2)","v":0},{"$f":"SUMIFS(Lançamentos!$G$4:$G$1048576,Lançamentos!$F$4:$F$1048576,Base!$A21,Lançamentos!$D$4:$D$1048576,Base!AZ$3,Lançamentos!$E$4:$E$1048576,Base!$AO$2)","v":0},0,{"$f":"SUMIFS(Lançamentos!$G$4:$G$1048576,Lançamentos!$F$4:$F$1048576,Base!$A21,Lançamentos!$D$4:$D$1048576,Base!BB$3,Lançamentos!$E$4:$E$1048576,Base!$BB$2)","v":0},{"$f":"SUMIFS(Lançamentos!$G$4:$G$1048576,Lançamentos!$F$4:$F$1048576,Base!$A21,Lançamentos!$D$4:$D$1048576,Base!BC$3,Lançamentos!$E$4:$E$1048576,Base!$BB$2)","v":0},{"$f":"SUMIFS(Lançamentos!$G$4:$G$1048576,Lançamentos!$F$4:$F$1048576,Base!$A21,Lançamentos!$D$4:$D$1048576,Base!BD$3,Lançamentos!$E$4:$E$1048576,Base!$BB$2)","v":0},{"$f":"SUMIFS(Lançamentos!$G$4:$G$1048576,Lançamentos!$F$4:$F$1048576,Base!$A21,Lançamentos!$D$4:$D$1048576,Base!BE$3,Lançamentos!$E$4:$E$1048576,Base!$BB$2)","v":0},{"$f":"SUMIFS(Lançamentos!$G$4:$G$1048576,Lançamentos!$F$4:$F$1048576,Base!$A21,Lançamentos!$D$4:$D$1048576,Base!BF$3,Lançamentos!$E$4:$E$1048576,Base!$BB$2)","v":0},{"$f":"SUMIFS(Lançamentos!$G$4:$G$1048576,Lançamentos!$F$4:$F$1048576,Base!$A21,Lançamentos!$D$4:$D$1048576,Base!BG$3,Lançamentos!$E$4:$E$1048576,Base!$BB$2)","v":0},{"$f":"SUMIFS(Lançamentos!$G$4:$G$1048576,Lançamentos!$F$4:$F$1048576,Base!$A21,Lançamentos!$D$4:$D$1048576,Base!BH$3,Lançamentos!$E$4:$E$1048576,Base!$BB$2)","v":0},{"$f":"SUMIFS(Lançamentos!$G$4:$G$1048576,Lançamentos!$F$4:$F$1048576,Base!$A21,Lançamentos!$D$4:$D$1048576,Base!BI$3,Lançamentos!$E$4:$E$1048576,Base!$BB$2)","v":0},{"$f":"SUMIFS(Lançamentos!$G$4:$G$1048576,Lançamentos!$F$4:$F$1048576,Base!$A21,Lançamentos!$D$4:$D$1048576,Base!BJ$3,Lançamentos!$E$4:$E$1048576,Base!$BB$2)","v":0},{"$f":"SUMIFS(Lançamentos!$G$4:$G$1048576,Lançamentos!$F$4:$F$1048576,Base!$A21,Lançamentos!$D$4:$D$1048576,Base!BK$3,Lançamentos!$E$4:$E$1048576,Base!$BB$2)","v":0},{"$f":"SUMIFS(Lançamentos!$G$4:$G$1048576,Lançamentos!$F$4:$F$1048576,Base!$A21,Lançamentos!$D$4:$D$1048576,Base!BL$3,Lançamentos!$E$4:$E$1048576,Base!$BB$2)","v":0},{"$f":"SUMIFS(Lançamentos!$G$4:$G$1048576,Lançamentos!$F$4:$F$1048576,Base!$A21,Lançamentos!$D$4:$D$1048576,Base!BM$3,Lançamentos!$E$4:$E$1048576,Base!$BB$2)","v":0},0,{"$f":"SUMIFS(Lançamentos!$G$4:$G$1048576,Lançamentos!$F$4:$F$1048576,Base!$A21,Lançamentos!$D$4:$D$1048576,Base!BO$3,Lançamentos!$E$4:$E$1048576,Base!$BO$2)","v":0},{"$f":"SUMIFS(Lançamentos!$G$4:$G$1048576,Lançamentos!$F$4:$F$1048576,Base!$A21,Lançamentos!$D$4:$D$1048576,Base!BP$3,Lançamentos!$E$4:$E$1048576,Base!$BO$2)","v":0},{"$f":"SUMIFS(Lançamentos!$G$4:$G$1048576,Lançamentos!$F$4:$F$1048576,Base!$A21,Lançamentos!$D$4:$D$1048576,Base!BQ$3,Lançamentos!$E$4:$E$1048576,Base!$BO$2)","v":0},{"$f":"SUMIFS(Lançamentos!$G$4:$G$1048576,Lançamentos!$F$4:$F$1048576,Base!$A21,Lançamentos!$D$4:$D$1048576,Base!BR$3,Lançamentos!$E$4:$E$1048576,Base!$BO$2)","v":0},{"$f":"SUMIFS(Lançamentos!$G$4:$G$1048576,Lançamentos!$F$4:$F$1048576,Base!$A21,Lançamentos!$D$4:$D$1048576,Base!BS$3,Lançamentos!$E$4:$E$1048576,Base!$BO$2)","v":0},{"$f":"SUMIFS(Lançamentos!$G$4:$G$1048576,Lançamentos!$F$4:$F$1048576,Base!$A21,Lançamentos!$D$4:$D$1048576,Base!BT$3,Lançamentos!$E$4:$E$1048576,Base!$BO$2)","v":0},{"$f":"SUMIFS(Lançamentos!$G$4:$G$1048576,Lançamentos!$F$4:$F$1048576,Base!$A21,Lançamentos!$D$4:$D$1048576,Base!BU$3,Lançamentos!$E$4:$E$1048576,Base!$BO$2)","v":0},{"$f":"SUMIFS(Lançamentos!$G$4:$G$1048576,Lançamentos!$F$4:$F$1048576,Base!$A21,Lançamentos!$D$4:$D$1048576,Base!BV$3,Lançamentos!$E$4:$E$1048576,Base!$BO$2)","v":0},{"$f":"SUMIFS(Lançamentos!$G$4:$G$1048576,Lançamentos!$F$4:$F$1048576,Base!$A21,Lançamentos!$D$4:$D$1048576,Base!BW$3,Lançamentos!$E$4:$E$1048576,Base!$BO$2)","v":0},{"$f":"SUMIFS(Lançamentos!$G$4:$G$1048576,Lançamentos!$F$4:$F$1048576,Base!$A21,Lançamentos!$D$4:$D$1048576,Base!BX$3,Lançamentos!$E$4:$E$1048576,Base!$BO$2)","v":0},{"$f":"SUMIFS(Lançamentos!$G$4:$G$1048576,Lançamentos!$F$4:$F$1048576,Base!$A21,Lançamentos!$D$4:$D$1048576,Base!BY$3,Lançamentos!$E$4:$E$1048576,Base!$BO$2)","v":0},{"$f":"SUMIFS(Lançamentos!$G$4:$G$1048576,Lançamentos!$F$4:$F$1048576,Base!$A21,Lançamentos!$D$4:$D$1048576,Base!BZ$3,Lançamentos!$E$4:$E$1048576,Base!$BO$2)","v":0},0,{"$f":"SUMIFS(Lançamentos!$G$4:$G$1048576,Lançamentos!$F$4:$F$1048576,Base!$A21,Lançamentos!$D$4:$D$1048576,Base!CB$3,Lançamentos!$E$4:$E$1048576,Base!$CB$2)","v":0},{"$f":"SUMIFS(Lançamentos!$G$4:$G$1048576,Lançamentos!$F$4:$F$1048576,Base!$A21,Lançamentos!$D$4:$D$1048576,Base!CC$3,Lançamentos!$E$4:$E$1048576,Base!$CB$2)","v":0},{"$f":"SUMIFS(Lançamentos!$G$4:$G$1048576,Lançamentos!$F$4:$F$1048576,Base!$A21,Lançamentos!$D$4:$D$1048576,Base!CD$3,Lançamentos!$E$4:$E$1048576,Base!$CB$2)","v":0},{"$f":"SUMIFS(Lançamentos!$G$4:$G$1048576,Lançamentos!$F$4:$F$1048576,Base!$A21,Lançamentos!$D$4:$D$1048576,Base!CE$3,Lançamentos!$E$4:$E$1048576,Base!$CB$2)","v":0},{"$f":"SUMIFS(Lançamentos!$G$4:$G$1048576,Lançamentos!$F$4:$F$1048576,Base!$A21,Lançamentos!$D$4:$D$1048576,Base!CF$3,Lançamentos!$E$4:$E$1048576,Base!$CB$2)","v":0},{"$f":"SUMIFS(Lançamentos!$G$4:$G$1048576,Lançamentos!$F$4:$F$1048576,Base!$A21,Lançamentos!$D$4:$D$1048576,Base!CG$3,Lançamentos!$E$4:$E$1048576,Base!$CB$2)","v":0},{"$f":"SUMIFS(Lançamentos!$G$4:$G$1048576,Lançamentos!$F$4:$F$1048576,Base!$A21,Lançamentos!$D$4:$D$1048576,Base!CH$3,Lançamentos!$E$4:$E$1048576,Base!$CB$2)","v":0},{"$f":"SUMIFS(Lançamentos!$G$4:$G$1048576,Lançamentos!$F$4:$F$1048576,Base!$A21,Lançamentos!$D$4:$D$1048576,Base!CI$3,Lançamentos!$E$4:$E$1048576,Base!$CB$2)","v":0},{"$f":"SUMIFS(Lançamentos!$G$4:$G$1048576,Lançamentos!$F$4:$F$1048576,Base!$A21,Lançamentos!$D$4:$D$1048576,Base!CJ$3,Lançamentos!$E$4:$E$1048576,Base!$CB$2)","v":0},{"$f":"SUMIFS(Lançamentos!$G$4:$G$1048576,Lançamentos!$F$4:$F$1048576,Base!$A21,Lançamentos!$D$4:$D$1048576,Base!CK$3,Lançamentos!$E$4:$E$1048576,Base!$CB$2)","v":0},{"$f":"SUMIFS(Lançamentos!$G$4:$G$1048576,Lançamentos!$F$4:$F$1048576,Base!$A21,Lançamentos!$D$4:$D$1048576,Base!CL$3,Lançamentos!$E$4:$E$1048576,Base!$CB$2)","v":0},{"$f":"SUMIFS(Lançamentos!$G$4:$G$1048576,Lançamentos!$F$4:$F$1048576,Base!$A21,Lançamentos!$D$4:$D$1048576,Base!CM$3,Lançamentos!$E$4:$E$1048576,Base!$CB$2)","v":0},0,{"$f":"SUMIFS(Lançamentos!$G$4:$G$1048576,Lançamentos!$F$4:$F$1048576,Base!$A21,Lançamentos!$D$4:$D$1048576,Base!CO$3,Lançamentos!$E$4:$E$1048576,Base!$CO$2)","v":0},{"$f":"SUMIFS(Lançamentos!$G$4:$G$1048576,Lançamentos!$F$4:$F$1048576,Base!$A21,Lançamentos!$D$4:$D$1048576,Base!CP$3,Lançamentos!$E$4:$E$1048576,Base!$CO$2)","v":0},{"$f":"SUMIFS(Lançamentos!$G$4:$G$1048576,Lançamentos!$F$4:$F$1048576,Base!$A21,Lançamentos!$D$4:$D$1048576,Base!CQ$3,Lançamentos!$E$4:$E$1048576,Base!$CO$2)","v":0},{"$f":"SUMIFS(Lançamentos!$G$4:$G$1048576,Lançamentos!$F$4:$F$1048576,Base!$A21,Lançamentos!$D$4:$D$1048576,Base!CR$3,Lançamentos!$E$4:$E$1048576,Base!$CO$2)","v":0},{"$f":"SUMIFS(Lançamentos!$G$4:$G$1048576,Lançamentos!$F$4:$F$1048576,Base!$A21,Lançamentos!$D$4:$D$1048576,Base!CS$3,Lançamentos!$E$4:$E$1048576,Base!$CO$2)","v":0},{"$f":"SUMIFS(Lançamentos!$G$4:$G$1048576,Lançamentos!$F$4:$F$1048576,Base!$A21,Lançamentos!$D$4:$D$1048576,Base!CT$3,Lançamentos!$E$4:$E$1048576,Base!$CO$2)","v":0},{"$f":"SUMIFS(Lançamentos!$G$4:$G$1048576,Lançamentos!$F$4:$F$1048576,Base!$A21,Lançamentos!$D$4:$D$1048576,Base!CU$3,Lançamentos!$E$4:$E$1048576,Base!$CO$2)","v":0},{"$f":"SUMIFS(Lançamentos!$G$4:$G$1048576,Lançamentos!$F$4:$F$1048576,Base!$A21,Lançamentos!$D$4:$D$1048576,Base!CV$3,Lançamentos!$E$4:$E$1048576,Base!$CO$2)","v":0},{"$f":"SUMIFS(Lançamentos!$G$4:$G$1048576,Lançamentos!$F$4:$F$1048576,Base!$A21,Lançamentos!$D$4:$D$1048576,Base!CW$3,Lançamentos!$E$4:$E$1048576,Base!$CO$2)","v":0},{"$f":"SUMIFS(Lançamentos!$G$4:$G$1048576,Lançamentos!$F$4:$F$1048576,Base!$A21,Lançamentos!$D$4:$D$1048576,Base!CX$3,Lançamentos!$E$4:$E$1048576,Base!$CO$2)","v":0},{"$f":"SUMIFS(Lançamentos!$G$4:$G$1048576,Lançamentos!$F$4:$F$1048576,Base!$A21,Lançamentos!$D$4:$D$1048576,Base!CY$3,Lançamentos!$E$4:$E$1048576,Base!$CO$2)","v":0},{"$f":"SUMIFS(Lançamentos!$G$4:$G$1048576,Lançamentos!$F$4:$F$1048576,Base!$A21,Lançamentos!$D$4:$D$1048576,Base!CZ$3,Lançamentos!$E$4:$E$1048576,Base!$CO$2)","v":0},0,{"$f":"SUMIFS(Lançamentos!$G$4:$G$1048576,Lançamentos!$F$4:$F$1048576,Base!$A21,Lançamentos!$D$4:$D$1048576,Base!DB$3,Lançamentos!$E$4:$E$1048576,Base!$DB$2)","v":0},{"$f":"SUMIFS(Lançamentos!$G$4:$G$1048576,Lançamentos!$F$4:$F$1048576,Base!$A21,Lançamentos!$D$4:$D$1048576,Base!DC$3,Lançamentos!$E$4:$E$1048576,Base!$DB$2)","v":0},{"$f":"SUMIFS(Lançamentos!$G$4:$G$1048576,Lançamentos!$F$4:$F$1048576,Base!$A21,Lançamentos!$D$4:$D$1048576,Base!DD$3,Lançamentos!$E$4:$E$1048576,Base!$DB$2)","v":0},{"$f":"SUMIFS(Lançamentos!$G$4:$G$1048576,Lançamentos!$F$4:$F$1048576,Base!$A21,Lançamentos!$D$4:$D$1048576,Base!DE$3,Lançamentos!$E$4:$E$1048576,Base!$DB$2)","v":0},{"$f":"SUMIFS(Lançamentos!$G$4:$G$1048576,Lançamentos!$F$4:$F$1048576,Base!$A21,Lançamentos!$D$4:$D$1048576,Base!DF$3,Lançamentos!$E$4:$E$1048576,Base!$DB$2)","v":0},{"$f":"SUMIFS(Lançamentos!$G$4:$G$1048576,Lançamentos!$F$4:$F$1048576,Base!$A21,Lançamentos!$D$4:$D$1048576,Base!DG$3,Lançamentos!$E$4:$E$1048576,Base!$DB$2)","v":0},{"$f":"SUMIFS(Lançamentos!$G$4:$G$1048576,Lançamentos!$F$4:$F$1048576,Base!$A21,Lançamentos!$D$4:$D$1048576,Base!DH$3,Lançamentos!$E$4:$E$1048576,Base!$DB$2)","v":0},{"$f":"SUMIFS(Lançamentos!$G$4:$G$1048576,Lançamentos!$F$4:$F$1048576,Base!$A21,Lançamentos!$D$4:$D$1048576,Base!DI$3,Lançamentos!$E$4:$E$1048576,Base!$DB$2)","v":0},{"$f":"SUMIFS(Lançamentos!$G$4:$G$1048576,Lançamentos!$F$4:$F$1048576,Base!$A21,Lançamentos!$D$4:$D$1048576,Base!DJ$3,Lançamentos!$E$4:$E$1048576,Base!$DB$2)","v":0},{"$f":"SUMIFS(Lançamentos!$G$4:$G$1048576,Lançamentos!$F$4:$F$1048576,Base!$A21,Lançamentos!$D$4:$D$1048576,Base!DK$3,Lançamentos!$E$4:$E$1048576,Base!$DB$2)","v":0},{"$f":"SUMIFS(Lançamentos!$G$4:$G$1048576,Lançamentos!$F$4:$F$1048576,Base!$A21,Lançamentos!$D$4:$D$1048576,Base!DL$3,Lançamentos!$E$4:$E$1048576,Base!$DB$2)","v":0},{"$f":"SUMIFS(Lançamentos!$G$4:$G$1048576,Lançamentos!$F$4:$F$1048576,Base!$A21,Lançamentos!$D$4:$D$1048576,Base!DM$3,Lançamentos!$E$4:$E$1048576,Base!$DB$2)","v":0},0,{"$f":"SUMIFS(Lançamentos!$G$4:$G$1048576,Lançamentos!$F$4:$F$1048576,Base!$A21,Lançamentos!$D$4:$D$1048576,Base!DO$3,Lançamentos!$E$4:$E$1048576,Base!$DO$2)","v":0},{"$f":"SUMIFS(Lançamentos!$G$4:$G$1048576,Lançamentos!$F$4:$F$1048576,Base!$A21,Lançamentos!$D$4:$D$1048576,Base!DP$3,Lançamentos!$E$4:$E$1048576,Base!$DO$2)","v":0},{"$f":"SUMIFS(Lançamentos!$G$4:$G$1048576,Lançamentos!$F$4:$F$1048576,Base!$A21,Lançamentos!$D$4:$D$1048576,Base!DQ$3,Lançamentos!$E$4:$E$1048576,Base!$DO$2)","v":0},{"$f":"SUMIFS(Lançamentos!$G$4:$G$1048576,Lançamentos!$F$4:$F$1048576,Base!$A21,Lançamentos!$D$4:$D$1048576,Base!DR$3,Lançamentos!$E$4:$E$1048576,Base!$DO$2)","v":0},{"$f":"SUMIFS(Lançamentos!$G$4:$G$1048576,Lançamentos!$F$4:$F$1048576,Base!$A21,Lançamentos!$D$4:$D$1048576,Base!DS$3,Lançamentos!$E$4:$E$1048576,Base!$DO$2)","v":0},{"$f":"SUMIFS(Lançamentos!$G$4:$G$1048576,Lançamentos!$F$4:$F$1048576,Base!$A21,Lançamentos!$D$4:$D$1048576,Base!DT$3,Lançamentos!$E$4:$E$1048576,Base!$DO$2)","v":0},{"$f":"SUMIFS(Lançamentos!$G$4:$G$1048576,Lançamentos!$F$4:$F$1048576,Base!$A21,Lançamentos!$D$4:$D$1048576,Base!DU$3,Lançamentos!$E$4:$E$1048576,Base!$DO$2)","v":0},{"$f":"SUMIFS(Lançamentos!$G$4:$G$1048576,Lançamentos!$F$4:$F$1048576,Base!$A21,Lançamentos!$D$4:$D$1048576,Base!DV$3,Lançamentos!$E$4:$E$1048576,Base!$DO$2)","v":0},{"$f":"SUMIFS(Lançamentos!$G$4:$G$1048576,Lançamentos!$F$4:$F$1048576,Base!$A21,Lançamentos!$D$4:$D$1048576,Base!DW$3,Lançamentos!$E$4:$E$1048576,Base!$DO$2)","v":0},{"$f":"SUMIFS(Lançamentos!$G$4:$G$1048576,Lançamentos!$F$4:$F$1048576,Base!$A21,Lançamentos!$D$4:$D$1048576,Base!DX$3,Lançamentos!$E$4:$E$1048576,Base!$DO$2)","v":0},{"$f":"SUMIFS(Lançamentos!$G$4:$G$1048576,Lançamentos!$F$4:$F$1048576,Base!$A21,Lançamentos!$D$4:$D$1048576,Base!DY$3,Lançamentos!$E$4:$E$1048576,Base!$DO$2)","v":0},{"$f":"SUMIFS(Lançamentos!$G$4:$G$1048576,Lançamentos!$F$4:$F$1048576,Base!$A21,Lançamentos!$D$4:$D$1048576,Base!DZ$3,Lançamentos!$E$4:$E$1048576,Base!$DO$2)","v":0},0,{"$f":"SUMIFS(Lançamentos!$G$4:$G$1048576,Lançamentos!$F$4:$F$1048576,Base!$A21,Lançamentos!$D$4:$D$1048576,Base!EB$3,Lançamentos!$E$4:$E$1048576,Base!$EB$2)","v":0},{"$f":"SUMIFS(Lançamentos!$G$4:$G$1048576,Lançamentos!$F$4:$F$1048576,Base!$A21,Lançamentos!$D$4:$D$1048576,Base!EC$3,Lançamentos!$E$4:$E$1048576,Base!$EB$2)","v":0},{"$f":"SUMIFS(Lançamentos!$G$4:$G$1048576,Lançamentos!$F$4:$F$1048576,Base!$A21,Lançamentos!$D$4:$D$1048576,Base!ED$3,Lançamentos!$E$4:$E$1048576,Base!$EB$2)","v":0},{"$f":"SUMIFS(Lançamentos!$G$4:$G$1048576,Lançamentos!$F$4:$F$1048576,Base!$A21,Lançamentos!$D$4:$D$1048576,Base!EE$3,Lançamentos!$E$4:$E$1048576,Base!$EB$2)","v":0},{"$f":"SUMIFS(Lançamentos!$G$4:$G$1048576,Lançamentos!$F$4:$F$1048576,Base!$A21,Lançamentos!$D$4:$D$1048576,Base!EF$3,Lançamentos!$E$4:$E$1048576,Base!$EB$2)","v":0},{"$f":"SUMIFS(Lançamentos!$G$4:$G$1048576,Lançamentos!$F$4:$F$1048576,Base!$A21,Lançamentos!$D$4:$D$1048576,Base!EG$3,Lançamentos!$E$4:$E$1048576,Base!$EB$2)","v":0},{"$f":"SUMIFS(Lançamentos!$G$4:$G$1048576,Lançamentos!$F$4:$F$1048576,Base!$A21,Lançamentos!$D$4:$D$1048576,Base!EH$3,Lançamentos!$E$4:$E$1048576,Base!$EB$2)","v":0},{"$f":"SUMIFS(Lançamentos!$G$4:$G$1048576,Lançamentos!$F$4:$F$1048576,Base!$A21,Lançamentos!$D$4:$D$1048576,Base!EI$3,Lançamentos!$E$4:$E$1048576,Base!$EB$2)","v":0},{"$f":"SUMIFS(Lançamentos!$G$4:$G$1048576,Lançamentos!$F$4:$F$1048576,Base!$A21,Lançamentos!$D$4:$D$1048576,Base!EJ$3,Lançamentos!$E$4:$E$1048576,Base!$EB$2)","v":0},{"$f":"SUMIFS(Lançamentos!$G$4:$G$1048576,Lançamentos!$F$4:$F$1048576,Base!$A21,Lançamentos!$D$4:$D$1048576,Base!EK$3,Lançamentos!$E$4:$E$1048576,Base!$EB$2)","v":0},{"$f":"SUMIFS(Lançamentos!$G$4:$G$1048576,Lançamentos!$F$4:$F$1048576,Base!$A21,Lançamentos!$D$4:$D$1048576,Base!EL$3,Lançamentos!$E$4:$E$1048576,Base!$EB$2)","v":0},{"$f":"SUMIFS(Lançamentos!$G$4:$G$1048576,Lançamentos!$F$4:$F$1048576,Base!$A21,Lançamentos!$D$4:$D$1048576,Base!EM$3,Lançamentos!$E$4:$E$1048576,Base!$EB$2)","v":0},0,{"$f":"SUMIFS(Lançamentos!$G$4:$G$1048576,Lançamentos!$F$4:$F$1048576,Base!$A21,Lançamentos!$D$4:$D$1048576,Base!EO$3,Lançamentos!$E$4:$E$1048576,Base!$EO$2)","v":0},{"$f":"SUMIFS(Lançamentos!$G$4:$G$1048576,Lançamentos!$F$4:$F$1048576,Base!$A21,Lançamentos!$D$4:$D$1048576,Base!EP$3,Lançamentos!$E$4:$E$1048576,Base!$EO$2)","v":0},{"$f":"SUMIFS(Lançamentos!$G$4:$G$1048576,Lançamentos!$F$4:$F$1048576,Base!$A21,Lançamentos!$D$4:$D$1048576,Base!EQ$3,Lançamentos!$E$4:$E$1048576,Base!$EO$2)","v":0},{"$f":"SUMIFS(Lançamentos!$G$4:$G$1048576,Lançamentos!$F$4:$F$1048576,Base!$A21,Lançamentos!$D$4:$D$1048576,Base!ER$3,Lançamentos!$E$4:$E$1048576,Base!$EO$2)","v":0},{"$f":"SUMIFS(Lançamentos!$G$4:$G$1048576,Lançamentos!$F$4:$F$1048576,Base!$A21,Lançamentos!$D$4:$D$1048576,Base!ES$3,Lançamentos!$E$4:$E$1048576,Base!$EO$2)","v":0},{"$f":"SUMIFS(Lançamentos!$G$4:$G$1048576,Lançamentos!$F$4:$F$1048576,Base!$A21,Lançamentos!$D$4:$D$1048576,Base!ET$3,Lançamentos!$E$4:$E$1048576,Base!$EO$2)","v":0},{"$f":"SUMIFS(Lançamentos!$G$4:$G$1048576,Lançamentos!$F$4:$F$1048576,Base!$A21,Lançamentos!$D$4:$D$1048576,Base!EU$3,Lançamentos!$E$4:$E$1048576,Base!$EO$2)","v":0},{"$f":"SUMIFS(Lançamentos!$G$4:$G$1048576,Lançamentos!$F$4:$F$1048576,Base!$A21,Lançamentos!$D$4:$D$1048576,Base!EV$3,Lançamentos!$E$4:$E$1048576,Base!$EO$2)","v":0},{"$f":"SUMIFS(Lançamentos!$G$4:$G$1048576,Lançamentos!$F$4:$F$1048576,Base!$A21,Lançamentos!$D$4:$D$1048576,Base!EW$3,Lançamentos!$E$4:$E$1048576,Base!$EO$2)","v":0},{"$f":"SUMIFS(Lançamentos!$G$4:$G$1048576,Lançamentos!$F$4:$F$1048576,Base!$A21,Lançamentos!$D$4:$D$1048576,Base!EX$3,Lançamentos!$E$4:$E$1048576,Base!$EO$2)","v":0},{"$f":"SUMIFS(Lançamentos!$G$4:$G$1048576,Lançamentos!$F$4:$F$1048576,Base!$A21,Lançamentos!$D$4:$D$1048576,Base!EY$3,Lançamentos!$E$4:$E$1048576,Base!$EO$2)","v":0},{"$f":"SUMIFS(Lançamentos!$G$4:$G$1048576,Lançamentos!$F$4:$F$1048576,Base!$A21,Lançamentos!$D$4:$D$1048576,Base!EZ$3,Lançamentos!$E$4:$E$1048576,Base!$EO$2)","v":0},0,{"$f":"SUMIFS(Lançamentos!$G$4:$G$1048576,Lançamentos!$F$4:$F$1048576,Base!$A21,Lançamentos!$D$4:$D$1048576,Base!FB$3,Lançamentos!$E$4:$E$1048576,Base!$FB$2)","v":0},{"$f":"SUMIFS(Lançamentos!$G$4:$G$1048576,Lançamentos!$F$4:$F$1048576,Base!$A21,Lançamentos!$D$4:$D$1048576,Base!FC$3,Lançamentos!$E$4:$E$1048576,Base!$FB$2)","v":0},{"$f":"SUMIFS(Lançamentos!$G$4:$G$1048576,Lançamentos!$F$4:$F$1048576,Base!$A21,Lançamentos!$D$4:$D$1048576,Base!FD$3,Lançamentos!$E$4:$E$1048576,Base!$FB$2)","v":0},{"$f":"SUMIFS(Lançamentos!$G$4:$G$1048576,Lançamentos!$F$4:$F$1048576,Base!$A21,Lançamentos!$D$4:$D$1048576,Base!FE$3,Lançamentos!$E$4:$E$1048576,Base!$FB$2)","v":0},{"$f":"SUMIFS(Lançamentos!$G$4:$G$1048576,Lançamentos!$F$4:$F$1048576,Base!$A21,Lançamentos!$D$4:$D$1048576,Base!FF$3,Lançamentos!$E$4:$E$1048576,Base!$FB$2)","v":0},{"$f":"SUMIFS(Lançamentos!$G$4:$G$1048576,Lançamentos!$F$4:$F$1048576,Base!$A21,Lançamentos!$D$4:$D$1048576,Base!FG$3,Lançamentos!$E$4:$E$1048576,Base!$FB$2)","v":0},{"$f":"SUMIFS(Lançamentos!$G$4:$G$1048576,Lançamentos!$F$4:$F$1048576,Base!$A21,Lançamentos!$D$4:$D$1048576,Base!FH$3,Lançamentos!$E$4:$E$1048576,Base!$FB$2)","v":0},{"$f":"SUMIFS(Lançamentos!$G$4:$G$1048576,Lançamentos!$F$4:$F$1048576,Base!$A21,Lançamentos!$D$4:$D$1048576,Base!FI$3,Lançamentos!$E$4:$E$1048576,Base!$FB$2)","v":0},{"$f":"SUMIFS(Lançamentos!$G$4:$G$1048576,Lançamentos!$F$4:$F$1048576,Base!$A21,Lançamentos!$D$4:$D$1048576,Base!FJ$3,Lançamentos!$E$4:$E$1048576,Base!$FB$2)","v":0},{"$f":"SUMIFS(Lançamentos!$G$4:$G$1048576,Lançamentos!$F$4:$F$1048576,Base!$A21,Lançamentos!$D$4:$D$1048576,Base!FK$3,Lançamentos!$E$4:$E$1048576,Base!$FB$2)","v":0},{"$f":"SUMIFS(Lançamentos!$G$4:$G$1048576,Lançamentos!$F$4:$F$1048576,Base!$A21,Lançamentos!$D$4:$D$1048576,Base!FL$3,Lançamentos!$E$4:$E$1048576,Base!$FB$2)","v":0},{"$f":"SUMIFS(Lançamentos!$G$4:$G$1048576,Lançamentos!$F$4:$F$1048576,Base!$A21,Lançamentos!$D$4:$D$1048576,Base!FM$3,Lançamentos!$E$4:$E$1048576,Base!$FB$2)","v":0},0,{"$f":"SUMIFS(Lançamentos!$G$4:$G$1048576,Lançamentos!$F$4:$F$1048576,Base!$A21,Lançamentos!$D$4:$D$1048576,Base!FO$3,Lançamentos!$E$4:$E$1048576,Base!$FO$2)","v":0},{"$f":"SUMIFS(Lançamentos!$G$4:$G$1048576,Lançamentos!$F$4:$F$1048576,Base!$A21,Lançamentos!$D$4:$D$1048576,Base!FP$3,Lançamentos!$E$4:$E$1048576,Base!$FO$2)","v":0},{"$f":"SUMIFS(Lançamentos!$G$4:$G$1048576,Lançamentos!$F$4:$F$1048576,Base!$A21,Lançamentos!$D$4:$D$1048576,Base!FQ$3,Lançamentos!$E$4:$E$1048576,Base!$FO$2)","v":0},{"$f":"SUMIFS(Lançamentos!$G$4:$G$1048576,Lançamentos!$F$4:$F$1048576,Base!$A21,Lançamentos!$D$4:$D$1048576,Base!FR$3,Lançamentos!$E$4:$E$1048576,Base!$FO$2)","v":0},{"$f":"SUMIFS(Lançamentos!$G$4:$G$1048576,Lançamentos!$F$4:$F$1048576,Base!$A21,Lançamentos!$D$4:$D$1048576,Base!FS$3,Lançamentos!$E$4:$E$1048576,Base!$FO$2)","v":0},{"$f":"SUMIFS(Lançamentos!$G$4:$G$1048576,Lançamentos!$F$4:$F$1048576,Base!$A21,Lançamentos!$D$4:$D$1048576,Base!FT$3,Lançamentos!$E$4:$E$1048576,Base!$FO$2)","v":0},{"$f":"SUMIFS(Lançamentos!$G$4:$G$1048576,Lançamentos!$F$4:$F$1048576,Base!$A21,Lançamentos!$D$4:$D$1048576,Base!FU$3,Lançamentos!$E$4:$E$1048576,Base!$FO$2)","v":0},{"$f":"SUMIFS(Lançamentos!$G$4:$G$1048576,Lançamentos!$F$4:$F$1048576,Base!$A21,Lançamentos!$D$4:$D$1048576,Base!FV$3,Lançamentos!$E$4:$E$1048576,Base!$FO$2)","v":0},{"$f":"SUMIFS(Lançamentos!$G$4:$G$1048576,Lançamentos!$F$4:$F$1048576,Base!$A21,Lançamentos!$D$4:$D$1048576,Base!FW$3,Lançamentos!$E$4:$E$1048576,Base!$FO$2)","v":0},{"$f":"SUMIFS(Lançamentos!$G$4:$G$1048576,Lançamentos!$F$4:$F$1048576,Base!$A21,Lançamentos!$D$4:$D$1048576,Base!FX$3,Lançamentos!$E$4:$E$1048576,Base!$FO$2)","v":0},{"$f":"SUMIFS(Lançamentos!$G$4:$G$1048576,Lançamentos!$F$4:$F$1048576,Base!$A21,Lançamentos!$D$4:$D$1048576,Base!FY$3,Lançamentos!$E$4:$E$1048576,Base!$FO$2)","v":0},{"$f":"SUMIFS(Lançamentos!$G$4:$G$1048576,Lançamentos!$F$4:$F$1048576,Base!$A21,Lançamentos!$D$4:$D$1048576,Base!FZ$3,Lançamentos!$E$4:$E$1048576,Base!$FO$2)","v":0},0,{"$f":"SUMIFS(Lançamentos!$G$4:$G$1048576,Lançamentos!$F$4:$F$1048576,Base!$A21,Lançamentos!$D$4:$D$1048576,Base!GB$3,Lançamentos!$E$4:$E$1048576,Base!$GB$2)","v":0},{"$f":"SUMIFS(Lançamentos!$G$4:$G$1048576,Lançamentos!$F$4:$F$1048576,Base!$A21,Lançamentos!$D$4:$D$1048576,Base!GC$3,Lançamentos!$E$4:$E$1048576,Base!$GB$2)","v":0},{"$f":"SUMIFS(Lançamentos!$G$4:$G$1048576,Lançamentos!$F$4:$F$1048576,Base!$A21,Lançamentos!$D$4:$D$1048576,Base!GD$3,Lançamentos!$E$4:$E$1048576,Base!$GB$2)","v":0},{"$f":"SUMIFS(Lançamentos!$G$4:$G$1048576,Lançamentos!$F$4:$F$1048576,Base!$A21,Lançamentos!$D$4:$D$1048576,Base!GE$3,Lançamentos!$E$4:$E$1048576,Base!$GB$2)","v":0},{"$f":"SUMIFS(Lançamentos!$G$4:$G$1048576,Lançamentos!$F$4:$F$1048576,Base!$A21,Lançamentos!$D$4:$D$1048576,Base!GF$3,Lançamentos!$E$4:$E$1048576,Base!$GB$2)","v":0},{"$f":"SUMIFS(Lançamentos!$G$4:$G$1048576,Lançamentos!$F$4:$F$1048576,Base!$A21,Lançamentos!$D$4:$D$1048576,Base!GG$3,Lançamentos!$E$4:$E$1048576,Base!$GB$2)","v":0},{"$f":"SUMIFS(Lançamentos!$G$4:$G$1048576,Lançamentos!$F$4:$F$1048576,Base!$A21,Lançamentos!$D$4:$D$1048576,Base!GH$3,Lançamentos!$E$4:$E$1048576,Base!$GB$2)","v":0},{"$f":"SUMIFS(Lançamentos!$G$4:$G$1048576,Lançamentos!$F$4:$F$1048576,Base!$A21,Lançamentos!$D$4:$D$1048576,Base!GI$3,Lançamentos!$E$4:$E$1048576,Base!$GB$2)","v":0},{"$f":"SUMIFS(Lançamentos!$G$4:$G$1048576,Lançamentos!$F$4:$F$1048576,Base!$A21,Lançamentos!$D$4:$D$1048576,Base!GJ$3,Lançamentos!$E$4:$E$1048576,Base!$GB$2)","v":0},{"$f":"SUMIFS(Lançamentos!$G$4:$G$1048576,Lançamentos!$F$4:$F$1048576,Base!$A21,Lançamentos!$D$4:$D$1048576,Base!GK$3,Lançamentos!$E$4:$E$1048576,Base!$GB$2)","v":0},{"$f":"SUMIFS(Lançamentos!$G$4:$G$1048576,Lançamentos!$F$4:$F$1048576,Base!$A21,Lançamentos!$D$4:$D$1048576,Base!GL$3,Lançamentos!$E$4:$E$1048576,Base!$GB$2)","v":0},{"$f":"SUMIFS(Lançamentos!$G$4:$G$1048576,Lançamentos!$F$4:$F$1048576,Base!$A21,Lançamentos!$D$4:$D$1048576,Base!GM$3,Lançamentos!$E$4:$E$1048576,Base!$GB$2)","v":0},0]
[{"$f":"IF(Lançamentos!A19=\"\",\"\",Lançamentos!A19)","v":"Outras Saídas 1"},{"$f":"SUMIFS(Lançamentos!$G$4:$G$1048576,Lançamentos!$F$4:$F$1048576,Base!$A22,Lançamentos!$D$4:$D$1048576,Base!B$3,Lançamentos!$E$4:$E$1048576,Base!$B$2)","v":0},{"$f":"SUMIFS(Lançamentos!$G$4:$G$1048576,Lançamentos!$F$4:$F$1048576,Base!$A22,Lançamentos!$D$4:$D$1048576,Base!C$3,Lançamentos!$E$4:$E$1048576,Base!$B$2)","v":0},{"$f":"SUMIFS(Lançamentos!$G$4:$G$1048576,Lançamentos!$F$4:$F$1048576,Base!$A22,Lançamentos!$D$4:$D$1048576,Base!D$3,Lançamentos!$E$4:$E$1048576,Base!$B$2)","v":0},{"$f":"SUMIFS(Lançamentos!$G$4:$G$1048576,Lançamentos!$F$4:$F$1048576,Base!$A22,Lançamentos!$D$4:$D$1048576,Base!E$3,Lançamentos!$E$4:$E$1048576,Base!$B$2)","v":0},{"$f":"SUMIFS(Lançamentos!$G$4:$G$1048576,Lançamentos!$F$4:$F$1048576,Base!$A22,Lançamentos!$D$4:$D$1048576,Base!F$3,Lançamentos!$E$4:$E$1048576,Base!$B$2)","v":0},{"$f":"SUMIFS(Lançamentos!$G$4:$G$1048576,Lançamentos!$F$4:$F$1048576,Base!$A22,Lançamentos!$D$4:$D$1048576,Base!G$3,Lançamentos!$E$4:$E$1048576,Base!$B$2)","v":0},{"$f":"SUMIFS(Lançamentos!$G$4:$G$1048576,Lançamentos!$F$4:$F$1048576,Base!$A22,Lançamentos!$D$4:$D$1048576,Base!H$3,Lançamentos!$E$4:$E$1048576,Base!$B$2)","v":0},{"$f":"SUMIFS(Lançamentos!$G$4:$G$1048576,Lançamentos!$F$4:$F$1048576,Base!$A22,Lançamentos!$D$4:$D$1048576,Base!I$3,Lançamentos!$E$4:$E$1048576,Base!$B$2)","v":0},{"$f":"SUMIFS(Lançamentos!$G$4:$G$1048576,Lançamentos!$F$4:$F$1048576,Base!$A22,Lançamentos!$D$4:$D$1048576,Base!J$3,Lançamentos!$E$4:$E$1048576,Base!$B$2)","v":0},{"$f":"SUMIFS(Lançamentos!$G$4:$G$1048576,Lançamentos!$F$4:$F$1048576,Base!$A22,Lançamentos!$D$4:$D$1048576,Base!K$3,Lançamentos!$E$4:$E$1048576,Base!$B$2)","v":0},{"$f":"SUMIFS(Lançamentos!$G$4:$G$1048576,Lançamentos!$F$4:$F$1048576,Base!$A22,Lançamentos!$D$4:$D$1048576,Base!L$3,Lançamentos!$E$4:$E$1048576,Base!$B$2)","v":0},{"$f":"SUMIFS(Lançamentos!$G$4:$G$1048576,Lançamentos!$F$4:$F$1048576,Base!$A22,Lançamentos!$D$4:$D$1048576,Base!M$3,Lançamentos!$E$4:$E$1048576,Base!$B$2)","v":0},0,{"$f":"SUMIFS(Lançamentos!$G$4:$G$1048576,Lançamentos!$F$4:$F$1048576,Base!$A22,Lançamentos!$D$4:$D$1048576,Base!O$3,Lançamentos!$E$4:$E$1048576,Base!$O$2)","v":0},{"$f":"SUMIFS(Lançamentos!$G$4:$G$1048576,Lançamentos!$F$4:$F$1048576,Base!$A22,Lançamentos!$D$4:$D$1048576,Base!P$3,Lançamentos!$E$4:$E$1048576,Base!$O$2)","v":0},{"$f":"SUMIFS(Lançamentos!$G$4:$G$1048576,Lançamentos!$F$4:$F$1048576,Base!$A22,Lançamentos!$D$4:$D$1048576,Base!Q$3,Lançamentos!$E$4:$E$1048576,Base!$O$2)","v":0},{"$f":"SUMIFS(Lançamentos!$G$4:$G$1048576,Lançamentos!$F$4:$F$1048576,Base!$A22,Lançamentos!$D$4:$D$1048576,Base!R$3,Lançamentos!$E$4:$E$1048576,Base!$O$2)","v":0},{"$f":"SUMIFS(Lançamentos!$G$4:$G$1048576,Lançamentos!$F$4:$F$1048576,Base!$A22,Lançamentos!$D$4:$D$1048576,Base!S$3,Lançamentos!$E$4:$E$1048576,Base!$O$2)","v":0},{"$f":"SUMIFS(Lançamentos!$G$4:$G$1048576,Lançamentos!$F$4:$F$1048576,Base!$A22,Lançamentos!$D$4:$D$1048576,Base!T$3,Lançamentos!$E$4:$E$1048576,Base!$O$2)","v":0},{"$f":"SUMIFS(Lançamentos!$G$4:$G$1048576,Lançamentos!$F$4:$F$1048576,Base!$A22,Lançamentos!$D$4:$D$1048576,Base!U$3,Lançamentos!$E$4:$E$1048576,Base!$O$2)","v":0},{"$f":"SUMIFS(Lançamentos!$G$4:$G$1048576,Lançamentos!$F$4:$F$1048576,Base!$A22,Lançamentos!$D$4:$D$1048576,Base!V$3,Lançamentos!$E$4:$E$1048576,Base!$O$2)","v":0},{"$f":"SUMIFS(Lançamentos!$G$4:$G$1048576,Lançamentos!$F$4:$F$1048576,Base!$A22,Lançamentos!$D$4:$D$1048576,Base!W$3,Lançamentos!$E$4:$E$1048576,Base!$O$2)","v":0},{"$f":"SUMIFS(Lançamentos!$G$4:$G$1048576,Lançamentos!$F$4:$F$1048576,Base!$A22,Lançamentos!$D$4:$D$1048576,Base!X$3,Lançamentos!$E$4:$E$1048576,Base!$O$2)","v":0},{"$f":"SUMIFS(Lançamentos!$G$4:$G$1048576,Lançamentos!$F$4:$F$1048576,Base!$A22,Lançamentos!$D$4:$D$1048576,Base!Y$3,Lançamentos!$E$4:$E$1048576,Base!$O$2)","v":0},{"$f":"SUMIFS(Lançamentos!$G$4:$G$1048576,Lançamentos!$F$4:$F$1048576,Base!$A22,Lançamentos!$D$4:$D$1048576,Base!Z$3,Lançamentos!$E$4:$E$1048576,Base!$O$2)","v":0},0,{"$f":"SUMIFS(Lançamentos!$G$4:$G$1048576,Lançamentos!$F$4:$F$1048576,Base!$A22,Lançamentos!$D$4:$D$1048576,Base!AB$3,Lançamentos!$E$4:$E$1048576,Base!$AB$2)","v":0},{"$f":"SUMIFS(Lançamentos!$G$4:$G$1048576,Lançamentos!$F$4:$F$1048576,Base!$A22,Lançamentos!$D$4:$D$1048576,Base!AC$3,Lançamentos!$E$4:$E$1048576,Base!$AB$2)","v":0},{"$f":"SUMIFS(Lançamentos!$G$4:$G$1048576,Lançamentos!$F$4:$F$1048576,Base!$A22,Lançamentos!$D$4:$D$1048576,Base!AD$3,Lançamentos!$E$4:$E$1048576,Base!$AB$2)","v":0},{"$f":"SUMIFS(Lançamentos!$G$4:$G$1048576,Lançamentos!$F$4:$F$1048576,Base!$A22,Lançamentos!$D$4:$D$1048576,Base!AE$3,Lançamentos!$E$4:$E$1048576,Base!$AB$2)","v":0},{"$f":"SUMIFS(Lançamentos!$G$4:$G$1048576,Lançamentos!$F$4:$F$1048576,Base!$A22,Lançamentos!$D$4:$D$1048576,Base!AF$3,Lançamentos!$E$4:$E$1048576,Base!$AB$2)","v":0},{"$f":"SUMIFS(Lançamentos!$G$4:$G$1048576,Lançamentos!$F$4:$F$1048576,Base!$A22,Lançamentos!$D$4:$D$1048576,Base!AG$3,Lançamentos!$E$4:$E$1048576,Base!$AB$2)","v":0},{"$f":"SUMIFS(Lançamentos!$G$4:$G$1048576,Lançamentos!$F$4:$F$1048576,Base!$A22,Lançamentos!$D$4:$D$1048576,Base!AH$3,Lançamentos!$E$4:$E$1048576,Base!$AB$2)","v":0},{"$f":"SUMIFS(Lançamentos!$G$4:$G$1048576,Lançamentos!$F$4:$F$1048576,Base!$A22,Lançamentos!$D$4:$D$1048576,Base!AI$3,Lançamentos!$E$4:$E$1048576,Base!$AB$2)","v":0},{"$f":"SUMIFS(Lançamentos!$G$4:$G$1048576,Lançamentos!$F$4:$F$1048576,Base!$A22,Lançamentos!$D$4:$D$1048576,Base!AJ$3,Lançamentos!$E$4:$E$1048576,Base!$AB$2)","v":0},{"$f":"SUMIFS(Lançamentos!$G$4:$G$1048576,Lançamentos!$F$4:$F$1048576,Base!$A22,Lançamentos!$D$4:$D$1048576,Base!AK$3,Lançamentos!$E$4:$E$1048576,Base!$AB$2)","v":0},{"$f":"SUMIFS(Lançamentos!$G$4:$G$1048576,Lançamentos!$F$4:$F$1048576,Base!$A22,Lançamentos!$D$4:$D$1048576,Base!AL$3,Lançamentos!$E$4:$E$1048576,Base!$AB$2)","v":0},{"$f":"SUMIFS(Lançamentos!$G$4:$G$1048576,Lançamentos!$F$4:$F$1048576,Base!$A22,Lançamentos!$D$4:$D$1048576,Base!AM$3,Lançamentos!$E$4:$E$1048576,Base!$AB$2)","v":0},0,{"$f":"SUMIFS(Lançamentos!$G$4:$G$1048576,Lançamentos!$F$4:$F$1048576,Base!$A22,Lançamentos!$D$4:$D$1048576,Base!AO$3,Lançamentos!$E$4:$E$1048576,Base!$AO$2)","v":0},{"$f":"SUMIFS(Lançamentos!$G$4:$G$1048576,Lançamentos!$F$4:$F$1048576,Base!$A22,Lançamentos!$D$4:$D$1048576,Base!AP$3,Lançamentos!$E$4:$E$1048576,Base!$AO$2)","v":0},{"$f":"SUMIFS(Lançamentos!$G$4:$G$1048576,Lançamentos!$F$4:$F$1048576,Base!$A22,Lançamentos!$D$4:$D$1048576,Base!AQ$3,Lançamentos!$E$4:$E$1048576,Base!$AO$2)","v":0},{"$f":"SUMIFS(Lançamentos!$G$4:$G$1048576,Lançamentos!$F$4:$F$1048576,Base!$A22,Lançamentos!$D$4:$D$1048576,Base!AR$3,Lançamentos!$E$4:$E$1048576,Base!$AO$2)","v":0},{"$f":"SUMIFS(Lançamentos!$G$4:$G$1048576,Lançamentos!$F$4:$F$1048576,Base!$A22,Lançamentos!$D$4:$D$1048576,Base!AS$3,Lançamentos!$E$4:$E$1048576,Base!$AO$2)","v":0},{"$f":"SUMIFS(Lançamentos!$G$4:$G$1048576,Lançamentos!$F$4:$F$1048576,Base!$A22,Lançamentos!$D$4:$D$1048576,Base!AT$3,Lançamentos!$E$4:$E$1048576,Base!$AO$2)","v":0},{"$f":"SUMIFS(Lançamentos!$G$4:$G$1048576,Lançamentos!$F$4:$F$1048576,Base!$A22,Lançamentos!$D$4:$D$1048576,Base!AU$3,Lançamentos!$E$4:$E$1048576,Base!$AO$2)","v":0},{"$f":"SUMIFS(Lançamentos!$G$4:$G$1048576,Lançamentos!$F$4:$F$1048576,Base!$A22,Lançamentos!$D$4:$D$1048576,Base!AV$3,Lançamentos!$E$4:$E$1048576,Base!$AO$2)","v":0},{"$f":"SUMIFS(Lançamentos!$G$4:$G$1048576,Lançamentos!$F$4:$F$1048576,Base!$A22,Lançamentos!$D$4:$D$1048576,Base!AW$3,Lançamentos!$E$4:$E$1048576,Base!$AO$2)","v":0},{"$f":"SUMIFS(Lançamentos!$G$4:$G$1048576,Lançamentos!$F$4:$F$1048576,Base!$A22,Lançamentos!$D$4:$D$1048576,Base!AX$3,Lançamentos!$E$4:$E$1048576,Base!$AO$2)","v":0},{"$f":"SUMIFS(Lançamentos!$G$4:$G$1048576,Lançamentos!$F$4:$F$1048576,Base!$A22,Lançamentos!$D$4:$D$1048576,Base!AY$3,Lançamentos!$E$4:$E$1048576,Base!$AO$2)","v":0},{"$f":"SUMIFS(Lançamentos!$G$4:$G$1048576,Lançamentos!$F$4:$F$1048576,Base!$A22,Lançamentos!$D$4:$D$1048576,Base!AZ$3,Lançamentos!$E$4:$E$1048576,Base!$AO$2)","v":0},0,{"$f":"SUMIFS(Lançamentos!$G$4:$G$1048576,Lançamentos!$F$4:$F$1048576,Base!$A22,Lançamentos!$D$4:$D$1048576,Base!BB$3,Lançamentos!$E$4:$E$1048576,Base!$BB$2)","v":0},{"$f":"SUMIFS(Lançamentos!$G$4:$G$1048576,Lançamentos!$F$4:$F$1048576,Base!$A22,Lançamentos!$D$4:$D$1048576,Base!BC$3,Lançamentos!$E$4:$E$1048576,Base!$BB$2)","v":0},{"$f":"SUMIFS(Lançamentos!$G$4:$G$1048576,Lançamentos!$F$4:$F$1048576,Base!$A22,Lançamentos!$D$4:$D$1048576,Base!BD$3,Lançamentos!$E$4:$E$1048576,Base!$BB$2)","v":0},{"$f":"SUMIFS(Lançamentos!$G$4:$G$1048576,Lançamentos!$F$4:$F$1048576,Base!$A22,Lançamentos!$D$4:$D$1048576,Base!BE$3,Lançamentos!$E$4:$E$1048576,Base!$BB$2)","v":0},{"$f":"SUMIFS(Lançamentos!$G$4:$G$1048576,Lançamentos!$F$4:$F$1048576,Base!$A22,Lançamentos!$D$4:$D$1048576,Base!BF$3,Lançamentos!$E$4:$E$1048576,Base!$BB$2)","v":0},{"$f":"SUMIFS(Lançamentos!$G$4:$G$1048576,Lançamentos!$F$4:$F$1048576,Base!$A22,Lançamentos!$D$4:$D$1048576,Base!BG$3,Lançamentos!$E$4:$E$1048576,Base!$BB$2)","v":0},{"$f":"SUMIFS(Lançamentos!$G$4:$G$1048576,Lançamentos!$F$4:$F$1048576,Base!$A22,Lançamentos!$D$4:$D$1048576,Base!BH$3,Lançamentos!$E$4:$E$1048576,Base!$BB$2)","v":0},{"$f":"SUMIFS(Lançamentos!$G$4:$G$1048576,Lançamentos!$F$4:$F$1048576,Base!$A22,Lançamentos!$D$4:$D$1048576,Base!BI$3,Lançamentos!$E$4:$E$1048576,Base!$BB$2)","v":0},{"$f":"SUMIFS(Lançamentos!$G$4:$G$1048576,Lançamentos!$F$4:$F$1048576,Base!$A22,Lançamentos!$D$4:$D$1048576,Base!BJ$3,Lançamentos!$E$4:$E$1048576,Base!$BB$2)","v":0},{"$f":"SUMIFS(Lançamentos!$G$4:$G$1048576,Lançamentos!$F$4:$F$1048576,Base!$A22,Lançamentos!$D$4:$D$1048576,Base!BK$3,Lançamentos!$E$4:$E$1048576,Base!$BB$2)","v":0},{"$f":"SUMIFS(Lançamentos!$G$4:$G$1048576,Lançamentos!$F$4:$F$1048576,Base!$A22,Lançamentos!$D$4:$D$1048576,Base!BL$3,Lançamentos!$E$4:$E$1048576,Base!$BB$2)","v":0},{"$f":"SUMIFS(Lançamentos!$G$4:$G$1048576,Lançamentos!$F$4:$F$1048576,Base!$A22,Lançamentos!$D$4:$D$1048576,Base!BM$3,Lançamentos!$E$4:$E$1048576,Base!$BB$2)","v":0},0,{"$f":"SUMIFS(Lançamentos!$G$4:$G$1048576,Lançamentos!$F$4:$F$1048576,Base!$A22,Lançamentos!$D$4:$D$1048576,Base!BO$3,Lançamentos!$E$4:$E$1048576,Base!$BO$2)","v":0},{"$f":"SUMIFS(Lançamentos!$G$4:$G$1048576,Lançamentos!$F$4:$F$1048576,Base!$A22,Lançamentos!$D$4:$D$1048576,Base!BP$3,Lançamentos!$E$4:$E$1048576,Base!$BO$2)","v":0},{"$f":"SUMIFS(Lançamentos!$G$4:$G$1048576,Lançamentos!$F$4:$F$1048576,Base!$A22,Lançamentos!$D$4:$D$1048576,Base!BQ$3,Lançamentos!$E$4:$E$1048576,Base!$BO$2)","v":0},{"$f":"SUMIFS(Lançamentos!$G$4:$G$1048576,Lançamentos!$F$4:$F$1048576,Base!$A22,Lançamentos!$D$4:$D$1048576,Base!BR$3,Lançamentos!$E$4:$E$1048576,Base!$BO$2)","v":0},{"$f":"SUMIFS(Lançamentos!$G$4:$G$1048576,Lançamentos!$F$4:$F$1048576,Base!$A22,Lançamentos!$D$4:$D$1048576,Base!BS$3,Lançamentos!$E$4:$E$1048576,Base!$BO$2)","v":0},{"$f":"SUMIFS(Lançamentos!$G$4:$G$1048576,Lançamentos!$F$4:$F$1048576,Base!$A22,Lançamentos!$D$4:$D$1048576,Base!BT$3,Lançamentos!$E$4:$E$1048576,Base!$BO$2)","v":0},{"$f":"SUMIFS(Lançamentos!$G$4:$G$1048576,Lançamentos!$F$4:$F$1048576,Base!$A22,Lançamentos!$D$4:$D$1048576,Base!BU$3,Lançamentos!$E$4:$E$1048576,Base!$BO$2)","v":0},{"$f":"SUMIFS(Lançamentos!$G$4:$G$1048576,Lançamentos!$F$4:$F$1048576,Base!$A22,Lançamentos!$D$4:$D$1048576,Base!BV$3,Lançamentos!$E$4:$E$1048576,Base!$BO$2)","v":0},{"$f":"SUMIFS(Lançamentos!$G$4:$G$1048576,Lançamentos!$F$4:$F$1048576,Base!$A22,Lançamentos!$D$4:$D$1048576,Base!BW$3,Lançamentos!$E$4:$E$1048576,Base!$BO$2)","v":0},{"$f":"SUMIFS(Lançamentos!$G$4:$G$1048576,Lançamentos!$F$4:$F$1048576,Base!$A22,Lançamentos!$D$4:$D$1048576,Base!BX$3,Lançamentos!$E$4:$E$1048576,Base!$BO$2)","v":0},{"$f":"SUMIFS(Lançamentos!$G$4:$G$1048576,Lançamentos!$F$4:$F$1048576,Base!$A22,Lançamentos!$D$4:$D$1048576,Base!BY$3,Lançamentos!$E$4:$E$1048576,Base!$BO$2)","v":0},{"$f":"SUMIFS(Lançamentos!$G$4:$G$1048576,Lançamentos!$F$4:$F$1048576,Base!$A22,Lançamentos!$D$4:$D$1048576,Base!BZ$3,Lançamentos!$E$4:$E$1048576,Base!$BO$2)","v":0},0,{"$f":"SUMIFS(Lançamentos!$G$4:$G$1048576,Lançamentos!$F$4:$F$1048576,Base!$A22,Lançamentos!$D$4:$D$1048576,Base!CB$3,Lançamentos!$E$4:$E$1048576,Base!$CB$2)","v":0},{"$f":"SUMIFS(Lançamentos!$G$4:$G$1048576,Lançamentos!$F$4:$F$1048576,Base!$A22,Lançamentos!$D$4:$D$1048576,Base!CC$3,Lançamentos!$E$4:$E$1048576,Base!$CB$2)","v":0},{"$f":"SUMIFS(Lançamentos!$G$4:$G$1048576,Lançamentos!$F$4:$F$1048576,Base!$A22,Lançamentos!$D$4:$D$1048576,Base!CD$3,Lançamentos!$E$4:$E$1048576,Base!$CB$2)","v":0},{"$f":"SUMIFS(Lançamentos!$G$4:$G$1048576,Lançamentos!$F$4:$F$1048576,Base!$A22,Lançamentos!$D$4:$D$1048576,Base!CE$3,Lançamentos!$E$4:$E$1048576,Base!$CB$2)","v":0},{"$f":"SUMIFS(Lançamentos!$G$4:$G$1048576,Lançamentos!$F$4:$F$1048576,Base!$A22,Lançamentos!$D$4:$D$1048576,Base!CF$3,Lançamentos!$E$4:$E$1048576,Base!$CB$2)","v":0},{"$f":"SUMIFS(Lançamentos!$G$4:$G$1048576,Lançamentos!$F$4:$F$1048576,Base!$A22,Lançamentos!$D$4:$D$1048576,Base!CG$3,Lançamentos!$E$4:$E$1048576,Base!$CB$2)","v":0},{"$f":"SUMIFS(Lançamentos!$G$4:$G$1048576,Lançamentos!$F$4:$F$1048576,Base!$A22,Lançamentos!$D$4:$D$1048576,Base!CH$3,Lançamentos!$E$4:$E$1048576,Base!$CB$2)","v":0},{"$f":"SUMIFS(Lançamentos!$G$4:$G$1048576,Lançamentos!$F$4:$F$1048576,Base!$A22,Lançamentos!$D$4:$D$1048576,Base!CI$3,Lançamentos!$E$4:$E$1048576,Base!$CB$2)","v":0},{"$f":"SUMIFS(Lançamentos!$G$4:$G$1048576,Lançamentos!$F$4:$F$1048576,Base!$A22,Lançamentos!$D$4:$D$1048576,Base!CJ$3,Lançamentos!$E$4:$E$1048576,Base!$CB$2)","v":0},{"$f":"SUMIFS(Lançamentos!$G$4:$G$1048576,Lançamentos!$F$4:$F$1048576,Base!$A22,Lançamentos!$D$4:$D$1048576,Base!CK$3,Lançamentos!$E$4:$E$1048576,Base!$CB$2)","v":0},{"$f":"SUMIFS(Lançamentos!$G$4:$G$1048576,Lançamentos!$F$4:$F$1048576,Base!$A22,Lançamentos!$D$4:$D$1048576,Base!CL$3,Lançamentos!$E$4:$E$1048576,Base!$CB$2)","v":0},{"$f":"SUMIFS(Lançamentos!$G$4:$G$1048576,Lançamentos!$F$4:$F$1048576,Base!$A22,Lançamentos!$D$4:$D$1048576,Base!CM$3,Lançamentos!$E$4:$E$1048576,Base!$CB$2)","v":0},0,{"$f":"SUMIFS(Lançamentos!$G$4:$G$1048576,Lançamentos!$F$4:$F$1048576,Base!$A22,Lançamentos!$D$4:$D$1048576,Base!CO$3,Lançamentos!$E$4:$E$1048576,Base!$CO$2)","v":0},{"$f":"SUMIFS(Lançamentos!$G$4:$G$1048576,Lançamentos!$F$4:$F$1048576,Base!$A22,Lançamentos!$D$4:$D$1048576,Base!CP$3,Lançamentos!$E$4:$E$1048576,Base!$CO$2)","v":0},{"$f":"SUMIFS(Lançamentos!$G$4:$G$1048576,Lançamentos!$F$4:$F$1048576,Base!$A22,Lançamentos!$D$4:$D$1048576,Base!CQ$3,Lançamentos!$E$4:$E$1048576,Base!$CO$2)","v":0},{"$f":"SUMIFS(Lançamentos!$G$4:$G$1048576,Lançamentos!$F$4:$F$1048576,Base!$A22,Lançamentos!$D$4:$D$1048576,Base!CR$3,Lançamentos!$E$4:$E$1048576,Base!$CO$2)","v":0},{"$f":"SUMIFS(Lançamentos!$G$4:$G$1048576,Lançamentos!$F$4:$F$1048576,Base!$A22,Lançamentos!$D$4:$D$1048576,Base!CS$3,Lançamentos!$E$4:$E$1048576,Base!$CO$2)","v":0},{"$f":"SUMIFS(Lançamentos!$G$4:$G$1048576,Lançamentos!$F$4:$F$1048576,Base!$A22,Lançamentos!$D$4:$D$1048576,Base!CT$3,Lançamentos!$E$4:$E$1048576,Base!$CO$2)","v":0},{"$f":"SUMIFS(Lançamentos!$G$4:$G$1048576,Lançamentos!$F$4:$F$1048576,Base!$A22,Lançamentos!$D$4:$D$1048576,Base!CU$3,Lançamentos!$E$4:$E$1048576,Base!$CO$2)","v":0},{"$f":"SUMIFS(Lançamentos!$G$4:$G$1048576,Lançamentos!$F$4:$F$1048576,Base!$A22,Lançamentos!$D$4:$D$1048576,Base!CV$3,Lançamentos!$E$4:$E$1048576,Base!$CO$2)","v":0},{"$f":"SUMIFS(Lançamentos!$G$4:$G$1048576,Lançamentos!$F$4:$F$1048576,Base!$A22,Lançamentos!$D$4:$D$1048576,Base!CW$3,Lançamentos!$E$4:$E$1048576,Base!$CO$2)","v":0},{"$f":"SUMIFS(Lançamentos!$G$4:$G$1048576,Lançamentos!$F$4:$F$1048576,Base!$A22,Lançamentos!$D$4:$D$1048576,Base!CX$3,Lançamentos!$E$4:$E$1048576,Base!$CO$2)","v":0},{"$f":"SUMIFS(Lançamentos!$G$4:$G$1048576,Lançamentos!$F$4:$F$1048576,Base!$A22,Lançamentos!$D$4:$D$1048576,Base!CY$3,Lançamentos!$E$4:$E$1048576,Base!$CO$2)","v":0},{"$f":"SUMIFS(Lançamentos!$G$4:$G$1048576,Lançamentos!$F$4:$F$1048576,Base!$A22,Lançamentos!$D$4:$D$1048576,Base!CZ$3,Lançamentos!$E$4:$E$1048576,Base!$CO$2)","v":0},0,{"$f":"SUMIFS(Lançamentos!$G$4:$G$1048576,Lançamentos!$F$4:$F$1048576,Base!$A22,Lançamentos!$D$4:$D$1048576,Base!DB$3,Lançamentos!$E$4:$E$1048576,Base!$DB$2)","v":0},{"$f":"SUMIFS(Lançamentos!$G$4:$G$1048576,Lançamentos!$F$4:$F$1048576,Base!$A22,Lançamentos!$D$4:$D$1048576,Base!DC$3,Lançamentos!$E$4:$E$1048576,Base!$DB$2)","v":0},{"$f":"SUMIFS(Lançamentos!$G$4:$G$1048576,Lançamentos!$F$4:$F$1048576,Base!$A22,Lançamentos!$D$4:$D$1048576,Base!DD$3,Lançamentos!$E$4:$E$1048576,Base!$DB$2)","v":0},{"$f":"SUMIFS(Lançamentos!$G$4:$G$1048576,Lançamentos!$F$4:$F$1048576,Base!$A22,Lançamentos!$D$4:$D$1048576,Base!DE$3,Lançamentos!$E$4:$E$1048576,Base!$DB$2)","v":0},{"$f":"SUMIFS(Lançamentos!$G$4:$G$1048576,Lançamentos!$F$4:$F$1048576,Base!$A22,Lançamentos!$D$4:$D$1048576,Base!DF$3,Lançamentos!$E$4:$E$1048576,Base!$DB$2)","v":0},{"$f":"SUMIFS(Lançamentos!$G$4:$G$1048576,Lançamentos!$F$4:$F$1048576,Base!$A22,Lançamentos!$D$4:$D$1048576,Base!DG$3,Lançamentos!$E$4:$E$1048576,Base!$DB$2)","v":0},{"$f":"SUMIFS(Lançamentos!$G$4:$G$1048576,Lançamentos!$F$4:$F$1048576,Base!$A22,Lançamentos!$D$4:$D$1048576,Base!DH$3,Lançamentos!$E$4:$E$1048576,Base!$DB$2)","v":0},{"$f":"SUMIFS(Lançamentos!$G$4:$G$1048576,Lançamentos!$F$4:$F$1048576,Base!$A22,Lançamentos!$D$4:$D$1048576,Base!DI$3,Lançamentos!$E$4:$E$1048576,Base!$DB$2)","v":0},{"$f":"SUMIFS(Lançamentos!$G$4:$G$1048576,Lançamentos!$F$4:$F$1048576,Base!$A22,Lançamentos!$D$4:$D$1048576,Base!DJ$3,Lançamentos!$E$4:$E$1048576,Base!$DB$2)","v":0},{"$f":"SUMIFS(Lançamentos!$G$4:$G$1048576,Lançamentos!$F$4:$F$1048576,Base!$A22,Lançamentos!$D$4:$D$1048576,Base!DK$3,Lançamentos!$E$4:$E$1048576,Base!$DB$2)","v":0},{"$f":"SUMIFS(Lançamentos!$G$4:$G$1048576,Lançamentos!$F$4:$F$1048576,Base!$A22,Lançamentos!$D$4:$D$1048576,Base!DL$3,Lançamentos!$E$4:$E$1048576,Base!$DB$2)","v":0},{"$f":"SUMIFS(Lançamentos!$G$4:$G$1048576,Lançamentos!$F$4:$F$1048576,Base!$A22,Lançamentos!$D$4:$D$1048576,Base!DM$3,Lançamentos!$E$4:$E$1048576,Base!$DB$2)","v":0},0,{"$f":"SUMIFS(Lançamentos!$G$4:$G$1048576,Lançamentos!$F$4:$F$1048576,Base!$A22,Lançamentos!$D$4:$D$1048576,Base!DO$3,Lançamentos!$E$4:$E$1048576,Base!$DO$2)","v":0},{"$f":"SUMIFS(Lançamentos!$G$4:$G$1048576,Lançamentos!$F$4:$F$1048576,Base!$A22,Lançamentos!$D$4:$D$1048576,Base!DP$3,Lançamentos!$E$4:$E$1048576,Base!$DO$2)","v":0},{"$f":"SUMIFS(Lançamentos!$G$4:$G$1048576,Lançamentos!$F$4:$F$1048576,Base!$A22,Lançamentos!$D$4:$D$1048576,Base!DQ$3,Lançamentos!$E$4:$E$1048576,Base!$DO$2)","v":0},{"$f":"SUMIFS(Lançamentos!$G$4:$G$1048576,Lançamentos!$F$4:$F$1048576,Base!$A22,Lançamentos!$D$4:$D$1048576,Base!DR$3,Lançamentos!$E$4:$E$1048576,Base!$DO$2)","v":0},{"$f":"SUMIFS(Lançamentos!$G$4:$G$1048576,Lançamentos!$F$4:$F$1048576,Base!$A22,Lançamentos!$D$4:$D$1048576,Base!DS$3,Lançamentos!$E$4:$E$1048576,Base!$DO$2)","v":0},{"$f":"SUMIFS(Lançamentos!$G$4:$G$1048576,Lançamentos!$F$4:$F$1048576,Base!$A22,Lançamentos!$D$4:$D$1048576,Base!DT$3,Lançamentos!$E$4:$E$1048576,Base!$DO$2)","v":0},{"$f":"SUMIFS(Lançamentos!$G$4:$G$1048576,Lançamentos!$F$4:$F$1048576,Base!$A22,Lançamentos!$D$4:$D$1048576,Base!DU$3,Lançamentos!$E$4:$E$1048576,Base!$DO$2)","v":0},{"$f":"SUMIFS(Lançamentos!$G$4:$G$1048576,Lançamentos!$F$4:$F$1048576,Base!$A22,Lançamentos!$D$4:$D$1048576,Base!DV$3,Lançamentos!$E$4:$E$1048576,Base!$DO$2)","v":0},{"$f":"SUMIFS(Lançamentos!$G$4:$G$1048576,Lançamentos!$F$4:$F$1048576,Base!$A22,Lançamentos!$D$4:$D$1048576,Base!DW$3,Lançamentos!$E$4:$E$1048576,Base!$DO$2)","v":0},{"$f":"SUMIFS(Lançamentos!$G$4:$G$1048576,Lançamentos!$F$4:$F$1048576,Base!$A22,Lançamentos!$D$4:$D$1048576,Base!DX$3,Lançamentos!$E$4:$E$1048576,Base!$DO$2)","v":0},{"$f":"SUMIFS(Lançamentos!$G$4:$G$1048576,Lançamentos!$F$4:$F$1048576,Base!$A22,Lançamentos!$D$4:$D$1048576,Base!DY$3,Lançamentos!$E$4:$E$1048576,Base!$DO$2)","v":0},{"$f":"SUMIFS(Lançamentos!$G$4:$G$1048576,Lançamentos!$F$4:$F$1048576,Base!$A22,Lançamentos!$D$4:$D$1048576,Base!DZ$3,Lançamentos!$E$4:$E$1048576,Base!$DO$2)","v":0},0,{"$f":"SUMIFS(Lançamentos!$G$4:$G$1048576,Lançamentos!$F$4:$F$1048576,Base!$A22,Lançamentos!$D$4:$D$1048576,Base!EB$3,Lançamentos!$E$4:$E$1048576,Base!$EB$2)","v":0},{"$f":"SUMIFS(Lançamentos!$G$4:$G$1048576,Lançamentos!$F$4:$F$1048576,Base!$A22,Lançamentos!$D$4:$D$1048576,Base!EC$3,Lançamentos!$E$4:$E$1048576,Base!$EB$2)","v":0},{"$f":"SUMIFS(Lançamentos!$G$4:$G$1048576,Lançamentos!$F$4:$F$1048576,Base!$A22,Lançamentos!$D$4:$D$1048576,Base!ED$3,Lançamentos!$E$4:$E$1048576,Base!$EB$2)","v":0},{"$f":"SUMIFS(Lançamentos!$G$4:$G$1048576,Lançamentos!$F$4:$F$1048576,Base!$A22,Lançamentos!$D$4:$D$1048576,Base!EE$3,Lançamentos!$E$4:$E$1048576,Base!$EB$2)","v":0},{"$f":"SUMIFS(Lançamentos!$G$4:$G$1048576,Lançamentos!$F$4:$F$1048576,Base!$A22,Lançamentos!$D$4:$D$1048576,Base!EF$3,Lançamentos!$E$4:$E$1048576,Base!$EB$2)","v":0},{"$f":"SUMIFS(Lançamentos!$G$4:$G$1048576,Lançamentos!$F$4:$F$1048576,Base!$A22,Lançamentos!$D$4:$D$1048576,Base!EG$3,Lançamentos!$E$4:$E$1048576,Base!$EB$2)","v":0},{"$f":"SUMIFS(Lançamentos!$G$4:$G$1048576,Lançamentos!$F$4:$F$1048576,Base!$A22,Lançamentos!$D$4:$D$1048576,Base!EH$3,Lançamentos!$E$4:$E$1048576,Base!$EB$2)","v":0},{"$f":"SUMIFS(Lançamentos!$G$4:$G$1048576,Lançamentos!$F$4:$F$1048576,Base!$A22,Lançamentos!$D$4:$D$1048576,Base!EI$3,Lançamentos!$E$4:$E$1048576,Base!$EB$2)","v":0},{"$f":"SUMIFS(Lançamentos!$G$4:$G$1048576,Lançamentos!$F$4:$F$1048576,Base!$A22,Lançamentos!$D$4:$D$1048576,Base!EJ$3,Lançamentos!$E$4:$E$1048576,Base!$EB$2)","v":0},{"$f":"SUMIFS(Lançamentos!$G$4:$G$1048576,Lançamentos!$F$4:$F$1048576,Base!$A22,Lançamentos!$D$4:$D$1048576,Base!EK$3,Lançamentos!$E$4:$E$1048576,Base!$EB$2)","v":0},{"$f":"SUMIFS(Lançamentos!$G$4:$G$1048576,Lançamentos!$F$4:$F$1048576,Base!$A22,Lançamentos!$D$4:$D$1048576,Base!EL$3,Lançamentos!$E$4:$E$1048576,Base!$EB$2)","v":0},{"$f":"SUMIFS(Lançamentos!$G$4:$G$1048576,Lançamentos!$F$4:$F$1048576,Base!$A22,Lançamentos!$D$4:$D$1048576,Base!EM$3,Lançamentos!$E$4:$E$1048576,Base!$EB$2)","v":0},0,{"$f":"SUMIFS(Lançamentos!$G$4:$G$1048576,Lançamentos!$F$4:$F$1048576,Base!$A22,Lançamentos!$D$4:$D$1048576,Base!EO$3,Lançamentos!$E$4:$E$1048576,Base!$EO$2)","v":0},{"$f":"SUMIFS(Lançamentos!$G$4:$G$1048576,Lançamentos!$F$4:$F$1048576,Base!$A22,Lançamentos!$D$4:$D$1048576,Base!EP$3,Lançamentos!$E$4:$E$1048576,Base!$EO$2)","v":0},{"$f":"SUMIFS(Lançamentos!$G$4:$G$1048576,Lançamentos!$F$4:$F$1048576,Base!$A22,Lançamentos!$D$4:$D$1048576,Base!EQ$3,Lançamentos!$E$4:$E$1048576,Base!$EO$2)","v":0},{"$f":"SUMIFS(Lançamentos!$G$4:$G$1048576,Lançamentos!$F$4:$F$1048576,Base!$A22,Lançamentos!$D$4:$D$1048576,Base!ER$3,Lançamentos!$E$4:$E$1048576,Base!$EO$2)","v":0},{"$f":"SUMIFS(Lançamentos!$G$4:$G$1048576,Lançamentos!$F$4:$F$1048576,Base!$A22,Lançamentos!$D$4:$D$1048576,Base!ES$3,Lançamentos!$E$4:$E$1048576,Base!$EO$2)","v":0},{"$f":"SUMIFS(Lançamentos!$G$4:$G$1048576,Lançamentos!$F$4:$F$1048576,Base!$A22,Lançamentos!$D$4:$D$1048576,Base!ET$3,Lançamentos!$E$4:$E$1048576,Base!$EO$2)","v":0},{"$f":"SUMIFS(Lançamentos!$G$4:$G$1048576,Lançamentos!$F$4:$F$1048576,Base!$A22,Lançamentos!$D$4:$D$1048576,Base!EU$3,Lançamentos!$E$4:$E$1048576,Base!$EO$2)","v":0},{"$f":"SUMIFS(Lançamentos!$G$4:$G$1048576,Lançamentos!$F$4:$F$1048576,Base!$A22,Lançamentos!$D$4:$D$1048576,Base!EV$3,Lançamentos!$E$4:$E$1048576,Base!$EO$2)","v":0},{"$f":"SUMIFS(Lançamentos!$G$4:$G$1048576,Lançamentos!$F$4:$F$1048576,Base!$A22,Lançamentos!$D$4:$D$1048576,Base!EW$3,Lançamentos!$E$4:$E$1048576,Base!$EO$2)","v":0},{"$f":"SUMIFS(Lançamentos!$G$4:$G$1048576,Lançamentos!$F$4:$F$1048576,Base!$A22,Lançamentos!$D$4:$D$1048576,Base!EX$3,Lançamentos!$E$4:$E$1048576,Base!$EO$2)","v":0},{"$f":"SUMIFS(Lançamentos!$G$4:$G$1048576,Lançamentos!$F$4:$F$1048576,Base!$A22,Lançamentos!$D$4:$D$1048576,Base!EY$3,Lançamentos!$E$4:$E$1048576,Base!$EO$2)","v":0},{"$f":"SUMIFS(Lançamentos!$G$4:$G$1048576,Lançamentos!$F$4:$F$1048576,Base!$A22,Lançamentos!$D$4:$D$1048576,Base!EZ$3,Lançamentos!$E$4:$E$1048576,Base!$EO$2)","v":0},0,{"$f":"SUMIFS(Lançamentos!$G$4:$G$1048576,Lançamentos!$F$4:$F$1048576,Base!$A22,Lançamentos!$D$4:$D$1048576,Base!FB$3,Lançamentos!$E$4:$E$1048576,Base!$FB$2)","v":0},{"$f":"SUMIFS(Lançamentos!$G$4:$G$1048576,Lançamentos!$F$4:$F$1048576,Base!$A22,Lançamentos!$D$4:$D$1048576,Base!FC$3,Lançamentos!$E$4:$E$1048576,Base!$FB$2)","v":0},{"$f":"SUMIFS(Lançamentos!$G$4:$G$1048576,Lançamentos!$F$4:$F$1048576,Base!$A22,Lançamentos!$D$4:$D$1048576,Base!FD$3,Lançamentos!$E$4:$E$1048576,Base!$FB$2)","v":0},{"$f":"SUMIFS(Lançamentos!$G$4:$G$1048576,Lançamentos!$F$4:$F$1048576,Base!$A22,Lançamentos!$D$4:$D$1048576,Base!FE$3,Lançamentos!$E$4:$E$1048576,Base!$FB$2)","v":0},{"$f":"SUMIFS(Lançamentos!$G$4:$G$1048576,Lançamentos!$F$4:$F$1048576,Base!$A22,Lançamentos!$D$4:$D$1048576,Base!FF$3,Lançamentos!$E$4:$E$1048576,Base!$FB$2)","v":0},{"$f":"SUMIFS(Lançamentos!$G$4:$G$1048576,Lançamentos!$F$4:$F$1048576,Base!$A22,Lançamentos!$D$4:$D$1048576,Base!FG$3,Lançamentos!$E$4:$E$1048576,Base!$FB$2)","v":0},{"$f":"SUMIFS(Lançamentos!$G$4:$G$1048576,Lançamentos!$F$4:$F$1048576,Base!$A22,Lançamentos!$D$4:$D$1048576,Base!FH$3,Lançamentos!$E$4:$E$1048576,Base!$FB$2)","v":0},{"$f":"SUMIFS(Lançamentos!$G$4:$G$1048576,Lançamentos!$F$4:$F$1048576,Base!$A22,Lançamentos!$D$4:$D$1048576,Base!FI$3,Lançamentos!$E$4:$E$1048576,Base!$FB$2)","v":0},{"$f":"SUMIFS(Lançamentos!$G$4:$G$1048576,Lançamentos!$F$4:$F$1048576,Base!$A22,Lançamentos!$D$4:$D$1048576,Base!FJ$3,Lançamentos!$E$4:$E$1048576,Base!$FB$2)","v":0},{"$f":"SUMIFS(Lançamentos!$G$4:$G$1048576,Lançamentos!$F$4:$F$1048576,Base!$A22,Lançamentos!$D$4:$D$1048576,Base!FK$3,Lançamentos!$E$4:$E$1048576,Base!$FB$2)","v":0},{"$f":"SUMIFS(Lançamentos!$G$4:$G$1048576,Lançamentos!$F$4:$F$1048576,Base!$A22,Lançamentos!$D$4:$D$1048576,Base!FL$3,Lançamentos!$E$4:$E$1048576,Base!$FB$2)","v":0},{"$f":"SUMIFS(Lançamentos!$G$4:$G$1048576,Lançamentos!$F$4:$F$1048576,Base!$A22,Lançamentos!$D$4:$D$1048576,Base!FM$3,Lançamentos!$E$4:$E$1048576,Base!$FB$2)","v":0},0,{"$f":"SUMIFS(Lançamentos!$G$4:$G$1048576,Lançamentos!$F$4:$F$1048576,Base!$A22,Lançamentos!$D$4:$D$1048576,Base!FO$3,Lançamentos!$E$4:$E$1048576,Base!$FO$2)","v":0},{"$f":"SUMIFS(Lançamentos!$G$4:$G$1048576,Lançamentos!$F$4:$F$1048576,Base!$A22,Lançamentos!$D$4:$D$1048576,Base!FP$3,Lançamentos!$E$4:$E$1048576,Base!$FO$2)","v":0},{"$f":"SUMIFS(Lançamentos!$G$4:$G$1048576,Lançamentos!$F$4:$F$1048576,Base!$A22,Lançamentos!$D$4:$D$1048576,Base!FQ$3,Lançamentos!$E$4:$E$1048576,Base!$FO$2)","v":0},{"$f":"SUMIFS(Lançamentos!$G$4:$G$1048576,Lançamentos!$F$4:$F$1048576,Base!$A22,Lançamentos!$D$4:$D$1048576,Base!FR$3,Lançamentos!$E$4:$E$1048576,Base!$FO$2)","v":0},{"$f":"SUMIFS(Lançamentos!$G$4:$G$1048576,Lançamentos!$F$4:$F$1048576,Base!$A22,Lançamentos!$D$4:$D$1048576,Base!FS$3,Lançamentos!$E$4:$E$1048576,Base!$FO$2)","v":0},{"$f":"SUMIFS(Lançamentos!$G$4:$G$1048576,Lançamentos!$F$4:$F$1048576,Base!$A22,Lançamentos!$D$4:$D$1048576,Base!FT$3,Lançamentos!$E$4:$E$1048576,Base!$FO$2)","v":0},{"$f":"SUMIFS(Lançamentos!$G$4:$G$1048576,Lançamentos!$F$4:$F$1048576,Base!$A22,Lançamentos!$D$4:$D$1048576,Base!FU$3,Lançamentos!$E$4:$E$1048576,Base!$FO$2)","v":0},{"$f":"SUMIFS(Lançamentos!$G$4:$G$1048576,Lançamentos!$F$4:$F$1048576,Base!$A22,Lançamentos!$D$4:$D$1048576,Base!FV$3,Lançamentos!$E$4:$E$1048576,Base!$FO$2)","v":0},{"$f":"SUMIFS(Lançamentos!$G$4:$G$1048576,Lançamentos!$F$4:$F$1048576,Base!$A22,Lançamentos!$D$4:$D$1048576,Base!FW$3,Lançamentos!$E$4:$E$1048576,Base!$FO$2)","v":0},{"$f":"SUMIFS(Lançamentos!$G$4:$G$1048576,Lançamentos!$F$4:$F$1048576,Base!$A22,Lançamentos!$D$4:$D$1048576,Base!FX$3,Lançamentos!$E$4:$E$1048576,Base!$FO$2)","v":0},{"$f":"SUMIFS(Lançamentos!$G$4:$G$1048576,Lançamentos!$F$4:$F$1048576,Base!$A22,Lançamentos!$D$4:$D$1048576,Base!FY$3,Lançamentos!$E$4:$E$1048576,Base!$FO$2)","v":0},{"$f":"SUMIFS(Lançamentos!$G$4:$G$1048576,Lançamentos!$F$4:$F$1048576,Base!$A22,Lançamentos!$D$4:$D$1048576,Base!FZ$3,Lançamentos!$E$4:$E$1048576,Base!$FO$2)","v":0},0,{"$f":"SUMIFS(Lançamentos!$G$4:$G$1048576,Lançamentos!$F$4:$F$1048576,Base!$A22,Lançamentos!$D$4:$D$1048576,Base!GB$3,Lançamentos!$E$4:$E$1048576,Base!$GB$2)","v":0},{"$f":"SUMIFS(Lançamentos!$G$4:$G$1048576,Lançamentos!$F$4:$F$1048576,Base!$A22,Lançamentos!$D$4:$D$1048576,Base!GC$3,Lançamentos!$E$4:$E$1048576,Base!$GB$2)","v":0},{"$f":"SUMIFS(Lançamentos!$G$4:$G$1048576,Lançamentos!$F$4:$F$1048576,Base!$A22,Lançamentos!$D$4:$D$1048576,Base!GD$3,Lançamentos!$E$4:$E$1048576,Base!$GB$2)","v":0},{"$f":"SUMIFS(Lançamentos!$G$4:$G$1048576,Lançamentos!$F$4:$F$1048576,Base!$A22,Lançamentos!$D$4:$D$1048576,Base!GE$3,Lançamentos!$E$4:$E$1048576,Base!$GB$2)","v":0},{"$f":"SUMIFS(Lançamentos!$G$4:$G$1048576,Lançamentos!$F$4:$F$1048576,Base!$A22,Lançamentos!$D$4:$D$1048576,Base!GF$3,Lançamentos!$E$4:$E$1048576,Base!$GB$2)","v":0},{"$f":"SUMIFS(Lançamentos!$G$4:$G$1048576,Lançamentos!$F$4:$F$1048576,Base!$A22,Lançamentos!$D$4:$D$1048576,Base!GG$3,Lançamentos!$E$4:$E$1048576,Base!$GB$2)","v":0},{"$f":"SUMIFS(Lançamentos!$G$4:$G$1048576,Lançamentos!$F$4:$F$1048576,Base!$A22,Lançamentos!$D$4:$D$1048576,Base!GH$3,Lançamentos!$E$4:$E$1048576,Base!$GB$2)","v":0},{"$f":"SUMIFS(Lançamentos!$G$4:$G$1048576,Lançamentos!$F$4:$F$1048576,Base!$A22,Lançamentos!$D$4:$D$1048576,Base!GI$3,Lançamentos!$E$4:$E$1048576,Base!$GB$2)","v":0},{"$f":"SUMIFS(Lançamentos!$G$4:$G$1048576,Lançamentos!$F$4:$F$1048576,Base!$A22,Lançamentos!$D$4:$D$1048576,Base!GJ$3,Lançamentos!$E$4:$E$1048576,Base!$GB$2)","v":0},{"$f":"SUMIFS(Lançamentos!$G$4:$G$1048576,Lançamentos!$F$4:$F$1048576,Base!$A22,Lançamentos!$D$4:$D$1048576,Base!GK$3,Lançamentos!$E$4:$E$1048576,Base!$GB$2)","v":0},{"$f":"SUMIFS(Lançamentos!$G$4:$G$1048576,Lançamentos!$F$4:$F$1048576,Base!$A22,Lançamentos!$D$4:$D$1048576,Base!GL$3,Lançamentos!$E$4:$E$1048576,Base!$GB$2)","v":0},{"$f":"SUMIFS(Lançamentos!$G$4:$G$1048576,Lançamentos!$F$4:$F$1048576,Base!$A22,Lançamentos!$D$4:$D$1048576,Base!GM$3,Lançamentos!$E$4:$E$1048576,Base!$GB$2)","v":0},0]
[{"$f":"IF(Lançamentos!A20=\"\",\"\",Lançamentos!A20)","v":"Outras Saídas 2"},{"$f":"SUMIFS(Lançamentos!$G$4:$G$1048576,Lançamentos!$F$4:$F$1048576,Base!$A23,Lançamentos!$D$4:$D$1048576,Base!B$3,Lançamentos!$E$4:$E$1048576,Base!$B$2)","v":0},{"$f":"SUMIFS(Lançamentos!$G$4:$G$1048576,Lançamentos!$F$4:$F$1048576,Base!$A23,Lançamentos!$D$4:$D$1048576,Base!C$3,Lançamentos!$E$4:$E$1048576,Base!$B$2)","v":0},{"$f":"SUMIFS(Lançamentos!$G$4:$G$1048576,Lançamentos!$F$4:$F$1048576,Base!$A23,Lançamentos!$D$4:$D$1048576,Base!D$3,Lançamentos!$E$4:$E$1048576,Base!$B$2)","v":0},{"$f":"SUMIFS(Lançamentos!$G$4:$G$1048576,Lançamentos!$F$4:$F$1048576,Base!$A23,Lançamentos!$D$4:$D$1048576,Base!E$3,Lançamentos!$E$4:$E$1048576,Base!$B$2)","v":0},{"$f":"SUMIFS(Lançamentos!$G$4:$G$1048576,Lançamentos!$F$4:$F$1048576,Base!$A23,Lançamentos!$D$4:$D$1048576,Base!F$3,Lançamentos!$E$4:$E$1048576,Base!$B$2)","v":0},{"$f":"SUMIFS(Lançamentos!$G$4:$G$1048576,Lançamentos!$F$4:$F$1048576,Base!$A23,Lançamentos!$D$4:$D$1048576,Base!G$3,Lançamentos!$E$4:$E$1048576,Base!$B$2)","v":0},{"$f":"SUMIFS(Lançamentos!$G$4:$G$1048576,Lançamentos!$F$4:$F$1048576,Base!$A23,Lançamentos!$D$4:$D$1048576,Base!H$3,Lançamentos!$E$4:$E$1048576,Base!$B$2)","v":0},{"$f":"SUMIFS(Lançamentos!$G$4:$G$1048576,Lançamentos!$F$4:$F$1048576,Base!$A23,Lançamentos!$D$4:$D$1048576,Base!I$3,Lançamentos!$E$4:$E$1048576,Base!$B$2)","v":0},{"$f":"SUMIFS(Lançamentos!$G$4:$G$1048576,Lançamentos!$F$4:$F$1048576,Base!$A23,Lançamentos!$D$4:$D$1048576,Base!J$3,Lançamentos!$E$4:$E$1048576,Base!$B$2)","v":0},{"$f":"SUMIFS(Lançamentos!$G$4:$G$1048576,Lançamentos!$F$4:$F$1048576,Base!$A23,Lançamentos!$D$4:$D$1048576,Base!K$3,Lançamentos!$E$4:$E$1048576,Base!$B$2)","v":0},{"$f":"SUMIFS(Lançamentos!$G$4:$G$1048576,Lançamentos!$F$4:$F$1048576,Base!$A23,Lançamentos!$D$4:$D$1048576,Base!L$3,Lançamentos!$E$4:$E$1048576,Base!$B$2)","v":0},{"$f":"SUMIFS(Lançamentos!$G$4:$G$1048576,Lançamentos!$F$4:$F$1048576,Base!$A23,Lançamentos!$D$4:$D$1048576,Base!M$3,Lançamentos!$E$4:$E$1048576,Base!$B$2)","v":0},0,{"$f":"SUMIFS(Lançamentos!$G$4:$G$1048576,Lançamentos!$F$4:$F$1048576,Base!$A23,Lançamentos!$D$4:$D$1048576,Base!O$3,Lançamentos!$E$4:$E$1048576,Base!$O$2)","v":0},{"$f":"SUMIFS(Lançamentos!$G$4:$G$1048576,Lançamentos!$F$4:$F$1048576,Base!$A23,Lançamentos!$D$4:$D$1048576,Base!P$3,Lançamentos!$E$4:$E$1048576,Base!$O$2)","v":0},{"$f":"SUMIFS(Lançamentos!$G$4:$G$1048576,Lançamentos!$F$4:$F$1048576,Base!$A23,Lançamentos!$D$4:$D$1048576,Base!Q$3,Lançamentos!$E$4:$E$1048576,Base!$O$2)","v":0},{"$f":"SUMIFS(Lançamentos!$G$4:$G$1048576,Lançamentos!$F$4:$F$1048576,Base!$A23,Lançamentos!$D$4:$D$1048576,Base!R$3,Lançamentos!$E$4:$E$1048576,Base!$O$2)","v":0},{"$f":"SUMIFS(Lançamentos!$G$4:$G$1048576,Lançamentos!$F$4:$F$1048576,Base!$A23,Lançamentos!$D$4:$D$1048576,Base!S$3,Lançamentos!$E$4:$E$1048576,Base!$O$2)","v":0},{"$f":"SUMIFS(Lançamentos!$G$4:$G$1048576,Lançamentos!$F$4:$F$1048576,Base!$A23,Lançamentos!$D$4:$D$1048576,Base!T$3,Lançamentos!$E$4:$E$1048576,Base!$O$2)","v":0},{"$f":"SUMIFS(Lançamentos!$G$4:$G$1048576,Lançamentos!$F$4:$F$1048576,Base!$A23,Lançamentos!$D$4:$D$1048576,Base!U$3,Lançamentos!$E$4:$E$1048576,Base!$O$2)","v":0},{"$f":"SUMIFS(Lançamentos!$G$4:$G$1048576,Lançamentos!$F$4:$F$1048576,Base!$A23,Lançamentos!$D$4:$D$1048576,Base!V$3,Lançamentos!$E$4:$E$1048576,Base!$O$2)","v":0},{"$f":"SUMIFS(Lançamentos!$G$4:$G$1048576,Lançamentos!$F$4:$F$1048576,Base!$A23,Lançamentos!$D$4:$D$1048576,Base!W$3,Lançamentos!$E$4:$E$1048576,Base!$O$2)","v":0},{"$f":"SUMIFS(Lançamentos!$G$4:$G$1048576,Lançamentos!$F$4:$F$1048576,Base!$A23,Lançamentos!$D$4:$D$1048576,Base!X$3,Lançamentos!$E$4:$E$1048576,Base!$O$2)","v":0},{"$f":"SUMIFS(Lançamentos!$G$4:$G$1048576,Lançamentos!$F$4:$F$1048576,Base!$A23,Lançamentos!$D$4:$D$1048576,Base!Y$3,Lançamentos!$E$4:$E$1048576,Base!$O$2)","v":0},{"$f":"SUMIFS(Lançamentos!$G$4:$G$1048576,Lançamentos!$F$4:$F$1048576,Base!$A23,Lançamentos!$D$4:$D$1048576,Base!Z$3,Lançamentos!$E$4:$E$1048576,Base!$O$2)","v":0},0,{"$f":"SUMIFS(Lançamentos!$G$4:$G$1048576,Lançamentos!$F$4:$F$1048576,Base!$A23,Lançamentos!$D$4:$D$1048576,Base!AB$3,Lançamentos!$E$4:$E$1048576,Base!$AB$2)","v":0},{"$f":"SUMIFS(Lançamentos!$G$4:$G$1048576,Lançamentos!$F$4:$F$1048576,Base!$A23,Lançamentos!$D$4:$D$1048576,Base!AC$3,Lançamentos!$E$4:$E$1048576,Base!$AB$2)","v":0},{"$f":"SUMIFS(Lançamentos!$G$4:$G$1048576,Lançamentos!$F$4:$F$1048576,Base!$A23,Lançamentos!$D$4:$D$1048576,Base!AD$3,Lançamentos!$E$4:$E$1048576,Base!$AB$2)","v":0},{"$f":"SUMIFS(Lançamentos!$G$4:$G$1048576,Lançamentos!$F$4:$F$1048576,Base!$A23,Lançamentos!$D$4:$D$1048576,Base!AE$3,Lançamentos!$E$4:$E$1048576,Base!$AB$2)","v":0},{"$f":"SUMIFS(Lançamentos!$G$4:$G$1048576,Lançamentos!$F$4:$F$1048576,Base!$A23,Lançamentos!$D$4:$D$1048576,Base!AF$3,Lançamentos!$E$4:$E$1048576,Base!$AB$2)","v":0},{"$f":"SUMIFS(Lançamentos!$G$4:$G$1048576,Lançamentos!$F$4:$F$1048576,Base!$A23,Lançamentos!$D$4:$D$1048576,Base!AG$3,Lançamentos!$E$4:$E$1048576,Base!$AB$2)","v":0},{"$f":"SUMIFS(Lançamentos!$G$4:$G$1048576,Lançamentos!$F$4:$F$1048576,Base!$A23,Lançamentos!$D$4:$D$1048576,Base!AH$3,Lançamentos!$E$4:$E$1048576,Base!$AB$2)","v":0},{"$f":"SUMIFS(Lançamentos!$G$4:$G$1048576,Lançamentos!$F$4:$F$1048576,Base!$A23,Lançamentos!$D$4:$D$1048576,Base!AI$3,Lançamentos!$E$4:$E$1048576,Base!$AB$2)","v":0},{"$f":"SUMIFS(Lançamentos!$G$4:$G$1048576,Lançamentos!$F$4:$F$1048576,Base!$A23,Lançamentos!$D$4:$D$1048576,Base!AJ$3,Lançamentos!$E$4:$E$1048576,Base!$AB$2)","v":0},{"$f":"SUMIFS(Lançamentos!$G$4:$G$1048576,Lançamentos!$F$4:$F$1048576,Base!$A23,Lançamentos!$D$4:$D$1048576,Base!AK$3,Lançamentos!$E$4:$E$1048576,Base!$AB$2)","v":0},{"$f":"SUMIFS(Lançamentos!$G$4:$G$1048576,Lançamentos!$F$4:$F$1048576,Base!$A23,Lançamentos!$D$4:$D$1048576,Base!AL$3,Lançamentos!$E$4:$E$1048576,Base!$AB$2)","v":0},{"$f":"SUMIFS(Lançamentos!$G$4:$G$1048576,Lançamentos!$F$4:$F$1048576,Base!$A23,Lançamentos!$D$4:$D$1048576,Base!AM$3,Lançamentos!$E$4:$E$1048576,Base!$AB$2)","v":0},0,{"$f":"SUMIFS(Lançamentos!$G$4:$G$1048576,Lançamentos!$F$4:$F$1048576,Base!$A23,Lançamentos!$D$4:$D$1048576,Base!AO$3,Lançamentos!$E$4:$E$1048576,Base!$AO$2)","v":0},{"$f":"SUMIFS(Lançamentos!$G$4:$G$1048576,Lançamentos!$F$4:$F$1048576,Base!$A23,Lançamentos!$D$4:$D$1048576,Base!AP$3,Lançamentos!$E$4:$E$1048576,Base!$AO$2)","v":0},{"$f":"SUMIFS(Lançamentos!$G$4:$G$1048576,Lançamentos!$F$4:$F$1048576,Base!$A23,Lançamentos!$D$4:$D$1048576,Base!AQ$3,Lançamentos!$E$4:$E$1048576,Base!$AO$2)","v":0},{"$f":"SUMIFS(Lançamentos!$G$4:$G$1048576,Lançamentos!$F$4:$F$1048576,Base!$A23,Lançamentos!$D$4:$D$1048576,Base!AR$3,Lançamentos!$E$4:$E$1048576,Base!$AO$2)","v":0},{"$f":"SUMIFS(Lançamentos!$G$4:$G$1048576,Lançamentos!$F$4:$F$1048576,Base!$A23,Lançamentos!$D$4:$D$1048576,Base!AS$3,Lançamentos!$E$4:$E$1048576,Base!$AO$2)","v":0},{"$f":"SUMIFS(Lançamentos!$G$4:$G$1048576,Lançamentos!$F$4:$F$1048576,Base!$A23,Lançamentos!$D$4:$D$1048576,Base!AT$3,Lançamentos!$E$4:$E$1048576,Base!$AO$2)","v":0},{"$f":"SUMIFS(Lançamentos!$G$4:$G$1048576,Lançamentos!$F$4:$F$1048576,Base!$A23,Lançamentos!$D$4:$D$1048576,Base!AU$3,Lançamentos!$E$4:$E$1048576,Base!$AO$2)","v":0},{"$f":"SUMIFS(Lançamentos!$G$4:$G$1048576,Lançamentos!$F$4:$F$1048576,Base!$A23,Lançamentos!$D$4:$D$1048576,Base!AV$3,Lançamentos!$E$4:$E$1048576,Base!$AO$2)","v":0},{"$f":"SUMIFS(Lançamentos!$G$4:$G$1048576,Lançamentos!$F$4:$F$1048576,Base!$A23,Lançamentos!$D$4:$D$1048576,Base!AW$3,Lançamentos!$E$4:$E$1048576,Base!$AO$2)","v":0},{"$f":"SUMIFS(Lançamentos!$G$4:$G$1048576,Lançamentos!$F$4:$F$1048576,Base!$A23,Lançamentos!$D$4:$D$1048576,Base!AX$3,Lançamentos!$E$4:$E$1048576,Base!$AO$2)","v":0},{"$f":"SUMIFS(Lançamentos!$G$4:$G$1048576,Lançamentos!$F$4:$F$1048576,Base!$A23,Lançamentos!$D$4:$D$1048576,Base!AY$3,Lançamentos!$E$4:$E$1048576,Base!$AO$2)","v":0},{"$f":"SUMIFS(Lançamentos!$G$4:$G$1048576,Lançamentos!$F$4:$F$1048576,Base!$A23,Lançamentos!$D$4:$D$1048576,Base!AZ$3,Lançamentos!$E$4:$E$1048576,Base!$AO$2)","v":0},0,{"$f":"SUMIFS(Lançamentos!$G$4:$G$1048576,Lançamentos!$F$4:$F$1048576,Base!$A23,Lançamentos!$D$4:$D$1048576,Base!BB$3,Lançamentos!$E$4:$E$1048576,Base!$BB$2)","v":0},{"$f":"SUMIFS(Lançamentos!$G$4:$G$1048576,Lançamentos!$F$4:$F$1048576,Base!$A23,Lançamentos!$D$4:$D$1048576,Base!BC$3,Lançamentos!$E$4:$E$1048576,Base!$BB$2)","v":0},{"$f":"SUMIFS(Lançamentos!$G$4:$G$1048576,Lançamentos!$F$4:$F$1048576,Base!$A23,Lançamentos!$D$4:$D$1048576,Base!BD$3,Lançamentos!$E$4:$E$1048576,Base!$BB$2)","v":0},{"$f":"SUMIFS(Lançamentos!$G$4:$G$1048576,Lançamentos!$F$4:$F$1048576,Base!$A23,Lançamentos!$D$4:$D$1048576,Base!BE$3,Lançamentos!$E$4:$E$1048576,Base!$BB$2)","v":0},{"$f":"SUMIFS(Lançamentos!$G$4:$G$1048576,Lançamentos!$F$4:$F$1048576,Base!$A23,Lançamentos!$D$4:$D$1048576,Base!BF$3,Lançamentos!$E$4:$E$1048576,Base!$BB$2)","v":0},{"$f":"SUMIFS(Lançamentos!$G$4:$G$1048576,Lançamentos!$F$4:$F$1048576,Base!$A23,Lançamentos!$D$4:$D$1048576,Base!BG$3,Lançamentos!$E$4:$E$1048576,Base!$BB$2)","v":0},{"$f":"SUMIFS(Lançamentos!$G$4:$G$1048576,Lançamentos!$F$4:$F$1048576,Base!$A23,Lançamentos!$D$4:$D$1048576,Base!BH$3,Lançamentos!$E$4:$E$1048576,Base!$BB$2)","v":0},{"$f":"SUMIFS(Lançamentos!$G$4:$G$1048576,Lançamentos!$F$4:$F$1048576,Base!$A23,Lançamentos!$D$4:$D$1048576,Base!BI$3,Lançamentos!$E$4:$E$1048576,Base!$BB$2)","v":0},{"$f":"SUMIFS(Lançamentos!$G$4:$G$1048576,Lançamentos!$F$4:$F$1048576,Base!$A23,Lançamentos!$D$4:$D$1048576,Base!BJ$3,Lançamentos!$E$4:$E$1048576,Base!$BB$2)","v":0},{"$f":"SUMIFS(Lançamentos!$G$4:$G$1048576,Lançamentos!$F$4:$F$1048576,Base!$A23,Lançamentos!$D$4:$D$1048576,Base!BK$3,Lançamentos!$E$4:$E$1048576,Base!$BB$2)","v":0},{"$f":"SUMIFS(Lançamentos!$G$4:$G$1048576,Lançamentos!$F$4:$F$1048576,Base!$A23,Lançamentos!$D$4:$D$1048576,Base!BL$3,Lançamentos!$E$4:$E$1048576,Base!$BB$2)","v":0},{"$f":"SUMIFS(Lançamentos!$G$4:$G$1048576,Lançamentos!$F$4:$F$1048576,Base!$A23,Lançamentos!$D$4:$D$1048576,Base!BM$3,Lançamentos!$E$4:$E$1048576,Base!$BB$2)","v":0},0,{"$f":"SUMIFS(Lançamentos!$G$4:$G$1048576,Lançamentos!$F$4:$F$1048576,Base!$A23,Lançamentos!$D$4:$D$1048576,Base!BO$3,Lançamentos!$E$4:$E$1048576,Base!$BO$2)","v":0},{"$f":"SUMIFS(Lançamentos!$G$4:$G$1048576,Lançamentos!$F$4:$F$1048576,Base!$A23,Lançamentos!$D$4:$D$1048576,Base!BP$3,Lançamentos!$E$4:$E$1048576,Base!$BO$2)","v":0},{"$f":"SUMIFS(Lançamentos!$G$4:$G$1048576,Lançamentos!$F$4:$F$1048576,Base!$A23,Lançamentos!$D$4:$D$1048576,Base!BQ$3,Lançamentos!$E$4:$E$1048576,Base!$BO$2)","v":0},{"$f":"SUMIFS(Lançamentos!$G$4:$G$1048576,Lançamentos!$F$4:$F$1048576,Base!$A23,Lançamentos!$D$4:$D$1048576,Base!BR$3,Lançamentos!$E$4:$E$1048576,Base!$BO$2)","v":0},{"$f":"SUMIFS(Lançamentos!$G$4:$G$1048576,Lançamentos!$F$4:$F$1048576,Base!$A23,Lançamentos!$D$4:$D$1048576,Base!BS$3,Lançamentos!$E$4:$E$1048576,Base!$BO$2)","v":0},{"$f":"SUMIFS(Lançamentos!$G$4:$G$1048576,Lançamentos!$F$4:$F$1048576,Base!$A23,Lançamentos!$D$4:$D$1048576,Base!BT$3,Lançamentos!$E$4:$E$1048576,Base!$BO$2)","v":0},{"$f":"SUMIFS(Lançamentos!$G$4:$G$1048576,Lançamentos!$F$4:$F$1048576,Base!$A23,Lançamentos!$D$4:$D$1048576,Base!BU$3,Lançamentos!$E$4:$E$1048576,Base!$BO$2)","v":0},{"$f":"SUMIFS(Lançamentos!$G$4:$G$1048576,Lançamentos!$F$4:$F$1048576,Base!$A23,Lançamentos!$D$4:$D$1048576,Base!BV$3,Lançamentos!$E$4:$E$1048576,Base!$BO$2)","v":0},{"$f":"SUMIFS(Lançamentos!$G$4:$G$1048576,Lançamentos!$F$4:$F$1048576,Base!$A23,Lançamentos!$D$4:$D$1048576,Base!BW$3,Lançamentos!$E$4:$E$1048576,Base!$BO$2)","v":0},{"$f":"SUMIFS(Lançamentos!$G$4:$G$1048576,Lançamentos!$F$4:$F$1048576,Base!$A23,Lançamentos!$D$4:$D$1048576,Base!BX$3,Lançamentos!$E$4:$E$1048576,Base!$BO$2)","v":0},{"$f":"SUMIFS(Lançamentos!$G$4:$G$1048576,Lançamentos!$F$4:$F$1048576,Base!$A23,Lançamentos!$D$4:$D$1048576,Base!BY$3,Lançamentos!$E$4:$E$1048576,Base!$BO$2)","v":0},{"$f":"SUMIFS(Lançamentos!$G$4:$G$1048576,Lançamentos!$F$4:$F$1048576,Base!$A23,Lançamentos!$D$4:$D$1048576,Base!BZ$3,Lançamentos!$E$4:$E$1048576,Base!$BO$2)","v":0},0,{"$f":"SUMIFS(Lançamentos!$G$4:$G$1048576,Lançamentos!$F$4:$F$1048576,Base!$A23,Lançamentos!$D$4:$D$1048576,Base!CB$3,Lançamentos!$E$4:$E$1048576,Base!$CB$2)","v":0},{"$f":"SUMIFS(Lançamentos!$G$4:$G$1048576,Lançamentos!$F$4:$F$1048576,Base!$A23,Lançamentos!$D$4:$D$1048576,Base!CC$3,Lançamentos!$E$4:$E$1048576,Base!$CB$2)","v":0},{"$f":"SUMIFS(Lançamentos!$G$4:$G$1048576,Lançamentos!$F$4:$F$1048576,Base!$A23,Lançamentos!$D$4:$D$1048576,Base!CD$3,Lançamentos!$E$4:$E$1048576,Base!$CB$2)","v":0},{"$f":"SUMIFS(Lançamentos!$G$4:$G$1048576,Lançamentos!$F$4:$F$1048576,Base!$A23,Lançamentos!$D$4:$D$1048576,Base!CE$3,Lançamentos!$E$4:$E$1048576,Base!$CB$2)","v":0},{"$f":"SUMIFS(Lançamentos!$G$4:$G$1048576,Lançamentos!$F$4:$F$1048576,Base!$A23,Lançamentos!$D$4:$D$1048576,Base!CF$3,Lançamentos!$E$4:$E$1048576,Base!$CB$2)","v":0},{"$f":"SUMIFS(Lançamentos!$G$4:$G$1048576,Lançamentos!$F$4:$F$1048576,Base!$A23,Lançamentos!$D$4:$D$1048576,Base!CG$3,Lançamentos!$E$4:$E$1048576,Base!$CB$2)","v":0},{"$f":"SUMIFS(Lançamentos!$G$4:$G$1048576,Lançamentos!$F$4:$F$1048576,Base!$A23,Lançamentos!$D$4:$D$1048576,Base!CH$3,Lançamentos!$E$4:$E$1048576,Base!$CB$2)","v":0},{"$f":"SUMIFS(Lançamentos!$G$4:$G$1048576,Lançamentos!$F$4:$F$1048576,Base!$A23,Lançamentos!$D$4:$D$1048576,Base!CI$3,Lançamentos!$E$4:$E$1048576,Base!$CB$2)","v":0},{"$f":"SUMIFS(Lançamentos!$G$4:$G$1048576,Lançamentos!$F$4:$F$1048576,Base!$A23,Lançamentos!$D$4:$D$1048576,Base!CJ$3,Lançamentos!$E$4:$E$1048576,Base!$CB$2)","v":0},{"$f":"SUMIFS(Lançamentos!$G$4:$G$1048576,Lançamentos!$F$4:$F$1048576,Base!$A23,Lançamentos!$D$4:$D$1048576,Base!CK$3,Lançamentos!$E$4:$E$1048576,Base!$CB$2)","v":0},{"$f":"SUMIFS(Lançamentos!$G$4:$G$1048576,Lançamentos!$F$4:$F$1048576,Base!$A23,Lançamentos!$D$4:$D$1048576,Base!CL$3,Lançamentos!$E$4:$E$1048576,Base!$CB$2)","v":0},{"$f":"SUMIFS(Lançamentos!$G$4:$G$1048576,Lançamentos!$F$4:$F$1048576,Base!$A23,Lançamentos!$D$4:$D$1048576,Base!CM$3,Lançamentos!$E$4:$E$1048576,Base!$CB$2)","v":0},0,{"$f":"SUMIFS(Lançamentos!$G$4:$G$1048576,Lançamentos!$F$4:$F$1048576,Base!$A23,Lançamentos!$D$4:$D$1048576,Base!CO$3,Lançamentos!$E$4:$E$1048576,Base!$CO$2)","v":0},{"$f":"SUMIFS(Lançamentos!$G$4:$G$1048576,Lançamentos!$F$4:$F$1048576,Base!$A23,Lançamentos!$D$4:$D$1048576,Base!CP$3,Lançamentos!$E$4:$E$1048576,Base!$CO$2)","v":0},{"$f":"SUMIFS(Lançamentos!$G$4:$G$1048576,Lançamentos!$F$4:$F$1048576,Base!$A23,Lançamentos!$D$4:$D$1048576,Base!CQ$3,Lançamentos!$E$4:$E$1048576,Base!$CO$2)","v":0},{"$f":"SUMIFS(Lançamentos!$G$4:$G$1048576,Lançamentos!$F$4:$F$1048576,Base!$A23,Lançamentos!$D$4:$D$1048576,Base!CR$3,Lançamentos!$E$4:$E$1048576,Base!$CO$2)","v":0},{"$f":"SUMIFS(Lançamentos!$G$4:$G$1048576,Lançamentos!$F$4:$F$1048576,Base!$A23,Lançamentos!$D$4:$D$1048576,Base!CS$3,Lançamentos!$E$4:$E$1048576,Base!$CO$2)","v":0},{"$f":"SUMIFS(Lançamentos!$G$4:$G$1048576,Lançamentos!$F$4:$F$1048576,Base!$A23,Lançamentos!$D$4:$D$1048576,Base!CT$3,Lançamentos!$E$4:$E$1048576,Base!$CO$2)","v":0},{"$f":"SUMIFS(Lançamentos!$G$4:$G$1048576,Lançamentos!$F$4:$F$1048576,Base!$A23,Lançamentos!$D$4:$D$1048576,Base!CU$3,Lançamentos!$E$4:$E$1048576,Base!$CO$2)","v":0},{"$f":"SUMIFS(Lançamentos!$G$4:$G$1048576,Lançamentos!$F$4:$F$1048576,Base!$A23,Lançamentos!$D$4:$D$1048576,Base!CV$3,Lançamentos!$E$4:$E$1048576,Base!$CO$2)","v":0},{"$f":"SUMIFS(Lançamentos!$G$4:$G$1048576,Lançamentos!$F$4:$F$1048576,Base!$A23,Lançamentos!$D$4:$D$1048576,Base!CW$3,Lançamentos!$E$4:$E$1048576,Base!$CO$2)","v":0},{"$f":"SUMIFS(Lançamentos!$G$4:$G$1048576,Lançamentos!$F$4:$F$1048576,Base!$A23,Lançamentos!$D$4:$D$1048576,Base!CX$3,Lançamentos!$E$4:$E$1048576,Base!$CO$2)","v":0},{"$f":"SUMIFS(Lançamentos!$G$4:$G$1048576,Lançamentos!$F$4:$F$1048576,Base!$A23,Lançamentos!$D$4:$D$1048576,Base!CY$3,Lançamentos!$E$4:$E$1048576,Base!$CO$2)","v":0},{"$f":"SUMIFS(Lançamentos!$G$4:$G$1048576,Lançamentos!$F$4:$F$1048576,Base!$A23,Lançamentos!$D$4:$D$1048576,Base!CZ$3,Lançamentos!$E$4:$E$1048576,Base!$CO$2)","v":0},0,{"$f":"SUMIFS(Lançamentos!$G$4:$G$1048576,Lançamentos!$F$4:$F$1048576,Base!$A23,Lançamentos!$D$4:$D$1048576,Base!DB$3,Lançamentos!$E$4:$E$1048576,Base!$DB$2)","v":0},{"$f":"SUMIFS(Lançamentos!$G$4:$G$1048576,Lançamentos!$F$4:$F$1048576,Base!$A23,Lançamentos!$D$4:$D$1048576,Base!DC$3,Lançamentos!$E$4:$E$1048576,Base!$DB$2)","v":0},{"$f":"SUMIFS(Lançamentos!$G$4:$G$1048576,Lançamentos!$F$4:$F$1048576,Base!$A23,Lançamentos!$D$4:$D$1048576,Base!DD$3,Lançamentos!$E$4:$E$1048576,Base!$DB$2)","v":0},{"$f":"SUMIFS(Lançamentos!$G$4:$G$1048576,Lançamentos!$F$4:$F$1048576,Base!$A23,Lançamentos!$D$4:$D$1048576,Base!DE$3,Lançamentos!$E$4:$E$1048576,Base!$DB$2)","v":0},{"$f":"SUMIFS(Lançamentos!$G$4:$G$1048576,Lançamentos!$F$4:$F$1048576,Base!$A23,Lançamentos!$D$4:$D$1048576,Base!DF$3,Lançamentos!$E$4:$E$1048576,Base!$DB$2)","v":0},{"$f":"SUMIFS(Lançamentos!$G$4:$G$1048576,Lançamentos!$F$4:$F$1048576,Base!$A23,Lançamentos!$D$4:$D$1048576,Base!DG$3,Lançamentos!$E$4:$E$1048576,Base!$DB$2)","v":0},{"$f":"SUMIFS(Lançamentos!$G$4:$G$1048576,Lançamentos!$F$4:$F$1048576,Base!$A23,Lançamentos!$D$4:$D$1048576,Base!DH$3,Lançamentos!$E$4:$E$1048576,Base!$DB$2)","v":0},{"$f":"SUMIFS(Lançamentos!$G$4:$G$1048576,Lançamentos!$F$4:$F$1048576,Base!$A23,Lançamentos!$D$4:$D$1048576,Base!DI$3,Lançamentos!$E$4:$E$1048576,Base!$DB$2)","v":0},{"$f":"SUMIFS(Lançamentos!$G$4:$G$1048576,Lançamentos!$F$4:$F$1048576,Base!$A23,Lançamentos!$D$4:$D$1048576,Base!DJ$3,Lançamentos!$E$4:$E$1048576,Base!$DB$2)","v":0},{"$f":"SUMIFS(Lançamentos!$G$4:$G$1048576,Lançamentos!$F$4:$F$1048576,Base!$A23,Lançamentos!$D$4:$D$1048576,Base!DK$3,Lançamentos!$E$4:$E$1048576,Base!$DB$2)","v":0},{"$f":"SUMIFS(Lançamentos!$G$4:$G$1048576,Lançamentos!$F$4:$F$1048576,Base!$A23,Lançamentos!$D$4:$D$1048576,Base!DL$3,Lançamentos!$E$4:$E$1048576,Base!$DB$2)","v":0},{"$f":"SUMIFS(Lançamentos!$G$4:$G$1048576,Lançamentos!$F$4:$F$1048576,Base!$A23,Lançamentos!$D$4:$D$1048576,Base!DM$3,Lançamentos!$E$4:$E$1048576,Base!$DB$2)","v":0},0,{"$f":"SUMIFS(Lançamentos!$G$4:$G$1048576,Lançamentos!$F$4:$F$1048576,Base!$A23,Lançamentos!$D$4:$D$1048576,Base!DO$3,Lançamentos!$E$4:$E$1048576,Base!$DO$2)","v":0},{"$f":"SUMIFS(Lançamentos!$G$4:$G$1048576,Lançamentos!$F$4:$F$1048576,Base!$A23,Lançamentos!$D$4:$D$1048576,Base!DP$3,Lançamentos!$E$4:$E$1048576,Base!$DO$2)","v":0},{"$f":"SUMIFS(Lançamentos!$G$4:$G$1048576,Lançamentos!$F$4:$F$1048576,Base!$A23,Lançamentos!$D$4:$D$1048576,Base!DQ$3,Lançamentos!$E$4:$E$1048576,Base!$DO$2)","v":0},{"$f":"SUMIFS(Lançamentos!$G$4:$G$1048576,Lançamentos!$F$4:$F$1048576,Base!$A23,Lançamentos!$D$4:$D$1048576,Base!DR$3,Lançamentos!$E$4:$E$1048576,Base!$DO$2)","v":0},{"$f":"SUMIFS(Lançamentos!$G$4:$G$1048576,Lançamentos!$F$4:$F$1048576,Base!$A23,Lançamentos!$D$4:$D$1048576,Base!DS$3,Lançamentos!$E$4:$E$1048576,Base!$DO$2)","v":0},{"$f":"SUMIFS(Lançamentos!$G$4:$G$1048576,Lançamentos!$F$4:$F$1048576,Base!$A23,Lançamentos!$D$4:$D$1048576,Base!DT$3,Lançamentos!$E$4:$E$1048576,Base!$DO$2)","v":0},{"$f":"SUMIFS(Lançamentos!$G$4:$G$1048576,Lançamentos!$F$4:$F$1048576,Base!$A23,Lançamentos!$D$4:$D$1048576,Base!DU$3,Lançamentos!$E$4:$E$1048576,Base!$DO$2)","v":0},{"$f":"SUMIFS(Lançamentos!$G$4:$G$1048576,Lançamentos!$F$4:$F$1048576,Base!$A23,Lançamentos!$D$4:$D$1048576,Base!DV$3,Lançamentos!$E$4:$E$1048576,Base!$DO$2)","v":0},{"$f":"SUMIFS(Lançamentos!$G$4:$G$1048576,Lançamentos!$F$4:$F$1048576,Base!$A23,Lançamentos!$D$4:$D$1048576,Base!DW$3,Lançamentos!$E$4:$E$1048576,Base!$DO$2)","v":0},{"$f":"SUMIFS(Lançamentos!$G$4:$G$1048576,Lançamentos!$F$4:$F$1048576,Base!$A23,Lançamentos!$D$4:$D$1048576,Base!DX$3,Lançamentos!$E$4:$E$1048576,Base!$DO$2)","v":0},{"$f":"SUMIFS(Lançamentos!$G$4:$G$1048576,Lançamentos!$F$4:$F$1048576,Base!$A23,Lançamentos!$D$4:$D$1048576,Base!DY$3,Lançamentos!$E$4:$E$1048576,Base!$DO$2)","v":0},{"$f":"SUMIFS(Lançamentos!$G$4:$G$1048576,Lançamentos!$F$4:$F$1048576,Base!$A23,Lançamentos!$D$4:$D$1048576,Base!DZ$3,Lançamentos!$E$4:$E$1048576,Base!$DO$2)","v":0},0,{"$f":"SUMIFS(Lançamentos!$G$4:$G$1048576,Lançamentos!$F$4:$F$1048576,Base!$A23,Lançamentos!$D$4:$D$1048576,Base!EB$3,Lançamentos!$E$4:$E$1048576,Base!$EB$2)","v":0},{"$f":"SUMIFS(Lançamentos!$G$4:$G$1048576,Lançamentos!$F$4:$F$1048576,Base!$A23,Lançamentos!$D$4:$D$1048576,Base!EC$3,Lançamentos!$E$4:$E$1048576,Base!$EB$2)","v":0},{"$f":"SUMIFS(Lançamentos!$G$4:$G$1048576,Lançamentos!$F$4:$F$1048576,Base!$A23,Lançamentos!$D$4:$D$1048576,Base!ED$3,Lançamentos!$E$4:$E$1048576,Base!$EB$2)","v":0},{"$f":"SUMIFS(Lançamentos!$G$4:$G$1048576,Lançamentos!$F$4:$F$1048576,Base!$A23,Lançamentos!$D$4:$D$1048576,Base!EE$3,Lançamentos!$E$4:$E$1048576,Base!$EB$2)","v":0},{"$f":"SUMIFS(Lançamentos!$G$4:$G$1048576,Lançamentos!$F$4:$F$1048576,Base!$A23,Lançamentos!$D$4:$D$1048576,Base!EF$3,Lançamentos!$E$4:$E$1048576,Base!$EB$2)","v":0},{"$f":"SUMIFS(Lançamentos!$G$4:$G$1048576,Lançamentos!$F$4:$F$1048576,Base!$A23,Lançamentos!$D$4:$D$1048576,Base!EG$3,Lançamentos!$E$4:$E$1048576,Base!$EB$2)","v":0},{"$f":"SUMIFS(Lançamentos!$G$4:$G$1048576,Lançamentos!$F$4:$F$1048576,Base!$A23,Lançamentos!$D$4:$D$1048576,Base!EH$3,Lançamentos!$E$4:$E$1048576,Base!$EB$2)","v":0},{"$f":"SUMIFS(Lançamentos!$G$4:$G$1048576,Lançamentos!$F$4:$F$1048576,Base!$A23,Lançamentos!$D$4:$D$1048576,Base!EI$3,Lançamentos!$E$4:$E$1048576,Base!$EB$2)","v":0},{"$f":"SUMIFS(Lançamentos!$G$4:$G$1048576,Lançamentos!$F$4:$F$1048576,Base!$A23,Lançamentos!$D$4:$D$1048576,Base!EJ$3,Lançamentos!$E$4:$E$1048576,Base!$EB$2)","v":0},{"$f":"SUMIFS(Lançamentos!$G$4:$G$1048576,Lançamentos!$F$4:$F$1048576,Base!$A23,Lançamentos!$D$4:$D$1048576,Base!EK$3,Lançamentos!$E$4:$E$1048576,Base!$EB$2)","v":0},{"$f":"SUMIFS(Lançamentos!$G$4:$G$1048576,Lançamentos!$F$4:$F$1048576,Base!$A23,Lançamentos!$D$4:$D$1048576,Base!EL$3,Lançamentos!$E$4:$E$1048576,Base!$EB$2)","v":0},{"$f":"SUMIFS(Lançamentos!$G$4:$G$1048576,Lançamentos!$F$4:$F$1048576,Base!$A23,Lançamentos!$D$4:$D$1048576,Base!EM$3,Lançamentos!$E$4:$E$1048576,Base!$EB$2)","v":0},0,{"$f":"SUMIFS(Lançamentos!$G$4:$G$1048576,Lançamentos!$F$4:$F$1048576,Base!$A23,Lançamentos!$D$4:$D$1048576,Base!EO$3,Lançamentos!$E$4:$E$1048576,Base!$EO$2)","v":0},{"$f":"SUMIFS(Lançamentos!$G$4:$G$1048576,Lançamentos!$F$4:$F$1048576,Base!$A23,Lançamentos!$D$4:$D$1048576,Base!EP$3,Lançamentos!$E$4:$E$1048576,Base!$EO$2)","v":0},{"$f":"SUMIFS(Lançamentos!$G$4:$G$1048576,Lançamentos!$F$4:$F$1048576,Base!$A23,Lançamentos!$D$4:$D$1048576,Base!EQ$3,Lançamentos!$E$4:$E$1048576,Base!$EO$2)","v":0},{"$f":"SUMIFS(Lançamentos!$G$4:$G$1048576,Lançamentos!$F$4:$F$1048576,Base!$A23,Lançamentos!$D$4:$D$1048576,Base!ER$3,Lançamentos!$E$4:$E$1048576,Base!$EO$2)","v":0},{"$f":"SUMIFS(Lançamentos!$G$4:$G$1048576,Lançamentos!$F$4:$F$1048576,Base!$A23,Lançamentos!$D$4:$D$1048576,Base!ES$3,Lançamentos!$E$4:$E$1048576,Base!$EO$2)","v":0},{"$f":"SUMIFS(Lançamentos!$G$4:$G$1048576,Lançamentos!$F$4:$F$1048576,Base!$A23,Lançamentos!$D$4:$D$1048576,Base!ET$3,Lançamentos!$E$4:$E$1048576,Base!$EO$2)","v":0},{"$f":"SUMIFS(Lançamentos!$G$4:$G$1048576,Lançamentos!$F$4:$F$1048576,Base!$A23,Lançamentos!$D$4:$D$1048576,Base!EU$3,Lançamentos!$E$4:$E$1048576,Base!$EO$2)","v":0},{"$f":"SUMIFS(Lançamentos!$G$4:$G$1048576,Lançamentos!$F$4:$F$1048576,Base!$A23,Lançamentos!$D$4:$D$1048576,Base!EV$3,Lançamentos!$E$4:$E$1048576,Base!$EO$2)","v":0},{"$f":"SUMIFS(Lançamentos!$G$4:$G$1048576,Lançamentos!$F$4:$F$1048576,Base!$A23,Lançamentos!$D$4:$D$1048576,Base!EW$3,Lançamentos!$E$4:$E$1048576,Base!$EO$2)","v":0},{"$f":"SUMIFS(Lançamentos!$G$4:$G$1048576,Lançamentos!$F$4:$F$1048576,Base!$A23,Lançamentos!$D$4:$D$1048576,Base!EX$3,Lançamentos!$E$4:$E$1048576,Base!$EO$2)","v":0},{"$f":"SUMIFS(Lançamentos!$G$4:$G$1048576,Lançamentos!$F$4:$F$1048576,Base!$A23,Lançamentos!$D$4:$D$1048576,Base!EY$3,Lançamentos!$E$4:$E$1048576,Base!$EO$2)","v":0},{"$f":"SUMIFS(Lançamentos!$G$4:$G$1048576,Lançamentos!$F$4:$F$1048576,Base!$A23,Lançamentos!$D$4:$D$1048576,Base!EZ$3,Lançamentos!$E$4:$E$1048576,Base!$EO$2)","v":0},0,{"$f":"SUMIFS(Lançamentos!$G$4:$G$1048576,Lançamentos!$F$4:$F$1048576,Base!$A23,Lançamentos!$D$4:$D$1048576,Base!FB$3,Lançamentos!$E$4:$E$1048576,Base!$FB$2)","v":0},{"$f":"SUMIFS(Lançamentos!$G$4:$G$1048576,Lançamentos!$F$4:$F$1048576,Base!$A23,Lançamentos!$D$4:$D$1048576,Base!FC$3,Lançamentos!$E$4:$E$1048576,Base!$FB$2)","v":0},{"$f":"SUMIFS(Lançamentos!$G$4:$G$1048576,Lançamentos!$F$4:$F$1048576,Base!$A23,Lançamentos!$D$4:$D$1048576,Base!FD$3,Lançamentos!$E$4:$E$1048576,Base!$FB$2)","v":0},{"$f":"SUMIFS(Lançamentos!$G$4:$G$1048576,Lançamentos!$F$4:$F$1048576,Base!$A23,Lançamentos!$D$4:$D$1048576,Base!FE$3,Lançamentos!$E$4:$E$1048576,Base!$FB$2)","v":0},{"$f":"SUMIFS(Lançamentos!$G$4:$G$1048576,Lançamentos!$F$4:$F$1048576,Base!$A23,Lançamentos!$D$4:$D$1048576,Base!FF$3,Lançamentos!$E$4:$E$1048576,Base!$FB$2)","v":0},{"$f":"SUMIFS(Lançamentos!$G$4:$G$1048576,Lançamentos!$F$4:$F$1048576,Base!$A23,Lançamentos!$D$4:$D$1048576,Base!FG$3,Lançamentos!$E$4:$E$1048576,Base!$FB$2)","v":0},{"$f":"SUMIFS(Lançamentos!$G$4:$G$1048576,Lançamentos!$F$4:$F$1048576,Base!$A23,Lançamentos!$D$4:$D$1048576,Base!FH$3,Lançamentos!$E$4:$E$1048576,Base!$FB$2)","v":0},{"$f":"SUMIFS(Lançamentos!$G$4:$G$1048576,Lançamentos!$F$4:$F$1048576,Base!$A23,Lançamentos!$D$4:$D$1048576,Base!FI$3,Lançamentos!$E$4:$E$1048576,Base!$FB$2)","v":0},{"$f":"SUMIFS(Lançamentos!$G$4:$G$1048576,Lançamentos!$F$4:$F$1048576,Base!$A23,Lançamentos!$D$4:$D$1048576,Base!FJ$3,Lançamentos!$E$4:$E$1048576,Base!$FB$2)","v":0},{"$f":"SUMIFS(Lançamentos!$G$4:$G$1048576,Lançamentos!$F$4:$F$1048576,Base!$A23,Lançamentos!$D$4:$D$1048576,Base!FK$3,Lançamentos!$E$4:$E$1048576,Base!$FB$2)","v":0},{"$f":"SUMIFS(Lançamentos!$G$4:$G$1048576,Lançamentos!$F$4:$F$1048576,Base!$A23,Lançamentos!$D$4:$D$1048576,Base!FL$3,Lançamentos!$E$4:$E$1048576,Base!$FB$2)","v":0},{"$f":"SUMIFS(Lançamentos!$G$4:$G$1048576,Lançamentos!$F$4:$F$1048576,Base!$A23,Lançamentos!$D$4:$D$1048576,Base!FM$3,Lançamentos!$E$4:$E$1048576,Base!$FB$2)","v":0},0,{"$f":"SUMIFS(Lançamentos!$G$4:$G$1048576,Lançamentos!$F$4:$F$1048576,Base!$A23,Lançamentos!$D$4:$D$1048576,Base!FO$3,Lançamentos!$E$4:$E$1048576,Base!$FO$2)","v":0},{"$f":"SUMIFS(Lançamentos!$G$4:$G$1048576,Lançamentos!$F$4:$F$1048576,Base!$A23,Lançamentos!$D$4:$D$1048576,Base!FP$3,Lançamentos!$E$4:$E$1048576,Base!$FO$2)","v":0},{"$f":"SUMIFS(Lançamentos!$G$4:$G$1048576,Lançamentos!$F$4:$F$1048576,Base!$A23,Lançamentos!$D$4:$D$1048576,Base!FQ$3,Lançamentos!$E$4:$E$1048576,Base!$FO$2)","v":0},{"$f":"SUMIFS(Lançamentos!$G$4:$G$1048576,Lançamentos!$F$4:$F$1048576,Base!$A23,Lançamentos!$D$4:$D$1048576,Base!FR$3,Lançamentos!$E$4:$E$1048576,Base!$FO$2)","v":0},{"$f":"SUMIFS(Lançamentos!$G$4:$G$1048576,Lançamentos!$F$4:$F$1048576,Base!$A23,Lançamentos!$D$4:$D$1048576,Base!FS$3,Lançamentos!$E$4:$E$1048576,Base!$FO$2)","v":0},{"$f":"SUMIFS(Lançamentos!$G$4:$G$1048576,Lançamentos!$F$4:$F$1048576,Base!$A23,Lançamentos!$D$4:$D$1048576,Base!FT$3,Lançamentos!$E$4:$E$1048576,Base!$FO$2)","v":0},{"$f":"SUMIFS(Lançamentos!$G$4:$G$1048576,Lançamentos!$F$4:$F$1048576,Base!$A23,Lançamentos!$D$4:$D$1048576,Base!FU$3,Lançamentos!$E$4:$E$1048576,Base!$FO$2)","v":0},{"$f":"SUMIFS(Lançamentos!$G$4:$G$1048576,Lançamentos!$F$4:$F$1048576,Base!$A23,Lançamentos!$D$4:$D$1048576,Base!FV$3,Lançamentos!$E$4:$E$1048576,Base!$FO$2)","v":0},{"$f":"SUMIFS(Lançamentos!$G$4:$G$1048576,Lançamentos!$F$4:$F$1048576,Base!$A23,Lançamentos!$D$4:$D$1048576,Base!FW$3,Lançamentos!$E$4:$E$1048576,Base!$FO$2)","v":0},{"$f":"SUMIFS(Lançamentos!$G$4:$G$1048576,Lançamentos!$F$4:$F$1048576,Base!$A23,Lançamentos!$D$4:$D$1048576,Base!FX$3,Lançamentos!$E$4:$E$1048576,Base!$FO$2)","v":0},{"$f":"SUMIFS(Lançamentos!$G$4:$G$1048576,Lançamentos!$F$4:$F$1048576,Base!$A23,Lançamentos!$D$4:$D$1048576,Base!FY$3,Lançamentos!$E$4:$E$1048576,Base!$FO$2)","v":0},{"$f":"SUMIFS(Lançamentos!$G$4:$G$1048576,Lançamentos!$F$4:$F$1048576,Base!$A23,Lançamentos!$D$4:$D$1048576,Base!FZ$3,Lançamentos!$E$4:$E$1048576,Base!$FO$2)","v":0},0,{"$f":"SUMIFS(Lançamentos!$G$4:$G$1048576,Lançamentos!$F$4:$F$1048576,Base!$A23,Lançamentos!$D$4:$D$1048576,Base!GB$3,Lançamentos!$E$4:$E$1048576,Base!$GB$2)","v":0},{"$f":"SUMIFS(Lançamentos!$G$4:$G$1048576,Lançamentos!$F$4:$F$1048576,Base!$A23,Lançamentos!$D$4:$D$1048576,Base!GC$3,Lançamentos!$E$4:$E$1048576,Base!$GB$2)","v":0},{"$f":"SUMIFS(Lançamentos!$G$4:$G$1048576,Lançamentos!$F$4:$F$1048576,Base!$A23,Lançamentos!$D$4:$D$1048576,Base!GD$3,Lançamentos!$E$4:$E$1048576,Base!$GB$2)","v":0},{"$f":"SUMIFS(Lançamentos!$G$4:$G$1048576,Lançamentos!$F$4:$F$1048576,Base!$A23,Lançamentos!$D$4:$D$1048576,Base!GE$3,Lançamentos!$E$4:$E$1048576,Base!$GB$2)","v":0},{"$f":"SUMIFS(Lançamentos!$G$4:$G$1048576,Lançamentos!$F$4:$F$1048576,Base!$A23,Lançamentos!$D$4:$D$1048576,Base!GF$3,Lançamentos!$E$4:$E$1048576,Base!$GB$2)","v":0},{"$f":"SUMIFS(Lançamentos!$G$4:$G$1048576,Lançamentos!$F$4:$F$1048576,Base!$A23,Lançamentos!$D$4:$D$1048576,Base!GG$3,Lançamentos!$E$4:$E$1048576,Base!$GB$2)","v":0},{"$f":"SUMIFS(Lançamentos!$G$4:$G$1048576,Lançamentos!$F$4:$F$1048576,Base!$A23,Lançamentos!$D$4:$D$1048576,Base!GH$3,Lançamentos!$E$4:$E$1048576,Base!$GB$2)","v":0},{"$f":"SUMIFS(Lançamentos!$G$4:$G$1048576,Lançamentos!$F$4:$F$1048576,Base!$A23,Lançamentos!$D$4:$D$1048576,Base!GI$3,Lançamentos!$E$4:$E$1048576,Base!$GB$2)","v":0},{"$f":"SUMIFS(Lançamentos!$G$4:$G$1048576,Lançamentos!$F$4:$F$1048576,Base!$A23,Lançamentos!$D$4:$D$1048576,Base!GJ$3,Lançamentos!$E$4:$E$1048576,Base!$GB$2)","v":0},{"$f":"SUMIFS(Lançamentos!$G$4:$G$1048576,Lançamentos!$F$4:$F$1048576,Base!$A23,Lançamentos!$D$4:$D$1048576,Base!GK$3,Lançamentos!$E$4:$E$1048576,Base!$GB$2)","v":0},{"$f":"SUMIFS(Lançamentos!$G$4:$G$1048576,Lançamentos!$F$4:$F$1048576,Base!$A23,Lançamentos!$D$4:$D$1048576,Base!GL$3,Lançamentos!$E$4:$E$1048576,Base!$GB$2)","v":0},{"$f":"SUMIFS(Lançamentos!$G$4:$G$1048576,Lançamentos!$F$4:$F$1048576,Base!$A23,Lançamentos!$D$4:$D$1048576,Base!GM$3,Lançamentos!$E$4:$E$1048576,Base!$GB$2)","v":0},0]
["Total de Saída ",{"$f":"SUM(B13:B23)","v":0},0,0,0,0,0,0,0,0,0,0,0,{"$f":"SUM(B24:M24)","v":0},{"$f":"SUM(O13:O23)","v":0},0,0,0,0,0,0,0,0,0,0,0,{"$f":"SUM(O24:Z24)","v":0},{"$f":"SUM(AB13:AB23)","v":0},0,0,0,0,0,0,0,0,0,0,0,{"$f":"SUM(AB24:AM24)","v":0},{"$f":"SUM(AO13:AO23)","v":0},0,0,0,0,0,0,0,0,0,0,0,{"$f":"SUM(AO24:AZ24)","v":0},{"$f":"SUM(BB13:BB23)","v":0},0,0,0,0,0,0,0,0,0,0,0,{"$f":"SUM(BB24:BM24)","v":0},{"$f":"SUM(BO13:BO23)","v":0},0,0,0,0,0,0,0,0,0,0,0,{"$f":"SUM(BO24:BZ24)","v":0},{"$f":"SUM(CB13:CB23)","v":0},0,0,0,0,0,0,0,0,0,0,0,{"$f":"SUM(CB24:CM24)","v":0},{"$f":"SUM(CO13:CO23)","v":0},0,0,0,0,0,0,0,0,0,0,0,{"$f":"SUM(CO24:CZ24)","v":0},{"$f":"SUM(DB13:DB23)","v":0},0,0,0,0,0,0,0,0,0,0,0,{"$f":"SUM(DB24:DM24)","v":0},{"$f":"SUM(DO13:DO23)","v":0},0,0,0,0,0,0,0,0,0,0,0,{"$f":"SUM(DO24:DZ24)","v":0},{"$f":"SUM(EB13:EB23)","v":0},0,0,0,0,0,0,0,0,0,0,0,{"$f":"SUM(EB24:EM24)","v":0},{"$f":"SUM(EO13:EO23)","v":0},0,0,0,0,0,0,0,0,0,0,0,{"$f":"SUM(EO24:EZ24)","v":0},{"$f":"SUM(FB13:FB23)","v":0},0,0,0,0,0,0,0,0,0,0,0,{"$f":"SUM(FB24:FM24)","v":0},{"$f":"SUM(FO13:FO23)","v":0},0,0,0,0,0,0,0,0,0,0,0,{"$f":"SUM(FO24:FZ24)","v":0},{"$f":"SUM(GB13:GB23)","v":0},0,0,0,0,0,0,0,0,0,0,0,{"$f":"SUM(GB24:GM24)","v":0}]
["Saldo Operacional (Entradas - Saídas)",{"$f":"B12-B24","v":0},0,0,0,0,0,0,0,0,0,0,0,0,0,0,0,0,0,0,0,0,0,0,0,0,0,0,0,0,0,0,0,{"$f":"AH12-AH24","v":0},0,0,0,0,0,0,0,0,0,0,0,0,0,0,0,0,0,0,0,0,0,0,0,0,0,0,0,0,0,0,0,{"$f":"BN12-BN24","v":0},0,0,0,0,0,0,0,0,0,0,0,0,0,0,0,0,0,0,0,0,0,0,0,0,0,0,0,0,0,0,0,{"$f":"CT12-CT24","v":0},0,0,0,0,0,0,0,0,0,0,0,0,0,0,0,0,0,0,0,0,0,0,0,0,0,0,0,0,0,0,0,{"$f":"DZ12-DZ24","v":0},0,0,0,0,0,0,0,0,0,0,0,0,0,0,0,0,0,0,0,0,0,0,0,0,0,0,0,0,0,0,0,{"$f":"FF12-FF24","v":0},0,0,0,0,0,0,0,0,0,0,0,0,0,0,0,0,0,0,0,0,0,0,0,0,0,0,0,0,0,0,0,{"$f":"GL12-GL24","v":0},0,0]
["Saldo Acumulado (Saldo Operacional + Saldo Inicial)",{"$f":"B5+B25","v":0},0,0,0,0,0,0,0,0,0,0,0,{"$f":"N25+N5","v":0},{"$f":"O5+O25","v":0},0,0,0,0,0,0,0,0,0,0,0,{"$f":"AA25+AA5","v":0},{"$f":"AB5+AB25","v":0},0,0,0,0,0,0,0,0,0,0,0,{"$f":"AN25+AN5","v":0},{"$f":"AO5+AO25","v":0},0,0,0,0,0,0,0,0,0,0,0,{"$f":"BA25+BA5","v":0},{"$f":"BB5+BB25","v":0},0,0,0,0,0,0,0,0,0,0,0,{"$f":"BN25+BN5","v":0},{"$f":"BO5+BO25","v":0},0,0,0,0,0,0,0,0,0,0,0,{"$f":"CA25+CA5","v":0},{"$f":"CB5+CB25","v":0},0,0,0,0,0,0,0,0,0,0,0,{"$f":"CN25+CN5","v":0},{"$f":"CO5+CO25","v":0},0,0,0,0,0,0,0,0,0,0,0,{"$f":"DA25+DA5","v":0},{"$f":"DB5+DB25","v":0},0,0,0,0,0,0,0,0,0,0,0,{"$f":"DN25+DN5","v":0},{"$f":"DO5+DO25","v":0},0,0,0,0,0,0,0,0,0,0,0,{"$f":"EA25+EA5","v":0},{"$f":"EB5+EB25","v":0},0,0,0,0,0,0,0,0,0,0,0,{"$f":"EN25+EN5","v":0},{"$f":"EO5+EO25","v":0},0,0,0,0,0,0,0,0,0,0,0,{"$f":"FA25+FA5","v":0},{"$f":"FB5+FB25","v":0},0,0,0,0,0,0,0,0,0,0,0,{"$f":"FN25+FN5","v":0},{"$f":"FO5+FO25","v":0},0,0,0,0,0,0,0,0,0,0,0,{"$f":"GA25+GA5","v":0},{"$f":"GB5+GB25","v":0},0,0,0,0,0,0,0,0,0,0,0,{"$f":"GN25+GN5","v":0}]